{"text_format":"1","workbook":"xlsx","n_sheets":23,"sheets":["Resultados","BRRL","CAPEX","VCG","OR","IR","VOLUME","Série - IPCA","Classificação OPEX","DRIVER_OPEX","Centro_Custo","Drivers","Transporte Norte do Paraná","GLINK Londrina","rWACC","Taxa livre de risco","Beta_Damodaran","RetornoMerdado-SP500","RendimDividaRiscoBB-IGUUU510","Risco-Brasil","Inflação americana","We e Wd","Taxa Agepar"],"not_rendered":{"charts":1,"images":4,"macros":1,"external_links":0,"defined_names":37,"comments":4,"pivot_tables":0},"unopened":[],"bounds":{"document_bytes":16777216,"sheet_cells":100000,"rows_first":2000,"rows_last":500,"rows_between":2000,"halvings":0,"cell_chars":16384,"cell_head_chars":4096},"cells_cut":0,"cells_raw":0,"read":"whole","date_system":"1900"}

{"sheet":"Resultados","index":0,"n_rows":37,"n_cols":13,"rows_kept":37,"cut":false,"hidden":false,"merged":[[33,10,33,12],[6,2,7,2],[6,8,6,12],[6,3,7,3],[31,10,31,11],[32,10,32,11]]}
[]
[]
[null,null,"Base de Remuneração Regulatória Líquida na data de início do Ciclo Tarifário","BRRL0",null,{"$f":"BRRL!J6","v":980206.73739000002},null,"mil R$"]
[null,null,"Base de Remuneração Regulatória Líquida ao final do Ciclo Tarifário","BRRLT",null,{"$f":"BRRL!O6","v":1257653.5185582447},null,"mil R$"]
[null,null,"Weighted Average Cost of Capital - WACC","rWACC",null,{"$f":"ROUND(rWACC!D3,4)","v":8.7099999999999997E-2}]
[]
[null,null,"Descrição","Variável",null,null,null,null,"Ciclo Tarifário - 2024/2029"]
[null,null,null,null,null,null,null,0,1,2,3,4,5]
[null,null,"Base de Remuneração Regulatória Líquida ao longo do Ciclo Tarifário","BRRLi",null,"mil R$",null,{"$f":"F3","v":980206.73739000002},{"$f":"BRRL!K6","v":1090579.9953948609},{"$f":"BRRL!L6","v":1194087.0000451431},{"$f":"BRRL!M6","v":1215246.2876591741},{"$f":"BRRL!N6","v":1219632.25770874},{"$f":"BRRL!O6","v":1257653.5185582447}]
[null,null,"Variação anual da Base de Remuneração Regulatória Líquida","BRRL (t+1 - t)",null,"mil R$",null,"-",{"$f":"BRRL!K16","v":110373.25800486084},{"$f":"BRRL!L16","v":103507.00465028221},{"$f":"BRRL!M16","v":21159.287614030996},{"$f":"BRRL!N16","v":4385.9700495658908},{"$f":"BRRL!O16","v":38021.260849504732}]
[null,null,"Amortização anual projetada da Base de Remuneração Regulatória Líquida","Amortização projetada",null,"mil R$",null,"-",{"$f":"BRRL!K15","v":35475.422395162219},{"$f":"BRRL!L15","v":40982.576098634891},{"$f":"BRRL!M15","v":45089.13524305867},{"$f":"BRRL!N15","v":47654.882246603316},{"$f":"BRRL!O15","v":50593.399881377845}]
[null,null,"Custos operacionais e outras despesas/gastos operacionais e receitas irrecuperáveis","Opex&Odesp",null,"mil R$",null,"-",{"$f":"DRIVER_OPEX!G439/1000","v":29993.561821048974},{"$f":"DRIVER_OPEX!H439/1000","v":35972.587003616034},{"$f":"DRIVER_OPEX!I439/1000","v":42841.103977648942},{"$f":"DRIVER_OPEX!J439/1000","v":45314.097072591889},{"$f":"DRIVER_OPEX!K439/1000","v":46349.924081808138}]
[null,null,"Investimentos","Capex",null,"mil R$",null,"-",{"$f":"CAPEX!D8","v":145848.68040002306},{"$f":"CAPEX!E8","v":144489.58074891704},{"$f":"CAPEX!F8","v":66248.422857089681},{"$f":"CAPEX!G8","v":52040.852296169185},{"$f":"CAPEX!H8","v":88614.66073088246}]
[null,null,"Variação do capital de giro","VCG",null,"mil R$",null,"-",{"$f":"VCG!E37/1000","v":4.3891439344910435},{"$f":"VCG!E38/1000","v":41.058865928989533},{"$f":"VCG!E39/1000","v":41.92505648420601},{"$f":"VCG!E40/1000","v":17.343176191198445},{"$f":"VCG!E41/1000","v":14.402331156645314}]
[null,null,"Outras receitas consideradas na modicidade tarifária","OR",null,"mil R$",null,"-",{"$f":"OR!E9","v":182.84265954882369},{"$f":"OR!F9","v":303.84924191210553},{"$f":"OR!G9","v":319.32512678809286},{"$f":"OR!H9","v":353.5824107397159},{"$f":"OR!I9","v":384.56232599389898}]
[null,null,"Valor do imposto de renda projetado","IR",null,"mil R$",null,"-",{"$f":"IR!D12","v":11389.316576538275},{"$f":"IR!E12","v":47298.83394955226},{"$f":"IR!F12","v":48809.052139993197},{"$f":"IR!G12","v":58285.351884378244},{"$f":"IR!H12","v":67039.176878411366}]
[null,null,"Atividades de Comercialização (mercado cativo)","Encargos de Comercialização - mercado cativo",null,"mil R$",null,"-",{"$f":"DRIVER_OPEX!G441/1000","v":10698.42249599961},{"$f":"DRIVER_OPEX!H441/1000","v":11115.130575988462},{"$f":"DRIVER_OPEX!I441/1000","v":11491.273157436453},{"$f":"DRIVER_OPEX!J441/1000","v":11749.061935402742},{"$f":"DRIVER_OPEX!K441/1000","v":12063.274684583797}]
[null,null,"Atividades de Gestão ","Encargos de Gestão - cativo + livre",null,"mil R$",null,"-",{"$f":"DRIVER_OPEX!G440/1000","v":35845.507755291816},{"$f":"DRIVER_OPEX!H440/1000","v":37038.888196465727},{"$f":"DRIVER_OPEX!I440/1000","v":37501.300938847387},{"$f":"DRIVER_OPEX!J440/1000","v":37629.875042026215},{"$f":"DRIVER_OPEX!K440/1000","v":37803.187230050899}]
[null,null,"Volume distribuído do mercado cativo","Volume: mercado cativo",null,"mil m³",null,"-",{"$f":"VOLUME!E21/1000","v":297937.46193578793},{"$f":"VOLUME!F21/1000","v":321383.39103942132},{"$f":"VOLUME!G21/1000","v":345323.94272671221},{"$f":"VOLUME!H21/1000","v":355227.45248545503},{"$f":"VOLUME!I21/1000","v":363451.64542370522}]
[null,null,"Volume distribuído do mercado livre","Volume: mercado livre",null,"mil m³",null,"-",{"$f":"SUM(VOLUME!E22:E23)/1000","v":0},{"$f":"SUM(VOLUME!F22:F23)/1000","v":185021.76500000001},{"$f":"SUM(VOLUME!G22:G23)/1000","v":186381.76500000001},{"$f":"SUM(VOLUME!H22:H23)/1000","v":235283.76500000001},{"$f":"SUM(VOLUME!I22:I23)/1000","v":280286.76500000001}]
[null,null,"Volume distribuído total (mercado cativo + mercado livre)","Volume total",null,"mil m³",null,"-",{"$f":"SUM(VOLUME!E21:E23)/1000","v":297937.46193578793},{"$f":"SUM(VOLUME!F21:F23)/1000","v":506405.15603942133},{"$f":"SUM(VOLUME!G21:G23)/1000","v":531705.70772671222},{"$f":"SUM(VOLUME!H21:H23)/1000","v":590511.21748545498},{"$f":"SUM(VOLUME!I21:I23)/1000","v":643738.41042370524}]
[null,null,"Receita Direta (tarifária)","Receita",null,"mil R$",null,"-",{"$f":"(I19*$M$36+I20*$M$37)","v":166220.59958983969},{"$f":"(J19*$M$36+J20*$M$37)","v":276226.58355645952},290295.5698073571,321438.55521792348,349602.11453990813]
[]
[null,null,"Fluxo de caixa","-",null,"mil R$",null,{"$f":"-F3/(1+$F$5)^H8","v":-980206.73739000002},{"$f":"(I19*$M$36+I20*$M$37)-I12-I13-I14+I15-I16-I17-I18","v":-67376.435943447694},{"$f":"(J19*$M$36+J20*$M$37)-J12-J13-J14+J15-J16-J17-J18","v":574.35345790310384},83681.816806645307,116755.55622190371,{"$f":"(M19*$M$36+M20*$M$37)-M12-M13-M14+M15-M16-M17-M18+M9","v":1355755.5694872534}]
[null,null,"Fluxo de caixa descontado",{"$f":"SUM(H25:M25)","v":0},null,"mil R$",null,{"$f":"-F3/(1+$F$5)^H8","v":-980206.73739000002},{"$f":"I24/(1+$F$5)^I8","v":-61978.139953498016},{"$f":"J24/(1+$F$5)^J8","v":486.00445312542041},{"$f":"K24/(1+$F$5)^K8","v":65136.229213813574},{"$f":"L24/(1+$F$5)^L8","v":83598.709659043423},{"$f":"M24/(1+$F$5)^M8","v":892963.93401751586}]
[]
[null,null,"(+)",{"$f":"$F$3","v":980206.73739000002},null,"mil R$",null,"Receita Mercado Cativo e Livre sem Encargos",{"$f":"$D$37*I21","v":134019.83166935021},{"$f":"$D$37*J21","v":227793.89113384267},{"$f":"$D$37*K21","v":239174.72138003443},{"$f":"$D$37*L21","v":265626.93208187493},{"$f":"$D$37*M21","v":289569.87430695753}]
[null,null,"(-)",{"$f":"$F$4/(1+$F$5)^5","v":828349.34175300808},null,"mil R$",null,"Receita Encargos Mercado Cativo",{"$f":"$K$36*I19","v":32200.767920489488},{"$f":"$K$36*J19","v":34734.779309460318},{"$f":"$K$36*K19","v":37322.248987701329},{"$f":"$K$36*L19","v":38392.60991938004},{"$f":"$K$36*M19","v":39281.472053122045}]
[null,null,"(+)",{"$f":"NPV($F$5,I12:M12)","v":154350.03276438627},null,"mil R$",null,"Receita Encargos Mercado Livre",{"$f":"$K$37*I20","v":0},{"$f":"$K$37*J20","v":13697.913113156497},{"$f":"$K$37*K20","v":13798.599439621348},{"$f":"$K$37*L20","v":17419.013216668493},{"$f":"$K$37*M20","v":20750.768179828538}]
[null,null,"(+)",{"$f":"NPV($F$5,I13:M13)","v":403620.98271425877},null,"mil R$",null,"Outras Receitas",{"$f":"I15","v":182.84265954882369},{"$f":"J15","v":303.84924191210553},{"$f":"K15","v":319.32512678809286},{"$f":"L15","v":353.5824107397159},{"$f":"M15","v":384.56232599389898}]
[null,null,"(+)",{"$f":"NPV($F$5,I14:M14)","v":93.3181638423126},null,"mil R$",null,"Receita Total",{"$f":"I27+I28+I29+I30","v":166403.44224938852},{"$f":"J27+J28+J29+J30","v":276530.43279837165},290614.89493414521,321792.13762866321,349986.67686590203]
[null,null,"(-)",{"$f":"NPV($F$5,I15:M15)","v":1180.3203222329421},null,"mil R$",null,"VPL Receita",{"$f":"NPV($F$5,I31:M31)","v":1074198.7950794529},null,"MBR (R$)\nMargem Bruta Requerida",null,{"$f":"SUM(I19:M19)*1000*M36+SUM(I20:M20)*1000*M37","v":1403783422.7114878}]
[null,null,"(+)",{"$f":"NPV($F$5,I16:M16)","v":174380.23994971078},null,"mil R$",null,"VPL Gastos",{"$f":"D27-D28+D29+D30+D31+D33+NPV(F5,I17:M17)+NPV($F$5,I18:M18)","v":1074198.7950794527},null,"TUSD média global* (R$/m³)\n(TUSDc+TUSDL)",null,{"$f":"I32/D34","v":0.54715211713414524}]
[null,null,"(+)",{"$f":"NPV($F$5,I21:M21)","v":1963254.3883881047},null,"mil m³",null,"VPL\nReceita - Gastos",{"$f":"(I32-I33)","v":2.3283064365386963E-10},null,"*Valor MÉDIO Glogal apenas a título de informação, não faz parte do modelo. A estrutura tarifária a ser proposta pela concessionária deve convergir para essa média"]
[]
[null,null,"Tarifa de Uso do Sistema de Distribuição [calculado] - TUSD (R$/m³)",{"$f":"(D27-D28+D29+D30+D31-D32+D33)/D34","v":0.4498253787844726},null,null,null,null,null,"Encargos (cativo)\nEc (R$/m³)",{"$f":"NPV(F5,I17:M17)/NPV(F5,I19:M19)+NPV(F5,I18:M18)*(NPV(F5,I20:M20)/NPV(F5,I21:M21))/NPV(F5,I20:M20)","v":0.10807894955965444},"TUSDC (R$/m³)",{"$f":"$D$37+K36","v":0.55790432834412707}]
[null,null,"Tarifa de Uso do Sistema de Distribuição [atingir meta] - TUSD (R$/m³)",0.44982537878447265,null,null,null,null,null,"Encargos (livre)\nEl (R$/m³)",{"$f":"NPV(F5,I18:M18)*(NPV(F5,I20:M20)/NPV(F5,I21:M21))/NPV(F5,I20:M20)","v":7.4034063577095896E-2},"TUSDL(R$/m³)",{"$f":"$D$37+K37","v":0.52385944236156856}]

{"sheet":"BRRL","index":1,"n_rows":33,"n_cols":15,"rows_kept":33,"cut":false,"hidden":false,"merged":[[31,2,31,4],[32,2,32,4],[2,8,2,14],[2,2,2,4],[16,8,16,14],[3,10,3,14],[5,2,5,4],[3,2,3,4],[13,2,13,4],[20,2,20,4],[25,2,25,4]]}
[]
[]
[null,null,"Base de Remuneração Regulatória Líquida",null,null,null,null,null,"Movimentação da Base de Ativos durante o Ciclo Tarifário"]
[null,null,"Resumo da Base de Remuneração Regulatória Líquida",null,null,null,null,null,null,null,"1° Ciclo Tarifário (ano)"]
[null,null,"Descrição","Observação","R$",null,null,null,"Descrição",0,1,2,3,4,5]
[null,null,"(a) Base de Remuneração Regulatória Líquida",null,null,null,null,null,"(a) BRRL0-t* (mil R$)",{"$f":"E31/1000","v":980206.73739000002},{"$f":"J6+K8-K15","v":1090579.9953948609},{"$f":"K6+L8-L15","v":1194087.0000451431},{"$f":"L6+M8-M15","v":1215246.2876591741},1219632.25770874,{"$f":"N6+O8-O15","v":1257653.5185582447}]
[null,null,"   (a.1) Outorga = (a.2) + (a.3)","Valor contabilizado no \"Anexo 7 - BRRL Inicial\" do Contrato de Concessão",508000000,null,null,null,"(b) Amortização da BRRL0 (mil R$)",0,{"$f":"$J$6/30","v":32673.557913000001},{"$f":"$J$6/30","v":32673.557913000001},32673.557913000001,32673.557913000001,32673.557913000001]
[null,null,"   (a.2) Compensação de créditos","Compensação de créditos em favor da Concessionária referente ao contrato anterior (item 1.3 do Contrato)",98000000,null,null,null,"(c) Imobilizações (mil R$)",0,{"$f":"CAPEX!D8","v":145848.68040002306},{"$f":"CAPEX!E8","v":144489.58074891704},{"$f":"CAPEX!F8","v":66248.422857089681},{"$f":"CAPEX!G8","v":52040.852296169185},{"$f":"CAPEX!H8","v":88614.66073088246}]
[null,null,"   (a.3) Valor da Outorga pago","Valor efetivamente pago em 28/12/2022.",{"$f":"E7-E8","v":410000000},null,null,null,"(d) Amortização de (c) (mil R$)",0,{"$f":"SUM(K10:K14)","v":2801.8644821622179},{"$f":"SUM(L10:L14)","v":8309.0181856348863},{"$f":"SUM(M10:M14)","v":12415.577330058668},{"$f":"SUM(N10:N14)","v":14981.324333603317},{"$f":"SUM(O10:O14)","v":17919.841968377845}]
[null,null,"   (a.4) Passivo Regulatório","Valor constante no item 10.12 do Contrato e referenciado no \"Anexo 07 - BRRL Inicial\"**",93106400.969999999,null,null,null,"   (d.1) Ano 1 (mil R$)",0,{"$f":"(SUM(CAPEX!L48:L49)/1000)/2","v":2801.8644821622179},{"$f":"K10*2","v":5603.7289643244358},{"$f":"L10","v":5603.7289643244358},5603.7289643244358,5603.7289643244358]
[null,null,"   (a.5) Outorga subtraído o Passivo Regulatório = (a.1) - (a.4)","-",{"$f":"E7-E10","v":414893599.02999997},null,null,null,"   (d.2) Ano 2 (mil R$)",0,0,{"$f":"(SUM(CAPEX!M48:M49)/1000)/2","v":2705.2892213104515},{"$f":"L11*2","v":5410.5784426209029},{"$f":"M11","v":5410.5784426209029},5410.5784426209029]
[null,null,"   (a.6) Bens não amortizados até assinatura do Contrato*","Valor contabilizado no \"Anexo 7 - BRRL Inicial\" do Contrato de Concessão, líquida das baixas identificadas",232239109.35000002,null,null,null,"   (d.3) Ano 3 (mil R$)",0,0,0,{"$f":"(SUM(CAPEX!N48:N49)/1000)/2","v":1401.2699231133288},{"$f":"M12*2","v":2802.5398462266576},{"$f":"N12","v":2802.5398462266576}]
[null,null,"   (a.7) BRRL Inicial = (a.5) + (a.6)","-",{"$f":"E11+E12","v":647132708.38},null,null,null,"   (d.4) Ano 4 (mil R$)",0,0,0,0,{"$f":"(SUM(CAPEX!O48:O49)/1000)/2","v":1164.4770804313205},{"$f":"N13*2","v":2328.9541608626409}]
[null,null,"(b) Investimentos realizados entre 01/01/2022 e 06/07/2024",null,null,null,null,null,"   (d.5) Ano 5 (mil R$)",0,0,0,0,0,{"$f":"(SUM(CAPEX!P48:P49)/1000)/2","v":1774.0405543432084}]
[null,null,"   (b.1) Investimentos realizados entre 01/01/2022 e 31/12/2023","Ativos imobilizados no período de 1/1/2022 a 31/12/2023, líquidas das baixas identificadas",23500670.559999999,null,null,null,"(e) Amortização total (mil R$) = (b) + (d)",0,{"$f":"K7+K9","v":35475.422395162219},{"$f":"L7+L9","v":40982.576098634891},{"$f":"M7+M9","v":45089.13524305867},{"$f":"N7+N9","v":47654.882246603316},{"$f":"O7+O9","v":50593.399881377845}]
[null,null,"   (b.2) Amortização de (b.1)","Amortização desde a data de entrada em serviço até 6/7/2024",2190696.66,null,null,null,"Variação anual da BRRL (mil R$)",0,{"$f":"K6-J6","v":110373.25800486084},{"$f":"L6-K6","v":103507.00465028221},{"$f":"M6-L6","v":21159.287614030996},{"$f":"N6-M6","v":4385.9700495658908},{"$f":"O6-N6","v":38021.260849504732}]
[null,null,"   (b.3) = (b.1) - (b.2)","-",{"$f":"E15-E16","v":21309973.899999999},null,null,null,"*Ativos ainda não laudados."]
[null,null,"   (b.4) Investimentos \"em formação\" entre 01/01/2022 e 31/12/2023","Ativos \"em formação\" no período de 1/1/2022 a 31/12/2023",12535074.949999999]
[null,null,"   (b.5) Investimentos projetados para no período de 01/01/2024 a 06/07/2024","Investimentos projetados no período de 01/01/2024 a 06/07/2024",26948804.16,null,null,null,null,null,2014,2015,2016,2017,2018]
[null,null,"   (b.6) = (b.4) + (b.5)","-",{"$f":"SUM(E18,E19)","v":39483879.109999999}]
[null,null,"(c) Atualização monetária pelo IPCA do período"]
[null,null,"   (c.1) = (c.5) x (1+ΔIPCA)","Atualização pelo IPCA desde 1/1/2022 até jul/2024",{"$f":"ROUND(E11*(1+ ROUND(('Série - IPCA'!C444-'Série - IPCA'!C411)/'Série - IPCA'!C411,6)),2)","v":469459160.49000001}]
[null,null,"   (c.2) = (a.6) x (1+ΔIPCA)","Atualização pelo IPCA desde 1/1/2022 até jul/2024",{"$f":"ROUND(E12*(1+ ROUND(('Série - IPCA'!C444-'Série - IPCA'!C411)/'Série - IPCA'!C411,6)),2)","v":262782500.28999999}]
[null,null,"   (c.3) = (b.3) x (1+ΔIPCA)","Atualização pelo IPCA desde a data de entrada em serviço até jul/2024",{"$f":"ROUND(22506504.08*(1+ ROUND(('Série - IPCA'!C444-'Série - IPCA'!C441)/'Série - IPCA'!C441,6)),2)","v":22689301.91}]
[null,null,"   (c.4) = (b.6)","-",{"$f":"E20","v":39483879.109999999}]
[null,null,"(d) Remuneração pela taxa WACC pro rata tempore do período"]
[null,null,"   (e.1) = (c.1) x (1+rWACC)^(Δdias/360)","Capitalização de 1/1/2022 até 6/7/2024",{"$f":"ROUND(E22*(1+9.125%)^(_xlfn.DAYS(\"6/7/2024\",\"1/1/2022\")/360),2)","v":586407244.91999996}]
[null,null,"   (e.2) = (c.2) x (1+rWACC)^(Δdias/360)","Capitalização de 1/1/2022 até 6/7/2024",{"$f":"ROUND(E23*(1+9.125%)^(_xlfn.DAYS(\"6/7/2024\",\"1/1/2022\")/360),2)","v":328244871.92000002}]
[null,null,"   (e.3) = (c.3) x (1+rWACC)^(Δdias/360)","Capitalização desde a data de entrada em serviço até 6/7/2024",{"$f":"ROUND(25860700.8238*(1+ ROUND(('Série - IPCA'!C444-'Série - IPCA'!C441)/'Série - IPCA'!C441,6)),2)","v":26070741.440000001}]
[null,null,"   (e.4) = (b.6)","-",{"$f":"E20","v":39483879.109999999}]
[null,null,"BRRL0 = Ʃ(e)","-",{"$f":"SUM(E27:E30)","v":980206737.38999999}]
[null,null,"Ativos ainda em análise e não fiscalizados pela Agepar."]
[null,null,"Constatou-se uma diferença de R$ 539,44 entre o constante no item 10.12 do Contrato e o referenciado no \"Anexo 07 - BRRL Inicial\". Nesse caso, deu-se preferência ao valor constante no corpo do Contrato."]

{"sheet":"CAPEX","index":2,"n_rows":72,"n_cols":23,"rows_kept":72,"cut":false,"hidden":false,"merged":[[50,17,51,17],[50,18,50,22],[8,2,8,7],[3,3,3,7],[2,11,2,15],[2,10,3,10],[2,17,3,17],[30,10,31,10],[30,11,30,15],[2,18,2,22],[25,17,26,17],[25,18,25,22],[43,10,44,10],[43,11,43,15]]}
[]
[null,null,null,null,null,null,null,null,null,null,"Informações encaminhadas pela COMPAGAS",null,null,null,null,null,null,"Informações encaminhadas pela COMPAGAS (adaptado)"]
[null,null,"Plano de Investimentos considerado*",null,null,null,null,null,null,null,"Fluxo de Investimentos","1º Ciclo Tarifário - R$",null,null,null,null,null,"JOA","1º Ciclo Tarifário - R$"]
[null,null,null,"1° Ciclo Tarifário (ano)",null,null,null,null,null,null,null,"2024/2025","2025/2026","2026/2027","2027/2028","2028/2029",null,null,"2024/2025","2025/2026","2026/2027","2027/2028","2028/2029"]
[null,null,"Descrição",1,2,3,4,5,null,null,"Expansão e Saturação",{"$f":"SUM(L6:L11)","v":121400990.94803406},{"$f":"SUM(M6:M11)","v":121545314.88698304},46408739.361819088,36106744.020821556,70371499.887416095,null,"Expansão e Saturação",{"$f":"SUM(S6:S11)","v":1956272.2574074075},{"$f":"SUM(T6:T11)","v":1642928.4947037608},515281.0671195247,439730.46148588124,1154441.0406131982]
[null,null,"CAPEX total proposto pela Concessionária (mil R$)",{"$f":"L29/1000","v":145891.22318002305},{"$f":"M29/1000","v":146749.83152891704},68508.673637089683,54301.103076169187,90874.911510882463,null,null,"Expansão Londrina-Maringá",14850475.573958304,9570323.429325588,13546089.638540948,13290557.4691895,46975782.272033885,null,"Expansão Londrina-Maringá",{"$f":"L6*((1+rWACC!$D$3)^(63/252)-1)","v":313303.2294426125},{"$f":"M6*((1+rWACC!$D$3)^(63/252)-1)","v":201906.88320285192},{"$f":"N6*((1+rWACC!$D$3)^(63/252)-1)","v":285784.35814650269},{"$f":"O6*((1+rWACC!$D$3)^(63/252)-1)","v":280393.34871481312},{"$f":"P6*((1+rWACC!$D$3)^(63/252)-1)","v":991056.76569914306}]
[null,null,"Glosas adotadas pela Agepar (mil R$)",{"$f":"SUM(L40:L41)/1000","v":42.542780000000086},{"$f":"SUM(M40:M41)/1000","v":2260.2507800000003},{"$f":"SUM(N40:N41)/1000","v":2260.2507800000003},{"$f":"SUM(O40:O41)/1000","v":2260.2507800000003},{"$f":"SUM(P40:P41)/1000","v":2260.2507800000003},null,null,"Expansão Lapa",63688044.175911374,46695351.224030286,0,0,0,null,"Expansão Lapa",{"$f":"L7*((1+rWACC!$D$3)^(63/252)-1)","v":1343638.4456392378},{"$f":"M7*((1+rWACC!$D$3)^(63/252)-1)","v":985140.46002004575},0,0,0]
[null,null,"Total de investimentos considerados* (mil R$)",{"$f":"D6-D7","v":145848.68040002306},{"$f":"E6-E7","v":144489.58074891704},66248.422857089681,52040.852296169185,88614.66073088246,null,null,"Corredores Sustentáveis ",8436223.3156768028,0,0,0,0,null,"Corredores Sustentáveis ",{"$f":"L8*((1+rWACC!$D$3)^(21/252)-1)","v":58914.466831257443},0,0,0,0]
[null,null,"*Mediante análise realizada pela Agepar.",null,null,null,null,null,null,null,"Programa de Desenvolvimento do Biometano",6885997.3996379348,35672331.932710581,8541789.1492001638,0,0,null,"Programa de Desenvolvimento do Biometano",{"$f":"L9*((1+rWACC!$D$3)^(21/252)-1)","v":48088.445530741352},{"$f":"M9*((1+rWACC!$D$3)^(21/252)-1)","v":249118.15842260921},{"$f":"N9*((1+rWACC!$D$3)^(21/252)-1)","v":59651.687097353155},0,0]
[null,null,null,null,null,null,null,null,null,null,"Expansão RMC",5844806.0549590047,7140015.381263895,140394.33188447013,140394.33188447013,140394.33188447013,null,"Expansão RMC",{"$f":"L10*((1+rWACC!$D$3)^(21/252)-1)","v":40817.273272049424},{"$f":"M10*((1+rWACC!$D$3)^(21/252)-1)","v":49862.383155796386},{"$f":"N10*((1+rWACC!$D$3)^(21/252)-1)","v":980.44550263788233},{"$f":"O10*((1+rWACC!$D$3)^(21/252)-1)","v":980.44550263788233},{"$f":"P10*((1+rWACC!$D$3)^(21/252)-1)","v":980.44550263788233}]
[null,null,null,null,null,null,null,null,null,null,"Programa de Saturação",21695444.427890643,22467292.919652689,24180466.242193509,22675792.219747584,23255323.283497728,null,"Programa de Saturação",{"$f":"L11*((1+rWACC!$D$3)^(21/252)-1)","v":151510.39669150932},{"$f":"M11*((1+rWACC!$D$3)^(21/252)-1)","v":156900.60990245763},{"$f":"N11*((1+rWACC!$D$3)^(21/252)-1)","v":168864.57637303096},{"$f":"O11*((1+rWACC!$D$3)^(21/252)-1)","v":158356.66726843023},{"$f":"P11*((1+rWACC!$D$3)^(21/252)-1)","v":162403.82941141722}]
[null,null,null,null,null,null,null,null,null,null,"Suporte Operacional",{"$f":"SUM(L13:L17)","v":8277438.6628524931},{"$f":"SUM(M13:M17)","v":8900862.1018933002},9225372.7730571646,5921488.7490326641,5817265.5143654412,null,"Suporte Operacional",{"$f":"SUM(S13:S17)","v":33499.997606602803},{"$f":"SUM(T13:T17)","v":42020.1753133327},{"$f":"SUM(U13:U17)","v":49805.615152577229},28537.412790528855,24092.222266551224]
[null,null,null,null,null,null,null,null,null,null,"INTEGRIDADE DE REDE",2524777.207643277,2611017.2095491798,2611017.2095491798,2611017.2095491798,2611017.2095491798,null,"INTEGRIDADE DE REDE",{"$f":"L13*((1+rWACC!$D$3)^(21/252)-1)","v":17631.811948316281},{"$f":"M13*((1+rWACC!$D$3)^(21/252)-1)","v":18234.070037237587},{"$f":"N13*((1+rWACC!$D$3)^(21/252)-1)","v":18234.070037237587},{"$f":"O13*((1+rWACC!$D$3)^(21/252)-1)","v":18234.070037237587},{"$f":"P13*((1+rWACC!$D$3)^(21/252)-1)","v":18234.070037237587}]
[null,null,null,null,null,null,null,null,null,null,"Redes de Distribuição - Ambiental",2272235.7517271251,2996942.5479782969,4520869.310025895,1270833.6780595267,838854.75133417093,null,"Redes de Distribuição - Ambiental",{"$f":"L14*((1+rWACC!$D$3)^(21/252)-1)","v":15868.185658286526},{"$f":"M14*((1+rWACC!$D$3)^(21/252)-1)","v":20929.184272534472},{"$f":"N14*((1+rWACC!$D$3)^(21/252)-1)","v":31571.545115339639},{"$f":"O14*((1+rWACC!$D$3)^(21/252)-1)","v":8874.8822515109478},{"$f":"P14*((1+rWACC!$D$3)^(21/252)-1)","v":5858.152229313635}]
[null,null,null,null,null,null,null,null,null,null,"Tachões e Equipamentos de GNC para atendimento a emergência",0,409095.16588373441,0,204547.58294186721,0,null,"Tachões e Equipamentos de GNC para atendimento a emergência",0,{"$f":"M15*((1+rWACC!$D$3)^(21/252)-1)","v":2856.9210035606393},0,{"$f":"O15*((1+rWACC!$D$3)^(21/252)-1)","v":1428.4605017803196},0]
[null,null,null,null,null,null,null,null,null,null,"Troca de Medidores",2164775.65,1568157.125,777836.2,519440.22499999998,1051743.5,null,"Troca de Medidores",0,0,0,0,0]
[null,null,null,null,null,null,null,null,null,null,"Máquinas, Aparelhos e Equipamentos",1315650.0534820899,1315650.0534820899,1315650.0534820899,1315650.0534820899,1315650.0534820899,null,"Máquinas, Aparelhos e Equipamentos",0,0,0,0,0]
[null,null,null,null,null,null,null,null,null,null,"Suporte Outros",{"$f":"SUM(L19:L23)","v":9858486.9913729299},{"$f":"SUM(M19:M23)","v":9858486.9913729299},9858486.9913729299,9858486.9913729299,9858486.9913729299,null,"Suporte Administrativo",{"$f":"SUM(S19:S23)","v":0},{"$f":"SUM(T19:T23)","v":0},0,0,0]
[null,null,null,null,null,null,null,null,null,null,"Benfeitorias em Bens de Terceiros",200000,200000,200000,200000,200000,null,"Benfeitorias em Bens de Terceiros",0,0,0,0,0]
[null,null,null,null,null,null,null,null,null,null,"Equipamentos de Processamento de Dados",5726178.6740044896,5726178.6740044896,5726178.6740044896,5726178.6740044896,5726178.6740044896,null,"Equipamentos de Processamento de Dados",0,0,0,0,0]
[null,null,null,null,null,null,null,null,null,null,"Softwares",3738107.0782626234,3738107.0782626234,3738107.0782626234,3738107.0782626234,3738107.0782626234,null,"Softwares",0,0,0,0,0]
[null,null,null,null,null,null,null,null,null,null,"Supervisório",133973.85995872389,133973.85995872389,133973.85995872389,133973.85995872389,133973.85995872389,null,"Supervisório",0,0,0,0,0]
[null,null,null,null,null,null,null,null,null,null,"Móveis e Utensílios",60227.379147093365,60227.379147093365,60227.379147093365,60227.379147093365,60227.379147093365,null,"Móveis e Utensílios",0,0,0,0,0]
[null,null,null,null,null,null,null,null,null,null,"Total",{"$f":"SUM(L5,L12,L18)","v":139536916.60225949},{"$f":"SUM(M5,M12,M18)","v":140304663.98024929},65492599.126249179,51886719.761227146,{"$f":"SUM(P5,P12,P18)","v":86047252.393154457},null,"Total",{"$f":"SUM(S5,S12,S18)","v":1989772.2550140102},{"$f":"SUM(T5,T12,T18)","v":1684948.6700170934},565086.68227210199,468267.87427641009,1178533.2628797493]
[null,null,null,null,null,null,null,null,null,null,null,null,null,null,null,null,null,"Informações encaminhadas pela COMPAGAS (adaptado)"]
[null,null,null,null,null,null,null,null,null,null,"JOA",{"$f":"S24","v":1989772.2550140102},{"$f":"T24","v":1684948.6700170934},565086.68227210199,468267.87427641009,1178533.2628797493,null,"MANPOWER (5%)","1º Ciclo Tarifário - R$"]
[null,null,null,null,null,null,null,null,null,null,"Manpower estimado no CAPEX",{"$f":"S47*S49","v":4364534.3227495477},{"$f":"T47*T49","v":4760218.8786506755},{"$f":"U47*U49","v":2450987.8285684134},1946115.4406656302,3649125.8548482633,null,null,"2024/2025","2025/2026","2026/2027","2027/2028","2028/2029"]
[null,null,null,null,null,null,null,null,null,null,null,null,null,null,null,null,null,"Expansão e Saturação",{"$f":"SUM(S29:S34)","v":6070049.5474017039},{"$f":"SUM(T29:T34)","v":6077265.7443491518},2320436.9680909542,1805337.2010410777,3518574.9943708042]
[null,null,null,null,null,null,null,null,null,null,"CAPEX Total",{"$f":"L24+L26+L27","v":145891223.18002304},{"$f":"M24+M26+M27","v":146749831.52891704},68508673.637089685,54301103.076169185,90874911.510882467,null,"Expansão Londrina-Maringá",{"$f":"5%*L6","v":742523.77869791526},{"$f":"5%*M6","v":478516.17146627943},677304.48192704748,664527.87345947511,2348789.1136016943]
[null,null,null,null,null,null,null,null,null,null,null,null,null,null,null,null,null,"Expansão Lapa",{"$f":"5%*L7","v":3184402.2087955689},2334767.5612015142,0,0,0]
[null,null,null,null,null,null,null,null,null,null,"Glosas","1º Ciclo Tarifário - R$",null,null,null,null,null,"Corredores Sustentáveis ",421811.16578384017,0,0,0,0]
[null,null,null,null,null,null,null,null,null,null,null,"2024/2025","2025/2026","2026/2027","2027/2028","2028/2029",null,"Programa de Desenvolvimento do Biometano",344299.86998189677,{"$f":"5%*M9","v":1783616.5966355291},{"$f":"5%*N9","v":427089.45746000821},0,0]
[null,null,null,null,null,null,null,null,null,null,"Equipamentos de Processamento de Dados",{"$f":"L20","v":5726178.6740044896},{"$f":"M20","v":5726178.6740044896},5726178.6740044896,5726178.6740044896,5726178.6740044896,null,"Expansão RMC",292240.30274795025,357000.76906319475,7019.7165942235069,{"$f":"5%*O10","v":7019.7165942235069},{"$f":"5%*P10","v":7019.7165942235069}]
[null,null,null,null,null,null,null,null,null,null,"   Aquisição de monitores",173865.43,173865.43,173865.43,173865.43,173865.43,null,"Programa de Saturação",1084772.2213945321,1123364.6459826345,1209023.3121096755,1133789.6109873792,1162766.1641748864]
[null,null,null,null,null,null,null,null,null,null,"   Aquisição de notebooks",2086385.35,2086385.35,2086385.35,2086385.35,2086385.35,null,"Suporte Operacional",{"$f":"SUM(S36:S40)","v":126238.86038216385},{"$f":"SUM(T36:T40)","v":151005.61877164571},130550.86047745899,140778.23962455234,130550.86047745899]
[null,null,null,null,null,null,null,null,null,null,"Considerações Agepar",null,null,null,null,null,null,"INTEGRIDADE DE REDE",126238.86038216385,{"$f":"5%*M13","v":130550.86047745899},{"$f":"5%*N13","v":130550.86047745899},{"$f":"5%*O13","v":130550.86047745899},{"$f":"5%*P13","v":130550.86047745899}]
[null,null,null,null,null,null,null,null,null,null,"   Valor considerado Agepar - aquisição de monitores",173208,0,0,0,0,null,"Redes de Distribuição - Ambiental",0,0,0,0,0]
[null,null,null,null,null,null,null,null,null,null,"   Valor considerado Agepar - aquisição de notebooks",2044500,0,0,0,0,null,"Tachões e Equipamentos de GNC para atendimento a emergência",0,20454.758294186722,0,10227.379147093361,0]
[null,null,null,null,null,null,null,null,null,null,"Valor final das glosas Agepar",null,null,null,null,null,null,"Troca de Medidores",0,0,0,0,0]
[null,null,null,null,null,null,null,null,null,null,"   Glosa Agepar - aquisição de monitores",{"$f":"L34-L37","v":657.42999999999302},173865.43,173865.43,173865.43,173865.43,null,"Máquinas, Aparelhos e Equipamentos",0,0,0,0,0]
[null,null,null,null,null,null,null,null,null,null,"   Glosa Agepar - aquisição de notebooks",41885.350000000093,2086385.35,2086385.35,2086385.35,2086385.35,null,"Suporte Administrativo",{"$f":"SUM(S42:S46)","v":0},{"$f":"SUM(T42:T46)","v":0},0,0,0]
[null,null,null,null,null,null,null,null,null,null,"Equipamentos de Processamento de Dados (pós glosas)",{"$f":"L20-SUM(L40:L41)","v":5683635.8940044893},{"$f":"M20-SUM(M40:M41)","v":3465927.8940044893},{"$f":"N20-SUM(N40:N41)","v":3465927.8940044893},{"$f":"O20-SUM(O40:O41)","v":3465927.8940044893},{"$f":"P20-SUM(P40:P41)","v":3465927.8940044893},null,"Benfeitorias em Bens de Terceiros",0,0,0,0,0]
[null,null,null,null,null,null,null,null,null,null,null,null,null,null,null,null,null,"Equipamentos de Processamento de Dados",0,0,0,0,0]
[null,null,null,null,null,null,null,null,null,null,"Amortização","1º Ciclo Tarifário - R$",null,null,null,null,null,"Softwares",0,0,0,0,0]
[null,null,null,null,null,null,null,null,null,null,null,"2024/2025","2025/2026","2026/2027","2027/2028","2028/2029",null,"Supervisório",0,0,0,0,0]
[null,null,null,null,null,null,null,null,null,null,"Amortizável em 30 anos",{"$f":"SUM(S53,S61,S62,S63,S64)","v":134717086.13516802},{"$f":"SUM(T53,T61,T62,T63,T64)","v":135575694.48406202},{"$f":"SUM(U53,U61,U62,U63,U64)","v":57334536.592234679},{"$f":"SUM(V53,V61,V62,V63,V64)","v":43126966.031314164},{"$f":"SUM(W53,W61,W62,W63,W64)","v":79700774.466027454},null,"Móveis e Utensílios",0,0,0,0,0]
[null,null,null,null,null,null,null,null,null,null,"Amortízável em 10 anos",{"$f":"SUM(S65,S66)-SUM(L40:L41)","v":11131594.26485502},{"$f":"SUM(T65,T66)-SUM(M40:M41)","v":8913886.2648550197},{"$f":"SUM(U65,U66)-SUM(N40:N41)","v":8913886.2648550197},{"$f":"SUM(V65,V66)-SUM(O40:O41)","v":8913886.2648550197},{"$f":"SUM(W65,W66)-SUM(P40:P41)","v":8913886.2648550197},null,"Total",{"$f":"SUM(S28,S35,S41)","v":6196288.4077838678},{"$f":"SUM(T28,T35,T41)","v":6228271.363120798},2450987.8285684134,1946115.4406656302,3649125.8548482633]
[null,null,null,null,null,null,null,null,null,null,"Amortização anual para 30 anos",{"$f":"L46/30","v":4490569.537838934},{"$f":"M46/30","v":4519189.8161354009},{"$f":"N46/30","v":1911151.2197411559},{"$f":"O46/30","v":1437565.5343771388},{"$f":"P46/30","v":2656692.482200915}]
[null,null,null,null,null,null,null,null,null,null,"Amortização anual para 10 anos",{"$f":"L47/10","v":1113159.4264855019},{"$f":"M47/10","v":891388.626485502},{"$f":"N47/10","v":891388.626485502},{"$f":"O47/10","v":891388.626485502},{"$f":"P47/10","v":891388.626485502},null,"Fator",{"$f":"IF(S47>DRIVER_OPEX!G279,DRIVER_OPEX!G279,S47)/S47","v":0.70437882091910953},{"$f":"IF(T47>DRIVER_OPEX!H279,DRIVER_OPEX!H279,T47)/T47","v":0.764292144821621},{"$f":"IF(U47>DRIVER_OPEX!I279,DRIVER_OPEX!I279,U47)/U47","v":1},{"$f":"IF(V47>DRIVER_OPEX!J279,DRIVER_OPEX!J279,V47)/V47","v":1},{"$f":"IF(W47>DRIVER_OPEX!K279,DRIVER_OPEX!K279,W47)/W47","v":1}]
[null,null,null,null,null,null,null,null,null,null,"Total",{"$f":"SUM(L48:L49)","v":5603728.9643244362},{"$f":"SUM(M48:M49)","v":5410578.4426209033},{"$f":"SUM(N48:N49)","v":2802539.8462266577},{"$f":"SUM(O48:O49)","v":2328954.1608626409},{"$f":"SUM(P48:P49)","v":3548081.1086864169}]
[null,null,null,null,null,null,null,null,null,null,null,null,null,null,null,null,null,"CAPEX total","1º Ciclo Tarifário - R$"]
[null,null,null,null,null,null,null,null,null,null,null,null,null,null,null,null,null,null,"2024/2025","2025/2026","2026/2027","2027/2028","2028/2029"]
[null,null,null,null,null,null,null,null,null,null,null,null,null,null,null,null,null,"Expansão e Saturação",{"$f":"SUM(S54:S59)","v":127632877.54856084},{"$f":"SUM(T54:T59)","v":127833049.8520864},49244457.397029564,38351811.683348514,75044515.922400087]
[null,null,null,null,null,null,null,null,null,null,null,null,null,null,null,null,null,"Expansão Londrina-Maringá",{"$f":"L6+S6+S29*$S$49","v":15686796.827144556},{"$f":"M6+T6+T29*$T$49","v":10137956.463550234},{"$f":"N6+U6+U29*$U$49","v":14509178.478614498},{"$f":"O6+V6+V29*$V$49","v":14235478.691363789},{"$f":"P6+W6+W29*$W$49","v":50315628.151334718}]
[null,null,null,null,null,null,null,null,null,null,null,null,null,null,null,null,null,"Expansão Lapa",{"$f":"L7+S7+S30*$S$49","v":67274708.094714239},{"$f":"M7+T7+T30*$T$49","v":49464936.191060983},{"$f":"N7+U7+U30*$U$49","v":0},{"$f":"O7+V7+V30*$V$49","v":0},{"$f":"P7+W7+W30*$W$49","v":0}]
[null,null,null,null,null,null,null,null,null,null,null,null,null,null,null,null,null,"Corredores Sustentáveis ",{"$f":"L8+S8+S31*$S$49","v":8792252.6341133974},0,0,0,0]
[null,null,null,null,null,null,null,null,null,null,null,null,null,null,null,null,null,"Programa de Desenvolvimento do Biometano",7176603.3816291271,37284654.245315202,9028530.2937575262,0,0]
[null,null,null,null,null,null,null,null,null,null,null,null,null,null,null,null,null,"Expansão RMC",{"$f":"L10+S10+S33*$S$49","v":6091471.2081056992},7462730.6479099691,148394.49398133153,148394.49398133153,148394.49398133153]
[null,null,null,null,null,null,null,null,null,null,null,null,null,null,null,null,null,"Programa de Saturação",22611045.402853835,23482772.304249994,25558354.130676214,23967938.498003393,24580493.27708403]
[null,null,null,null,null,null,null,null,null,null,null,null,null,null,null,null,null,"Suporte Operacional",{"$f":"SUM(S61:S65)","v":8399858.6400892548},{"$f":"SUM(T61:T65)","v":9058294.6854577307},9405729.2486872002,6090804.4014477441,5971908.597109451]
[null,null,null,null,null,null,null,null,null,null,null,null,null,null,null,null,null,"INTEGRIDADE DE REDE",{"$f":"L13+S13+S36*$S$49","v":2631328.9992217538},2729030.2767490423,2759802.1400638763,2759802.1400638763,2759802.1400638763]
[null,null,null,null,null,null,null,null,null,null,null,null,null,null,null,null,null,"Redes de Distribuição - Ambiental",2288103.9373854115,3017871.7322508316,4552440.8551412346,1279708.5603110376,844712.90356348455]
[null,null,null,null,null,null,null,null,null,null,null,null,null,null,null,null,null,"Tachões e Equipamentos de GNC para atendimento a emergência",0,427585.49797576689,0,216203.4225907409,0]
[null,null,null,null,null,null,null,null,null,null,null,null,null,null,null,null,null,"Troca de Medidores",{"$f":"L16+S16+S39*$S$49","v":2164775.65},{"$f":"M16+T16+T39*$T$49","v":1568157.125},{"$f":"N16+U16+U39*$U$49","v":777836.2},{"$f":"O16+V16+V39*$V$49","v":519440.22499999998},{"$f":"P16+W16+W39*$W$49","v":1051743.5}]
[null,null,null,null,null,null,null,null,null,null,null,null,null,null,null,null,null,"Máquinas, Aparelhos e Equipamentos",1315650.0534820899,1315650.0534820899,1315650.0534820899,1315650.0534820899,1315650.0534820899]
[null,null,null,null,null,null,null,null,null,null,null,null,null,null,null,null,null,"Suporte Administrativo",{"$f":"SUM(S67:S71)","v":9858486.9913729299},{"$f":"SUM(T67:T71)","v":9858486.9913729299},9858486.9913729299,9858486.9913729299,9858486.9913729299]
[null,null,null,null,null,null,null,null,null,null,null,null,null,null,null,null,null,"Benfeitorias em Bens de Terceiros",200000,200000,200000,200000,200000]
[null,null,null,null,null,null,null,null,null,null,null,null,null,null,null,null,null,"Equipamentos de Processamento de Dados",{"$f":"L20+S20+S43*$S$49","v":5726178.6740044896},5726178.6740044896,5726178.6740044896,5726178.6740044896,5726178.6740044896]
[null,null,null,null,null,null,null,null,null,null,null,null,null,null,null,null,null,"Softwares",3738107.0782626234,3738107.0782626234,3738107.0782626234,3738107.0782626234,3738107.0782626234]
[null,null,null,null,null,null,null,null,null,null,null,null,null,null,null,null,null,"Supervisório",133973.85995872389,133973.85995872389,133973.85995872389,133973.85995872389,133973.85995872389]
[null,null,null,null,null,null,null,null,null,null,null,null,null,null,null,null,null,"Móveis e Utensílios",{"$f":"L23+S23+S46*$S$49","v":60227.379147093365},60227.379147093365,60227.379147093365,60227.379147093365,60227.379147093365]
[null,null,null,null,null,null,null,null,null,null,null,null,null,null,null,null,null,"Total",{"$f":"SUM(S53,S60,S66)","v":145891223.18002304},{"$f":"SUM(T53,T60,T66)","v":146749831.52891707},{"$f":"SUM(U53,U60,U66)","v":68508673.6370897},54301103.076169185,90874911.510882467]

{"sheet":"VCG","index":3,"n_rows":43,"n_cols":6,"rows_kept":43,"cut":false,"hidden":false,"merged":[[33,2,33,5],[22,2,22,5],[4,2,4,5],[42,2,42,5]]}
[]
[]
[null,null,"Variação do Capital de Giro projetado*"]
[null,null,"ITEM","VARIÁVEL ","VALOR","FONTE - Relatório da Administração 2023 (Compagas)"]
[null,null,"CICLO OPERACIONAL E FINANCEIRO"]
[null,null,1,"Estoque Inicial de Gás (molécula sem tributos)",5694,"Balanço patrimonial - Exercícios findos em 31 de dezembro 2022"]
[null,null,2,"Estoque Final de Gás (molécula sem tributos)",5383,"Balanço patrimonial - Exercícios findos em 31 de dezembro 2023"]
[null,null,3,"Estoque Médio Anual do Gás",{"$f":"(E6+E7)/2","v":5538.5},"=(1)+(2)/2"]
[null,null,4,"Custo Anual de Aquisição do Gás sem Tributos",{"$f":"702662","v":702662},"Relatório da Administração - Exercício 2023, nota 18"]
[null,null,5,"PMRE ",{"$f":"E8/E9*360","v":2.8375805152406137},"=(3)/(4)*360"]
[null,null,6,"Contas a Receber Clientes Inicial",128579,"Balanço patrimonial - Exercícios findos em 31 de dezembro"]
[null,null,{"$f":"C11+1","v":7},"Contas a Receber Clientes Final",82981,"Balanço patrimonial - Exercícios findos em 31 de dezembro"]
[null,null,{"$f":"C12+1","v":8},"Contas a Receber Clientes Médio",{"$f":"(E11+E12)/2","v":105780},"=(6)+(7)/2"]
[null,null,9,"Total de Vendas - Receita Operacional Bruta (DRE)",1306678,"Relatório da Administração - Exercício 2023, nota 17"]
[null,null,10,"PMR",{"$f":"((E13/E14)*360)","v":29.143216614957929},"=(8)/(9)*360"]
[null,null,11,"Compras Anuais sem tributos",{"$f":"E6+E9-E7","v":702973},"=(4)+(1)-(2)"]
[null,null,12,"Compras Anuais + Pis/Cofins/ICMS",{"$f":"(E16+E6-E7)/(1-9.25%)/(1-12%)","v":880646.13072877529},"=(11)/(1-9,25%)/(1-12%)"]
[null,null,13,"Fornecedores Inicial",97758,"Balanço patrimonial - Exercícios findos em 31 de dezembro"]
[null,null,14,"Fornecedores Final",58010,"Balanço patrimonial - Exercícios findos em 31 de dezembro"]
[null,null,15,"Fornecedores Médio",{"$f":"(E18+E19)/2","v":77884},"=(13)+(14)/2"]
[null,null,16,"PMP",{"$f":"E20/E17*360","v":31.838259457061444},"=(18)/(15)*360"]
[null,null,17,"Ciclo Financeiro estimado (dias)",{"$f":"E10+E15-E21","v":0.14253767313709886},"=(5)+(10)-(16)  PMRE + PMR-PMP"]
[null,null,"VOLUME PROJETADO"]
[null,null,18,"Volume Cativo 2024/2025 (ano)",{"$f":"VOLUME!E21","v":297937461.93578792},"Plano de Negócios da Compagás"]
[null,null,19,"Volume Cativo 2024/2026 (ano)",{"$f":"VOLUME!F21","v":321383391.03942132},"Plano de Negócios da Compagás"]
[null,null,20,"Volume Cativo 2024/2027 (ano)",{"$f":"VOLUME!G21","v":345323942.72671223},"Plano de Negócios da Compagás"]
[null,null,21,"Volume Cativo 2024/2028 (ano)",{"$f":"VOLUME!H21","v":355227452.48545504},"Plano de Negócios da Compagás"]
[null,null,22,"Volume Cativo 2024/2029 (ano)",{"$f":"VOLUME!I21","v":363451645.42370522},"Plano de Negócios da Compagás"]
[null,null,23,"Variação do Volume Médio Diário Projetado (24/25)",{"$f":"(E24/360)-E35","v":6962.060932744178},"=(18)/360-(28)"]
[null,null,24,"Variação do Volume Médio Diário Projetado (25/26)",{"$f":"(E25/360)-(E24/360)","v":65127.580843426171},"=(19)/360-(18)/360"]
[null,null,25,"Variação do Volume Médio Diário Projetado (26/27)",{"$f":"(E26/360)-(E25/360)","v":66501.532464696909},"=(20)/360-(19)/360"]
[null,null,26,"Variação do Volume Médio Diário Projetado (27/28)",{"$f":"(E27/360)-(E26/360)","v":27509.74932984123},"=(21)/360-(20)/360"]
[null,null,27,"Variação do Volume Médio Diário Projetado (28/29)",{"$f":"(E28/360)-(E27/360)","v":22844.980384028284},"=(22)/360-(21)/360"]
[null,null,"VARIAÇÃO NO CAPITAL DE GIRO"]
[null,null,28,"Volume Total não térmico 2023 (dia)",820642,"Relatório da Administração - Exercício 2023 - Distribuição de Gás"]
[null,null,29,"Média de Venda Unitário por dia (R$)",{"$f":"(E14*1000)/(E35*360)","v":4.4229531404816118},"=(9)*1000/(28)*360"]
[null,null,30,"VCG - 2024/2025",{"$f":"$E$22*$E$36*E29","v":4389.1439344910432},"=(17)*(29)*(23)"]
[null,null,31,"VCG - 2025/2026",{"$f":"$E$22*$E$36*E30","v":41058.865928989537},"=(17)*(29)*(24)"]
[null,null,32,"VCG - 2026/2027",{"$f":"$E$22*$E$36*E31","v":41925.056484206012},"=(17)*(29)*(25)"]
[null,null,33,"VCG - 2027/2028",{"$f":"$E$22*$E$36*E32","v":17343.176191198447},"=(17)*(29)*(26)"]
[null,null,34,"VCG - 2028/2029",{"$f":"$E$22*$E$36*E33","v":14402.331156645314},"=(17)*(29)*(27)"]
[null,null,35,"VCG TOTAL",{"$f":"SUM(E37:E41)","v":119118.57369553036},"=(30)+(31)+(32)+(33)+(34)"]
[null,null,"*Valores projetados com base nas Demonstrações Financeiras divulgadas pela Concessionária e no Plano de Negócios entregue."]

{"sheet":"OR","index":4,"n_rows":10,"n_cols":9,"rows_kept":10,"cut":false,"hidden":false,"merged":[[9,2,9,8],[3,4,3,8]]}
[]
[]
[null,null,"Outras Receitas projetado*"]
[null,null,null,null,"1° Ciclo Tarifário (ano)"]
[null,null,"Descrição","Percentual de \ncompartilhamento",1,2,3,4,5]
[null,null,"Receitas acessórias (mil R$)",0.2,{"$f":"SUM(Resultados!I27:I29)*0.05%*$D$6","v":16.622059958983971},{"$f":"SUM(Resultados!J27:J29)*0.05%*$D$6","v":27.622658355645953},{"$f":"SUM(Resultados!K27:K29)*0.05%*$D$6","v":29.029556980735709},{"$f":"SUM(Resultados!L27:L29)*0.05%*$D$6","v":32.143855521792347},{"$f":"SUM(Resultados!M27:M29)*0.05%*$D$6","v":34.960211453990816}]
[null,null,"Receitas correlatas (mil R$)",0.1,{"$f":"SUM(Resultados!I27:I29)*1%*$D$7","v":166.22059958983971},{"$f":"SUM(Resultados!J27:J29)*1%*$D$7","v":276.22658355645956},{"$f":"SUM(Resultados!K27:K29)*1%*$D$7","v":290.29556980735714},{"$f":"SUM(Resultados!L27:L29)*1%*$D$7","v":321.43855521792352},{"$f":"SUM(Resultados!M27:M29)*1%*$D$7","v":349.60211453990814}]
[null,null,"Receitas extraordinárias (mil R$)",0.5,0,0,0,0,0]
[null,null,"Outras Receitas projetado (mil R$)","-",{"$f":"SUM(E6:E8)","v":182.84265954882369},{"$f":"SUM(F6:F8)","v":303.84924191210553},319.32512678809286,353.5824107397159,384.56232599389898]
[null,null,"*Valores projetados com base na TUSDC e TUSDL calculada."]

{"sheet":"IR","index":5,"n_rows":19,"n_cols":16,"rows_kept":19,"cut":false,"hidden":false,"merged":[[3,3,3,7],[12,2,12,8]]}
[]
[null,null,null,null,null,null,null,null,null,null,"Informações encaminhadas pela COMPAGAS"]
[null,null,"Imposto de Renda projetado*","Alíquota=",0.34,null,null,null,null,null,null,3.9524589726284365E-2,3.8987289323004423E-2,3.7473365188187495E-2,3.7159279744586798E-2,3.4846017811678294E-2]
[null,null,null,"1° Ciclo Tarifário (ano)",null,null,null,null,null,null,"Projeção IPCA - Tendências","2024/2025","2025/2026","2026/2027","2027/2028","2028/2029"]
[null,null,"Descrição",1,2,3,4,5,null,null,2025,1.0395245897262844,1.0800528356643204,1.120526049997707,1.1621639909506687,1.2026607780794267]
[null,null,"(+) Receita tarifária direta (mil R$)",{"$f":"SUM(Resultados!I27:I29)","v":166220.59958983969},{"$f":"SUM(Resultados!J27:J29)","v":276226.58355645952},{"$f":"SUM(Resultados!K27:K29)","v":290295.5698073571},{"$f":"SUM(Resultados!L27:L29)","v":321438.55521792348},{"$f":"SUM(Resultados!M27:M29)","v":349602.11453990813},null,null,2026,1,1.0389872893230043,1.0779216394416904,1.1179764311844478,1.1569334578185375]
[null,null,"(+) Outras receitas (mil R$)",{"$f":"OR!E9","v":182.84265954882369},{"$f":"OR!F9","v":303.84924191210553},{"$f":"OR!G9","v":319.32512678809286},{"$f":"OR!H9","v":353.5824107397159},{"$f":"OR!I9","v":384.56232599389898},null,null,2027,1,1,1.0374733651881876,1.0760251281927733,1.113520318975592]
[null,null,"(-) Despesas operacionais (mil R$)",{"$f":"SUM(DRIVER_OPEX!G439:G441)/1000","v":76537.492072340392},{"$f":"SUM(DRIVER_OPEX!H439:H441)/1000","v":84126.605776070224},{"$f":"SUM(DRIVER_OPEX!I439:I441)/1000","v":91833.678073932795},{"$f":"SUM(DRIVER_OPEX!J439:J441)/1000","v":94693.034050020826},{"$f":"SUM(DRIVER_OPEX!K439:K441)/1000","v":96216.385996442841},null,null,2028,1,1,1,1.0371592797445868,1.0733001504801141]
[null,null,"(-) Despesas financeiras (mil R$)",{"$f":"'We e Wd'!$L$4*rWACC!$D$18/L5","v":22241.377050456838},{"$f":"'We e Wd'!$L$6*rWACC!$D$18/M5","v":15245.635943451074},{"$f":"'We e Wd'!$L$6*rWACC!$D$18/N5","v":14694.966111911379},{"$f":"'We e Wd'!$L$6*rWACC!$D$18/O5","v":14168.475757677445},{"$f":"'We e Wd'!$L$6*rWACC!$D$18/P5","v":13691.385494857102},null,null,2029,1,1,1,1,1.0348460178116783]
[null,null,"(-) Depreciação/Amortização (mil R$)",{"$f":"L19/1000","v":34126.583195596359},{"$f":"M19/1000","v":38043.97358016725},40530.2150424387,41503.122278676012,42904.855732215743]
[null,null,"Base de cálculo do IRPJ/CSLL projetado",{"$f":"SUM(D6:D7)-SUM(D8:D10)","v":33497.989930994925},{"$f":"IF(D11<0,SUM(E6:E7)-SUM(E8:E10)+D11,SUM(E6:E7)-SUM(E8:E10))","v":139114.21749868311},{"$f":"IF(E11<0,SUM(F6:F7)-SUM(F8:F10)+E11,SUM(F6:F7)-SUM(F8:F10))","v":143556.03570586233},{"$f":"IF(F11<0,SUM(G6:G7)-SUM(G8:G10)+F11,SUM(G6:G7)-SUM(G8:G10))","v":171427.50554228894},{"$f":"IF(G11<0,SUM(H6:H7)-SUM(H8:H10)+G11,SUM(H6:H7)-SUM(H8:H10))","v":197174.04964238635}]
[null,null,"IRPJ/CSLL projetado (mil R$)",{"$f":"IF(D11<0,0,D11*$E$3)","v":11389.316576538275},{"$f":"IF(E11<0,0,E11*$E$3)","v":47298.83394955226},{"$f":"IF(F11<0,0,F11*$E$3)","v":48809.052139993197},58285.351884378244,67039.176878411366,null,null,"Contábil - IR/CSLL","2024/2025","2025/2026","2026/2027","2027/2028","2028/2029"]
[null,null,"*Valores projetados com base na TUSDC e TUSDL calculada.",null,null,null,null,null,null,null,null,{"$f":"BRRL!K7*1000/L5","v":31431250.627369214},{"$f":"BRRL!L7*1000/M5","v":30251814.387305506},{"$f":"BRRL!M7*1000/N5","v":29159123.889236543},{"$f":"BRRL!N7*1000/O5","v":28114412.567775834},{"$f":"BRRL!O7*1000/P5","v":27167725.520389553}]
[null,null,null,null,null,null,null,null,null,null,"2024/2025",{"$f":"BRRL!K10*1000/IR!L5","v":2695332.5682271477},{"$f":"BRRL!L10*1000/IR!M5","v":5188384.1042625355},{"$f":"BRRL!M10*1000/IR!N5","v":5000980.5343980212},{"$f":"BRRL!N10*1000/IR!O5","v":4821805.7072483348},{"$f":"BRRL!O10*1000/IR!P5","v":4659442.6844727052}]
[null,null,null,null,null,null,null,null,null,null,"2025/2026",{"$f":"BRRL!K11*1000/IR!L6","v":0},{"$f":"BRRL!L11*1000/IR!M6","v":2603775.0885992032},{"$f":"BRRL!M11*1000/IR!N6","v":5019454.331971026},{"$f":"BRRL!N11*1000/IR!O6","v":4839617.6267228005},{"$f":"BRRL!O11*1000/IR!P6","v":4676654.8292438965}]
[null,null,null,null,null,null,null,null,null,null,"2026/2027",{"$f":"BRRL!K12*1000/IR!L7","v":0},{"$f":"BRRL!L12*1000/IR!M7","v":0},{"$f":"BRRL!M12*1000/IR!N7","v":1350656.2868331103},{"$f":"BRRL!N12*1000/IR!O7","v":2604530.1106802532},{"$f":"BRRL!O12*1000/IR!P7","v":2516828.6545546982}]
[null,null,null,null,null,null,null,null,null,null,"2027/2028",{"$f":"BRRL!K13*1000/IR!L8","v":0},{"$f":"BRRL!L13*1000/IR!M8","v":0},{"$f":"BRRL!M13*1000/IR!N8","v":0},{"$f":"BRRL!N13*1000/IR!O8","v":1122756.2662487938},{"$f":"BRRL!O13*1000/IR!P8","v":2169900.1531126602}]
[null,null,null,null,null,null,null,null,null,null,"2028/2029",{"$f":"BRRL!K14*1000/IR!L9","v":0},{"$f":"BRRL!L14*1000/IR!M9","v":0},{"$f":"BRRL!M14*1000/IR!N9","v":0},{"$f":"BRRL!N14*1000/IR!O9","v":0},{"$f":"BRRL!O14*1000/IR!P9","v":1714303.8904422291}]
[null,null,null,null,null,null,null,null,null,null,"Amortização Base",{"$f":"SUM(L13:L18)","v":34126583.19559636},{"$f":"SUM(M13:M18)","v":38043973.580167249},{"$f":"SUM(N13:N18)","v":40530215.042438701},41503122.278676011,42904855.73221574]

{"sheet":"VOLUME","index":6,"n_rows":23,"n_cols":9,"rows_kept":23,"cut":false,"hidden":false,"merged":[]}
[]
[]
[null,null,"m³/ano","Mercado","2024/2025","2025/2026","2026/2027","2027/2028","2028/2029"]
[null,null,"TOTAL","-",{"$f":"SUM(E5:E19)","v":297937461.93578792},{"$f":"SUM(F5:F19)","v":506405156.03942132},{"$f":"SUM(G5:G19)","v":531705707.72671223},{"$f":"SUM(H5:H19)","v":590511217.48545504},{"$f":"SUM(I5:I19)","v":643738410.42370522}]
[null,null,"Ceramista","Cativo",22841073.350000001,24313073.350000001,24313073.350000001,24380184.940000001,24313073.350000001]
[null,null,"Comercial","Cativo",6587816.1845423076,6832067.7032269053,7094123.221911503,7463353.1956687877,7836073.1755478755]
[null,null,"Geração de Energia Elétrica Para Consumidor Final e Cogeração\nUsuários com Quantidade Diária Contratada (QDC) de até 16.000 m³/dia  ","Cativo",57374.349999999991,57374.349999999991,57374.349999999991,57531.539999999994,57374.349999999991]
[null,null,"GNC","Cativo",4805955,4805955,4805955,4819122,4805955]
[null,null,"Industrial","Cativo",126499577.08,142695736.24999997,157659015.34999996,164483868.08714283,165499974.24999997]
[null,null,"Interruptível","Cativo",1131500,1131500,1131500,1134600,1131500]
[null,null,"Matéria Prima\nQuantidade Diária Contratada (QDC) de até 30.000 m³/dia  ","Cativo",4259340,4259340,4259340,4259340,4259340]
[null,null,"Residencial - Medição INDIVIDUAL","Cativo",10146858.280625518,10870635.738521578,11879016.019048361,13326528.827101858,15697913.633776911]
[null,null,"Residencial - Medição COLETIVA","Cativo",3749617.6906200568,4161458.6476728395,4789670.4357524104,5731673.8955416027,6783066.6643804386]
[null,null,"GNV","Cativo",19128350,20796250,21014875,21479250,21562374.999999996]
[null,null,"Cogeração","Cativo",14050000,16780000,25000000,28670000,32300000]
[null,null,"Unidades de Produção de Fertilizantes e Instalações de Refino de Petróleo\nQuantidade Diária Contratada (QDC) Acima de 500.000 m³/dia","Livre",0,0,0,44772000,89790000]
[null,null,"Tabela Grandes Usuários\nQuantidade Diária Contratada (QDC) Acima de 100.000 m³/dia","Livre"]
[null,null,"Matéria Prima","Cativo",84680000,84680000,84680000,84912000,84680000]
[null,null,"Termelétrico\nQuantidade Diária Contratada (QDC) Acima de 500.000 m³/dia","Livre",0,185021765,185021765,185021765,185021765]
[]
[null,null,"Cativo","-",{"$f":"SUMIF($D$5:$D$20,$C21,E5:E19)-E23","v":297937461.93578792},{"$f":"SUMIF($D$5:$D$19,$C21,F5:F19)-F23","v":321383391.03942132},{"$f":"SUMIF($D$5:$D$19,$C21,G5:G19)-G23","v":345323942.72671223},{"$f":"SUMIF($D$5:$D$19,$C21,H5:H19)-H23","v":355227452.48545504},{"$f":"SUMIF($D$5:$D$19,$C21,I5:I19)-I23","v":363451645.42370522}]
[null,null,"Livre","-",{"$f":"SUMIF($D$5:$D$19,$C22,E5:E19)","v":0},{"$f":"SUMIF($D$5:$D$19,$C22,F5:F19)","v":185021765},{"$f":"SUMIF($D$5:$D$19,$C22,G5:G19)","v":185021765},{"$f":"SUMIF($D$5:$D$19,$C22,H5:H19)","v":229793765},{"$f":"SUMIF($D$5:$D$19,$C22,I5:I19)","v":274811765}]
[null,null,"Livre - INDUSTRIAL","-",0,0,1360000,5490000,5475000]

{"sheet":"Série - IPCA","index":7,"n_rows":461,"n_cols":9,"rows_kept":461,"cut":false,"hidden":false,"merged":[[146,0,146,7],[1,0,1,7],[4,3,4,7],[73,0,73,7],[74,0,74,7],[77,3,77,7],[296,3,296,7],[366,0,366,7],[369,3,369,7],[453,0,453,7],[147,0,147,7],[150,3,150,7],[219,0,219,7],[220,0,220,7],[223,3,223,7],[293,0,293,7]]}
[]
["SÉRIE HISTÓRICA DO IPCA"]
[null,null,null,null,null,null,null,"(continua)"]
[null,null,null,null,null,"    VARIAÇÃO"]
["ANO","MÊS","NÚMERO ÍNDICE","(%)"]
[null,null,"(DEZ 93 = 100)","NO",3,6,"NO",12]
[null,null,null,"MÊS","MESES","MESES","ANO","MESES"]
[]
[1994,"JAN",141.31,41.31,162.13,533.33000000000004,41.31,2693.84]
[null,"FEV",198.22,40.270000000000003,171.24,568.16999999999996,98.22,3035.71]
[null,"MAR",282.95999999999998,42.75,182.96,602.92999999999995,182.96,3417.39]
[null,"ABR",403.73,42.68,185.71,648.91999999999996,303.73,3828.49]
[null,"MAI",581.49,44.03,193.36,695.71,481.49,4331.1899999999996]
[null,"JUN",857.29,47.43,202.97,757.29,757.29,4922.6000000000004]
[null,"JUL",915.93,6.84,126.87,548.16999999999996,815.93,4005.08]
[null,"AGO",932.97,1.86,60.44,370.67,832.97,3044.89]
[null,"SET",947.24,1.53,10.49,234.76,847.24,2253.15]
[null,"OUT",972.06,2.62,6.13,140.77000000000001,872.06,1703.17]
[null,"NOV",999.37,2.81,7.12,71.86,899.37,1267.54]
[null,"DEZ",1016.46,1.71,7.31,18.57,916.46,916.46]
[]
[1995,"JAN",1033.74,1.7,6.35,12.86,1.7,631.54]
[null,"FEV",1044.28,1.02,4.49,11.93,2.74,426.83]
[null,"MAR",1060.47,1.55,4.33,11.95,4.33,274.77999999999997]
[null,"ABR",1086.24,2.4300000000000002,5.08,11.75,6.87,169.05]
[null,"MAI",1115.24,2.67,6.8,11.59,9.7200000000000006,91.79]
[null,"JUN",1140.44,2.2599999999999998,7.54,12.2,12.2,33.03]
[null,"JUL",1167.3499999999999,2.36,7.47,12.92,14.84,27.45]
[null,"AGO",1178.9100000000001,0.99,5.71,12.89,15.98,26.36]
[null,"SET",1190.58,0.99,4.4000000000000004,12.27,17.13,25.69]
[null,"OUT",1207.3699999999999,1.41,3.43,11.15,18.78,24.21]
[null,"NOV",1225.1199999999999,1.47,3.92,9.85,20.53,22.59]
[null,"DEZ",1244.23,1.56,4.51,9.1,22.41,22.41]
[]
[1996,"JAN",1260.9000000000001,1.34,4.43,8.01,1.34,21.97]
[null,"FEV",1273.8900000000001,1.03,3.98,8.06,2.38,21.99]
[null,"MAR",1278.3499999999999,0.35,2.74,7.37,2.74,20.55]
[null,"ABR",1294.46,1.26,2.66,7.21,4.04,19.170000000000002]
[null,"MAI",1310.25,1.22,2.85,6.95,5.31,17.489999999999998]
[null,"JUN",1325.84,1.19,3.71,6.56,6.56,16.260000000000002]
[null,"JUL",1340.56,1.1100000000000001,3.56,6.32,7.74,14.84]
[null,"AGO",1346.46,0.44,2.76,5.7,8.2200000000000006,14.21]
[null,"SET",1348.48,0.15,1.71,5.49,8.3800000000000008,13.26]
[null,"OUT",1352.53,0.3,0.89,4.49,8.6999999999999993,12.02]
[null,"NOV",1356.86,0.32,0.77,3.56,9.0500000000000007,10.75]
[null,"DEZ",1363.24,0.47,1.0900000000000001,2.82,9.56,9.56]
[]
[1997,"JAN",1379.33,1.18,1.98,2.89,1.18,9.39]
[null,"FEV",1386.23,0.5,2.16,2.95,1.69,8.82]
[null,"MAR",1393.3,0.51,2.21,3.32,2.21,8.99]
[null,"ABR",1405.56,0.88,1.9,3.92,3.1,8.58]
[null,"MAI",1411.32,0.41,1.81,4.01,3.53,7.71]
[null,"JUN",1418.94,0.54,1.84,4.09,4.09,7.02]
[null,"JUL",1422.06,0.22,1.17,3.1,4.3099999999999996,6.08]
[null,"AGO",1421.78,-0.02,0.74,2.56,4.29,5.59]
[null,"SET",1422.63,0.06,0.26,2.11,4.3600000000000003,5.5]
[null,"OUT",1425.9,0.23,0.27,1.45,4.5999999999999996,5.42]
[null,"NOV",1428.32,0.17,0.46,1.2,4.7699999999999996,5.27]
[null,"DEZ",1434.46,0.43,0.83,1.0900000000000001,5.22,5.22]
[]
[1998,"JAN",1444.64,0.71,1.31,1.59,0.71,4.7300000000000004]
[null,"FEV",1451.29,0.46,1.61,2.08,1.17,4.6900000000000004]
[null,"MAR",1456.22,0.34,1.52,2.36,1.52,4.5199999999999996]
[null,"ABR",1459.71,0.24,1.04,2.37,1.76,3.85]
[null,"MAI",1467.01,0.5,1.08,2.71,2.27,3.95]
[null,"JUN",1467.3,0.02,0.76,2.29,2.29,3.41]
[null,"JUL",1465.54,-0.12,0.4,1.45,2.17,3.06]
[null,"AGO",1458.07,-0.51,-0.61,0.47,1.65,2.5499999999999998]
[null,"SET",1454.86,-0.22,-0.85,-0.09,1.42,2.27]
[null,"OUT",1455.15,0.02,-0.71,-0.31,1.44,2.0499999999999998]
[null,"NOV",1453.4,-0.12,-0.32,-0.93,1.32,1.76]
[null,"DEZ",1458.2,0.33,0.23,-0.62,1.65,1.65]
[]
[" "]
["SÉRIE HISTÓRICA DO IPCA"]
[null,null,null,null,null,null,null,"(continuação)"]
[null,null,null,null,null,"    VARIAÇÃO"]
["ANO","MÊS","NÚMERO ÍNDICE","(%)"]
[null,null,"(DEZ 93 = 100)","NO",3,6,"NO",12]
[null,null,null,"MÊS","MESES","MESES","ANO","MESES"]
[]
[1999,"JAN",1468.41,0.7,0.91,0.2,0.7,1.65]
[null,"FEV",1483.83,1.05,2.09,1.77,1.76,2.2400000000000002]
[null,"MAR",1500.15,1.1000000000000001,2.88,3.11,2.88,3.02]
[null,"ABR",1508.55,0.56000000000000005,2.73,3.67,3.45,3.35]
[null,"MAI",1513.08,0.3,1.97,4.1100000000000003,3.76,3.14]
[null,"JUN",1515.95,0.19,1.05,3.96,3.96,3.32]
[null,"JUL",1532.47,1.0900000000000001,1.59,4.3600000000000003,5.09,4.57]
[null,"AGO",1541.05,0.56000000000000005,1.85,3.86,5.68,5.69]
[null,"SET",1545.83,0.31,1.97,3.05,6.01,6.25]
[null,"OUT",1564.23,1.19,2.0699999999999998,3.69,7.27,7.5]
[null,"NOV",1579.09,0.95,2.4700000000000002,4.3600000000000003,8.2899999999999991,8.65]
[null,"DEZ",1588.56,0.6,2.76,4.79,8.94,8.94]
[]
[2000,"JAN",1598.41,0.62,2.19,4.3,0.62,8.85]
[null,"FEV",1600.49,0.13,1.36,3.86,0.75,7.86]
[null,"MAR",1604.01,0.22,0.97,3.76,0.97,6.92]
[null,"ABR",1610.75,0.42,0.77,2.97,1.4,6.77]
[null,"MAI",1610.91,0.01,0.65,2.02,1.41,6.47]
[null,"JUN",1614.62,0.23,0.66,1.64,1.64,6.51]
[null,"JUL",1640.62,1.61,1.85,2.64,3.28,7.06]
[null,"AGO",1662.11,1.31,3.18,3.85,4.63,7.86]
[null,"SET",1665.93,0.23,3.18,3.86,4.87,7.77]
[null,"OUT",1668.26,0.14000000000000001,1.68,3.57,5.0199999999999996,6.65]
[null,"NOV",1673.6,0.32,0.69,3.89,5.35,5.99]
[null,"DEZ",1683.47,0.59,1.05,4.26,5.97,5.97]
[]
[2001,"JAN",1693.07,0.56999999999999995,1.49,3.2,0.56999999999999995,5.92]
[null,"FEV",1700.86,0.46,1.63,2.33,1.03,6.27]
[null,"MAR",1707.32,0.38,1.42,2.48,1.42,6.44]
[null,"ABR",1717.22,0.57999999999999996,1.43,2.93,2,6.61]
[null,"MAI",1724.26,0.41,1.38,3.03,2.42,7.04]
[null,"JUN",1733.23,0.52,1.52,2.96,2.96,7.35]
[null,"JUL",1756.28,1.33,2.27,3.73,4.32,7.05]
[null,"AGO",1768.57,0.7,2.57,3.98,5.0599999999999996,6.41]
[null,"SET",1773.52,0.28000000000000003,2.3199999999999998,3.88,5.35,6.46]
[null,"OUT",1788.24,0.83,1.82,4.1399999999999997,6.22,7.19]
[null,"NOV",1800.94,0.71,1.83,4.45,6.98,7.61]
[null,"DEZ",1812.65,0.65,2.21,4.58,7.67,7.67]
[]
[2002,"JAN",1822.08,0.52,1.89,3.75,0.52,7.62]
[null,"FEV",1828.64,0.36,1.54,3.4,0.88,7.51]
[null,"MAR",1839.61,0.6,1.49,3.73,1.49,7.75]
[null,"ABR",1854.33,0.8,1.77,3.7,2.2999999999999998,7.98]
[null,"MAI",1858.22,0.21,1.62,3.18,2.5099999999999998,7.77]
[null,"JUN",1866.02,0.42,1.44,2.94,2.94,7.66]
[null,"JUL",1888.23,1.19,1.83,3.63,4.17,7.51]
[null,"AGO",1900.5,0.65,2.2799999999999998,3.93,4.8499999999999996,7.46]
[null,"SET",1914.18,0.72,2.58,4.05,5.6,7.93]
[null,"OUT",1939.26,1.31,2.7,4.58,6.98,8.4499999999999993]
[null,"NOV",1997.83,3.02,5.12,7.51,10.220000000000001,10.93]
[null,"DEZ",2039.78,2.1,6.56,9.31,12.53,12.53]
[]
[2003,"JAN",2085.6799999999998,2.25,7.55,10.46,2.25,14.47]
[null,"FEV",2118.4299999999998,1.57,6.04,11.47,3.86,15.85]
[null,"MAR",2144.4899999999998,1.23,5.13,12.03,5.13,16.57]
[null,"ABR",2165.29,0.97,3.82,11.66,6.15,16.77]
[null,"MAI",2178.5,0.61,2.84,9.0399999999999991,6.8,17.239999999999998]
[null,"JUN",2175.23,-0.15,1.43,6.64,6.64,16.57]
[null,"JUL",2179.58,0.2,0.66,4.5,6.85,15.43]
[null,"AGO",2186.9899999999998,0.34,0.39,3.24,7.22,15.07]
[null,"SET",2204.0500000000002,0.78,1.32,2.78,8.0500000000000007,15.14]
[null,"OUT",2210.44,0.28999999999999998,1.42,2.09,8.3699999999999992,13.98]
[null,"NOV",2217.96,0.34,1.42,1.81,8.74,11.02]
[null,"DEZ",2229.4899999999998,0.52,1.1499999999999999,2.4900000000000002,9.3000000000000007,9.3000000000000007]
[]
[" "]
["SÉRIE HISTÓRICA DO IPCA"]
[null,null,null,null,null,null,null,"(continuação)"]
[null,null,null,null,null,"    VARIAÇÃO"]
["ANO","MÊS","NÚMERO ÍNDICE","(%)"]
[null,null,"(DEZ 93 = 100)","NO",3,6,"NO",12]
[null,null,null,"MÊS","MESES","MESES","ANO","MESES"]
[]
[2004,"JAN",2246.4299999999998,0.76,1.63,3.07,0.76,7.71]
[null,"FEV",2260.13,0.61,1.9,3.34,1.37,6.69]
[null,"MAR",2270.75,0.47,1.85,3.03,1.85,5.89]
[null,"ABR",2279.15,0.37,1.46,3.11,2.23,5.26]
[null,"MAI",2290.77,0.51,1.36,3.28,2.75,5.15]
[null,"JUN",2307.0300000000002,0.71,1.6,3.48,3.48,6.06]
[null,"JUL",2328.02,0.91,2.14,3.63,4.42,6.81]
[null,"AGO",2344.08,0.69,2.33,3.71,5.14,7.18]
[null,"SET",2351.8200000000002,0.33,1.94,3.57,5.49,6.7]
[null,"OUT",2362.17,0.44,1.47,3.64,5.95,6.86]
[null,"NOV",2378.4699999999998,0.69,1.47,3.83,6.68,7.24]
[null,"DEZ",2398.92,0.86,2,3.98,7.6,7.6]
[]
[2005,"JAN",2412.83,0.57999999999999996,2.14,3.64,0.57999999999999996,7.41]
[null,"FEV",2427.0700000000002,0.59,2.04,3.54,1.17,7.39]
[null,"MAR",2441.87,0.61,1.79,3.83,1.79,7.54]
[null,"ABR",2463.11,0.87,2.08,4.2699999999999996,2.68,8.07]
[null,"MAI",2475.1799999999998,0.49,1.98,4.07,3.18,8.0500000000000007]
[null,"JUN",2474.6799999999998,-0.02,1.34,3.16,3.16,7.27]
[null,"JUL",2480.87,0.25,0.72,2.82,3.42,6.57]
[null,"AGO",2485.09,0.17,0.4,2.39,3.59,6.02]
[null,"SET",2493.79,0.35,0.77,2.13,3.95,6.04]
[null,"OUT",2512.4899999999998,0.75,1.27,2,4.7300000000000004,6.36]
[null,"NOV",2526.31,0.55000000000000004,1.66,2.0699999999999998,5.31,6.22]
[null,"DEZ",2535.4,0.36,1.67,2.4500000000000002,5.69,5.69]
[]
[2006,"JAN",2550.36,0.59,1.51,2.8,0.59,5.7]
[null,"FEV",2560.8200000000002,0.41,1.37,3.05,1,5.51]
[null,"MAR",2571.83,0.43,1.44,3.13,1.44,5.32]
[null,"ABR",2577.23,0.21,1.05,2.58,1.65,4.63]
[null,"MAI",2579.81,0.1,0.74,2.12,1.75,4.2300000000000004]
[null,"JUN",2574.39,-0.21,0.1,1.54,1.54,4.03]
[null,"JUL",2579.2800000000002,0.19,0.08,1.1299999999999999,1.73,3.97]
[null,"AGO",2580.5700000000002,0.05,0.03,0.77,1.78,3.84]
[null,"SET",2585.9899999999998,0.21,0.45,0.55000000000000004,2,3.7]
[null,"OUT",2594.52,0.33,0.59,0.67,2.33,3.26]
[null,"NOV",2602.56,0.31,0.85,0.88,2.65,3.02]
[null,"DEZ",2615.0500000000002,0.48,1.1200000000000001,1.58,3.14,3.14]
[]
[2007,"JAN",2626.56,0.44,1.23,1.83,0.44,2.99]
[null,"FEV",2638.12,0.44,1.37,2.23,0.88,3.02]
[null,"MAR",2647.88,0.37,1.26,2.39,1.26,2.96]
[null,"ABR",2654.5,0.25,1.06,2.31,1.51,3]
[null,"MAI",2661.93,0.28000000000000003,0.9,2.2799999999999998,1.79,3.18]
[null,"JUN",2669.38,0.28000000000000003,0.81,2.08,2.08,3.69]
[null,"JUL",2675.79,0.24,0.8,1.87,2.3199999999999998,3.74]
[null,"AGO",2688.37,0.47,0.99,1.9,2.8,4.18]
[null,"SET",2693.21,0.18,0.89,1.71,2.99,4.1500000000000004]
[null,"OUT",2701.29,0.3,0.95,1.76,3.3,4.12]
[null,"NOV",2711.55,0.38,0.86,1.86,3.69,4.1900000000000004]
[null,"DEZ",2731.62,0.74,1.43,2.33,4.46,4.46]
[]
[2008,"JAN",2746.37,0.54,1.67,2.64,0.54,4.5599999999999996]
[null,"FEV",2759.83,0.49,1.78,2.66,1.03,4.6100000000000003]
[null,"MAR",2773.08,0.48,1.52,2.97,1.52,4.7300000000000004]
[null,"ABR",2788.33,0.55000000000000004,1.53,3.22,2.08,5.04]
[null,"MAI",2810.36,0.79,1.83,3.64,2.88,5.58]
[null,"JUN",2831.16,0.74,2.09,3.64,3.64,6.06]
[null,"JUL",2846.16,0.53,2.0699999999999998,3.63,4.1900000000000004,6.37]
[null,"AGO",2854.13,0.28000000000000003,1.56,3.42,4.4800000000000004,6.17]
[null,"SET",2861.55,0.26,1.07,3.19,4.76,6.25]
[null,"OUT",2874.43,0.45,0.99,3.09,5.23,6.41]
[null,"NOV",2884.78,0.36,1.07,2.65,5.61,6.39]
[null,"DEZ",2892.86,0.28000000000000003,1.0900000000000001,2.1800000000000002,5.9,5.9]
[]
[" "]
["SÉRIE HISTÓRICA DO IPCA"]
[null,null,null,null,null,null,null,"(continuação)"]
[null,null,null,null,null,"    VARIAÇÃO"]
["ANO","MÊS","NÚMERO ÍNDICE","(%)"]
[null,null,"(DEZ 93 = 100)","NO",3,6,"NO",12]
[null,null,null,"MÊS","MESES","MESES","ANO","MESES"]
[]
[2009,"JAN",2906.74,0.48,1.1200000000000001,2.13,0.48,5.84]
[null,"FEV",2922.73,0.55000000000000004,1.32,2.4,1.03,5.9]
[null,"MAR",2928.57,0.2,1.23,2.34,1.23,5.61]
[null,"ABR",2942.63,0.48,1.23,2.37,1.72,5.53]
[null,"MAI",2956.46,0.47,1.1499999999999999,2.48,2.2000000000000002,5.2]
[null,"JUN",2967.1,0.36,1.32,2.57,2.57,4.8]
[null,"JUL",2974.22,0.24,1.07,2.3199999999999998,2.81,4.5]
[null,"AGO",2978.68,0.15,0.75,1.91,2.97,4.3600000000000003]
[null,"SET",2985.83,0.24,0.63,1.96,3.21,4.34]
[null,"OUT",2994.19,0.28000000000000003,0.67,1.75,3.5,4.17]
[null,"NOV",3006.47,0.41,0.93,1.69,3.93,4.22]
[null,"DEZ",3017.59,0.37,1.06,1.7,4.3099999999999996,4.3099999999999996]
[]
[2010,"JAN",3040.22,0.75,1.54,2.2200000000000002,0.75,4.59]
[null,"FEV",3063.93,0.78,1.91,2.86,1.54,4.83]
[null,"MAR",3079.86,0.52,2.06,3.15,2.06,5.17]
[null,"ABR",3097.42,0.56999999999999995,1.88,3.45,2.65,5.26]
[null,"MAI",3110.74,0.43,1.53,3.47,3.09,5.22]
[null,"JUN",3110.74,0,1,3.09,3.09,4.84]
[null,"JUL",3111.05,0.01,0.44,2.33,3.1,4.5999999999999996]
[null,"AGO",3112.29,0.04,0.05,1.58,3.14,4.49]
[null,"SET",3126.29,0.45,0.5,1.51,3.6,4.7]
[null,"OUT",3149.74,0.75,1.24,1.69,4.38,5.2]
[null,"NOV",3175.88,0.83,2.04,2.09,5.25,5.63]
[null,"DEZ",3195.89,0.63,2.23,2.74,5.91,5.91]
[]
[2011,"JAN",3222.42,0.83,2.31,3.58,0.83,5.99]
[null,"FEV",3248.2,0.8,2.2799999999999998,4.37,1.64,6.01]
[null,"MAR",3273.86,0.79,2.44,4.72,2.44,6.3]
[null,"ABR",3299.07,0.77,2.38,4.74,3.23,6.51]
[null,"MAI",3314.58,0.47,2.04,4.37,3.71,6.55]
[null,"JUN",3319.55,0.15,1.4,3.87,3.87,6.71]
[null,"JUL",3324.86,0.16,0.78,3.18,4.04,6.87]
[null,"AGO",3337.16,0.37,0.68,2.74,4.42,7.23]
[null,"SET",3354.85,0.53,1.06,2.4700000000000002,4.97,7.31]
[null,"OUT",3369.28,0.43,1.34,2.13,5.43,6.97]
[null,"NOV",3386.8,0.52,1.49,2.1800000000000002,5.97,6.64]
[null,"DEZ",3403.73,0.5,1.46,2.54,6.5,6.5]
[]
[2012,"JAN",3422.79,0.56000000000000005,1.59,2.95,0.56000000000000005,6.22]
[null,"FEV",3438.19,0.45,1.52,3.03,1.01,5.85]
[null,"MAR",3445.41,0.21,1.22,2.7,1.22,5.24]
[null,"ABR",3467.46,0.64,1.31,2.91,1.87,5.0999999999999996]
[null,"MAI",3479.94,0.36,1.21,2.75,2.2400000000000002,4.99]
[null,"JUN",3482.72,0.08,1.08,2.3199999999999998,2.3199999999999998,4.92]
[null,"JUL",3497.7,0.43,0.87,2.19,2.76,5.2]
[null,"AGO",3512.04,0.41,0.92,2.15,3.18,5.24]
[null,"SET",3532.06,0.56999999999999995,1.42,2.5099999999999998,3.77,5.28]
[null,"OUT",3552.9,0.59,1.58,2.46,4.38,5.45]
[null,"NOV",3574.22,0.6,1.77,2.71,5.01,5.53]
[null,"DEZ",3602.46,0.79,1.99,3.44,5.84,5.84]
[]
[2013,"JAN",3633.44,0.86,2.27,3.88,0.86,6.15]
[null,"FEV",3655.24,0.6,2.27,4.08,1.47,6.31]
[null,"MAR",3672.42,0.47,1.94,3.97,1.94,6.59]
[null,"ABR",3692.62,0.55000000000000004,1.63,3.93,2.5,6.49]
[null,"MAI",3706.28,0.37,1.4,3.69,2.88,6.5]
[null,"JUN",3715.92,0.26,1.18,3.15,3.15,6.7]
[null,"JUL",3717.03,0.03,0.66,2.2999999999999998,3.18,6.27]
[null,"AGO",3725.95,0.24,0.53,1.93,3.43,6.09]
[null,"SET",3738.99,0.35,0.62,1.81,3.79,5.86]
[null,"OUT",3760.3,0.56999999999999995,1.1599999999999999,1.83,4.38,5.84]
[null,"NOV",3780.61,0.54,1.47,2.0099999999999998,4.95,5.77]
[null,"DEZ",3815.39,0.92,2.04,2.68,5.91,5.91]
[]
[]
["SÉRIE HISTÓRICA DO IPCA"]
[null,null,null,null,null,null,null,"(continuação)"]
[null,null,null,null,null,"    VARIAÇÃO"]
["ANO","MÊS","NÚMERO ÍNDICE","(%)"]
[null,null,"(DEZ 93 = 100)","NO",3,6,"NO",12]
[null,null,null,"MÊS","MESES","MESES","ANO","MESES"]
[]
[2014,"JAN",3836.37,0.55000000000000004,2.02,3.21,0.55000000000000004,5.59]
[null,"FEV",3862.84,0.69,2.1800000000000002,3.67,1.24,5.68]
[null,"MAR",3898.38,0.92,2.1800000000000002,4.26,2.1800000000000002,6.15]
[null,"ABR",3924.5,0.67,2.2999999999999998,4.37,2.86,6.28]
[null,"MAI",3942.55,0.46,2.06,4.28,3.33,6.37]
[null,"JUN",3958.32,0.4,1.54,3.75,3.75,6.52]
[null,"JUL",3958.72,0.01,0.87,3.19,3.76,6.5]
[null,"AGO",3968.62,0.25,0.66,2.74,4.0199999999999996,6.51]
[null,"SET",3991.24,0.56999999999999995,0.83,2.38,4.6100000000000003,6.75]
[null,"OUT",4008,0.42,1.24,2.13,5.05,6.59]
[null,"NOV",4028.44,0.51,1.51,2.1800000000000002,5.58,6.56]
[null,"DEZ",4059.86,0.78,1.72,2.57,6.41,6.41]
[]
[2015,"JAN",4110.2,1.24,2.5499999999999998,3.83,1.24,7.14]
[null,"FEV",4160.34,1.22,3.27,4.83,2.48,7.7]
[null,"MAR",4215.26,1.32,3.83,5.61,3.83,8.1300000000000008]
[null,"ABR",4245.1899999999996,0.71,3.28,5.92,4.5599999999999996,8.17]
[null,"MAI",4276.6000000000004,0.74,2.79,6.16,5.34,8.4700000000000006]
[null,"JUN",4310.3900000000003,0.79,2.2599999999999998,6.17,6.17,8.89]
[null,"JUL",4337.1099999999997,0.62,2.17,5.52,6.83,9.56]
[null,"AGO",4346.6499999999996,0.22,1.64,4.4800000000000004,7.06,9.5299999999999994]
[null,"SET",4370.12,0.54,1.39,3.67,7.64,9.49]
[null,"OUT",4405.95,0.82,1.59,3.79,8.52,9.93]
[null,"NOV",4450.45,1.01,2.39,4.07,9.6199999999999992,10.48]
[null,"DEZ",4493.17,0.96,2.82,4.24,10.67,10.67]
[]
[2016,"JAN",4550.2299999999996,1.27,3.27,4.91,1.27,10.71]
[null,"FEV",4591.18,0.9,3.16,5.63,2.1800000000000002,10.36]
[null,"MAR",4610.92,0.43,2.62,5.51,2.62,9.39]
[null,"ABR",4639.05,0.61,1.95,5.29,3.25,9.2799999999999994]
[null,"MAI",4675.2299999999996,0.78,1.83,5.05,4.05,9.32]
[null,"JUN",4691.59,0.35,1.75,4.42,4.42,8.84]
[null,"JUL",4715.99,0.52,1.66,3.64,4.96,8.74]
[null,"AGO",4736.74,0.44,1.32,3.17,5.42,8.9700000000000006]
[null,"SET",4740.53,0.08,1.04,2.81,5.51,8.48]
[null,"OUT",4752.8599999999997,0.26,0.78,2.4500000000000002,5.78,7.87]
[null,"NOV",4761.42,0.18,0.52,1.84,5.97,6.99]
[null,"DEZ",4775.7,0.3,0.74,1.79,6.29,6.29]
[]
[2017,"JAN",4793.8500000000004,0.38,0.86,1.65,0.38,5.35]
[null,"FEV",4809.67,0.33,1.01,1.54,0.71,4.76]
[null,"MAR",4821.6899999999996,0.25,0.96,1.71,0.96,4.57]
[null,"ABR",4828.4399999999996,0.14000000000000001,0.72,1.59,1.1000000000000001,4.08]
[null,"MAI",4843.41,0.31,0.7,1.72,1.42,3.6]
[null,"JUN",4832.2700000000004,-0.23,0.22,1.18,1.18,3]
[null,"JUL",4843.87,0.24,0.32,1.04,1.43,2.71]
[null,"AGO",4853.07,0.19,0.2,0.9,1.62,2.46]
[null,"SET",4860.83,0.16,0.59,0.81,1.78,2.54]
[null,"OUT",4881.25,0.42,0.77,1.0900000000000001,2.21,2.7]
[null,"NOV",4894.92,0.28000000000000003,0.86,1.06,2.5,2.8]
[null,"DEZ",4916.46,0.44,1.1399999999999999,1.74,2.95,2.95]
[]
[2018,"JAN",4930.72,0.28999999999999998,1.01,1.79,0.28999999999999998,2.86]
[null,"FEV",4946.5,0.32,1.05,1.93,0.61,2.84]
[null,"MAR",4950.95,0.09,0.7,1.85,0.7,2.68]
[null,"ABR",4961.84,0.22,0.63,1.65,0.92,2.76]
[null,"MAI",4981.6899999999996,0.4,0.71,1.77,1.33,2.86]
[null,"JUN",5044.46,1.26,1.89,2.6,2.6,4.3899999999999997]
[null,"JUL",5061.1099999999997,0.33,2,2.64,2.94,4.4800000000000004]
[null,"AGO",5056.5600000000004,-0.09,1.5,2.23,2.85,4.1900000000000004]
[null,"SET",5080.83,0.48,0.72,2.62,3.34,4.53]
[null,"OUT",5103.6899999999996,0.45,0.84,2.86,3.81,4.5599999999999996]
[null,"NOV",5092.97,-0.21,0.72,2.23,3.59,4.05]
[null,"DEZ",5100.6099999999997,0.15,0.39,1.1100000000000001,3.75,3.75]
[]
[]
["SÉRIE HISTÓRICA DO IPCA"]
[null,null,null,null,null,null,null,"(conclusão)"]
[null,null,null,null,null,"    VARIAÇÃO"]
["ANO","MÊS","NÚMERO ÍNDICE","(%)"]
[null,null,"(DEZ 93 = 100)","NO",3,6,"NO",12]
[null,null,null,"MÊS","MESES","MESES","ANO","MESES"]
[]
[2019,"JAN",5116.93,0.32,0.26,1.1000000000000001,0.32,3.78]
[null,"FEV",5138.93,0.43,0.9,1.63,0.75,3.89]
[null,"MAR",5177.47,0.75,1.51,1.9,1.51,4.58]
[null,"ABR",5206.9799999999996,0.56999999999999995,1.76,2.02,2.09,4.9400000000000004]
[null,"MAI",5213.75,0.13,1.46,2.37,2.2200000000000002,4.66]
[null,"JUN",5214.2700000000004,0.01,0.71,2.23,2.23,3.37]
[null,"JUL",5224.18,0.19,0.33,2.1,2.42,3.22]
[null,"AGO",5229.93,0.11,0.31,1.77,2.54,3.43]
[null,"SET",5227.84,-0.04,0.26,0.97,2.4900000000000002,2.89]
[null,"OUT",5233.07,0.1,0.17,0.5,2.6,2.54]
[null,"NOV",5259.76,0.51,0.56999999999999995,0.88,3.12,3.27]
[null,"DEZ",5320.25,1.1499999999999999,1.77,2.0299999999999998,4.3099999999999996,4.3099999999999996]
[]
[2020,"JAN",5331.42,0.21,1.88,2.0499999999999998,0.21,4.1900000000000004]
[null,"FEV",5344.75,0.25,1.62,2.2000000000000002,0.46,4.01]
[null,"MAR",5348.49,7.0000000000000007E-2,0.53,2.31,0.53,3.3]
[null,"ABR",5331.91,-0.31,0.01,1.89,0.22,2.4]
[null,"MAI",5311.65,-0.38,-0.62,0.99,-0.16,1.88]
[null,"JUN",5325.46,0.26,-0.43,0.1,0.1,2.13]
[null,"JUL",5344.63,0.36,0.24,0.25,0.46,2.31]
[null,"AGO",5357.46,0.24,0.86,0.24,0.7,2.44]
[null,"SET",5391.75,0.64,1.24,0.81,1.34,3.14]
[null,"OUT",5438.12,0.86,1.75,1.99,2.2200000000000002,3.92]
[null,"NOV",5486.52,0.89,2.41,3.29,3.13,4.3099999999999996]
[null,"DEZ",5560.59,1.35,3.13,4.42,4.5199999999999996,4.5199999999999996]
[]
[2021,"JAN",5574.49,0.25,2.5099999999999998,4.3,0.25,4.5599999999999996]
[null,"FEV",5622.43,0.86,2.48,4.95,1.1100000000000001,5.2]
[null,"MAR",5674.72,0.93,2.0499999999999998,5.25,2.0499999999999998,6.1]
[null,"ABR",5692.31,0.31,2.11,4.67,2.37,6.76]
[null,"MAI",5739.56,0.83,2.08,4.6100000000000003,3.22,8.06]
[null,"JUN",5769.98,0.53,1.68,3.77,3.77,8.35]
[null,"JUL",5825.37,0.96,2.34,4.5,4.76,8.99]
[null,"AGO",5876.05,0.87,2.38,4.51,5.67,9.68]
[null,"SET",5944.21,1.1599999999999999,3.02,4.75,6.9,10.25]
[null,"OUT",6018.51,1.25,3.32,5.73,8.24,10.67]
[null,"NOV",6075.69,0.95,3.4,5.86,9.26,10.74]
[null,"DEZ",6120.04,0.73,2.96,6.07,10.06,10.06]
[]
[2022,"JAN",6153.09,0.54,2.2400000000000002,5.63,0.54,10.38]
[null,"FEV",6215.24,1.01,2.2999999999999998,5.77,1.56,10.54]
[null,"MAR",6315.93,1.62,3.2,6.25,3.2,11.3]
[null,"ABR",6382.88,1.06,3.73,6.05,4.29,12.13]
[null,"MAI",6412.88,0.47,3.18,5.55,4.78,11.73]
[null,"JUN",6455.85,0.67,2.2200000000000002,5.49,5.49,11.89]
[null,"JUL",6411.95,-0.68,0.46,4.21,4.7699999999999996,10.07]
[null,"AGO",6388.87,-0.36,-0.37,2.79,4.3899999999999997,8.73]
[null,"SET",6370.34,-0.28999999999999998,-1.32,0.86,4.09,7.17]
[null,"OUT",6407.93,0.59,-0.06,0.39,4.7,6.47]
[null,"NOV",6434.2,0.41,0.71,0.33,5.13,5.9]
[null,"DEZ",6474.09,0.62,1.63,0.28000000000000003,5.79,5.79]
[]
[2023,"JAN",6508.4,0.53,1.57,1.5,0.53,5.77]
[null,"FEV",6563.07,0.84,2,2.73,1.37,5.6]
[null,"MAR",6609.67,0.71,2.09,3.76,2.09,4.6500000000000004]
[null,"ABR",6649.99,0.61,2.1800000000000002,3.78,2.72,4.18]
[null,"MAI",6665.28,0.23,1.56,3.59,2.95,3.94]
[null,"JUN",6659.95,-0.08,0.76,2.87,2.87,3.16]
[null,"JUL",6667.94,0.12,0.27,2.4500000000000002,2.99,3.99]
[null,"AGO",6683.28,0.23,0.27,1.83,3.23,4.6100000000000003]
[null,"SET",6700.66,0.26,0.61,1.38,3.5,5.19]
[null,"OUT",6716.74,0.24,0.73,1,3.75,4.82]
[null,"NOV",6735.55,0.28000000000000003,0.78,1.05,4.04,4.68]
[null,"DEZ",6773.27,0.56000000000000005,1.08,1.7,4.62,4.62]
[]
[2024,"JAN",6801.72,0.42,1.27,2.0099999999999998,0.42,4.51]
[null,"FEV",6858.17,0.83,1.82,2.62,1.25,4.5]
[null,"MAR",6869.14,0.16,1.42,2.5099999999999998,1.42,3.93]
[null,"ABR",{"$f":"C441*(1+D442/100)","v":6889.7474199999997},0.3,null,null,null,null,"valor projetado com base na pesquisa focus do dia 05/04/2024*"]
[null,"MAI",{"$f":"C442*(1+D443/100)","v":6905.5938390659994},0.23,null,null,null,null,"valor projetado com base na pesquisa focus do dia 05/04/2024*"]
[null,"JUN",6924.9295018153834,0.28000000000000003,null,null,null,null,"valor projetado com base na média anual da pesquisa focus do dia 05/04/2024*"]
[]
["Fonte: IBGE, Diretoria de Pesquisas, Coordenação de Índices de Preços, "]
["Sistema Nacional de Índices de Preços ao Consumidor."]
["https://www.ibge.gov.br/estatisticas/economicas/precos-e-custos/9256-indice-nacional-de-precos-ao-consumidor-amplo.html?=&t=downloads"]
["*https://www.bcb.gov.br/content/focus/focus/R20240405.pdf"]
[]
[]
[]
[]
[]
[]
[]
[]
[]
[]
[]
[null,null,null,null,null," "]

{"sheet":"Classificação OPEX","index":8,"n_rows":1669,"n_cols":25,"rows_kept":1669,"cut":false,"hidden":true,"merged":[]}
[]
[null,"CUSTOS/DESPESAS COMERCIAIS/DESPESAS GERAIS E ADMINISTRATIVAS/OUTRAS RECEITAS E DESPESAS"]
[null,"CONTA DETALHADA","DESCRIÇÃO","ANO DE 2019","ANO DE 2020","ANO DE 2021","ANO DE 2022","ANO DE 2023","MÉDIA 5 ANOS","2019 a preços de jul de 2024","2020 a preços de jul de 2024","2021 a preços de jul de 2024","2022 a preços de jul de 2024","2023 a preços de jul de 2024","Média a preços de jul 2024","C/D","MOLÉCULA, TRIBUTOS S/ A RECEITA, DEPRECIAÇÃO, AMORTIZAÇÃO e DEMAIS CONTAS NÃO APLICÁVEIS AO OPEX&ODESP/ENCARGOS","EFICIENTE","GLOSA","CC","CRITÉRIO","Grupo - Plano Negócios","CC Compagas - Plano Negócios","CC Descrição - Plano Negócios","concatenar"]
[null,null,null,36517787.359999999,23459626.140000001,42258081.159999996,69206041.870000005,45374757.140000001,{"$f":"AVERAGE(D4:H4)","v":43363258.734000005},{"$f":"D4*'Série - IPCA'!$C$444/'Série - IPCA'!$C$385","v":47532184.207562596},{"$f":"E4*'Série - IPCA'!$C$444/'Série - IPCA'!$C$398","v":29215651.065524582},{"$f":"F4*'Série - IPCA'!$C$444/'Série - IPCA'!$C$411","v":47815738.608733408},{"$f":"G4*'Série - IPCA'!$C$444/'Série - IPCA'!$C$424","v":74025378.246121645},{"$f":"H4*'Série - IPCA'!$C$444/'Série - IPCA'!$C$437","v":46390738.05658038},{"$f":"AVERAGE(J4:N4)","v":48995938.036904529},"Custos","S",null,"NÃO","OPEX",null,"Custos",9999,"RATEIO",{"$f":"B4&C4&P4&I4","v":"Custos43363258,734"}]
[null,null,null,21410598.48,0,0,0,0,{"$f":"AVERAGE(D5:H5)","v":4282119.6960000005},{"$f":"D5*'Série - IPCA'!$C$444/'Série - IPCA'!$C$385","v":27868405.632381111},{"$f":"E5*'Série - IPCA'!$C$444/'Série - IPCA'!$C$398","v":0},{"$f":"F5*'Série - IPCA'!$C$444/'Série - IPCA'!$C$411","v":0},{"$f":"G5*'Série - IPCA'!$C$444/'Série - IPCA'!$C$424","v":0},{"$f":"H5*'Série - IPCA'!$C$444/'Série - IPCA'!$C$437","v":0},{"$f":"AVERAGE(J5:N5)","v":5573681.1264762226},"Custos","S",null,null,"OPEX",null,"Custos",9999,"RATEIO",{"$f":"B5&C5&P5&I5","v":"Custos4282119,696"}]
[null,null,null,2087207.9,2236768.7999999998,3027361.54,2361654.27,179887.11,1978575.9239999999,{"$f":"D6*'Série - IPCA'!$C$444/'Série - IPCA'!$C$385","v":2716745.9354602005},{"$f":"E6*'Série - IPCA'!$C$444/'Série - IPCA'!$C$398","v":2785579.6330713453},{"$f":"F6*'Série - IPCA'!$C$444/'Série - IPCA'!$C$411","v":3425511.14715055},{"$f":"G6*'Série - IPCA'!$C$444/'Série - IPCA'!$C$424","v":2526113.9909101161},{"$f":"H6*'Série - IPCA'!$C$444/'Série - IPCA'!$C$437","v":183914.94138507824},2327573.1295954585,"Custos","S",null,null,"OPEX",null,"Custos",9999,"RATEIO","Custos1978575,924"]
[null,null,null,192015161.28999999,160026471,263751763.99000001,473219888.51999998,347870769.35000002,287376810.83000004,{"$f":"D7*'Série - IPCA'!$C$444/'Série - IPCA'!$C$385","v":249930258.01662707},{"$f":"E7*'Série - IPCA'!$C$444/'Série - IPCA'!$C$398","v":199290368.48595273},{"$f":"F7*'Série - IPCA'!$C$444/'Série - IPCA'!$C$411","v":298439613.40288615},{"$f":"G7*'Série - IPCA'!$C$444/'Série - IPCA'!$C$424","v":506173742.8515721},{"$f":"H7*'Série - IPCA'!$C$444/'Série - IPCA'!$C$437","v":355659903.33930725},321898777.2192691,"Custos","S",null,null,"OPEX",null,"Custos",9999,"RATEIO","Custos287376810,83"]
[null,null,null,48270309.289999999,45189847.990000002,32041846.850000001,83319540.010000005,44798697.939999998,50724048.415999994,{"$f":"D8*'Série - IPCA'!$C$444/'Série - IPCA'!$C$385","v":62829470.206113279},{"$f":"E8*'Série - IPCA'!$C$444/'Série - IPCA'!$C$398","v":56277573.338171594},{"$f":"F8*'Série - IPCA'!$C$444/'Série - IPCA'!$C$411","v":36255895.475228161},{"$f":"G8*'Série - IPCA'!$C$444/'Série - IPCA'!$C$424","v":89121705.24242577},{"$f":"H8*'Série - IPCA'!$C$444/'Série - IPCA'!$C$437","v":45801780.381945796},58057284.92877692,"Custos","S",null,null,"OPEX",null,"Custos",9999,"RATEIO","Custos50724048,416"]
[null,null,null,198430846.44999999,14461745.33,0,0,0,42578518.355999999,{"$f":"D9*'Série - IPCA'!$C$444/'Série - IPCA'!$C$385","v":258281024.88638753},{"$f":"E9*'Série - IPCA'!$C$444/'Série - IPCA'!$C$398","v":18010061.321452912},{"$f":"F9*'Série - IPCA'!$C$444/'Série - IPCA'!$C$411","v":0},{"$f":"G9*'Série - IPCA'!$C$444/'Série - IPCA'!$C$424","v":0},{"$f":"H9*'Série - IPCA'!$C$444/'Série - IPCA'!$C$437","v":0},55258217.241568089,"Custos","S",null,null,"OPEX",null,"Custos",9999,"RATEIO","Custos42578518,356"]
[null,null,null,88234524.260000005,90262805.719999999,143431834.03,273247913.23000002,204074594.69,159850334.38600001,{"$f":"D10*'Série - IPCA'!$C$444/'Série - IPCA'!$C$385","v":114847584.25388266},{"$f":"E10*'Série - IPCA'!$C$444/'Série - IPCA'!$C$398","v":112409576.3663673},{"$f":"F10*'Série - IPCA'!$C$444/'Série - IPCA'!$C$411","v":162295563.26001704},{"$f":"G10*'Série - IPCA'!$C$444/'Série - IPCA'!$C$424","v":292276217.29631764},{"$f":"H10*'Série - IPCA'!$C$444/'Série - IPCA'!$C$437","v":208644005.23525536},178094589.282368,"Custos","S",null,null,"OPEX",null,"Custos",9999,"RATEIO","Custos159850334,386"]
[null,null,null,255348.93,247026.72,223045.23,237768.44,222433.94,237124.652,{"$f":"D11*'Série - IPCA'!$C$444/'Série - IPCA'!$C$385","v":332366.5877757608},{"$f":"E11*'Série - IPCA'!$C$444/'Série - IPCA'!$C$398","v":307636.89124080143},{"$f":"F11*'Série - IPCA'!$C$444/'Série - IPCA'!$C$411","v":252379.4768443013},{"$f":"G11*'Série - IPCA'!$C$444/'Série - IPCA'!$C$424","v":254326.04192351681},{"$f":"H11*'Série - IPCA'!$C$444/'Série - IPCA'!$C$437","v":227414.43251354707},274824.68605958548,"Custos","S",null,null,"OPEX",null,"Custos",9999,"RATEIO","Custos237124,652"]
[null,null,null,5914821.2000000002,5253086.84,6091552.3300000001,13166789.960000001,9938294.6899999995,8072909.0039999988,{"$f":"D12*'Série - IPCA'!$C$444/'Série - IPCA'!$C$385","v":7698833.6686890787},{"$f":"E12*'Série - IPCA'!$C$444/'Série - IPCA'!$C$398","v":6541977.7458712375},{"$f":"F12*'Série - IPCA'!$C$444/'Série - IPCA'!$C$411","v":6892695.217983745},{"$f":"G12*'Série - IPCA'!$C$444/'Série - IPCA'!$C$424","v":14083692.416727386},{"$f":"H12*'Série - IPCA'!$C$444/'Série - IPCA'!$C$437","v":10160821.892013188},9075604.1882569287,"Custos","S",null,null,"OPEX",null,"Custos",9999,"RATEIO","Custos8072909,004"]
[null,null,null,14207307.529999999,13568711.189999999,21634616.120000001,40118446.259999998,29703887.949999999,23846593.809999999,{"$f":"D13*'Série - IPCA'!$C$444/'Série - IPCA'!$C$385","v":18492477.431673482},{"$f":"E13*'Série - IPCA'!$C$444/'Série - IPCA'!$C$398","v":16897913.426676579},{"$f":"F13*'Série - IPCA'!$C$444/'Série - IPCA'!$C$411","v":24479936.639276654},{"$f":"G13*'Série - IPCA'!$C$444/'Série - IPCA'!$C$424","v":42912194.929769129},{"$f":"H13*'Série - IPCA'!$C$444/'Série - IPCA'!$C$437","v":30368984.254809484},26630301.336441066,"Custos","S",null,null,"OPEX",null,"Custos",9999,"RATEIO","Custos23846593,81"]
[null,null,null,8579680.5299999993,5397923.8799999999,9650388.3800000008,21057821.079999998,15858055.1,12108773.794,{"$f":"D14*'Série - IPCA'!$C$444/'Série - IPCA'!$C$385","v":11167460.705483396},{"$f":"E14*'Série - IPCA'!$C$444/'Série - IPCA'!$C$398","v":6722351.8233075561},{"$f":"F14*'Série - IPCA'!$C$444/'Série - IPCA'!$C$411","v":10919578.8257329},{"$f":"G14*'Série - IPCA'!$C$444/'Série - IPCA'!$C$424","v":22524235.288796086},{"$f":"H14*'Série - IPCA'!$C$444/'Série - IPCA'!$C$437","v":16213130.969738973},13509351.522611782,"Custos","S",null,null,"OPEX",null,"Custos",9999,"RATEIO","Custos12108773,794"]
[null,null,null,245464.04,0,0,0,0,49092.808000000005,{"$f":"D15*'Série - IPCA'!$C$444/'Série - IPCA'!$C$385","v":319500.24382891617},{"$f":"E15*'Série - IPCA'!$C$444/'Série - IPCA'!$C$398","v":0},{"$f":"F15*'Série - IPCA'!$C$444/'Série - IPCA'!$C$411","v":0},{"$f":"G15*'Série - IPCA'!$C$444/'Série - IPCA'!$C$424","v":0},{"$f":"H15*'Série - IPCA'!$C$444/'Série - IPCA'!$C$437","v":0},63900.048765783235,"Custos","S",null,null,"OPEX",null,"Custos",9999,"RATEIO","Custos49092,808"]
[null,null,null,-5525033.75,1792148.06,3695131.95,4266922.46,4640195.1399999997,1773872.7719999999,{"$f":"D16*'Série - IPCA'!$C$444/'Série - IPCA'!$C$385","v":-7191479.5759411082},{"$f":"E16*'Série - IPCA'!$C$444/'Série - IPCA'!$C$398","v":2231867.2968723113},{"$f":"F16*'Série - IPCA'!$C$444/'Série - IPCA'!$C$411","v":4181104.7401088243},{"$f":"G16*'Série - IPCA'!$C$444/'Série - IPCA'!$C$424","v":4564060.3119840268},{"$f":"H16*'Série - IPCA'!$C$444/'Série - IPCA'!$C$437","v":4744093.2103941469},1705929.1966836401,"Custos","S",null,null,"OPEX",null,"Custos",9999,"RATEIO","Custos1773872,772"]
[null,null,null,0,0,-14266.97,0,0,-2853.3939999999998,{"$f":"D17*'Série - IPCA'!$C$444/'Série - IPCA'!$C$385","v":0},{"$f":"E17*'Série - IPCA'!$C$444/'Série - IPCA'!$C$398","v":0},{"$f":"F17*'Série - IPCA'!$C$444/'Série - IPCA'!$C$411","v":-16143.319562374594},{"$f":"G17*'Série - IPCA'!$C$444/'Série - IPCA'!$C$424","v":0},{"$f":"H17*'Série - IPCA'!$C$444/'Série - IPCA'!$C$437","v":0},-3228.663912474919,"Outras Receitas e Despesas","S","NÃO","SIM","OPEX","FIXO","DESPESAS_GERAIS",9999,"RATEIO","Outras Receitas e Despesas-2853,394"]
[null,null,null,-26610620.870000001,0,0,0,0,-5322124.1740000006,{"$f":"D18*'Série - IPCA'!$C$444/'Série - IPCA'!$C$385","v":-34636844.795693271},{"$f":"E18*'Série - IPCA'!$C$444/'Série - IPCA'!$C$398","v":0},{"$f":"F18*'Série - IPCA'!$C$444/'Série - IPCA'!$C$411","v":0},{"$f":"G18*'Série - IPCA'!$C$444/'Série - IPCA'!$C$424","v":0},{"$f":"H18*'Série - IPCA'!$C$444/'Série - IPCA'!$C$437","v":0},-6927368.9591386542,"Outras Receitas e Despesas","S","NÃO","SIM","OPEX","FIXO","DESPESAS_GERAIS",4100,"GERÊNCIA DE SERVIÇOS CORPORATIVOS","Outras Receitas e Despesas-5322124,174"]
[null,null,null,-2380823.5,-1336577.2,-618963.06999999995,-709584.9,-1384620.81,-1286113.8960000002,{"$f":"D19*'Série - IPCA'!$C$444/'Série - IPCA'!$C$385","v":-3098921.0833636308},{"$f":"E19*'Série - IPCA'!$C$444/'Série - IPCA'!$C$398","v":-1664518.1327401947},{"$f":"F19*'Série - IPCA'!$C$444/'Série - IPCA'!$C$411","v":-700367.2564194384},{"$f":"G19*'Série - IPCA'!$C$444/'Série - IPCA'!$C$424","v":-758998.62498864229},{"$f":"H19*'Série - IPCA'!$C$444/'Série - IPCA'!$C$437","v":-1415623.6937249678},-1527685.758247375,"Custos","S","NÃO ","SIM","OPEX","FIXO","PESSOAL",5100,"GERÊNCIA DE ENGENHARIA","Custos-1286113,896"]
[null,null,null,0,0,0,0,0,0,{"$f":"D20*'Série - IPCA'!$C$444/'Série - IPCA'!$C$385","v":0},{"$f":"E20*'Série - IPCA'!$C$444/'Série - IPCA'!$C$398","v":0},{"$f":"F20*'Série - IPCA'!$C$444/'Série - IPCA'!$C$411","v":0},{"$f":"G20*'Série - IPCA'!$C$444/'Série - IPCA'!$C$424","v":0},{"$f":"H20*'Série - IPCA'!$C$444/'Série - IPCA'!$C$437","v":0},0,"Despesas Gerais e Administratias","S","NÃO ","SIM","ENCARGOS DE GESTÃO","FIXO","PESSOAL",4100,"GERÊNCIA DE SERVIÇOS CORPORATIVOS","Despesas Gerais e Administratias0"]
[null,null,null,0,9442.66,12580.72,15425.34,17255.8,10940.904,{"$f":"D21*'Série - IPCA'!$C$444/'Série - IPCA'!$C$385","v":0},{"$f":"E21*'Série - IPCA'!$C$444/'Série - IPCA'!$C$398","v":11759.499407367213},{"$f":"F21*'Série - IPCA'!$C$444/'Série - IPCA'!$C$411","v":14235.298965705915},{"$f":"G21*'Série - IPCA'!$C$444/'Série - IPCA'!$C$424","v":16499.522255874246},{"$f":"H21*'Série - IPCA'!$C$444/'Série - IPCA'!$C$437","v":17642.172613438692},12027.298648477214,"Custos","N","SIM","NÃO","OPEX","FUNCIONÁRIOS","PESSOAL",5100,"GERÊNCIA DE ENGENHARIA","Custos10940,904"]
[null,null,null,365541.06,311870.13,330156.42,267375.90000000002,263615.01,307711.70399999997,{"$f":"D22*'Série - IPCA'!$C$444/'Série - IPCA'!$C$385","v":475794.57178118831},{"$f":"E22*'Série - IPCA'!$C$444/'Série - IPCA'!$C$398","v":388390.2003154339},{"$f":"F22*'Série - IPCA'!$C$444/'Série - IPCA'!$C$411","v":373577.61273974518},{"$f":"G22*'Série - IPCA'!$C$444/'Série - IPCA'!$C$424","v":285995.29169110098},{"$f":"H22*'Série - IPCA'!$C$444/'Série - IPCA'!$C$437","v":269517.58306849678},358655.05191919301,"Custos","N","SIM","NÃO","OPEX","FUNCIONÁRIOS","PESSOAL",5200,"GERÊNCIA DE OPERAÇÕES","Custos307711,704"]
[null,null,null,0,0,44069.33,50645.19,53809.63,29704.829999999998,{"$f":"D23*'Série - IPCA'!$C$444/'Série - IPCA'!$C$385","v":0},{"$f":"E23*'Série - IPCA'!$C$444/'Série - IPCA'!$C$398","v":0},{"$f":"F23*'Série - IPCA'!$C$444/'Série - IPCA'!$C$411","v":49865.197521950467},{"$f":"G23*'Série - IPCA'!$C$444/'Série - IPCA'!$C$424","v":54171.994883612286},{"$f":"H23*'Série - IPCA'!$C$444/'Série - IPCA'!$C$437","v":55014.475175029205},31810.333516118397,"Despesas com Vendas","N","SIM","NÃO","ENCARGOS DE COMERCIALIZAÇÃO","FUNCIONÁRIOS","PESSOAL",5300,"GERÊNCIA COMERCIAL","Despesas com Vendas29704,83"]
[null,null,null,0,32084.63,45095.360000000001,50523.29,52782.8,36097.216,{"$f":"D24*'Série - IPCA'!$C$444/'Série - IPCA'!$C$385","v":0},{"$f":"E24*'Série - IPCA'!$C$444/'Série - IPCA'!$C$398","v":39956.875231195052},{"$f":"F24*'Série - IPCA'!$C$444/'Série - IPCA'!$C$411","v":51026.16794318099},{"$f":"G24*'Série - IPCA'!$C$444/'Série - IPCA'!$C$424","v":54041.606071243084},{"$f":"H24*'Série - IPCA'!$C$444/'Série - IPCA'!$C$437","v":53964.653543771477},39797.860557878121,"Despesas Gerais e Administratias","N","SIM","NÃO","ENCARGOS DE GESTÃO","FUNCIONÁRIOS","PESSOAL",2410,"ASSESSORIA DE SEGURANÇA DO TRABALHO","Despesas Gerais e Administratias36097,216"]
[null,null,null,636676.74,591033.47,644404.1,675201.61,730188.92,655500.96799999999,{"$f":"D25*'Série - IPCA'!$C$444/'Série - IPCA'!$C$385","v":828709.46665018424},{"$f":"E25*'Série - IPCA'!$C$444/'Série - IPCA'!$C$398","v":736048.71298968582},{"$f":"F25*'Série - IPCA'!$C$444/'Série - IPCA'!$C$411","v":729154.215198069},{"$f":"G25*'Série - IPCA'!$C$444/'Série - IPCA'!$C$424","v":722220.96831558493},{"$f":"H25*'Série - IPCA'!$C$444/'Série - IPCA'!$C$437","v":746538.49529203959},752534.37168911274,"Despesas Gerais e Administratias","N","SIM","NÃO","ENCARGOS DE GESTÃO","FIXO","DESPESAS_GERAIS",2300,"DIRETORIA COLEGIADA - DAF","Despesas Gerais e Administratias655500,968"]
[null,null,null,626678.47,629936.04,314956.23,601689.51,739646.83,582581.41599999997,{"$f":"D26*'Série - IPCA'!$C$444/'Série - IPCA'!$C$385","v":815695.54533255519},{"$f":"E26*'Série - IPCA'!$C$444/'Série - IPCA'!$C$398","v":784496.36956739402},{"$f":"F26*'Série - IPCA'!$C$444/'Série - IPCA'!$C$411","v":356378.33885196032},{"$f":"G26*'Série - IPCA'!$C$444/'Série - IPCA'!$C$424","v":643589.66877690027},{"$f":"H26*'Série - IPCA'!$C$444/'Série - IPCA'!$C$437","v":756208.17625625827},671273.61975701363,"Despesas Gerais e Administratias","N","SIM","NÃO","ENCARGOS DE GESTÃO","FIXO","DESPESAS_GERAIS",2400,"DIRETORIA COLEGIADA - DTC","Despesas Gerais e Administratias582581,416"]
[null,null,null,0,598.41,1250.54,1496.77,1740.2,1017.184,{"$f":"D27*'Série - IPCA'!$C$444/'Série - IPCA'!$C$385","v":0},{"$f":"E27*'Série - IPCA'!$C$444/'Série - IPCA'!$C$398","v":745.2351392894177},{"$f":"F27*'Série - IPCA'!$C$444/'Série - IPCA'!$C$411","v":1415.007310279052},{"$f":"G27*'Série - IPCA'!$C$444/'Série - IPCA'!$C$424","v":1601.0013346172527},{"$f":"H27*'Série - IPCA'!$C$444/'Série - IPCA'!$C$437","v":1779.1646160656712},1108.0816800502787,"Custos","N","SIM","NÃO","OPEX","FUNCIONÁRIOS","DESPESAS_GERAIS",5100,"GERÊNCIA DE ENGENHARIA","Custos1017,184"]
[null,null,null,0,1026.75,1642.32,2450.13,2848.76,1593.5920000000001,{"$f":"D28*'Série - IPCA'!$C$444/'Série - IPCA'!$C$385","v":0},{"$f":"E28*'Série - IPCA'!$C$444/'Série - IPCA'!$C$398","v":1278.6721132090199},{"$f":"F28*'Série - IPCA'!$C$444/'Série - IPCA'!$C$411","v":1858.3130534149191},{"$f":"G28*'Série - IPCA'!$C$444/'Série - IPCA'!$C$424","v":2620.7509503703113},{"$f":"H28*'Série - IPCA'!$C$444/'Série - IPCA'!$C$437","v":2912.5462542599944},1734.0564742508491,"Custos","N","SIM","NÃO","OPEX","FUNCIONÁRIOS","DESPESAS_GERAIS",5200,"GERÊNCIA DE OPERAÇÕES","Custos1593,592"]
[null,null,null,0,604.59,866.53,1292.76,1503,853.37599999999998,{"$f":"D29*'Série - IPCA'!$C$444/'Série - IPCA'!$C$385","v":0},{"$f":"E29*'Série - IPCA'!$C$444/'Série - IPCA'!$C$398","v":752.93145646461312},{"$f":"F29*'Série - IPCA'!$C$444/'Série - IPCA'!$C$411","v":980.49345448854649},{"$f":"G29*'Série - IPCA'!$C$444/'Série - IPCA'!$C$424","v":1382.7845863691814},{"$f":"H29*'Série - IPCA'!$C$444/'Série - IPCA'!$C$437","v":1536.6534984178279},930.57259914803376,"Despesas com Vendas","N","SIM","NÃO","ENCARGOS DE COMERCIALIZAÇÃO","FUNCIONÁRIOS","DESPESAS_GERAIS",5300,"GERÊNCIA COMERCIAL","Despesas com Vendas853,376"]
[null,null,null,0,24.52,45.35,67.650000000000006,78.66,43.236000000000004,{"$f":"D30*'Série - IPCA'!$C$444/'Série - IPCA'!$C$385","v":0},{"$f":"E30*'Série - IPCA'!$C$444/'Série - IPCA'!$C$398","v":30.536196947538517},{"$f":"F30*'Série - IPCA'!$C$444/'Série - IPCA'!$C$411","v":51.314297440429748},{"$f":"G30*'Série - IPCA'!$C$444/'Série - IPCA'!$C$424","v":72.36097749611308},{"$f":"H30*'Série - IPCA'!$C$444/'Série - IPCA'!$C$437","v":80.421266923184518},46.926547761453172,"Despesas Gerais e Administratias","N","SIM","NÃO","ENCARGOS DE GESTÃO","FUNCIONÁRIOS","DESPESAS_GERAIS",1005,"AUDITORIA INTERNA","Despesas Gerais e Administratias43,236"]
[null,null,null,0,61.61,91.41,136.37,158.53,89.583999999999989,{"$f":"D31*'Série - IPCA'!$C$444/'Série - IPCA'!$C$385","v":0},{"$f":"E31*'Série - IPCA'!$C$444/'Série - IPCA'!$C$398","v":76.726553586372276},{"$f":"F31*'Série - IPCA'!$C$444/'Série - IPCA'!$C$411","v":103.43197197419366},{"$f":"G31*'Série - IPCA'!$C$444/'Série - IPCA'!$C$424","v":145.86646712705013},{"$f":"H31*'Série - IPCA'!$C$444/'Série - IPCA'!$C$437","v":162.07962681582052},97.620923900687316,"Despesas Gerais e Administratias","N","SIM","NÃO","ENCARGOS DE GESTÃO","FUNCIONÁRIOS","DESPESAS_GERAIS",2110,"ASSESSORIA DA DIRETORIA EXECUTIVA","Despesas Gerais e Administratias89,584"]
[null,null,null,0,73.77,136.76,204.02,237.19,130.34800000000001,{"$f":"D32*'Série - IPCA'!$C$444/'Série - IPCA'!$C$385","v":0},{"$f":"E32*'Série - IPCA'!$C$444/'Série - IPCA'!$C$398","v":91.870116183520238},{"$f":"F32*'Série - IPCA'!$C$444/'Série - IPCA'!$C$411","v":154.74626941462341},{"$f":"G32*'Série - IPCA'!$C$444/'Série - IPCA'!$C$424","v":218.22744462316319},{"$f":"H32*'Série - IPCA'!$C$444/'Série - IPCA'!$C$437","v":242.50089373900502},141.46894479206236,"Despesas Gerais e Administratias","N","SIM","NÃO","ENCARGOS DE GESTÃO","FUNCIONÁRIOS","DESPESAS_GERAIS",2120,"ASSESSORIA DA PRESIDÊNCIA","Despesas Gerais e Administratias130,348"]
[null,null,null,0,24.46,45.36,67.650000000000006,78.66,43.225999999999999,{"$f":"D33*'Série - IPCA'!$C$444/'Série - IPCA'!$C$385","v":0},{"$f":"E33*'Série - IPCA'!$C$444/'Série - IPCA'!$C$398","v":30.461475421565748},{"$f":"F33*'Série - IPCA'!$C$444/'Série - IPCA'!$C$411","v":51.325612610758398},{"$f":"G33*'Série - IPCA'!$C$444/'Série - IPCA'!$C$424","v":72.36097749611308},{"$f":"H33*'Série - IPCA'!$C$444/'Série - IPCA'!$C$437","v":80.421266923184518},46.913866490324345,"Despesas Gerais e Administratias","N","SIM","NÃO","ENCARGOS DE GESTÃO","FUNCIONÁRIOS","DESPESAS_GERAIS",2310,"ASSESSORIA DAF","Despesas Gerais e Administratias43,226"]
[null,null,null,0,28.09,0,0,0,5.6180000000000003,{"$f":"D34*'Série - IPCA'!$C$444/'Série - IPCA'!$C$385","v":0},{"$f":"E34*'Série - IPCA'!$C$444/'Série - IPCA'!$C$398","v":34.982127742918308},{"$f":"F34*'Série - IPCA'!$C$444/'Série - IPCA'!$C$411","v":0},{"$f":"G34*'Série - IPCA'!$C$444/'Série - IPCA'!$C$424","v":0},{"$f":"H34*'Série - IPCA'!$C$444/'Série - IPCA'!$C$437","v":0},6.9964255485836615,"Despesas Gerais e Administratias","N","SIM","NÃO","ENCARGOS DE GESTÃO","FUNCIONÁRIOS","DESPESAS_GERAIS",2200,"DIRETORIA COLEGIADA - PRESIDÊNCIA","Despesas Gerais e Administratias5,618"]
[null,null,null,0,7.01,0,0,0,1.4019999999999999,{"$f":"D35*'Série - IPCA'!$C$444/'Série - IPCA'!$C$385","v":0},{"$f":"E35*'Série - IPCA'!$C$444/'Série - IPCA'!$C$398","v":8.7299649511519171},{"$f":"F35*'Série - IPCA'!$C$444/'Série - IPCA'!$C$411","v":0},{"$f":"G35*'Série - IPCA'!$C$444/'Série - IPCA'!$C$424","v":0},{"$f":"H35*'Série - IPCA'!$C$444/'Série - IPCA'!$C$437","v":0},1.7459929902303835,"Despesas Gerais e Administratias","N","SIM","NÃO","ENCARGOS DE GESTÃO","FUNCIONÁRIOS","DESPESAS_GERAIS",2300,"DIRETORIA COLEGIADA - DAF","Despesas Gerais e Administratias1,402"]
[null,null,null,0,7.01,0,0,0,1.4019999999999999,{"$f":"D36*'Série - IPCA'!$C$444/'Série - IPCA'!$C$385","v":0},{"$f":"E36*'Série - IPCA'!$C$444/'Série - IPCA'!$C$398","v":8.7299649511519171},{"$f":"F36*'Série - IPCA'!$C$444/'Série - IPCA'!$C$411","v":0},{"$f":"G36*'Série - IPCA'!$C$444/'Série - IPCA'!$C$424","v":0},{"$f":"H36*'Série - IPCA'!$C$444/'Série - IPCA'!$C$437","v":0},1.7459929902303835,"Despesas Gerais e Administratias","N","SIM","NÃO","ENCARGOS DE GESTÃO","FUNCIONÁRIOS","DESPESAS_GERAIS",2400,"DIRETORIA COLEGIADA - DTC","Despesas Gerais e Administratias1,402"]
[null,null,null,0,342.53,546.98,816.04,948.75,530.86,{"$f":"D37*'Série - IPCA'!$C$444/'Série - IPCA'!$C$385","v":0},{"$f":"E37*'Série - IPCA'!$C$444/'Série - IPCA'!$C$398","v":426.57273819087959},{"$f":"F37*'Série - IPCA'!$C$444/'Série - IPCA'!$C$411","v":618.91718663652182},{"$f":"G37*'Série - IPCA'!$C$444/'Série - IPCA'!$C$424","v":872.86699299228542},{"$f":"H37*'Série - IPCA'!$C$444/'Série - IPCA'!$C$437","v":969.99335104718182},577.67005377337375,"Despesas Gerais e Administratias","N","SIM","NÃO","ENCARGOS DE GESTÃO","FUNCIONÁRIOS","DESPESAS_GERAIS",3200,"GERÊNCIA DE PLANEJAMENTO E MEIO AMBIENTE","Despesas Gerais e Administratias530,86"]
[null,null,null,0,119.33,182.1,271.67,315.83,177.786,{"$f":"D38*'Série - IPCA'!$C$444/'Série - IPCA'!$C$385","v":0},{"$f":"E38*'Série - IPCA'!$C$444/'Série - IPCA'!$C$398","v":148.60866157217663},{"$f":"F38*'Série - IPCA'!$C$444/'Série - IPCA'!$C$411","v":206.04925168472448},{"$f":"G38*'Série - IPCA'!$C$444/'Série - IPCA'!$C$424","v":290.58842211927629},{"$f":"H38*'Série - IPCA'!$C$444/'Série - IPCA'!$C$437","v":322.90171284451264},193.62960964413801,"Despesas Gerais e Administratias","N","SIM","NÃO","ENCARGOS DE GESTÃO","FUNCIONÁRIOS","DESPESAS_GERAIS",3300,"GERÊNCIA JURÍDICA","Despesas Gerais e Administratias177,786"]
[null,null,null,0,122.84,182.1,271.67,315.83,178.488,{"$f":"D39*'Série - IPCA'!$C$444/'Série - IPCA'!$C$385","v":0},{"$f":"E39*'Série - IPCA'!$C$444/'Série - IPCA'!$C$398","v":152.97987084158368},{"$f":"F39*'Série - IPCA'!$C$444/'Série - IPCA'!$C$411","v":206.04925168472448},{"$f":"G39*'Série - IPCA'!$C$444/'Série - IPCA'!$C$424","v":290.58842211927629},{"$f":"H39*'Série - IPCA'!$C$444/'Série - IPCA'!$C$437","v":322.90171284451264},194.5038514980194,"Despesas Gerais e Administratias","N","SIM","NÃO","ENCARGOS DE GESTÃO","FUNCIONÁRIOS","DESPESAS_GERAIS",3500,"ASSESSORIA DE COMUNICAÇÃO INSTITUCIONAL","Despesas Gerais e Administratias178,488"]
[null,null,null,0,182.98,319.56,476.72,554.25,306.702,{"$f":"D40*'Série - IPCA'!$C$444/'Série - IPCA'!$C$385","v":0},{"$f":"E40*'Série - IPCA'!$C$444/'Série - IPCA'!$C$398","v":227.87574704162307},{"$f":"F40*'Série - IPCA'!$C$444/'Série - IPCA'!$C$411","v":361.5875830223535},{"$f":"G40*'Série - IPCA'!$C$444/'Série - IPCA'!$C$424","v":509.91759337689621},{"$f":"H40*'Série - IPCA'!$C$444/'Série - IPCA'!$C$437","v":566.66014737064609},333.20821416230376,"Despesas Gerais e Administratias","N","SIM","NÃO","ENCARGOS DE GESTÃO","FUNCIONÁRIOS","DESPESAS_GERAIS",3600,"GERÊNCIA DE GOVERNANÇA, RISCO E COMPLIANCE","Despesas Gerais e Administratias306,702"]
[null,null,null,0,537.78,866.55,1805.18,1503,942.50200000000007,{"$f":"D41*'Série - IPCA'!$C$444/'Série - IPCA'!$C$385","v":0},{"$f":"E41*'Série - IPCA'!$C$444/'Série - IPCA'!$C$398","v":669.72903729393408},{"$f":"F41*'Série - IPCA'!$C$444/'Série - IPCA'!$C$411","v":980.51608482920381},{"$f":"G41*'Série - IPCA'!$C$444/'Série - IPCA'!$C$424","v":1930.8882388238492},{"$f":"H41*'Série - IPCA'!$C$444/'Série - IPCA'!$C$437","v":1536.6534984178279},1023.5573718729629,"Despesas Gerais e Administratias","N","SIM","NÃO","ENCARGOS DE GESTÃO","FUNCIONÁRIOS","DESPESAS_GERAIS",4100,"GERÊNCIA DE SERVIÇOS CORPORATIVOS","Despesas Gerais e Administratias942,502"]
[null,null,null,0,259.99,410.23,612.02,711.55,398.75799999999998,{"$f":"D42*'Série - IPCA'!$C$444/'Série - IPCA'!$C$385","v":0},{"$f":"E42*'Série - IPCA'!$C$444/'Série - IPCA'!$C$398","v":323.78082562767287},{"$f":"F42*'Série - IPCA'!$C$444/'Série - IPCA'!$C$411","v":464.18223239222704},{"$f":"G42*'Série - IPCA'!$C$444/'Série - IPCA'!$C$424","v":654.63954836912217},{"$f":"H42*'Série - IPCA'!$C$444/'Série - IPCA'!$C$437","v":727.48223339933827},434.01696795767214,"Despesas Gerais e Administratias","N","SIM","NÃO","ENCARGOS DE GESTÃO","FUNCIONÁRIOS","DESPESAS_GERAIS",4200,"GERÊNCIA FINANCEIRA","Despesas Gerais e Administratias398,758"]
[null,null,null,0,240.52,364.91,544.36,632.91999999999996,356.54200000000003,{"$f":"D43*'Série - IPCA'!$C$444/'Série - IPCA'!$C$385","v":0},{"$f":"E43*'Série - IPCA'!$C$444/'Série - IPCA'!$C$398","v":299.53369044950915},{"$f":"F43*'Série - IPCA'!$C$444/'Série - IPCA'!$C$411","v":412.9018804627832},{"$f":"G43*'Série - IPCA'!$C$444/'Série - IPCA'!$C$424","v":582.26787449791743},{"$f":"H43*'Série - IPCA'!$C$444/'Série - IPCA'!$C$437","v":647.09163820266895},388.3590167225758,"Despesas Gerais e Administratias","N","SIM","NÃO","ENCARGOS DE GESTÃO","FUNCIONÁRIOS","DESPESAS_GERAIS",4300,"GERÊNCIA DE TECNOLOGIA E SISTEMAS DE INFORMAÇÃO","Despesas Gerais e Administratias356,542"]
[null,null,null,0,175.65,273.5,408.03,474.4,266.31599999999997,{"$f":"D44*'Série - IPCA'!$C$444/'Série - IPCA'!$C$385","v":0},{"$f":"E44*'Série - IPCA'!$C$444/'Série - IPCA'!$C$398","v":218.74726728528307},{"$f":"F44*'Série - IPCA'!$C$444/'Série - IPCA'!$C$411","v":309.46990848858951},{"$f":"G44*'Série - IPCA'!$C$444/'Série - IPCA'!$C$424","v":436.44419287123452},{"$f":"H44*'Série - IPCA'!$C$444/'Série - IPCA'!$C$437","v":485.02223529568693},289.93672078815882,"Despesas Gerais e Administratias","N","SIM","NÃO","ENCARGOS DE GESTÃO","FUNCIONÁRIOS","DESPESAS_GERAIS",4500,"GERÊNCIA CONTÁBIL","Despesas Gerais e Administratias266,316"]
[null,null,null,-8309.86,0,0,0,0,-1661.9720000000002,{"$f":"D45*'Série - IPCA'!$C$444/'Série - IPCA'!$C$385","v":-10816.257632621699},{"$f":"E45*'Série - IPCA'!$C$444/'Série - IPCA'!$C$398","v":0},{"$f":"F45*'Série - IPCA'!$C$444/'Série - IPCA'!$C$411","v":0},{"$f":"G45*'Série - IPCA'!$C$444/'Série - IPCA'!$C$424","v":0},{"$f":"H45*'Série - IPCA'!$C$444/'Série - IPCA'!$C$437","v":0},-2163.2515265243396,"Despesas com Vendas","N","SIM","NÃO","ENCARGOS DE COMERCIALIZAÇÃO","FIXO","ALUGUÉIS",5300,"GERÊNCIA COMERCIAL","Despesas com Vendas-1661,972"]
[null,null,null,-18440.77,0,0,0,0,-3688.154,{"$f":"D46*'Série - IPCA'!$C$444/'Série - IPCA'!$C$385","v":-24002.825470455726},{"$f":"E46*'Série - IPCA'!$C$444/'Série - IPCA'!$C$398","v":0},{"$f":"F46*'Série - IPCA'!$C$444/'Série - IPCA'!$C$411","v":0},{"$f":"G46*'Série - IPCA'!$C$444/'Série - IPCA'!$C$424","v":0},{"$f":"H46*'Série - IPCA'!$C$444/'Série - IPCA'!$C$437","v":0},-4800.5650940911455,"Despesas com Vendas","N","SIM","NÃO","ENCARGOS DE COMERCIALIZAÇÃO","FIXO","ALUGUÉIS",5400,"GERÊNCIA COMERCIAL (inativo)","Despesas com Vendas-3688,154"]
[null,null,null,-9229.24,0,0,0,0,-1845.848,{"$f":"D47*'Série - IPCA'!$C$444/'Série - IPCA'!$C$385","v":-12012.938556521707},{"$f":"E47*'Série - IPCA'!$C$444/'Série - IPCA'!$C$398","v":0},{"$f":"F47*'Série - IPCA'!$C$444/'Série - IPCA'!$C$411","v":0},{"$f":"G47*'Série - IPCA'!$C$444/'Série - IPCA'!$C$424","v":0},{"$f":"H47*'Série - IPCA'!$C$444/'Série - IPCA'!$C$437","v":0},-2402.5877113043416,"Despesas com Vendas","N","SIM","NÃO","ENCARGOS DE COMERCIALIZAÇÃO","FIXO","ALUGUÉIS",5500,"GERÊNCIA COMERCIAL (inativo)","Despesas com Vendas-1845,848"]
[null,null,null,-3235.52,0,0,0,0,-647.10400000000004,{"$f":"D48*'Série - IPCA'!$C$444/'Série - IPCA'!$C$385","v":-4211.4088438914923},{"$f":"E48*'Série - IPCA'!$C$444/'Série - IPCA'!$C$398","v":0},{"$f":"F48*'Série - IPCA'!$C$444/'Série - IPCA'!$C$411","v":0},{"$f":"G48*'Série - IPCA'!$C$444/'Série - IPCA'!$C$424","v":0},{"$f":"H48*'Série - IPCA'!$C$444/'Série - IPCA'!$C$437","v":0},-842.28176877829844,"Despesas Gerais e Administratias","N","SIM","NÃO","ENCARGOS DE GESTÃO","FIXO","ALUGUÉIS",2100,"SECRETARIA","Despesas Gerais e Administratias-647,104"]
[null,null,null,-7372.75,0,0,0,0,-1474.55,{"$f":"D49*'Série - IPCA'!$C$444/'Série - IPCA'!$C$385","v":-9596.499033787768},{"$f":"E49*'Série - IPCA'!$C$444/'Série - IPCA'!$C$398","v":0},{"$f":"F49*'Série - IPCA'!$C$444/'Série - IPCA'!$C$411","v":0},{"$f":"G49*'Série - IPCA'!$C$444/'Série - IPCA'!$C$424","v":0},{"$f":"H49*'Série - IPCA'!$C$444/'Série - IPCA'!$C$437","v":0},-1919.2998067575536,"Despesas Gerais e Administratias","N","SIM","NÃO","ENCARGOS DE GESTÃO","FIXO","ALUGUÉIS",2200,"DIRETORIA COLEGIADA - PRESIDÊNCIA","Despesas Gerais e Administratias-1474,55"]
[null,null,null,-1838.76,0,0,0,0,-367.75200000000001,{"$f":"D50*'Série - IPCA'!$C$444/'Série - IPCA'!$C$385","v":-2393.3618478000199},{"$f":"E50*'Série - IPCA'!$C$444/'Série - IPCA'!$C$398","v":0},{"$f":"F50*'Série - IPCA'!$C$444/'Série - IPCA'!$C$411","v":0},{"$f":"G50*'Série - IPCA'!$C$444/'Série - IPCA'!$C$424","v":0},{"$f":"H50*'Série - IPCA'!$C$444/'Série - IPCA'!$C$437","v":0},-478.67236956000397,"Despesas Gerais e Administratias","N","SIM","NÃO","ENCARGOS DE GESTÃO","FIXO","ALUGUÉIS",2300,"DIRETORIA COLEGIADA - DAF","Despesas Gerais e Administratias-367,752"]
[null,null,null,-1838.76,0,0,0,0,-367.75200000000001,{"$f":"D51*'Série - IPCA'!$C$444/'Série - IPCA'!$C$385","v":-2393.3618478000199},{"$f":"E51*'Série - IPCA'!$C$444/'Série - IPCA'!$C$398","v":0},{"$f":"F51*'Série - IPCA'!$C$444/'Série - IPCA'!$C$411","v":0},{"$f":"G51*'Série - IPCA'!$C$444/'Série - IPCA'!$C$424","v":0},{"$f":"H51*'Série - IPCA'!$C$444/'Série - IPCA'!$C$437","v":0},-478.67236956000397,"Despesas Gerais e Administratias","N","SIM","NÃO","ENCARGOS DE GESTÃO","FIXO","ALUGUÉIS",2400,"DIRETORIA COLEGIADA - DTC","Despesas Gerais e Administratias-367,752"]
[null,null,null,-7832.47,0,0,0,0,-1566.4940000000001,{"$f":"D52*'Série - IPCA'!$C$444/'Série - IPCA'!$C$385","v":-10194.878544257119},{"$f":"E52*'Série - IPCA'!$C$444/'Série - IPCA'!$C$398","v":0},{"$f":"F52*'Série - IPCA'!$C$444/'Série - IPCA'!$C$411","v":0},{"$f":"G52*'Série - IPCA'!$C$444/'Série - IPCA'!$C$424","v":0},{"$f":"H52*'Série - IPCA'!$C$444/'Série - IPCA'!$C$437","v":0},-2038.9757088514239,"Despesas Gerais e Administratias","N","SIM","NÃO","ENCARGOS DE GESTÃO","FIXO","ALUGUÉIS",3100,"SMS","Despesas Gerais e Administratias-1566,494"]
[null,null,null,-4614.6099999999997,0,0,0,0,-922.92199999999991,{"$f":"D53*'Série - IPCA'!$C$444/'Série - IPCA'!$C$385","v":-6006.4562620877368},{"$f":"E53*'Série - IPCA'!$C$444/'Série - IPCA'!$C$398","v":0},{"$f":"F53*'Série - IPCA'!$C$444/'Série - IPCA'!$C$411","v":0},{"$f":"G53*'Série - IPCA'!$C$444/'Série - IPCA'!$C$424","v":0},{"$f":"H53*'Série - IPCA'!$C$444/'Série - IPCA'!$C$437","v":0},-1201.2912524175474,"Despesas Gerais e Administratias","N","SIM","NÃO","ENCARGOS DE GESTÃO","FIXO","ALUGUÉIS",3200,"GERÊNCIA DE PLANEJAMENTO E MEIO AMBIENTE","Despesas Gerais e Administratias-922,922"]
[null,null,null,-5534.01,0,0,0,0,-1106.8020000000001,{"$f":"D54*'Série - IPCA'!$C$444/'Série - IPCA'!$C$385","v":-7203.1632183339789},{"$f":"E54*'Série - IPCA'!$C$444/'Série - IPCA'!$C$398","v":0},{"$f":"F54*'Série - IPCA'!$C$444/'Série - IPCA'!$C$411","v":0},{"$f":"G54*'Série - IPCA'!$C$444/'Série - IPCA'!$C$424","v":0},{"$f":"H54*'Série - IPCA'!$C$444/'Série - IPCA'!$C$437","v":0},-1440.6326436667957,"Despesas Gerais e Administratias","N","SIM","NÃO","ENCARGOS DE GESTÃO","FIXO","ALUGUÉIS",3300,"GERÊNCIA JURÍDICA","Despesas Gerais e Administratias-1106,802"]
[null,null,null,-6453.39,0,0,0,0,-1290.6780000000001,{"$f":"D55*'Série - IPCA'!$C$444/'Série - IPCA'!$C$385","v":-8399.8441422339893},{"$f":"E55*'Série - IPCA'!$C$444/'Série - IPCA'!$C$398","v":0},{"$f":"F55*'Série - IPCA'!$C$444/'Série - IPCA'!$C$411","v":0},{"$f":"G55*'Série - IPCA'!$C$444/'Série - IPCA'!$C$424","v":0},{"$f":"H55*'Série - IPCA'!$C$444/'Série - IPCA'!$C$437","v":0},-1679.9688284467979,"Despesas Gerais e Administratias","N","SIM","NÃO","ENCARGOS DE GESTÃO","FIXO","ALUGUÉIS",3400,"MARKETING","Despesas Gerais e Administratias-1290,678"]
[null,null,null,-2775.89,0,0,0,0,-555.178,{"$f":"D56*'Série - IPCA'!$C$444/'Série - IPCA'!$C$385","v":-3613.1464789801803},{"$f":"E56*'Série - IPCA'!$C$444/'Série - IPCA'!$C$398","v":0},{"$f":"F56*'Série - IPCA'!$C$444/'Série - IPCA'!$C$411","v":0},{"$f":"G56*'Série - IPCA'!$C$444/'Série - IPCA'!$C$424","v":0},{"$f":"H56*'Série - IPCA'!$C$444/'Série - IPCA'!$C$437","v":0},-722.6292957960361,"Despesas Gerais e Administratias","N","SIM","NÃO","ENCARGOS DE GESTÃO","FIXO","ALUGUÉIS",3600,"GERÊNCIA DE GOVERNANÇA, RISCO E COMPLIANCE","Despesas Gerais e Administratias-555,178"]
[null,null,null,-12786.45,0,0,0,0,-2557.29,{"$f":"D57*'Série - IPCA'!$C$444/'Série - IPCA'!$C$385","v":-16643.06467336823},{"$f":"E57*'Série - IPCA'!$C$444/'Série - IPCA'!$C$398","v":0},{"$f":"F57*'Série - IPCA'!$C$444/'Série - IPCA'!$C$411","v":0},{"$f":"G57*'Série - IPCA'!$C$444/'Série - IPCA'!$C$424","v":0},{"$f":"H57*'Série - IPCA'!$C$444/'Série - IPCA'!$C$437","v":0},-3328.6129346736461,"Despesas Gerais e Administratias","N","SIM","NÃO","ENCARGOS DE GESTÃO","FIXO","ALUGUÉIS",4100,"GERÊNCIA DE SERVIÇOS CORPORATIVOS","Despesas Gerais e Administratias-2557,29"]
[null,null,null,-10148.61,0,0,0,0,-2029.7220000000002,{"$f":"D58*'Série - IPCA'!$C$444/'Série - IPCA'!$C$385","v":-13209.606464248602},{"$f":"E58*'Série - IPCA'!$C$444/'Série - IPCA'!$C$398","v":0},{"$f":"F58*'Série - IPCA'!$C$444/'Série - IPCA'!$C$411","v":0},{"$f":"G58*'Série - IPCA'!$C$444/'Série - IPCA'!$C$424","v":0},{"$f":"H58*'Série - IPCA'!$C$444/'Série - IPCA'!$C$437","v":0},-2641.9212928497204,"Despesas Gerais e Administratias","N","SIM","NÃO","ENCARGOS DE GESTÃO","FIXO","ALUGUÉIS",4200,"GERÊNCIA FINANCEIRA","Despesas Gerais e Administratias-2029,722"]
[null,null,null,-11456.97,0,0,0,0,-2291.3939999999998,{"$f":"D59*'Série - IPCA'!$C$444/'Série - IPCA'!$C$385","v":-14912.590489998363},{"$f":"E59*'Série - IPCA'!$C$444/'Série - IPCA'!$C$398","v":0},{"$f":"F59*'Série - IPCA'!$C$444/'Série - IPCA'!$C$411","v":0},{"$f":"G59*'Série - IPCA'!$C$444/'Série - IPCA'!$C$424","v":0},{"$f":"H59*'Série - IPCA'!$C$444/'Série - IPCA'!$C$437","v":0},-2982.5180979996726,"Despesas Gerais e Administratias","N","SIM","NÃO","ENCARGOS DE GESTÃO","FIXO","ALUGUÉIS",4300,"GERÊNCIA DE TECNOLOGIA E SISTEMAS DE INFORMAÇÃO","Despesas Gerais e Administratias-2291,394"]
[null,null,null,-7372.77,0,0,0,0,-1474.5540000000001,{"$f":"D60*'Série - IPCA'!$C$444/'Série - IPCA'!$C$385","v":-9596.5250661339996},{"$f":"E60*'Série - IPCA'!$C$444/'Série - IPCA'!$C$398","v":0},{"$f":"F60*'Série - IPCA'!$C$444/'Série - IPCA'!$C$411","v":0},{"$f":"G60*'Série - IPCA'!$C$444/'Série - IPCA'!$C$424","v":0},{"$f":"H60*'Série - IPCA'!$C$444/'Série - IPCA'!$C$437","v":0},-1919.3050132267999,"Despesas Gerais e Administratias","N","SIM","NÃO","ENCARGOS DE GESTÃO","FIXO","ALUGUÉIS",4500,"GERÊNCIA CONTÁBIL","Despesas Gerais e Administratias-1474,554"]
[null,null,null,-6453.39,0,0,0,0,-1290.6780000000001,{"$f":"D61*'Série - IPCA'!$C$444/'Série - IPCA'!$C$385","v":-8399.8441422339893},{"$f":"E61*'Série - IPCA'!$C$444/'Série - IPCA'!$C$398","v":0},{"$f":"F61*'Série - IPCA'!$C$444/'Série - IPCA'!$C$411","v":0},{"$f":"G61*'Série - IPCA'!$C$444/'Série - IPCA'!$C$424","v":0},{"$f":"H61*'Série - IPCA'!$C$444/'Série - IPCA'!$C$437","v":0},-1679.9688284467979,"Despesas Gerais e Administratias","N","SIM","NÃO","ENCARGOS DE GESTÃO","FIXO","ALUGUÉIS",4600,"GERÊNCIA DE PESSOAS E CULTURA","Despesas Gerais e Administratias-1290,678"]
[null,null,null,0,0,0,1043.6500000000001,4245.71,1057.8720000000001,{"$f":"D62*'Série - IPCA'!$C$444/'Série - IPCA'!$C$385","v":0},{"$f":"E62*'Série - IPCA'!$C$444/'Série - IPCA'!$C$398","v":0},{"$f":"F62*'Série - IPCA'!$C$444/'Série - IPCA'!$C$411","v":0},{"$f":"G62*'Série - IPCA'!$C$444/'Série - IPCA'!$C$424","v":1116.3271864570349},{"$f":"H62*'Série - IPCA'!$C$444/'Série - IPCA'!$C$437","v":4340.7751994461451},1091.420477180636,"Custos","N","SIM","NÃO","OPEX","FIXO","ALUGUÉIS",5100,"GERÊNCIA DE ENGENHARIA","Custos1057,872"]
[null,null,null,0,0,0,0,0,0,{"$f":"D63*'Série - IPCA'!$C$444/'Série - IPCA'!$C$385","v":0},{"$f":"E63*'Série - IPCA'!$C$444/'Série - IPCA'!$C$398","v":0},{"$f":"F63*'Série - IPCA'!$C$444/'Série - IPCA'!$C$411","v":0},{"$f":"G63*'Série - IPCA'!$C$444/'Série - IPCA'!$C$424","v":0},{"$f":"H63*'Série - IPCA'!$C$444/'Série - IPCA'!$C$437","v":0},0,"Custos","N","SIM","NÃO","OPEX","FIXO","ALUGUÉIS",5200,"GERÊNCIA DE OPERAÇÕES","Custos0"]
[null,null,null,142,0,0,0,0,28.4,{"$f":"D64*'Série - IPCA'!$C$444/'Série - IPCA'!$C$385","v":184.82965824120754},{"$f":"E64*'Série - IPCA'!$C$444/'Série - IPCA'!$C$398","v":0},{"$f":"F64*'Série - IPCA'!$C$444/'Série - IPCA'!$C$411","v":0},{"$f":"G64*'Série - IPCA'!$C$444/'Série - IPCA'!$C$424","v":0},{"$f":"H64*'Série - IPCA'!$C$444/'Série - IPCA'!$C$437","v":0},36.965931648241508,"Despesas com Vendas","N","SIM","NÃO","ENCARGOS DE COMERCIALIZAÇÃO","FIXO","ALUGUÉIS",5300,"GERÊNCIA COMERCIAL","Despesas com Vendas28,4"]
[null,null,null,0,0,0,0,663.4,132.68,{"$f":"D65*'Série - IPCA'!$C$444/'Série - IPCA'!$C$385","v":0},{"$f":"E65*'Série - IPCA'!$C$444/'Série - IPCA'!$C$398","v":0},{"$f":"F65*'Série - IPCA'!$C$444/'Série - IPCA'!$C$411","v":0},{"$f":"G65*'Série - IPCA'!$C$444/'Série - IPCA'!$C$424","v":0},{"$f":"H65*'Série - IPCA'!$C$444/'Série - IPCA'!$C$437","v":678.25411234224009},135.65082246844801,"Despesas Gerais e Administratias","N","SIM","NÃO","ENCARGOS DE GESTÃO","FIXO","ALUGUÉIS",2130,"ASSESSORIA DE RELAÇÕES INSTITUCIONAIS E NOVOS NEGÓCIOS","Despesas Gerais e Administratias132,68"]
[null,null,null,0,0,0,425.17,307.89,146.61199999999999,{"$f":"D66*'Série - IPCA'!$C$444/'Série - IPCA'!$C$385","v":0},{"$f":"E66*'Série - IPCA'!$C$444/'Série - IPCA'!$C$398","v":0},{"$f":"F66*'Série - IPCA'!$C$444/'Série - IPCA'!$C$411","v":0},{"$f":"G66*'Série - IPCA'!$C$444/'Série - IPCA'!$C$424","v":454.77777977860154},{"$f":"H66*'Série - IPCA'!$C$444/'Série - IPCA'!$C$437","v":314.78392922678972},153.91234180107827,"Despesas Gerais e Administratias","N","SIM","NÃO","ENCARGOS DE GESTÃO","FIXO","ALUGUÉIS",2200,"DIRETORIA COLEGIADA - PRESIDÊNCIA","Despesas Gerais e Administratias146,612"]
[null,null,null,0,0,0,0,219.41,43.881999999999998,{"$f":"D67*'Série - IPCA'!$C$444/'Série - IPCA'!$C$385","v":0},{"$f":"E67*'Série - IPCA'!$C$444/'Série - IPCA'!$C$398","v":0},{"$f":"F67*'Série - IPCA'!$C$444/'Série - IPCA'!$C$411","v":0},{"$f":"G67*'Série - IPCA'!$C$444/'Série - IPCA'!$C$424","v":0},{"$f":"H67*'Série - IPCA'!$C$444/'Série - IPCA'!$C$437","v":224.32278382425523},44.864556764851045,"Despesas Gerais e Administratias","N","SIM","NÃO","ENCARGOS DE GESTÃO","FIXO","ALUGUÉIS",2400,"DIRETORIA COLEGIADA - DTC","Despesas Gerais e Administratias43,882"]
[null,null,null,155,0,0,0,0,31,{"$f":"D68*'Série - IPCA'!$C$444/'Série - IPCA'!$C$385","v":201.75068329145896},{"$f":"E68*'Série - IPCA'!$C$444/'Série - IPCA'!$C$398","v":0},{"$f":"F68*'Série - IPCA'!$C$444/'Série - IPCA'!$C$411","v":0},{"$f":"G68*'Série - IPCA'!$C$444/'Série - IPCA'!$C$424","v":0},{"$f":"H68*'Série - IPCA'!$C$444/'Série - IPCA'!$C$437","v":0},40.350136658291788,"Despesas Gerais e Administratias","N","SIM","NÃO","ENCARGOS DE GESTÃO","FIXO","ALUGUÉIS",3200,"GERÊNCIA DE PLANEJAMENTO E MEIO AMBIENTE","Despesas Gerais e Administratias31"]
[null,null,null,0,0,0,0,1772.43,{"$f":"AVERAGE(D69:H69)","v":354.48599999999999},{"$f":"D69*'Série - IPCA'!$C$444/'Série - IPCA'!$C$385","v":0},{"$f":"E69*'Série - IPCA'!$C$444/'Série - IPCA'!$C$398","v":0},{"$f":"F69*'Série - IPCA'!$C$444/'Série - IPCA'!$C$411","v":0},{"$f":"G69*'Série - IPCA'!$C$444/'Série - IPCA'!$C$424","v":0},{"$f":"H69*'Série - IPCA'!$C$444/'Série - IPCA'!$C$437","v":1812.1162742519698},{"$f":"AVERAGE(J69:N69)","v":362.42325485039396},"Despesas Gerais e Administratias","N","SIM","NÃO","ENCARGOS DE GESTÃO","FIXO","ALUGUÉIS",4100,"GERÊNCIA DE SERVIÇOS CORPORATIVOS",{"$f":"B69&C69&P69&I69","v":"Despesas Gerais e Administratias354,486"}]
[null,null,null,0,0,4500,0,0,900,{"$f":"D70*'Série - IPCA'!$C$444/'Série - IPCA'!$C$385","v":0},{"$f":"E70*'Série - IPCA'!$C$444/'Série - IPCA'!$C$398","v":0},{"$f":"F70*'Série - IPCA'!$C$444/'Série - IPCA'!$C$411","v":5091.826647892698},{"$f":"G70*'Série - IPCA'!$C$444/'Série - IPCA'!$C$424","v":0},{"$f":"H70*'Série - IPCA'!$C$444/'Série - IPCA'!$C$437","v":0},1018.3653295785396,"Custos","N","SIM","NÃO","OPEX","EXTENSÃO","ALUGUÉIS",5200,"GERÊNCIA DE OPERAÇÕES","Custos900"]
[null,null,null,83933.33,101756.18,109334.33,109290.97,113878.26,103638.61400000002,{"$f":"D71*'Série - IPCA'!$C$444/'Série - IPCA'!$C$385","v":109249.07534469361},{"$f":"E71*'Série - IPCA'!$C$444/'Série - IPCA'!$C$398","v":126722.95077933032},{"$f":"F71*'Série - IPCA'!$C$444/'Série - IPCA'!$C$411","v":123713.65667188757},{"$f":"G71*'Série - IPCA'!$C$444/'Série - IPCA'!$C$424","v":116901.72092680515},{"$f":"H71*'Série - IPCA'!$C$444/'Série - IPCA'!$C$437","v":116428.09489203924},118603.09972295118,"Despesas Gerais e Administratias","N","SIM","NÃO","ENCARGOS DE GESTÃO","FIXO","ALUGUÉIS",4300,"GERÊNCIA DE TECNOLOGIA E SISTEMAS DE INFORMAÇÃO","Despesas Gerais e Administratias103638,614"]
[null,null,null,2663.5,503.5,1797.35,498.3,128.80000000000001,1118.2900000000002,{"$f":"D72*'Série - IPCA'!$C$444/'Série - IPCA'!$C$385","v":3466.8577093341992},{"$f":"E72*'Série - IPCA'!$C$444/'Série - IPCA'!$C$398","v":627.03813878815834},{"$f":"F72*'Série - IPCA'!$C$444/'Série - IPCA'!$C$411","v":2033.7321390199866},{"$f":"G72*'Série - IPCA'!$C$444/'Série - IPCA'!$C$424","v":533.00037082502797},{"$f":"H72*'Série - IPCA'!$C$444/'Série - IPCA'!$C$437","v":131.68394583913258},1358.4624607613009,"Custos","N","NÃO","NÃO","OPEX","FIXO","DESPESAS_GERAIS",5100,"GERÊNCIA DE ENGENHARIA","Custos1118,29"]
[null,null,null,0,4769.84,0,604.20000000000005,0,1074.808,{"$f":"D73*'Série - IPCA'!$C$444/'Série - IPCA'!$C$385","v":0},{"$f":"E73*'Série - IPCA'!$C$444/'Série - IPCA'!$C$398","v":5940.1620574325907},{"$f":"F73*'Série - IPCA'!$C$444/'Série - IPCA'!$C$411","v":0},{"$f":"G73*'Série - IPCA'!$C$444/'Série - IPCA'!$C$424","v":646.27498304732478},{"$f":"H73*'Série - IPCA'!$C$444/'Série - IPCA'!$C$437","v":0},1317.2874080959832,"Custos","N","NÃO","NÃO","OPEX","FIXO","DESPESAS_GERAIS",5200,"GERÊNCIA DE OPERAÇÕES","Custos1074,808"]
[null,null,null,0,1795.49,0,0,0,359.09800000000001,{"$f":"D74*'Série - IPCA'!$C$444/'Série - IPCA'!$C$385","v":0},{"$f":"E74*'Série - IPCA'!$C$444/'Série - IPCA'!$C$398","v":2236.0292111474687},{"$f":"F74*'Série - IPCA'!$C$444/'Série - IPCA'!$C$411","v":0},{"$f":"G74*'Série - IPCA'!$C$444/'Série - IPCA'!$C$424","v":0},{"$f":"H74*'Série - IPCA'!$C$444/'Série - IPCA'!$C$437","v":0},447.20584222949373,"Despesas com Vendas","N","NÃO","NÃO","ENCARGOS DE COMERCIALIZAÇÃO","FIXO","DESPESAS_GERAIS",5300,"GERÊNCIA COMERCIAL","Despesas com Vendas359,098"]
[null,null,null,725,1706.82,0,0,0,486.36399999999992,{"$f":"D75*'Série - IPCA'!$C$444/'Série - IPCA'!$C$385","v":943.67255087940464},{"$f":"E75*'Série - IPCA'!$C$444/'Série - IPCA'!$C$398","v":2125.6032493473772},{"$f":"F75*'Série - IPCA'!$C$444/'Série - IPCA'!$C$411","v":0},{"$f":"G75*'Série - IPCA'!$C$444/'Série - IPCA'!$C$424","v":0},{"$f":"H75*'Série - IPCA'!$C$444/'Série - IPCA'!$C$437","v":0},613.85516004535634,"Despesas Gerais e Administratias","N","NÃO","NÃO","ENCARGOS DE GESTÃO","FIXO","DESPESAS_GERAIS",2100,"SECRETARIA","Despesas Gerais e Administratias486,364"]
[null,null,null,1504.8,2370.06,598.79999999999995,6733.26,6961.38,3633.66,{"$f":"D76*'Série - IPCA'!$C$444/'Série - IPCA'!$C$385","v":1958.6737304321766},{"$f":"E76*'Série - IPCA'!$C$444/'Série - IPCA'!$C$398","v":2951.5749974503724},{"$f":"F76*'Série - IPCA'!$C$444/'Série - IPCA'!$C$411","v":677.55239927958826},{"$f":"G76*'Série - IPCA'!$C$444/'Série - IPCA'!$C$424","v":7202.147455069894},{"$f":"H76*'Série - IPCA'!$C$444/'Série - IPCA'!$C$437","v":7117.2514509753155},3981.4400066414696,"Despesas Gerais e Administratias","N","NÃO","NÃO","ENCARGOS DE GESTÃO","FIXO","DESPESAS_GERAIS",2200,"DIRETORIA COLEGIADA - PRESIDÊNCIA","Despesas Gerais e Administratias3633,66"]
[null,null,null,1163.27,1097.56,0,0,0,452.166,{"$f":"D77*'Série - IPCA'!$C$444/'Série - IPCA'!$C$385","v":1514.1323700158414},{"$f":"E77*'Série - IPCA'!$C$444/'Série - IPCA'!$C$398","v":1366.8559674445503},{"$f":"F77*'Série - IPCA'!$C$444/'Série - IPCA'!$C$411","v":0},{"$f":"G77*'Série - IPCA'!$C$444/'Série - IPCA'!$C$424","v":0},{"$f":"H77*'Série - IPCA'!$C$444/'Série - IPCA'!$C$437","v":0},576.19766749207827,"Despesas Gerais e Administratias","N","NÃO","NÃO","ENCARGOS DE GESTÃO","FIXO","DESPESAS_GERAIS",2300,"DIRETORIA COLEGIADA - DAF","Despesas Gerais e Administratias452,166"]
[null,null,null,0,491.35,62.8,134.5,168,171.32999999999998,{"$f":"D78*'Série - IPCA'!$C$444/'Série - IPCA'!$C$385","v":0},{"$f":"E78*'Série - IPCA'!$C$444/'Série - IPCA'!$C$398","v":611.9070297786725},{"$f":"F78*'Série - IPCA'!$C$444/'Série - IPCA'!$C$411","v":71.059269663924752},{"$f":"G78*'Série - IPCA'!$C$444/'Série - IPCA'!$C$424","v":143.86624498488112},{"$f":"H78*'Série - IPCA'!$C$444/'Série - IPCA'!$C$437","v":171.76166848582506},199.71884258266067,"Despesas Gerais e Administratias","N","NÃO","NÃO","ENCARGOS DE GESTÃO","FIXO","DESPESAS_GERAIS",2410,"ASSESSORIA DE SEGURANÇA DO TRABALHO","Despesas Gerais e Administratias171,33"]
[null,null,null,7463.72,0,2307.06,0,0,1954.1560000000002,{"$f":"D79*'Série - IPCA'!$C$444/'Série - IPCA'!$C$385","v":9714.9071606201815},{"$f":"E79*'Série - IPCA'!$C$444/'Série - IPCA'!$C$398","v":0},{"$f":"F79*'Série - IPCA'!$C$444/'Série - IPCA'!$C$411","v":2610.477685841628},{"$f":"G79*'Série - IPCA'!$C$444/'Série - IPCA'!$C$424","v":0},{"$f":"H79*'Série - IPCA'!$C$444/'Série - IPCA'!$C$437","v":0},2465.0769692923618,"Despesas Gerais e Administratias","N","NÃO","NÃO","ENCARGOS DE GESTÃO","FIXO","DESPESAS_GERAIS",3100,"SMS","Despesas Gerais e Administratias1954,156"]
[null,null,null,1024.4100000000001,7593.5,7663.34,2797.97,874.05,3990.654,{"$f":"D80*'Série - IPCA'!$C$444/'Série - IPCA'!$C$385","v":1333.3897901329256},{"$f":"E80*'Série - IPCA'!$C$444/'Série - IPCA'!$C$398","v":9456.6317912371014},{"$f":"F80*'Série - IPCA'!$C$444/'Série - IPCA'!$C$411","v":8671.1997386360072},{"$f":"G80*'Série - IPCA'!$C$444/'Série - IPCA'!$C$424","v":2992.8136615639241},{"$f":"H80*'Série - IPCA'!$C$444/'Série - IPCA'!$C$437","v":893.62075202402013},4669.5311467187958,"Despesas Gerais e Administratias","N","NÃO","NÃO","ENCARGOS DE GESTÃO","FIXO","DESPESAS_GERAIS",3200,"GERÊNCIA DE PLANEJAMENTO E MEIO AMBIENTE","Despesas Gerais e Administratias3990,654"]
[null,null,null,503.7,0,0,1197,0,340.14,{"$f":"D81*'Série - IPCA'!$C$444/'Série - IPCA'!$C$385","v":655.62463983166367},{"$f":"E81*'Série - IPCA'!$C$444/'Série - IPCA'!$C$398","v":0},{"$f":"F81*'Série - IPCA'!$C$444/'Série - IPCA'!$C$411","v":0},{"$f":"G81*'Série - IPCA'!$C$444/'Série - IPCA'!$C$424","v":1280.356098489983},{"$f":"H81*'Série - IPCA'!$C$444/'Série - IPCA'!$C$437","v":0},387.19614766432932,"Despesas Gerais e Administratias","N","NÃO","NÃO","ENCARGOS DE GESTÃO","FIXO","DESPESAS_GERAIS",3300,"GERÊNCIA JURÍDICA","Despesas Gerais e Administratias340,14"]
[null,null,null,0,850,1690,7371,23196,6621.4,{"$f":"D82*'Série - IPCA'!$C$444/'Série - IPCA'!$C$385","v":0},{"$f":"E82*'Série - IPCA'!$C$444/'Série - IPCA'!$C$398","v":1058.554951280903},{"$f":"F82*'Série - IPCA'!$C$444/'Série - IPCA'!$C$411","v":1912.2637855419243},{"$f":"G82*'Série - IPCA'!$C$444/'Série - IPCA'!$C$424","v":7884.2980801751573},{"$f":"H82*'Série - IPCA'!$C$444/'Série - IPCA'!$C$437","v":23715.378941649986},6914.0991517295943,"Despesas Gerais e Administratias","N","NÃO","NÃO","ENCARGOS DE GESTÃO","FIXO","DESPESAS_GERAIS",3500,"ASSESSORIA DE COMUNICAÇÃO INSTITUCIONAL","Despesas Gerais e Administratias6621,4"]
[null,null,null,0,318.2,152,0,143.97,122.83399999999999,{"$f":"D83*'Série - IPCA'!$C$444/'Série - IPCA'!$C$385","v":0},{"$f":"E83*'Série - IPCA'!$C$444/'Série - IPCA'!$C$398","v":396.27315940892157},{"$f":"F83*'Série - IPCA'!$C$444/'Série - IPCA'!$C$411","v":171.99058899548669},{"$f":"G83*'Série - IPCA'!$C$444/'Série - IPCA'!$C$424","v":0},{"$f":"H83*'Série - IPCA'!$C$444/'Série - IPCA'!$C$437","v":147.19361554704901},143.09147279029145,"Despesas Gerais e Administratias","N","NÃO","NÃO","ENCARGOS DE GESTÃO","FIXO","DESPESAS_GERAIS",3600,"GERÊNCIA DE GOVERNANÇA, RISCO E COMPLIANCE","Despesas Gerais e Administratias122,834"]
[null,null,null,0,0,1198.8,0,0,239.76,{"$f":"D84*'Série - IPCA'!$C$444/'Série - IPCA'!$C$385","v":0},{"$f":"E84*'Série - IPCA'!$C$444/'Série - IPCA'!$C$398","v":0},{"$f":"F84*'Série - IPCA'!$C$444/'Série - IPCA'!$C$411","v":1356.4626189986145},{"$f":"G84*'Série - IPCA'!$C$444/'Série - IPCA'!$C$424","v":0},{"$f":"H84*'Série - IPCA'!$C$444/'Série - IPCA'!$C$437","v":0},271.29252379972291,"Despesas Gerais e Administratias","N","NÃO","NÃO","ENCARGOS DE GESTÃO","FIXO","DESPESAS_GERAIS",3700,"GERÊNCIA DE REGULAÇÃO","Despesas Gerais e Administratias239,76"]
[null,null,null,408.5,1199.57,145,114,2318.9,837.19400000000007,{"$f":"D85*'Série - IPCA'!$C$444/'Série - IPCA'!$C$385","v":531.71067177136115},{"$f":"E85*'Série - IPCA'!$C$444/'Série - IPCA'!$C$398","v":1493.8950151859208},{"$f":"F85*'Série - IPCA'!$C$444/'Série - IPCA'!$C$411","v":164.06996976543138},{"$f":"G85*'Série - IPCA'!$C$444/'Série - IPCA'!$C$424","v":121.93867604666505},{"$f":"H85*'Série - IPCA'!$C$444/'Série - IPCA'!$C$437","v":2370.822220546308},936.48731066313735,"Despesas Gerais e Administratias","N","NÃO","NÃO","ENCARGOS DE GESTÃO","FIXO","DESPESAS_GERAIS",4100,"GERÊNCIA DE SERVIÇOS CORPORATIVOS","Despesas Gerais e Administratias837,194"]
[null,null,null,202577.78,203460.16,207979.92,197874.61,203325.1,203043.514,{"$f":"D86*'Série - IPCA'!$C$444/'Série - IPCA'!$C$385","v":263678.7453849474},{"$f":"E86*'Série - IPCA'!$C$444/'Série - IPCA'!$C$398","v":253380.89383106434},{"$f":"F86*'Série - IPCA'!$C$444/'Série - IPCA'!$C$411","v":235332.82197390922},{"$f":"G86*'Série - IPCA'!$C$444/'Série - IPCA'!$C$424","v":211654.10497061568},{"$f":"H86*'Série - IPCA'!$C$444/'Série - IPCA'!$C$437","v":207877.7286967097},234384.85897144926,"Despesas Gerais e Administratias","N","NÃO","NÃO","ENCARGOS DE GESTÃO","FIXO","DESPESAS_GERAIS",4200,"GERÊNCIA FINANCEIRA","Despesas Gerais e Administratias203043,514"]
[null,null,null,1968,25521.84,2182.4,2411.1999999999998,2801.02,6976.8919999999998,{"$f":"D87*'Série - IPCA'!$C$444/'Série - IPCA'!$C$385","v":2561.58286914575},{"$f":"E87*'Série - IPCA'!$C$444/'Série - IPCA'!$C$398","v":31783.847173881171},{"$f":"F87*'Série - IPCA'!$C$444/'Série - IPCA'!$C$411","v":2469.4227725246719},{"$f":"G87*'Série - IPCA'!$C$444/'Série - IPCA'!$C$424","v":2579.1099621378835},{"$f":"H87*'Série - IPCA'!$C$444/'Série - IPCA'!$C$437","v":2863.7373134652721},8451.5400182309495,"Despesas Gerais e Administratias","N","NÃO","NÃO","ENCARGOS DE GESTÃO","FIXO","DESPESAS_GERAIS",4500,"GERÊNCIA CONTÁBIL","Despesas Gerais e Administratias6976,892"]
[null,null,null,121577.82,242474.09,314555.82,312636.7,371129.55,272474.79599999997,{"$f":"D88*'Série - IPCA'!$C$444/'Série - IPCA'!$C$385","v":158247.7952134581},{"$f":"E88*'Série - IPCA'!$C$444/'Série - IPCA'!$C$398","v":301967.23356097791},{"$f":"F88*'Série - IPCA'!$C$444/'Série - IPCA'!$C$411","v":355925.26811683085},{"$f":"G88*'Série - IPCA'!$C$444/'Série - IPCA'!$C$424","v":334407.94106665265},{"$f":"H88*'Série - IPCA'!$C$444/'Série - IPCA'!$C$437","v":379439.46864519903},305997.54132062371,"Despesas com Vendas","N","NÃO","NÃO","ENCARGOS DE COMERCIALIZAÇÃO","FUNCIONÁRIOS","PESSOAL",5300,"GERÊNCIA COMERCIAL","Despesas com Vendas272474,796"]
[null,null,null,0,15311.76,15870.08,16864.36,21135.56,13836.351999999999,{"$f":"D89*'Série - IPCA'!$C$444/'Série - IPCA'!$C$385","v":0},{"$f":"E89*'Série - IPCA'!$C$444/'Série - IPCA'!$C$398","v":19068.634542146916},{"$f":"F89*'Série - IPCA'!$C$444/'Série - IPCA'!$C$411","v":17957.265832930876},{"$f":"G89*'Série - IPCA'!$C$444/'Série - IPCA'!$C$424","v":18038.752024336281},{"$f":"H89*'Série - IPCA'!$C$444/'Série - IPCA'!$C$437","v":21608.803868942054},15334.691253671224,"Despesas Gerais e Administratias","N","NÃO","NÃO","ENCARGOS DE GESTÃO","FUNCIONÁRIOS","PESSOAL",1005,"AUDITORIA INTERNA","Despesas Gerais e Administratias13836,352"]
[null,null,null,0,0,28660.560000000001,27686.880000000001,27763.25,16822.137999999999,{"$f":"D90*'Série - IPCA'!$C$444/'Série - IPCA'!$C$385","v":0},{"$f":"E90*'Série - IPCA'!$C$444/'Série - IPCA'!$C$398","v":0},{"$f":"F90*'Série - IPCA'!$C$444/'Série - IPCA'!$C$411","v":32429.911811450562},{"$f":"G90*'Série - IPCA'!$C$444/'Série - IPCA'!$C$424","v":29614.925360200788},{"$f":"H90*'Série - IPCA'!$C$444/'Série - IPCA'!$C$437","v":28384.893705887396},18085.94617550775,"Despesas Gerais e Administratias","N","NÃO","NÃO","ENCARGOS DE GESTÃO","FUNCIONÁRIOS","PESSOAL",1010,"GOVERNANÇA SOCIETÁRIA","Despesas Gerais e Administratias16822,138"]
[null,null,null,0,0,0,0,0,0,{"$f":"D91*'Série - IPCA'!$C$444/'Série - IPCA'!$C$385","v":0},{"$f":"E91*'Série - IPCA'!$C$444/'Série - IPCA'!$C$398","v":0},{"$f":"F91*'Série - IPCA'!$C$444/'Série - IPCA'!$C$411","v":0},{"$f":"G91*'Série - IPCA'!$C$444/'Série - IPCA'!$C$424","v":0},{"$f":"H91*'Série - IPCA'!$C$444/'Série - IPCA'!$C$437","v":0},0,"Despesas Gerais e Administratias","N","NÃO","NÃO","ENCARGOS DE GESTÃO","FUNCIONÁRIOS","PESSOAL",2100,"SECRETARIA","Despesas Gerais e Administratias0"]
[null,null,null,6683.8,24478.25,22755.56,18186.66,13994.89,17219.832000000002,{"$f":"D92*'Série - IPCA'!$C$444/'Série - IPCA'!$C$385","v":8699.7497869900217},{"$f":"E92*'Série - IPCA'!$C$444/'Série - IPCA'!$C$398","v":30484.20321904913},{"$f":"F92*'Série - IPCA'!$C$444/'Série - IPCA'!$C$411","v":25748.303732382483},{"$f":"G92*'Série - IPCA'!$C$444/'Série - IPCA'!$C$424","v":19453.133702726678},{"$f":"H92*'Série - IPCA'!$C$444/'Série - IPCA'!$C$437","v":14308.247956402311},19738.727679510124,"Despesas Gerais e Administratias","N","NÃO","NÃO","ENCARGOS DE GESTÃO","FUNCIONÁRIOS","PESSOAL",2110,"ASSESSORIA DA DIRETORIA EXECUTIVA","Despesas Gerais e Administratias17219,832"]
[null,null,null,8033.63,31355.16,29473.11,29836.38,35343.86,26808.428000000004,{"$f":"D93*'Série - IPCA'!$C$444/'Série - IPCA'!$C$385","v":10456.711882650086},{"$f":"E93*'Série - IPCA'!$C$444/'Série - IPCA'!$C$398","v":39048.423372005782},{"$f":"F93*'Série - IPCA'!$C$444/'Série - IPCA'!$C$411","v":33349.325976505061},{"$f":"G93*'Série - IPCA'!$C$444/'Série - IPCA'!$C$424","v":31914.111186185932},{"$f":"H93*'Série - IPCA'!$C$444/'Série - IPCA'!$C$437","v":36135.240263865555},30180.762536242488,"Despesas Gerais e Administratias","N","NÃO","NÃO","ENCARGOS DE GESTÃO","FUNCIONÁRIOS","PESSOAL",2120,"ASSESSORIA DA PRESIDÊNCIA","Despesas Gerais e Administratias26808,428"]
[null,null,null,0,1198,14986.94,16381.2,18773.04,10267.835999999999,{"$f":"D94*'Série - IPCA'!$C$444/'Série - IPCA'!$C$385","v":0},{"$f":"E94*'Série - IPCA'!$C$444/'Série - IPCA'!$C$398","v":1491.9398019229666},{"$f":"F94*'Série - IPCA'!$C$444/'Série - IPCA'!$C$411","v":16957.97788052644},{"$f":"G94*'Série - IPCA'!$C$444/'Série - IPCA'!$C$424","v":17521.94596540026},{"$f":"H94*'Série - IPCA'!$C$444/'Série - IPCA'!$C$437","v":19193.384958042461},11033.049721178424,"Despesas Gerais e Administratias","N","NÃO","NÃO","ENCARGOS DE GESTÃO","FUNCIONÁRIOS","PESSOAL",2130,"ASSESSORIA DE RELAÇÕES INSTITUCIONAIS E NOVOS NEGÓCIOS","Despesas Gerais e Administratias10267,836"]
[null,null,null,17679.34,406.52,0,0,350,3687.172,{"$f":"D95*'Série - IPCA'!$C$444/'Série - IPCA'!$C$385","v":23011.735000916269},{"$f":"E95*'Série - IPCA'!$C$444/'Série - IPCA'!$C$398","v":506.26324564083836},{"$f":"F95*'Série - IPCA'!$C$444/'Série - IPCA'!$C$411","v":0},{"$f":"G95*'Série - IPCA'!$C$444/'Série - IPCA'!$C$424","v":0},{"$f":"H95*'Série - IPCA'!$C$444/'Série - IPCA'!$C$437","v":357.83680934546891},4775.1670111805161,"Despesas Gerais e Administratias","N","NÃO","NÃO","ENCARGOS DE GESTÃO","FUNCIONÁRIOS","PESSOAL",2200,"DIRETORIA COLEGIADA - PRESIDÊNCIA","Despesas Gerais e Administratias3687,172"]
[null,null,null,-100.27,12951.45,13543.82,0,0,5279,{"$f":"D96*'Série - IPCA'!$C$444/'Série - IPCA'!$C$385","v":-130.51316782990057},{"$f":"E96*'Série - IPCA'!$C$444/'Série - IPCA'!$C$398","v":16129.20179266712},{"$f":"F96*'Série - IPCA'!$C$444/'Série - IPCA'!$C$411","v":15325.063020058238},{"$f":"G96*'Série - IPCA'!$C$444/'Série - IPCA'!$C$424","v":0},{"$f":"H96*'Série - IPCA'!$C$444/'Série - IPCA'!$C$437","v":0},6264.7503289790911,"Despesas Gerais e Administratias","N","NÃO","NÃO","ENCARGOS DE GESTÃO","FUNCIONÁRIOS","PESSOAL",2300,"DIRETORIA COLEGIADA - DAF","Despesas Gerais e Administratias5279"]
[null,null,null,0,1522.82,827.6,483.16,928.08,752.33199999999999,{"$f":"D97*'Série - IPCA'!$C$444/'Série - IPCA'!$C$385","v":0},{"$f":"E97*'Série - IPCA'!$C$444/'Série - IPCA'!$C$398","v":1896.4572363642171},{"$f":"F97*'Série - IPCA'!$C$444/'Série - IPCA'!$C$411","v":936.44349639911036},{"$f":"G97*'Série - IPCA'!$C$444/'Série - IPCA'!$C$424","v":516.80605893602353},{"$f":"H97*'Série - IPCA'!$C$444/'Série - IPCA'!$C$437","v":948.8605314781222},859.71346463549469,"Despesas Gerais e Administratias","N","NÃO","NÃO","ENCARGOS DE GESTÃO","FUNCIONÁRIOS","PESSOAL",2310,"ASSESSORIA DAF","Despesas Gerais e Administratias752,332"]
[null,null,null,9185.2800000000007,101.38,0,0,0,1857.3319999999999,{"$f":"D98*'Série - IPCA'!$C$444/'Série - IPCA'!$C$385","v":11955.719459505626},{"$f":"E98*'Série - IPCA'!$C$444/'Série - IPCA'!$C$398","v":126.25447171865639},{"$f":"F98*'Série - IPCA'!$C$444/'Série - IPCA'!$C$411","v":0},{"$f":"G98*'Série - IPCA'!$C$444/'Série - IPCA'!$C$424","v":0},{"$f":"H98*'Série - IPCA'!$C$444/'Série - IPCA'!$C$437","v":0},2416.3947862448563,"Despesas Gerais e Administratias","N","NÃO","NÃO","ENCARGOS DE GESTÃO","FUNCIONÁRIOS","PESSOAL",2400,"DIRETORIA COLEGIADA - DTC","Despesas Gerais e Administratias1857,332"]
[null,null,null,16886.04,52759.89,56098.14,63422.400000000001,81619.320000000007,54157.15800000001,{"$f":"D99*'Série - IPCA'!$C$444/'Série - IPCA'!$C$385","v":21979.161987657466},{"$f":"E99*'Série - IPCA'!$C$444/'Série - IPCA'!$C$398","v":65704.991515924456},{"$f":"F99*'Série - IPCA'!$C$444/'Série - IPCA'!$C$411","v":63476.000922047831},{"$f":"G99*'Série - IPCA'!$C$444/'Série - IPCA'!$C$424","v":67838.977962298333},{"$f":"H99*'Série - IPCA'!$C$444/'Série - IPCA'!$C$437","v":83446.848713562344},60489.196220298087,"Despesas Gerais e Administratias","N","NÃO","NÃO","ENCARGOS DE GESTÃO","FUNCIONÁRIOS","PESSOAL",2410,"ASSESSORIA DE SEGURANÇA DO TRABALHO","Despesas Gerais e Administratias54157,158"]
[null,null,null,44723.85,25738.2,0,0,0,14092.41,{"$f":"D100*'Série - IPCA'!$C$444/'Série - IPCA'!$C$385","v":58213.337399514297},{"$f":"E100*'Série - IPCA'!$C$444/'Série - IPCA'!$C$398","v":32053.292996538981},{"$f":"F100*'Série - IPCA'!$C$444/'Série - IPCA'!$C$411","v":0},{"$f":"G100*'Série - IPCA'!$C$444/'Série - IPCA'!$C$424","v":0},{"$f":"H100*'Série - IPCA'!$C$444/'Série - IPCA'!$C$437","v":0},18053.326079210656,"Despesas Gerais e Administratias","N","NÃO","NÃO","ENCARGOS DE GESTÃO","FUNCIONÁRIOS","PESSOAL",3100,"SMS","Despesas Gerais e Administratias14092,41"]
[null,null,null,48299.61,68778.929999999993,87196.68,85542.71,103982.48,78760.081999999995,{"$f":"D101*'Série - IPCA'!$C$444/'Série - IPCA'!$C$385","v":62867.608517490211},{"$f":"E101*'Série - IPCA'!$C$444/'Série - IPCA'!$C$398","v":85654.443406238381},{"$f":"F101*'Série - IPCA'!$C$444/'Série - IPCA'!$C$411","v":98664.528629282722},{"$f":"G101*'Série - IPCA'!$C$444/'Série - IPCA'!$C$424","v":91499.691253015917},{"$f":"H101*'Série - IPCA'!$C$444/'Série - IPCA'!$C$437","v":106310.73963151152},88999.40228750775,"Despesas Gerais e Administratias","N","NÃO","NÃO","ENCARGOS DE GESTÃO","FUNCIONÁRIOS","PESSOAL",3200,"GERÊNCIA DE PLANEJAMENTO E MEIO AMBIENTE","Despesas Gerais e Administratias78760,082"]
[null,null,null,44280.58,53379.14,44911.92,43104.74,51386.54,47412.584000000003,{"$f":"D102*'Série - IPCA'!$C$444/'Série - IPCA'!$C$385","v":57636.369493820072},{"$f":"E102*'Série - IPCA'!$C$444/'Série - IPCA'!$C$398","v":66476.179931901759},{"$f":"F102*'Série - IPCA'!$C$444/'Série - IPCA'!$C$411","v":50818.60245867222},{"$f":"G102*'Série - IPCA'!$C$444/'Série - IPCA'!$C$424","v":46106.446727506351},{"$f":"H102*'Série - IPCA'!$C$444/'Série - IPCA'!$C$437","v":52537.13004829517},54714.945732039123,"Despesas Gerais e Administratias","N","NÃO","NÃO","ENCARGOS DE GESTÃO","FUNCIONÁRIOS","PESSOAL",3300,"GERÊNCIA JURÍDICA","Despesas Gerais e Administratias47412,584"]
[null,null,null,12426.91,46270.66,43123.27,41365.9,39277.11,36492.769999999997,{"$f":"D103*'Série - IPCA'!$C$444/'Série - IPCA'!$C$385","v":16175.081185170737},{"$f":"E103*'Série - IPCA'!$C$444/'Série - IPCA'!$C$398","v":57623.572049453207},{"$f":"F103*'Série - IPCA'!$C$444/'Série - IPCA'!$C$411","v":48794.714517838162},{"$f":"G103*'Série - IPCA'!$C$444/'Série - IPCA'!$C$424","v":44246.518241041595},{"$f":"H103*'Série - IPCA'!$C$444/'Série - IPCA'!$C$437","v":40156.55920774574},41399.289040249889,"Despesas Gerais e Administratias","N","NÃO","NÃO","ENCARGOS DE GESTÃO","FUNCIONÁRIOS","PESSOAL",3500,"ASSESSORIA DE COMUNICAÇÃO INSTITUCIONAL","Despesas Gerais e Administratias36492,77"]
[null,null,null,32031.33,62079.56,43154.35,56769.32,63406.06,51488.123999999996,{"$f":"D104*'Série - IPCA'!$C$444/'Série - IPCA'!$C$385","v":41692.533640220696},{"$f":"E104*'Série - IPCA'!$C$444/'Série - IPCA'!$C$398","v":77311.324248635166},{"$f":"F104*'Série - IPCA'!$C$444/'Série - IPCA'!$C$411","v":48829.882067219602},{"$f":"G104*'Série - IPCA'!$C$444/'Série - IPCA'!$C$424","v":60722.594042714591},{"$f":"H104*'Série - IPCA'!$C$444/'Série - IPCA'!$C$437","v":64825.777724478176},58676.422344653649,"Despesas Gerais e Administratias","N","NÃO","NÃO","ENCARGOS DE GESTÃO","FUNCIONÁRIOS","PESSOAL",3600,"GERÊNCIA DE GOVERNANÇA, RISCO E COMPLIANCE","Despesas Gerais e Administratias51488,124"]
[null,null,null,0,820.97,9851.64,10728.36,12294.83,6739.1600000000008,{"$f":"D105*'Série - IPCA'!$C$444/'Série - IPCA'!$C$385","v":0},{"$f":"E105*'Série - IPCA'!$C$444/'Série - IPCA'!$C$398","v":1022.4021862977445},{"$f":"F105*'Série - IPCA'!$C$444/'Série - IPCA'!$C$411","v":11147.29846165458},{"$f":"G105*'Série - IPCA'!$C$444/'Série - IPCA'!$C$424","v":11475.456267999994},{"$f":"H105*'Série - IPCA'!$C$444/'Série - IPCA'!$C$437","v":12570.122110414146},7243.0558052732931,"Despesas Gerais e Administratias","N","NÃO","NÃO","ENCARGOS DE GESTÃO","FUNCIONÁRIOS","PESSOAL",3700,"GERÊNCIA DE REGULAÇÃO","Despesas Gerais e Administratias6739,16"]
[null,null,null,88931.199999999997,160993,325653.38,67392.56,155947.4,159783.50800000003,{"$f":"D106*'Série - IPCA'!$C$444/'Série - IPCA'!$C$385","v":115754.38945760898},{"$f":"E106*'Série - IPCA'!$C$444/'Série - IPCA'!$C$398","v":200494.04384890164},{"$f":"F106*'Série - IPCA'!$C$444/'Série - IPCA'!$C$411","v":368482.34628007264},{"$f":"G106*'Série - IPCA'!$C$444/'Série - IPCA'!$C$424","v":72085.610015749437},{"$f":"H106*'Série - IPCA'!$C$444/'Série - IPCA'!$C$437","v":159439.2001192045},183251.11794430745,"Despesas Gerais e Administratias","N","NÃO","NÃO","ENCARGOS DE GESTÃO","FUNCIONÁRIOS","PESSOAL",4100,"GERÊNCIA DE SERVIÇOS CORPORATIVOS","Despesas Gerais e Administratias159783,508"]
[null,null,null,82070.899999999994,98209.95,82854.98,87867.520000000004,105099.44,91220.55799999999,{"$f":"D107*'Série - IPCA'!$C$444/'Série - IPCA'!$C$385","v":106824.90421512901},{"$f":"E107*'Série - IPCA'!$C$444/'Série - IPCA'!$C$398","v":122306.62216182341},{"$f":"F107*'Série - IPCA'!$C$444/'Série - IPCA'!$C$411","v":93751.821127692543},{"$f":"G107*'Série - IPCA'!$C$444/'Série - IPCA'!$C$424","v":93986.395230735638},{"$f":"H107*'Série - IPCA'!$C$444/'Série - IPCA'!$C$437","v":107452.70935313014},104864.49041770215,"Despesas Gerais e Administratias","N","NÃO","NÃO","ENCARGOS DE GESTÃO","FUNCIONÁRIOS","PESSOAL",4200,"GERÊNCIA FINANCEIRA","Despesas Gerais e Administratias91220,558"]
[null,null,null,87597.41,110015.4,98017.89,82418.77,87174.1,93044.714000000007,{"$f":"D108*'Série - IPCA'!$C$444/'Série - IPCA'!$C$385","v":114018.30530362632},{"$f":"E108*'Série - IPCA'!$C$444/'Série - IPCA'!$C$398","v":137008.64280841063},{"$f":"F108*'Série - IPCA'!$C$444/'Série - IPCA'!$C$411","v":110908.91206049225},{"$f":"G108*'Série - IPCA'!$C$444/'Série - IPCA'!$C$424","v":88158.207852584179},{"$f":"H108*'Série - IPCA'!$C$444/'Série - IPCA'!$C$437","v":89126.005147322416},107844.01463448715,"Despesas Gerais e Administratias","N","NÃO","NÃO","ENCARGOS DE GESTÃO","FUNCIONÁRIOS","PESSOAL",4300,"GERÊNCIA DE TECNOLOGIA E SISTEMAS DE INFORMAÇÃO","Despesas Gerais e Administratias93044,714"]
[null,null,null,58456.08,70440.66,71666.850000000006,79970.460000000006,92956.99,74698.208000000013,{"$f":"D109*'Série - IPCA'!$C$444/'Série - IPCA'!$C$385","v":76087.445693807662},{"$f":"E109*'Série - IPCA'!$C$444/'Série - IPCA'!$C$398","v":87723.893428817231},{"$f":"F109*'Série - IPCA'!$C$444/'Série - IPCA'!$C$411","v":81092.261466784184},{"$f":"G109*'Série - IPCA'!$C$444/'Série - IPCA'!$C$424","v":85539.403642480582},{"$f":"H109*'Série - IPCA'!$C$444/'Série - IPCA'!$C$437","v":95038.379165596183},85096.276679497169,"Despesas Gerais e Administratias","N","NÃO","NÃO","ENCARGOS DE GESTÃO","FUNCIONÁRIOS","PESSOAL",4500,"GERÊNCIA CONTÁBIL","Despesas Gerais e Administratias74698,208"]
[null,null,null,51661.61,0,0,0,9636.06,12259.534,{"$f":"D110*'Série - IPCA'!$C$444/'Série - IPCA'!$C$385","v":67243.645918947528},{"$f":"E110*'Série - IPCA'!$C$444/'Série - IPCA'!$C$398","v":0},{"$f":"F110*'Série - IPCA'!$C$444/'Série - IPCA'!$C$411","v":0},{"$f":"G110*'Série - IPCA'!$C$444/'Série - IPCA'!$C$424","v":0},{"$f":"H110*'Série - IPCA'!$C$444/'Série - IPCA'!$C$437","v":9851.8199001757093},15419.093163824646,"Despesas Gerais e Administratias","N","NÃO","NÃO","ENCARGOS DE GESTÃO","FUNCIONÁRIOS","PESSOAL",4600,"GERÊNCIA DE PESSOAS E CULTURA","Despesas Gerais e Administratias12259,534"]
[null,null,null,263536.53999999998,291931.44,140077.92000000001,129079.07,168788.42,198682.67800000001,{"$f":"D111*'Série - IPCA'!$C$444/'Série - IPCA'!$C$385","v":343023.72269204451},{"$f":"E111*'Série - IPCA'!$C$444/'Série - IPCA'!$C$398","v":363559.37793713389},{"$f":"F111*'Série - IPCA'!$C$444/'Série - IPCA'!$C$411","v":158500.552408307},{"$f":"G111*'Série - IPCA'!$C$444/'Série - IPCA'!$C$424","v":138067.81492223509},{"$f":"H111*'Série - IPCA'!$C$444/'Série - IPCA'!$C$437","v":172567.74190646553},235143.84197323717,"Custos","N","NÃO","NÃO","OPEX","FUNCIONÁRIOS","PESSOAL",5100,"GERÊNCIA DE ENGENHARIA","Custos198682,678"]
[null,null,null,415267.13,515047,486137.1,509385.22,579861.13,501139.516,{"$f":"D112*'Série - IPCA'!$C$444/'Série - IPCA'!$C$385","v":540518.88532892324},{"$f":"E112*'Série - IPCA'!$C$444/'Série - IPCA'!$C$398","v":641418.29646161781},{"$f":"F112*'Série - IPCA'!$C$444/'Série - IPCA'!$C$411","v":550072.40895761712},{"$f":"G112*'Série - IPCA'!$C$444/'Série - IPCA'!$C$424","v":544857.53793455439},{"$f":"H112*'Série - IPCA'!$C$444/'Série - IPCA'!$C$437","v":592844.73320759472},573942.37237806141,"Custos","N","NÃO","NÃO","OPEX","FUNCIONÁRIOS","PESSOAL",5200,"GERÊNCIA DE OPERAÇÕES","Custos501139,516"]
[null,null,null,70393.17,0,0,0,0,14078.634,{"$f":"D113*'Série - IPCA'!$C$444/'Série - IPCA'!$C$385","v":91624.968687431145},{"$f":"E113*'Série - IPCA'!$C$444/'Série - IPCA'!$C$398","v":0},{"$f":"F113*'Série - IPCA'!$C$444/'Série - IPCA'!$C$411","v":0},{"$f":"G113*'Série - IPCA'!$C$444/'Série - IPCA'!$C$424","v":0},{"$f":"H113*'Série - IPCA'!$C$444/'Série - IPCA'!$C$437","v":0},18324.993737486227,"Despesas com Vendas","N","NÃO","NÃO","ENCARGOS DE COMERCIALIZAÇÃO","FUNCIONÁRIOS","PESSOAL",5400,"GERÊNCIA COMERCIAL (inativo)","Despesas com Vendas14078,634"]
[null,null,null,40807.800000000003,0,0,0,0,8161.56,{"$f":"D114*'Série - IPCA'!$C$444/'Série - IPCA'!$C$385","v":53116.138926588377},{"$f":"E114*'Série - IPCA'!$C$444/'Série - IPCA'!$C$398","v":0},{"$f":"F114*'Série - IPCA'!$C$444/'Série - IPCA'!$C$411","v":0},{"$f":"G114*'Série - IPCA'!$C$444/'Série - IPCA'!$C$424","v":0},{"$f":"H114*'Série - IPCA'!$C$444/'Série - IPCA'!$C$437","v":0},10623.227785317675,"Despesas com Vendas","N","NÃO","NÃO","ENCARGOS DE COMERCIALIZAÇÃO","FUNCIONÁRIOS","PESSOAL",5500,"GERÊNCIA COMERCIAL (inativo)","Despesas com Vendas8161,56"]
[null,null,null,27467.15,0,0,0,0,5493.43,{"$f":"D115*'Série - IPCA'!$C$444/'Série - IPCA'!$C$385","v":35751.71793915482},{"$f":"E115*'Série - IPCA'!$C$444/'Série - IPCA'!$C$398","v":0},{"$f":"F115*'Série - IPCA'!$C$444/'Série - IPCA'!$C$411","v":0},{"$f":"G115*'Série - IPCA'!$C$444/'Série - IPCA'!$C$424","v":0},{"$f":"H115*'Série - IPCA'!$C$444/'Série - IPCA'!$C$437","v":0},7150.3435878309638,"Despesas Gerais e Administratias","N","NÃO","NÃO","ENCARGOS DE GESTÃO","FUNCIONÁRIOS","PESSOAL",2100,"SECRETARIA","Despesas Gerais e Administratias5493,43"]
[null,null,null,43743.13,0,0,0,0,8748.6260000000002,{"$f":"D116*'Série - IPCA'!$C$444/'Série - IPCA'!$C$385","v":56936.815269723331},{"$f":"E116*'Série - IPCA'!$C$444/'Série - IPCA'!$C$398","v":0},{"$f":"F116*'Série - IPCA'!$C$444/'Série - IPCA'!$C$411","v":0},{"$f":"G116*'Série - IPCA'!$C$444/'Série - IPCA'!$C$424","v":0},{"$f":"H116*'Série - IPCA'!$C$444/'Série - IPCA'!$C$437","v":0},11387.363053944666,"Despesas Gerais e Administratias","N","NÃO","NÃO","ENCARGOS DE GESTÃO","FUNCIONÁRIOS","PESSOAL",3400,"MARKETING","Despesas Gerais e Administratias8748,626"]
[null,null,null,67412.740000000005,0,0,0,0,13482.548000000001,{"$f":"D117*'Série - IPCA'!$C$444/'Série - IPCA'!$C$385","v":87745.58940354496},{"$f":"E117*'Série - IPCA'!$C$444/'Série - IPCA'!$C$398","v":0},{"$f":"F117*'Série - IPCA'!$C$444/'Série - IPCA'!$C$411","v":0},{"$f":"G117*'Série - IPCA'!$C$444/'Série - IPCA'!$C$424","v":0},{"$f":"H117*'Série - IPCA'!$C$444/'Série - IPCA'!$C$437","v":0},17549.117880708993,"Despesas com Vendas","N","SIM","NÃO","ENCARGOS DE COMERCIALIZAÇÃO","FIXO","DESPESAS_INSTITUCIONAIS",5400,"GERÊNCIA COMERCIAL (inativo)","Despesas com Vendas13482,548"]
[null,null,null,33738.699999999997,0,0,0,0,6747.74,{"$f":"D118*'Série - IPCA'!$C$444/'Série - IPCA'!$C$385","v":43914.875989455133},{"$f":"E118*'Série - IPCA'!$C$444/'Série - IPCA'!$C$398","v":0},{"$f":"F118*'Série - IPCA'!$C$444/'Série - IPCA'!$C$411","v":0},{"$f":"G118*'Série - IPCA'!$C$444/'Série - IPCA'!$C$424","v":0},{"$f":"H118*'Série - IPCA'!$C$444/'Série - IPCA'!$C$437","v":0},8782.9751978910263,"Despesas com Vendas","N","SIM","NÃO","ENCARGOS DE COMERCIALIZAÇÃO","FIXO","DESPESAS_INSTITUCIONAIS",5500,"GERÊNCIA COMERCIAL (inativo)","Despesas com Vendas6747,74"]
[null,null,null,11827.97,0,0,0,0,2365.5940000000001,{"$f":"D119*'Série - IPCA'!$C$444/'Série - IPCA'!$C$385","v":15395.490512586308},{"$f":"E119*'Série - IPCA'!$C$444/'Série - IPCA'!$C$398","v":0},{"$f":"F119*'Série - IPCA'!$C$444/'Série - IPCA'!$C$411","v":0},{"$f":"G119*'Série - IPCA'!$C$444/'Série - IPCA'!$C$424","v":0},{"$f":"H119*'Série - IPCA'!$C$444/'Série - IPCA'!$C$437","v":0},3079.0981025172614,"Despesas Gerais e Administratias","N","SIM","NÃO","ENCARGOS DE GESTÃO","FIXO","DESPESAS_INSTITUCIONAIS",2100,"SECRETARIA","Despesas Gerais e Administratias2365,594"]
[null,null,null,26952.18,0,0,0,0,5390.4359999999997,{"$f":"D120*'Série - IPCA'!$C$444/'Série - IPCA'!$C$385","v":35081.424072221896},{"$f":"E120*'Série - IPCA'!$C$444/'Série - IPCA'!$C$398","v":0},{"$f":"F120*'Série - IPCA'!$C$444/'Série - IPCA'!$C$411","v":0},{"$f":"G120*'Série - IPCA'!$C$444/'Série - IPCA'!$C$424","v":0},{"$f":"H120*'Série - IPCA'!$C$444/'Série - IPCA'!$C$437","v":0},7016.2848144443797,"Despesas Gerais e Administratias","N","SIM","NÃO","ENCARGOS DE GESTÃO","FIXO","DESPESAS_INSTITUCIONAIS",2200,"DIRETORIA COLEGIADA - PRESIDÊNCIA","Despesas Gerais e Administratias5390,436"]
[null,null,null,9221.8799999999992,0,0,0,0,1844.3759999999997,{"$f":"D121*'Série - IPCA'!$C$444/'Série - IPCA'!$C$385","v":12003.35865310864},{"$f":"E121*'Série - IPCA'!$C$444/'Série - IPCA'!$C$398","v":0},{"$f":"F121*'Série - IPCA'!$C$444/'Série - IPCA'!$C$411","v":0},{"$f":"G121*'Série - IPCA'!$C$444/'Série - IPCA'!$C$424","v":0},{"$f":"H121*'Série - IPCA'!$C$444/'Série - IPCA'!$C$437","v":0},2400.6717306217279,"Despesas Gerais e Administratias","N","SIM","NÃO","ENCARGOS DE GESTÃO","FIXO","DESPESAS_INSTITUCIONAIS",2300,"DIRETORIA COLEGIADA - DAF","Despesas Gerais e Administratias1844,376"]
[null,null,null,6721.88,0,0,0,0,1344.376,{"$f":"D122*'Série - IPCA'!$C$444/'Série - IPCA'!$C$385","v":8749.3153742141421},{"$f":"E122*'Série - IPCA'!$C$444/'Série - IPCA'!$C$398","v":0},{"$f":"F122*'Série - IPCA'!$C$444/'Série - IPCA'!$C$411","v":0},{"$f":"G122*'Série - IPCA'!$C$444/'Série - IPCA'!$C$424","v":0},{"$f":"H122*'Série - IPCA'!$C$444/'Série - IPCA'!$C$437","v":0},1749.8630748428284,"Despesas Gerais e Administratias","N","SIM","NÃO","ENCARGOS DE GESTÃO","FIXO","DESPESAS_INSTITUCIONAIS",2400,"DIRETORIA COLEGIADA - DTC","Despesas Gerais e Administratias1344,376"]
[null,null,null,28632.65,0,0,0,0,5726.5300000000007,{"$f":"D123*'Série - IPCA'!$C$444/'Série - IPCA'!$C$385","v":37268.752915775432},{"$f":"E123*'Série - IPCA'!$C$444/'Série - IPCA'!$C$398","v":0},{"$f":"F123*'Série - IPCA'!$C$444/'Série - IPCA'!$C$411","v":0},{"$f":"G123*'Série - IPCA'!$C$444/'Série - IPCA'!$C$424","v":0},{"$f":"H123*'Série - IPCA'!$C$444/'Série - IPCA'!$C$437","v":0},7453.7505831550861,"Despesas Gerais e Administratias","N","SIM","NÃO","ENCARGOS DE GESTÃO","FIXO","DESPESAS_INSTITUCIONAIS",3100,"SMS","Despesas Gerais e Administratias5726,53"]
[null,null,null,16869.34,0,0,0,0,3373.8679999999999,{"$f":"D124*'Série - IPCA'!$C$444/'Série - IPCA'!$C$385","v":21957.424978554449},{"$f":"E124*'Série - IPCA'!$C$444/'Série - IPCA'!$C$398","v":0},{"$f":"F124*'Série - IPCA'!$C$444/'Série - IPCA'!$C$411","v":0},{"$f":"G124*'Série - IPCA'!$C$444/'Série - IPCA'!$C$424","v":0},{"$f":"H124*'Série - IPCA'!$C$444/'Série - IPCA'!$C$437","v":0},4391.48499571089,"Despesas Gerais e Administratias","N","SIM","NÃO","ENCARGOS DE GESTÃO","FIXO","DESPESAS_INSTITUCIONAIS",3200,"GERÊNCIA DE PLANEJAMENTO E MEIO AMBIENTE","Despesas Gerais e Administratias3373,868"]
[null,null,null,47471.4,21113.67,2691.94,2691.94,3216.69,15437.128000000002,{"$f":"D125*'Série - IPCA'!$C$444/'Série - IPCA'!$C$385","v":61789.596043884929},{"$f":"E125*'Série - IPCA'!$C$444/'Série - IPCA'!$C$398","v":26294.094021424775},{"$f":"F125*'Série - IPCA'!$C$444/'Série - IPCA'!$C$411","v":3045.9759614507266},{"$f":"G125*'Série - IPCA'!$C$444/'Série - IPCA'!$C$424","v":2879.3999964654345},{"$f":"H125*'Série - IPCA'!$C$444/'Série - IPCA'!$C$437","v":3288.7145321527896},19459.55611107573,"Custos","S",null,null,"OPEX",null,"SERVIÇOS",5100,"GERÊNCIA DE ENGENHARIA","Custos15437,128"]
[null,null,null,27.8,0,0,0,0,5.5600000000000005,{"$f":"D126*'Série - IPCA'!$C$444/'Série - IPCA'!$C$385","v":36.184961261306832},{"$f":"E126*'Série - IPCA'!$C$444/'Série - IPCA'!$C$398","v":0},{"$f":"F126*'Série - IPCA'!$C$444/'Série - IPCA'!$C$411","v":0},{"$f":"G126*'Série - IPCA'!$C$444/'Série - IPCA'!$C$424","v":0},{"$f":"H126*'Série - IPCA'!$C$444/'Série - IPCA'!$C$437","v":0},7.2369922522613663,"Custos","S","NÃO",null,"OPEX",null,"DESPESAS GERAIS",5100,"GERÊNCIA DE ENGENHARIA","Custos5,56"]
[null,null,null,25536845.82,28098186.460000001,28142776.170000002,30437686.469999999,27452997.899999999,27933698.563999999,{"$f":"D127*'Série - IPCA'!$C$444/'Série - IPCA'!$C$385","v":33239200.601894431},{"$f":"E127*'Série - IPCA'!$C$444/'Série - IPCA'!$C$398","v":34992322.822643563},{"$f":"F127*'Série - IPCA'!$C$444/'Série - IPCA'!$C$411","v":31844030.58846347},{"$f":"G127*'Série - IPCA'!$C$444/'Série - IPCA'!$C$424","v":32557291.141011313},{"$f":"H127*'Série - IPCA'!$C$444/'Série - IPCA'!$C$437","v":28067694.787153877},32140107.988233328,"Custos","S",null,null,"OPEX",null,"SERVIÇOS",5200,"GERÊNCIA DE OPERAÇÕES","Custos27933698,564"]
[null,null,null,2353554.54,0,0,0,0,470710.908,{"$f":"D128*'Série - IPCA'!$C$444/'Série - IPCA'!$C$385","v":3063427.3329594536},{"$f":"E128*'Série - IPCA'!$C$444/'Série - IPCA'!$C$398","v":0},{"$f":"F128*'Série - IPCA'!$C$444/'Série - IPCA'!$C$411","v":0},{"$f":"G128*'Série - IPCA'!$C$444/'Série - IPCA'!$C$424","v":0},{"$f":"H128*'Série - IPCA'!$C$444/'Série - IPCA'!$C$437","v":0},612685.46659189067,"Custos","S","NÃO",null,"OPEX",null,"DESPESAS GERAIS",5200,"GERÊNCIA DE OPERAÇÕES","Custos470710,908"]
[null,null,null,268.36,0,0,0,0,53.672000000000004,{"$f":"D129*'Série - IPCA'!$C$444/'Série - IPCA'!$C$385","v":349.30202172965113},{"$f":"E129*'Série - IPCA'!$C$444/'Série - IPCA'!$C$398","v":0},{"$f":"F129*'Série - IPCA'!$C$444/'Série - IPCA'!$C$411","v":0},{"$f":"G129*'Série - IPCA'!$C$444/'Série - IPCA'!$C$424","v":0},{"$f":"H129*'Série - IPCA'!$C$444/'Série - IPCA'!$C$437","v":0},69.86040434593022,"Custos","S","NÃO",null,"OPEX",null,"DESPESAS GERAIS",5200,"GERÊNCIA DE OPERAÇÕES","Custos53,672"]
[null,null,null,20230.310000000001,0,0,0,0,4046.0620000000004,{"$f":"D130*'Série - IPCA'!$C$444/'Série - IPCA'!$C$385","v":26332.121714180874},{"$f":"E130*'Série - IPCA'!$C$444/'Série - IPCA'!$C$398","v":0},{"$f":"F130*'Série - IPCA'!$C$444/'Série - IPCA'!$C$411","v":0},{"$f":"G130*'Série - IPCA'!$C$444/'Série - IPCA'!$C$424","v":0},{"$f":"H130*'Série - IPCA'!$C$444/'Série - IPCA'!$C$437","v":0},5266.4243428361751,"Despesas Gerais e Administratias","N","SIM","NÃO","ENCARGOS DE GESTÃO","FIXO","DESPESAS_INSTITUCIONAIS",3300,"GERÊNCIA JURÍDICA","Despesas Gerais e Administratias4046,062"]
[null,null,null,23591.25,0,0,0,0,4718.25,{"$f":"D131*'Série - IPCA'!$C$444/'Série - IPCA'!$C$385","v":30706.779401287942},{"$f":"E131*'Série - IPCA'!$C$444/'Série - IPCA'!$C$398","v":0},{"$f":"F131*'Série - IPCA'!$C$444/'Série - IPCA'!$C$411","v":0},{"$f":"G131*'Série - IPCA'!$C$444/'Série - IPCA'!$C$424","v":0},{"$f":"H131*'Série - IPCA'!$C$444/'Série - IPCA'!$C$437","v":0},6141.3558802575881,"Despesas Gerais e Administratias","N","SIM","NÃO","ENCARGOS DE GESTÃO","FIXO","DESPESAS_INSTITUCIONAIS",3400,"MARKETING","Despesas Gerais e Administratias4718,25"]
[null,null,null,10147.450000000001,0,0,0,0,2029.4900000000002,{"$f":"D132*'Série - IPCA'!$C$444/'Série - IPCA'!$C$385","v":13208.096588167195},{"$f":"E132*'Série - IPCA'!$C$444/'Série - IPCA'!$C$398","v":0},{"$f":"F132*'Série - IPCA'!$C$444/'Série - IPCA'!$C$411","v":0},{"$f":"G132*'Série - IPCA'!$C$444/'Série - IPCA'!$C$424","v":0},{"$f":"H132*'Série - IPCA'!$C$444/'Série - IPCA'!$C$437","v":0},2641.6193176334391,"Despesas Gerais e Administratias","N","SIM","NÃO","ENCARGOS DE GESTÃO","FIXO","DESPESAS_INSTITUCIONAIS",3600,"GERÊNCIA DE GOVERNANÇA, RISCO E COMPLIANCE","Despesas Gerais e Administratias2029,49"]
[null,null,null,53821.53,0,0,0,0,{"$f":"AVERAGE(D133:H133)","v":10764.306},{"$f":"D133*'Série - IPCA'!$C$444/'Série - IPCA'!$C$385","v":70055.035182527456},{"$f":"E133*'Série - IPCA'!$C$444/'Série - IPCA'!$C$398","v":0},{"$f":"F133*'Série - IPCA'!$C$444/'Série - IPCA'!$C$411","v":0},{"$f":"G133*'Série - IPCA'!$C$444/'Série - IPCA'!$C$424","v":0},{"$f":"H133*'Série - IPCA'!$C$444/'Série - IPCA'!$C$437","v":0},{"$f":"AVERAGE(J133:N133)","v":14011.007036505491},"Despesas Gerais e Administratias","N","SIM","NÃO","ENCARGOS DE GESTÃO","FIXO","DESPESAS_INSTITUCIONAIS",4100,"GERÊNCIA DE SERVIÇOS CORPORATIVOS",{"$f":"B133&C133&P133&I133","v":"Despesas Gerais e Administratias10764,306"}]
[null,null,null,37099.65,0,0,0,0,7419.93,{"$f":"D134*'Série - IPCA'!$C$444/'Série - IPCA'!$C$385","v":48289.546692735319},{"$f":"E134*'Série - IPCA'!$C$444/'Série - IPCA'!$C$398","v":0},{"$f":"F134*'Série - IPCA'!$C$444/'Série - IPCA'!$C$411","v":0},{"$f":"G134*'Série - IPCA'!$C$444/'Série - IPCA'!$C$424","v":0},{"$f":"H134*'Série - IPCA'!$C$444/'Série - IPCA'!$C$437","v":0},9657.9093385470642,"Despesas Gerais e Administratias","N","SIM","NÃO","ENCARGOS DE GESTÃO","FIXO","DESPESAS_INSTITUCIONAIS",4200,"GERÊNCIA FINANCEIRA","Despesas Gerais e Administratias7419,93"]
[null,null,null,41882.550000000003,0,0,0,0,8376.51,{"$f":"D135*'Série - IPCA'!$C$444/'Série - IPCA'!$C$385","v":54515.052132185127},{"$f":"E135*'Série - IPCA'!$C$444/'Série - IPCA'!$C$398","v":0},{"$f":"F135*'Série - IPCA'!$C$444/'Série - IPCA'!$C$411","v":0},{"$f":"G135*'Série - IPCA'!$C$444/'Série - IPCA'!$C$424","v":0},{"$f":"H135*'Série - IPCA'!$C$444/'Série - IPCA'!$C$437","v":0},10903.010426437026,"Despesas Gerais e Administratias","N","SIM","NÃO","ENCARGOS DE GESTÃO","FIXO","DESPESAS_INSTITUCIONAIS",4300,"GERÊNCIA DE TECNOLOGIA E SISTEMAS DE INFORMAÇÃO","Despesas Gerais e Administratias8376,51"]
[null,null,null,26952.17,0,0,0,0,5390.4339999999993,{"$f":"D136*'Série - IPCA'!$C$444/'Série - IPCA'!$C$385","v":35081.411056048775},{"$f":"E136*'Série - IPCA'!$C$444/'Série - IPCA'!$C$398","v":0},{"$f":"F136*'Série - IPCA'!$C$444/'Série - IPCA'!$C$411","v":0},{"$f":"G136*'Série - IPCA'!$C$444/'Série - IPCA'!$C$424","v":0},{"$f":"H136*'Série - IPCA'!$C$444/'Série - IPCA'!$C$437","v":0},7016.2822112097547,"Despesas Gerais e Administratias","N","SIM","NÃO","ENCARGOS DE GESTÃO","FIXO","DESPESAS_INSTITUCIONAIS",4500,"GERÊNCIA CONTÁBIL","Despesas Gerais e Administratias5390,434"]
[null,null,null,23591.25,0,0,0,0,4718.25,{"$f":"D137*'Série - IPCA'!$C$444/'Série - IPCA'!$C$385","v":30706.779401287942},{"$f":"E137*'Série - IPCA'!$C$444/'Série - IPCA'!$C$398","v":0},{"$f":"F137*'Série - IPCA'!$C$444/'Série - IPCA'!$C$411","v":0},{"$f":"G137*'Série - IPCA'!$C$444/'Série - IPCA'!$C$424","v":0},{"$f":"H137*'Série - IPCA'!$C$444/'Série - IPCA'!$C$437","v":0},6141.3558802575881,"Despesas Gerais e Administratias","N","SIM","NÃO","ENCARGOS DE GESTÃO","FIXO","DESPESAS_INSTITUCIONAIS",4600,"GERÊNCIA DE PESSOAS E CULTURA","Despesas Gerais e Administratias4718,25"]
[null,null,null,140248.29999999999,0,0,0,0,28049.659999999996,{"$f":"D138*'Série - IPCA'!$C$444/'Série - IPCA'!$C$385","v":182549.61519655175},{"$f":"E138*'Série - IPCA'!$C$444/'Série - IPCA'!$C$398","v":0},{"$f":"F138*'Série - IPCA'!$C$444/'Série - IPCA'!$C$411","v":0},{"$f":"G138*'Série - IPCA'!$C$444/'Série - IPCA'!$C$424","v":0},{"$f":"H138*'Série - IPCA'!$C$444/'Série - IPCA'!$C$437","v":0},36509.92303931035,"Despesas Gerais e Administratias","N","NÃO ","NÃO","ENCARGOS DE GESTÃO","FIXO","DESPESAS_GERAIS",2100,"SECRETARIA","Despesas Gerais e Administratias28049,66"]
[null,null,null,8735.68,7097.74,19241.87,15607.89,11749.14,12486.464,{"$f":"D139*'Série - IPCA'!$C$444/'Série - IPCA'!$C$385","v":11370.512316229238},{"$f":"E139*'Série - IPCA'!$C$444/'Série - IPCA'!$C$398","v":8839.2327292994287},{"$f":"F139*'Série - IPCA'!$C$444/'Série - IPCA'!$C$411","v":21772.503649174902},{"$f":"G139*'Série - IPCA'!$C$444/'Série - IPCA'!$C$424","v":16694.784583175289},{"$f":"H139*'Série - IPCA'!$C$444/'Série - IPCA'!$C$437","v":12012.213629009206},14137.849381377611,"Despesas com Vendas","N","SIM","NÃO","ENCARGOS DE COMERCIALIZAÇÃO","FUNCIONÁRIOS","PESSOAL",5300,"GERÊNCIA COMERCIAL","Despesas com Vendas12486,464"]
[null,null,null,65517.599999999999,63333.68,44514.07,37091.61,37141.379999999997,49519.668000000005,{"$f":"D140*'Série - IPCA'!$C$444/'Série - IPCA'!$C$385","v":85278.842371719293},{"$f":"E140*'Série - IPCA'!$C$444/'Série - IPCA'!$C$398","v":78873.15358451799},{"$f":"F140*'Série - IPCA'!$C$444/'Série - IPCA'!$C$411","v":50368.428407146865},{"$f":"G140*'Série - IPCA'!$C$444/'Série - IPCA'!$C$424","v":39674.577331923174},{"$f":"H140*'Série - IPCA'!$C$444/'Série - IPCA'!$C$437","v":37973.008325393173},58433.602004140106,"Custos","N","SIM","NÃO","OPEX","FUNCIONÁRIOS","PESSOAL",5100,"GERÊNCIA DE ENGENHARIA","Custos49519,668"]
[null,null,null,80259.06,70431.42,75319.72,101440.35,86217.48,82733.606,{"$f":"D141*'Série - IPCA'!$C$444/'Série - IPCA'!$C$385","v":104466.58190535614},{"$f":"E141*'Série - IPCA'!$C$444/'Série - IPCA'!$C$398","v":87712.38631381742},{"$f":"F141*'Série - IPCA'!$C$444/'Série - IPCA'!$C$411","v":85225.54609062591},{"$f":"G141*'Série - IPCA'!$C$444/'Série - IPCA'!$C$424","v":108504.40330447649},{"$f":"H141*'Série - IPCA'!$C$444/'Série - IPCA'!$C$437","v":88147.965580019358},94811.376638859059,"Custos","N","SIM","NÃO","OPEX","FUNCIONÁRIOS","PESSOAL",5200,"GERÊNCIA DE OPERAÇÕES","Custos82733,606"]
[null,null,null,8735.68,0,0,0,0,1747.136,{"$f":"D142*'Série - IPCA'!$C$444/'Série - IPCA'!$C$385","v":11370.512316229238},{"$f":"E142*'Série - IPCA'!$C$444/'Série - IPCA'!$C$398","v":0},{"$f":"F142*'Série - IPCA'!$C$444/'Série - IPCA'!$C$411","v":0},{"$f":"G142*'Série - IPCA'!$C$444/'Série - IPCA'!$C$424","v":0},{"$f":"H142*'Série - IPCA'!$C$444/'Série - IPCA'!$C$437","v":0},2274.1024632458475,"Despesas com Vendas","N","SIM","NÃO","ENCARGOS DE COMERCIALIZAÇÃO","FUNCIONÁRIOS","PESSOAL",5500,"GERÊNCIA COMERCIAL (inativo)","Despesas com Vendas1747,136"]
[null,null,null,0,12011.56,7687.91,6977.61,7556.76,6846.7680000000009,{"$f":"D143*'Série - IPCA'!$C$444/'Série - IPCA'!$C$385","v":0},{"$f":"E143*'Série - IPCA'!$C$444/'Série - IPCA'!$C$398","v":14958.701541891343},{"$f":"F143*'Série - IPCA'!$C$444/'Série - IPCA'!$C$411","v":8699.0011121334992},{"$f":"G143*'Série - IPCA'!$C$444/'Série - IPCA'!$C$424","v":7463.5133804383368},{"$f":"H143*'Série - IPCA'!$C$444/'Série - IPCA'!$C$437","v":7725.9625353984729},7769.4357139723306,"Despesas Gerais e Administratias","N","SIM","NÃO","ENCARGOS DE GESTÃO","FUNCIONÁRIOS","PESSOAL",1005,"AUDITORIA INTERNA","Despesas Gerais e Administratias6846,768"]
[null,null,null,0,0,1106.69,0,0,221.33800000000002,{"$f":"D144*'Série - IPCA'!$C$444/'Série - IPCA'!$C$385","v":0},{"$f":"E144*'Série - IPCA'!$C$444/'Série - IPCA'!$C$398","v":0},{"$f":"F144*'Série - IPCA'!$C$444/'Série - IPCA'!$C$411","v":1252.2385851014155},{"$f":"G144*'Série - IPCA'!$C$444/'Série - IPCA'!$C$424","v":0},{"$f":"H144*'Série - IPCA'!$C$444/'Série - IPCA'!$C$437","v":0},250.44771702028311,"Despesas Gerais e Administratias","N","SIM","NÃO","ENCARGOS DE GESTÃO","FUNCIONÁRIOS","PESSOAL",1010,"GOVERNANÇA SOCIETÁRIA","Despesas Gerais e Administratias221,338"]
[null,null,null,17471.36,0,0,0,0,3494.2719999999999,{"$f":"D145*'Série - IPCA'!$C$444/'Série - IPCA'!$C$385","v":22741.024632458477},{"$f":"E145*'Série - IPCA'!$C$444/'Série - IPCA'!$C$398","v":0},{"$f":"F145*'Série - IPCA'!$C$444/'Série - IPCA'!$C$411","v":0},{"$f":"G145*'Série - IPCA'!$C$444/'Série - IPCA'!$C$424","v":0},{"$f":"H145*'Série - IPCA'!$C$444/'Série - IPCA'!$C$437","v":0},4548.204926491695,"Despesas Gerais e Administratias","N","SIM","NÃO","ENCARGOS DE GESTÃO","FUNCIONÁRIOS","PESSOAL",2100,"SECRETARIA","Despesas Gerais e Administratias3494,272"]
[null,null,null,4367.84,9281.66,6595.95,3305.34,0,4710.1580000000004,{"$f":"D146*'Série - IPCA'!$C$444/'Série - IPCA'!$C$385","v":5685.2561581146192},{"$f":"E146*'Série - IPCA'!$C$444/'Série - IPCA'!$C$398","v":11558.996646006948},{"$f":"F146*'Série - IPCA'!$C$444/'Série - IPCA'!$C$411","v":7463.4297729261862},{"$f":"G146*'Série - IPCA'!$C$444/'Série - IPCA'!$C$424","v":3535.515644597227},{"$f":"H146*'Série - IPCA'!$C$444/'Série - IPCA'!$C$437","v":0},5648.6396443289959,"Despesas Gerais e Administratias","N","SIM","NÃO","ENCARGOS DE GESTÃO","FUNCIONÁRIOS","PESSOAL",2110,"ASSESSORIA DA DIRETORIA EXECUTIVA","Despesas Gerais e Administratias4710,158"]
[null,null,null,0,0,0,0,6965.1,1393.02,{"$f":"D147*'Série - IPCA'!$C$444/'Série - IPCA'!$C$385","v":0},{"$f":"E147*'Série - IPCA'!$C$444/'Série - IPCA'!$C$398","v":0},{"$f":"F147*'Série - IPCA'!$C$444/'Série - IPCA'!$C$411","v":0},{"$f":"G147*'Série - IPCA'!$C$444/'Série - IPCA'!$C$424","v":0},{"$f":"H147*'Série - IPCA'!$C$444/'Série - IPCA'!$C$437","v":7121.0547450632157},1424.2109490126431,"Despesas Gerais e Administratias","N","SIM","NÃO","ENCARGOS DE GESTÃO","FUNCIONÁRIOS","PESSOAL",2140,"ASSESSORIA DTC","Despesas Gerais e Administratias1393,02"]
[null,null,null,0,5459.8,6045.06,0,0,2300.9720000000002,{"$f":"D148*'Série - IPCA'!$C$444/'Série - IPCA'!$C$385","v":0},{"$f":"E148*'Série - IPCA'!$C$444/'Série - IPCA'!$C$398","v":6799.4097917687932},{"$f":"F148*'Série - IPCA'!$C$444/'Série - IPCA'!$C$411","v":6840.0883546911627},{"$f":"G148*'Série - IPCA'!$C$444/'Série - IPCA'!$C$424","v":0},{"$f":"H148*'Série - IPCA'!$C$444/'Série - IPCA'!$C$437","v":0},2727.899629291991,"Despesas Gerais e Administratias","N","SIM","NÃO","ENCARGOS DE GESTÃO","FUNCIONÁRIOS","PESSOAL",2300,"DIRETORIA COLEGIADA - DAF","Despesas Gerais e Administratias2300,972"]
[null,null,null,8735.68,0,0,0,0,1747.136,{"$f":"D149*'Série - IPCA'!$C$444/'Série - IPCA'!$C$385","v":11370.512316229238},{"$f":"E149*'Série - IPCA'!$C$444/'Série - IPCA'!$C$398","v":0},{"$f":"F149*'Série - IPCA'!$C$444/'Série - IPCA'!$C$411","v":0},{"$f":"G149*'Série - IPCA'!$C$444/'Série - IPCA'!$C$424","v":0},{"$f":"H149*'Série - IPCA'!$C$444/'Série - IPCA'!$C$437","v":0},2274.1024632458475,"Despesas Gerais e Administratias","N","SIM","NÃO","ENCARGOS DE GESTÃO","FUNCIONÁRIOS","PESSOAL",2400,"DIRETORIA COLEGIADA - DTC","Despesas Gerais e Administratias1747,136"]
[null,null,null,6551.76,12557.54,13191.9,10405.26,6914.34,9924.16,{"$f":"D150*'Série - IPCA'!$C$444/'Série - IPCA'!$C$385","v":8527.8842371719293},{"$f":"E150*'Série - IPCA'!$C$444/'Série - IPCA'!$C$398","v":15638.642521068225},{"$f":"F150*'Série - IPCA'!$C$444/'Série - IPCA'!$C$411","v":14926.859545852372},{"$f":"G150*'Série - IPCA'!$C$444/'Série - IPCA'!$C$424","v":11129.856388783526},{"$f":"H150*'Série - IPCA'!$C$444/'Série - IPCA'!$C$437","v":7069.1581837992844},11458.480175335068,"Despesas Gerais e Administratias","N","SIM","NÃO","ENCARGOS DE GESTÃO","FUNCIONÁRIOS","PESSOAL",2410,"ASSESSORIA DE SEGURANÇA DO TRABALHO","Despesas Gerais e Administratias9924,16"]
[null,null,null,15287.44,0,0,0,0,3057.4880000000003,{"$f":"D151*'Série - IPCA'!$C$444/'Série - IPCA'!$C$385","v":19898.39655340117},{"$f":"E151*'Série - IPCA'!$C$444/'Série - IPCA'!$C$398","v":0},{"$f":"F151*'Série - IPCA'!$C$444/'Série - IPCA'!$C$411","v":0},{"$f":"G151*'Série - IPCA'!$C$444/'Série - IPCA'!$C$424","v":0},{"$f":"H151*'Série - IPCA'!$C$444/'Série - IPCA'!$C$437","v":0},3979.6793106802338,"Despesas Gerais e Administratias","N","SIM","NÃO","ENCARGOS DE GESTÃO","FUNCIONÁRIOS","PESSOAL",3100,"SMS","Despesas Gerais e Administratias3057,488"]
[null,null,null,26207.040000000001,29482.92,21425.79,29644.65,30176.28,27387.335999999999,{"$f":"D152*'Série - IPCA'!$C$444/'Série - IPCA'!$C$385","v":34111.536948687717},{"$f":"E152*'Série - IPCA'!$C$444/'Série - IPCA'!$C$398","v":36716.812875551477},{"$f":"F152*'Série - IPCA'!$C$444/'Série - IPCA'!$C$411","v":24243.646327589529},{"$f":"G152*'Série - IPCA'!$C$444/'Série - IPCA'!$C$424","v":31709.029586550609},{"$f":"H152*'Série - IPCA'!$C$444/'Série - IPCA'!$C$437","v":30851.953580329959},31526.595863741859,"Despesas Gerais e Administratias","N","SIM","NÃO","ENCARGOS DE GESTÃO","FUNCIONÁRIOS","PESSOAL",3200,"GERÊNCIA DE PLANEJAMENTO E MEIO AMBIENTE","Despesas Gerais e Administratias27387,336"]
[null,null,null,19655.28,20747.240000000002,17013.759999999998,13955.22,8740.08,16022.316000000001,{"$f":"D153*'Série - IPCA'!$C$444/'Série - IPCA'!$C$385","v":25583.652711515784},{"$f":"E153*'Série - IPCA'!$C$444/'Série - IPCA'!$C$398","v":25837.75720872141},{"$f":"F153*'Série - IPCA'!$C$444/'Série - IPCA'!$C$411","v":19251.359233077968},{"$f":"G153*'Série - IPCA'!$C$444/'Série - IPCA'!$C$424","v":14927.026760876674},{"$f":"H153*'Série - IPCA'!$C$444/'Série - IPCA'!$C$437","v":8935.7781160689883},18907.114806052166,"Despesas Gerais e Administratias","N","SIM","NÃO","ENCARGOS DE GESTÃO","FUNCIONÁRIOS","PESSOAL",3300,"GERÊNCIA JURÍDICA","Despesas Gerais e Administratias16022,316"]
[null,null,null,8735.68,0,0,0,0,1747.136,{"$f":"D154*'Série - IPCA'!$C$444/'Série - IPCA'!$C$385","v":11370.512316229238},{"$f":"E154*'Série - IPCA'!$C$444/'Série - IPCA'!$C$398","v":0},{"$f":"F154*'Série - IPCA'!$C$444/'Série - IPCA'!$C$411","v":0},{"$f":"G154*'Série - IPCA'!$C$444/'Série - IPCA'!$C$424","v":0},{"$f":"H154*'Série - IPCA'!$C$444/'Série - IPCA'!$C$437","v":0},2274.1024632458475,"Despesas Gerais e Administratias","N","SIM","NÃO","ENCARGOS DE GESTÃO","FUNCIONÁRIOS","PESSOAL",3400,"MARKETING","Despesas Gerais e Administratias1747,136"]
[null,null,null,2183.92,6551.76,6595.95,0,0,3066.326,{"$f":"D155*'Série - IPCA'!$C$444/'Série - IPCA'!$C$385","v":2842.6280790573096},{"$f":"E155*'Série - IPCA'!$C$444/'Série - IPCA'!$C$398","v":8159.2917501225511},{"$f":"F155*'Série - IPCA'!$C$444/'Série - IPCA'!$C$411","v":7463.4297729261862},{"$f":"G155*'Série - IPCA'!$C$444/'Série - IPCA'!$C$424","v":0},{"$f":"H155*'Série - IPCA'!$C$444/'Série - IPCA'!$C$437","v":0},3693.0699204212092,"Despesas Gerais e Administratias","N","SIM","NÃO","ENCARGOS DE GESTÃO","FUNCIONÁRIOS","PESSOAL",3500,"ASSESSORIA DE COMUNICAÇÃO INSTITUCIONAL","Despesas Gerais e Administratias3066,326"]
[null,null,null,2183.92,6551.76,1637.94,3672.27,7556.76,4320.5300000000007,{"$f":"D156*'Série - IPCA'!$C$444/'Série - IPCA'!$C$385","v":2842.6280790573096},{"$f":"E156*'Série - IPCA'!$C$444/'Série - IPCA'!$C$398","v":8159.2917501225511},{"$f":"F156*'Série - IPCA'!$C$444/'Série - IPCA'!$C$411","v":1853.35700881097},{"$f":"G156*'Série - IPCA'!$C$444/'Série - IPCA'!$C$424","v":3927.9977358411111},{"$f":"H156*'Série - IPCA'!$C$444/'Série - IPCA'!$C$437","v":7725.9625353984729},4901.8474218460833,"Despesas Gerais e Administratias","N","SIM","NÃO","ENCARGOS DE GESTÃO","FUNCIONÁRIOS","PESSOAL",3600,"GERÊNCIA DE GOVERNANÇA, RISCO E COMPLIANCE","Despesas Gerais e Administratias4320,53"]
[null,null,null,11465.58,25661.06,14283.86,8630.2800000000007,7556.76,13519.507999999998,{"$f":"D157*'Série - IPCA'!$C$444/'Série - IPCA'!$C$385","v":14923.797415050876},{"$f":"E157*'Série - IPCA'!$C$444/'Série - IPCA'!$C$398","v":31957.226021313327},{"$f":"F157*'Série - IPCA'!$C$444/'Série - IPCA'!$C$411","v":16162.430885059686},{"$f":"G157*'Série - IPCA'!$C$444/'Série - IPCA'!$C$424","v":9231.2712027369525},{"$f":"H157*'Série - IPCA'!$C$444/'Série - IPCA'!$C$437","v":7725.9625353984729},16000.137611911861,"Despesas Gerais e Administratias","N","SIM","NÃO","ENCARGOS DE GESTÃO","FUNCIONÁRIOS","PESSOAL",4100,"GERÊNCIA DE SERVIÇOS CORPORATIVOS","Despesas Gerais e Administratias13519,508"]
[null,null,null,2729.9,6005.78,0,0,642.41999999999996,1875.6200000000001,{"$f":"D158*'Série - IPCA'!$C$444/'Série - IPCA'!$C$385","v":3553.2850988216373},{"$f":"E158*'Série - IPCA'!$C$444/'Série - IPCA'!$C$398","v":7479.3507709456717},{"$f":"F158*'Série - IPCA'!$C$444/'Série - IPCA'!$C$411","v":0},{"$f":"G158*'Série - IPCA'!$C$444/'Série - IPCA'!$C$424","v":0},{"$f":"H158*'Série - IPCA'!$C$444/'Série - IPCA'!$C$437","v":656.80435159918886},2337.8880442732998,"Despesas Gerais e Administratias","N","SIM","NÃO","ENCARGOS DE GESTÃO","FUNCIONÁRIOS","PESSOAL",4200,"GERÊNCIA FINANCEIRA","Despesas Gerais e Administratias1875,62"]
[null,null,null,21293.22,19655.28,13732.97,6977.61,7556.76,13843.168,{"$f":"D159*'Série - IPCA'!$C$444/'Série - IPCA'!$C$385","v":27715.623770808772},{"$f":"E159*'Série - IPCA'!$C$444/'Série - IPCA'!$C$398","v":24477.875250367648},{"$f":"F159*'Série - IPCA'!$C$444/'Série - IPCA'!$C$411","v":15539.089466824662},{"$f":"G159*'Série - IPCA'!$C$444/'Série - IPCA'!$C$424","v":7463.5133804383368},{"$f":"H159*'Série - IPCA'!$C$444/'Série - IPCA'!$C$437","v":7725.9625353984729},16584.412880767581,"Despesas Gerais e Administratias","N","SIM","NÃO","ENCARGOS DE GESTÃO","FUNCIONÁRIOS","PESSOAL",4300,"GERÊNCIA DE TECNOLOGIA E SISTEMAS DE INFORMAÇÃO","Despesas Gerais e Administratias13843,168"]
[null,null,null,1661582.16,0,0,0,0,332316.43199999997,{"$f":"D160*'Série - IPCA'!$C$444/'Série - IPCA'!$C$385","v":2162744.1040316015},{"$f":"E160*'Série - IPCA'!$C$444/'Série - IPCA'!$C$398","v":0},{"$f":"F160*'Série - IPCA'!$C$444/'Série - IPCA'!$C$411","v":0},{"$f":"G160*'Série - IPCA'!$C$444/'Série - IPCA'!$C$424","v":0},{"$f":"H160*'Série - IPCA'!$C$444/'Série - IPCA'!$C$437","v":0},432548.82080632029,"Custos","S",null,null,"OPEX",null,"SERVIÇOS",4100,"GERÊNCIA DE SERVIÇOS CORPORATIVOS","Custos332316,432"]
[null,null,null,364849.65,0,0,0,0,72969.930000000008,{"$f":"D161*'Série - IPCA'!$C$444/'Série - IPCA'!$C$385","v":474894.62055580417},{"$f":"E161*'Série - IPCA'!$C$444/'Série - IPCA'!$C$398","v":0},{"$f":"F161*'Série - IPCA'!$C$444/'Série - IPCA'!$C$411","v":0},{"$f":"G161*'Série - IPCA'!$C$444/'Série - IPCA'!$C$424","v":0},{"$f":"H161*'Série - IPCA'!$C$444/'Série - IPCA'!$C$437","v":0},94978.924111160828,"Custos","S",null,null,"OPEX",null,"SERVIÇOS",4100,"GERÊNCIA DE SERVIÇOS CORPORATIVOS","Custos72969,93"]
[null,null,null,16925.38,13103.52,6595.95,6977.61,7556.76,10231.844000000001,{"$f":"D162*'Série - IPCA'!$C$444/'Série - IPCA'!$C$385","v":22030.36761269415},{"$f":"E162*'Série - IPCA'!$C$444/'Série - IPCA'!$C$398","v":16318.583500245102},{"$f":"F162*'Série - IPCA'!$C$444/'Série - IPCA'!$C$411","v":7463.4297729261862},{"$f":"G162*'Série - IPCA'!$C$444/'Série - IPCA'!$C$424","v":7463.5133804383368},{"$f":"H162*'Série - IPCA'!$C$444/'Série - IPCA'!$C$437","v":7725.9625353984729},12200.37136034045,"Despesas Gerais e Administratias","N","SIM","NÃO","ENCARGOS DE GESTÃO","FUNCIONÁRIOS","PESSOAL",4500,"GERÊNCIA CONTÁBIL","Despesas Gerais e Administratias10231,844"]
[null,null,null,50412.69,17786.8,1064.8499999999999,42185.440000000002,22924.95,26874.946000000004,{"$f":"D163*'Série - IPCA'!$C$444/'Série - IPCA'!$C$385","v":65618.030026196779},{"$f":"E163*'Série - IPCA'!$C$444/'Série - IPCA'!$C$398","v":22150.947302874309},{"$f":"F163*'Série - IPCA'!$C$444/'Série - IPCA'!$C$411","v":1204.895912446342},{"$f":"G163*'Série - IPCA'!$C$444/'Série - IPCA'!$C$424","v":45123.12896531602},{"$f":"H163*'Série - IPCA'!$C$444/'Série - IPCA'!$C$437","v":23438.259892584021},31507.052419883497,"Custos","S",null,null,"OPEX",null,"TRIBUTOS_E_TAXAS_FISCAIS",5100,"GERÊNCIA DE ENGENHARIA","Custos26874,946"]
[null,null,null,42330.46,37263.919999999998,1670.58,86048.11,36685.11,40799.635999999999,{"$f":"D164*'Série - IPCA'!$C$444/'Série - IPCA'!$C$385","v":55098.059542204974},{"$f":"E164*'Série - IPCA'!$C$444/'Série - IPCA'!$C$398","v":46406.949435453484},{"$f":"F164*'Série - IPCA'!$C$444/'Série - IPCA'!$C$411","v":1890.2897247636849},{"$f":"G164*'Série - IPCA'!$C$444/'Série - IPCA'!$C$424","v":92040.286050156137},{"$f":"H164*'Série - IPCA'!$C$444/'Série - IPCA'!$C$437","v":37506.522036821581},46588.421357879975,"Custos","S",null,null,"OPEX",null,"TRIBUTOS_E_TAXAS_FISCAIS",5200,"GERÊNCIA DE OPERAÇÕES","Custos40799,636"]
[null,null,null,5459.8,0,0,0,642.41999999999996,1220.444,{"$f":"D165*'Série - IPCA'!$C$444/'Série - IPCA'!$C$385","v":7106.5701976432747},{"$f":"E165*'Série - IPCA'!$C$444/'Série - IPCA'!$C$398","v":0},{"$f":"F165*'Série - IPCA'!$C$444/'Série - IPCA'!$C$411","v":0},{"$f":"G165*'Série - IPCA'!$C$444/'Série - IPCA'!$C$424","v":0},{"$f":"H165*'Série - IPCA'!$C$444/'Série - IPCA'!$C$437","v":656.80435159918886},1552.6749098484927,"Despesas Gerais e Administratias","N","SIM","NÃO","ENCARGOS DE GESTÃO","FUNCIONÁRIOS","PESSOAL",4600,"GERÊNCIA DE PESSOAS E CULTURA","Despesas Gerais e Administratias1220,444"]
[null,null,null,1490.83,0,0,0,0,298.166,{"$f":"D166*'Série - IPCA'!$C$444/'Série - IPCA'!$C$385","v":1940.4901365897144},{"$f":"E166*'Série - IPCA'!$C$444/'Série - IPCA'!$C$398","v":0},{"$f":"F166*'Série - IPCA'!$C$444/'Série - IPCA'!$C$411","v":0},{"$f":"G166*'Série - IPCA'!$C$444/'Série - IPCA'!$C$424","v":0},{"$f":"H166*'Série - IPCA'!$C$444/'Série - IPCA'!$C$437","v":0},388.09802731794287,"Custos","N","SIM","NÃO","OPEX","FUNCIONÁRIOS","PESSOAL",5200,"GERÊNCIA DE OPERAÇÕES","Custos298,166"]
[null,null,null,24008.14,0,0,0,0,4801.6279999999997,{"$f":"D167*'Série - IPCA'!$C$444/'Série - IPCA'!$C$385","v":31249.410642303272},{"$f":"E167*'Série - IPCA'!$C$444/'Série - IPCA'!$C$398","v":0},{"$f":"F167*'Série - IPCA'!$C$444/'Série - IPCA'!$C$411","v":0},{"$f":"G167*'Série - IPCA'!$C$444/'Série - IPCA'!$C$424","v":0},{"$f":"H167*'Série - IPCA'!$C$444/'Série - IPCA'!$C$437","v":0},6249.8821284606547,"Custos","N","SIM","NÃO","OPEX","FUNCIONÁRIOS","PESSOAL",5300,"GERÊNCIA COMERCIAL","Custos4801,628"]
[null,null,null,1663.3,0,0,0,0,332.65999999999997,{"$f":"D168*'Série - IPCA'!$C$444/'Série - IPCA'!$C$385","v":2164.9800743140881},{"$f":"E168*'Série - IPCA'!$C$444/'Série - IPCA'!$C$398","v":0},{"$f":"F168*'Série - IPCA'!$C$444/'Série - IPCA'!$C$411","v":0},{"$f":"G168*'Série - IPCA'!$C$444/'Série - IPCA'!$C$424","v":0},{"$f":"H168*'Série - IPCA'!$C$444/'Série - IPCA'!$C$437","v":0},432.99601486281762,"Despesas Gerais e Administratias","N","SIM","NÃO","ENCARGOS DE GESTÃO","FUNCIONÁRIOS","PESSOAL",4300,"GERÊNCIA DE TECNOLOGIA E SISTEMAS DE INFORMAÇÃO","Despesas Gerais e Administratias332,66"]
[null,null,null,23608.32,0,0,0,0,4721.6639999999998,{"$f":"D169*'Série - IPCA'!$C$444/'Série - IPCA'!$C$385","v":30728.998008796232},{"$f":"E169*'Série - IPCA'!$C$444/'Série - IPCA'!$C$398","v":0},{"$f":"F169*'Série - IPCA'!$C$444/'Série - IPCA'!$C$411","v":0},{"$f":"G169*'Série - IPCA'!$C$444/'Série - IPCA'!$C$424","v":0},{"$f":"H169*'Série - IPCA'!$C$444/'Série - IPCA'!$C$437","v":0},6145.7996017592468,"Despesas com Vendas","N","SIM","NÃO","ENCARGOS DE COMERCIALIZAÇÃO","FUNCIONÁRIOS","PESSOAL",5400,"GERÊNCIA COMERCIAL (inativo)","Despesas com Vendas4721,664"]
[null,null,null,14749.36,0,0,0,0,2949.8720000000003,{"$f":"D170*'Série - IPCA'!$C$444/'Série - IPCA'!$C$385","v":19198.022310398148},{"$f":"E170*'Série - IPCA'!$C$444/'Série - IPCA'!$C$398","v":0},{"$f":"F170*'Série - IPCA'!$C$444/'Série - IPCA'!$C$411","v":0},{"$f":"G170*'Série - IPCA'!$C$444/'Série - IPCA'!$C$424","v":0},{"$f":"H170*'Série - IPCA'!$C$444/'Série - IPCA'!$C$437","v":0},3839.6044620796297,"Despesas com Vendas","N","SIM","NÃO","ENCARGOS DE COMERCIALIZAÇÃO","FUNCIONÁRIOS","PESSOAL",5500,"GERÊNCIA COMERCIAL (inativo)","Despesas com Vendas2949,872"]
[null,null,null,7869.44,0,0,0,0,1573.8879999999999,{"$f":"D171*'Série - IPCA'!$C$444/'Série - IPCA'!$C$385","v":10242.99933626541},{"$f":"E171*'Série - IPCA'!$C$444/'Série - IPCA'!$C$398","v":0},{"$f":"F171*'Série - IPCA'!$C$444/'Série - IPCA'!$C$411","v":0},{"$f":"G171*'Série - IPCA'!$C$444/'Série - IPCA'!$C$424","v":0},{"$f":"H171*'Série - IPCA'!$C$444/'Série - IPCA'!$C$437","v":0},2048.5998672530818,"Despesas Gerais e Administratias","N","SIM","NÃO","ENCARGOS DE GESTÃO","FUNCIONÁRIOS","PESSOAL",2100,"SECRETARIA","Despesas Gerais e Administratias1573,888"]
[null,null,null,5410.24,0,0,0,0,1082.048,{"$f":"D172*'Série - IPCA'!$C$444/'Série - IPCA'!$C$385","v":7042.0620436824693},{"$f":"E172*'Série - IPCA'!$C$444/'Série - IPCA'!$C$398","v":0},{"$f":"F172*'Série - IPCA'!$C$444/'Série - IPCA'!$C$411","v":0},{"$f":"G172*'Série - IPCA'!$C$444/'Série - IPCA'!$C$424","v":0},{"$f":"H172*'Série - IPCA'!$C$444/'Série - IPCA'!$C$437","v":0},1408.4124087364939,"Despesas Gerais e Administratias","N","SIM","NÃO","ENCARGOS DE GESTÃO","FUNCIONÁRIOS","PESSOAL",2200,"DIRETORIA COLEGIADA - PRESIDÊNCIA","Despesas Gerais e Administratias1082,048"]
[null,null,null,15738.88,0,0,0,0,3147.7759999999998,{"$f":"D173*'Série - IPCA'!$C$444/'Série - IPCA'!$C$385","v":20485.998672530819},{"$f":"E173*'Série - IPCA'!$C$444/'Série - IPCA'!$C$398","v":0},{"$f":"F173*'Série - IPCA'!$C$444/'Série - IPCA'!$C$411","v":0},{"$f":"G173*'Série - IPCA'!$C$444/'Série - IPCA'!$C$424","v":0},{"$f":"H173*'Série - IPCA'!$C$444/'Série - IPCA'!$C$437","v":0},4097.1997345061636,"Despesas Gerais e Administratias","N","SIM","NÃO","ENCARGOS DE GESTÃO","FUNCIONÁRIOS","PESSOAL",3400,"MARKETING","Despesas Gerais e Administratias3147,776"]
[null,null,null,0,0,0,0,73,14.6,{"$f":"D174*'Série - IPCA'!$C$444/'Série - IPCA'!$C$385","v":0},{"$f":"E174*'Série - IPCA'!$C$444/'Série - IPCA'!$C$398","v":0},{"$f":"F174*'Série - IPCA'!$C$444/'Série - IPCA'!$C$411","v":0},{"$f":"G174*'Série - IPCA'!$C$444/'Série - IPCA'!$C$424","v":0},{"$f":"H174*'Série - IPCA'!$C$444/'Série - IPCA'!$C$437","v":74.63453452062636},14.926906904125271,"Custos","N","SIM","NÃO","OPEX","FIXO","DESPESAS_GERAIS",5100,"GERÊNCIA DE ENGENHARIA","Custos14,6"]
[null,null,null,0,189,0,0,0,37.799999999999997,{"$f":"D175*'Série - IPCA'!$C$444/'Série - IPCA'!$C$385","v":0},{"$f":"E175*'Série - IPCA'!$C$444/'Série - IPCA'!$C$398","v":235.3728068142243},{"$f":"F175*'Série - IPCA'!$C$444/'Série - IPCA'!$C$411","v":0},{"$f":"G175*'Série - IPCA'!$C$444/'Série - IPCA'!$C$424","v":0},{"$f":"H175*'Série - IPCA'!$C$444/'Série - IPCA'!$C$437","v":0},47.074561362844861,"Despesas com Vendas","N","SIM","NÃO","ENCARGOS DE COMERCIALIZAÇÃO","FIXO","DESPESAS_GERAIS",5300,"GERÊNCIA COMERCIAL","Despesas com Vendas37,8"]
[null,null,null,0,0,0,0,484.01,96.801999999999992,{"$f":"D176*'Série - IPCA'!$C$444/'Série - IPCA'!$C$385","v":0},{"$f":"E176*'Série - IPCA'!$C$444/'Série - IPCA'!$C$398","v":0},{"$f":"F176*'Série - IPCA'!$C$444/'Série - IPCA'!$C$411","v":0},{"$f":"G176*'Série - IPCA'!$C$444/'Série - IPCA'!$C$424","v":0},{"$f":"H176*'Série - IPCA'!$C$444/'Série - IPCA'!$C$437","v":494.84741168942969},98.969482337885935,"Despesas Gerais e Administratias","N","SIM","NÃO","ENCARGOS DE GESTÃO","FIXO","DESPESAS_GERAIS",2110,"ASSESSORIA DA DIRETORIA EXECUTIVA","Despesas Gerais e Administratias96,802"]
[null,null,null,0,0,0,480,0,96,{"$f":"D177*'Série - IPCA'!$C$444/'Série - IPCA'!$C$385","v":0},{"$f":"E177*'Série - IPCA'!$C$444/'Série - IPCA'!$C$398","v":0},{"$f":"F177*'Série - IPCA'!$C$444/'Série - IPCA'!$C$411","v":0},{"$f":"G177*'Série - IPCA'!$C$444/'Série - IPCA'!$C$424","v":513.42600440701074},{"$f":"H177*'Série - IPCA'!$C$444/'Série - IPCA'!$C$437","v":0},102.68520088140215,"Despesas Gerais e Administratias","N","SIM","NÃO","ENCARGOS DE GESTÃO","FIXO","DESPESAS_GERAIS",2400,"DIRETORIA COLEGIADA - DTC","Despesas Gerais e Administratias96"]
[null,null,null,0,0,359,0,0,71.8,{"$f":"D178*'Série - IPCA'!$C$444/'Série - IPCA'!$C$385","v":0},{"$f":"E178*'Série - IPCA'!$C$444/'Série - IPCA'!$C$398","v":0},{"$f":"F178*'Série - IPCA'!$C$444/'Série - IPCA'!$C$411","v":406.21461479855077},{"$f":"G178*'Série - IPCA'!$C$444/'Série - IPCA'!$C$424","v":0},{"$f":"H178*'Série - IPCA'!$C$444/'Série - IPCA'!$C$437","v":0},81.242922959710157,"Despesas Gerais e Administratias","N","SIM","NÃO","ENCARGOS DE GESTÃO","FIXO","DESPESAS_GERAIS",2410,"ASSESSORIA DE SEGURANÇA DO TRABALHO","Despesas Gerais e Administratias71,8"]
[null,null,null,0,0,0,900,2768.8,733.76,{"$f":"D179*'Série - IPCA'!$C$444/'Série - IPCA'!$C$385","v":0},{"$f":"E179*'Série - IPCA'!$C$444/'Série - IPCA'!$C$398","v":0},{"$f":"F179*'Série - IPCA'!$C$444/'Série - IPCA'!$C$411","v":0},{"$f":"G179*'Série - IPCA'!$C$444/'Série - IPCA'!$C$424","v":962.67375826314503},{"$f":"H179*'Série - IPCA'!$C$444/'Série - IPCA'!$C$437","v":2830.7958791878123},758.69392749019141,"Despesas Gerais e Administratias","N","SIM","NÃO","ENCARGOS DE GESTÃO","FIXO","DESPESAS_GERAIS",2200,"DIRETORIA COLEGIADA - PRESIDÊNCIA","Despesas Gerais e Administratias733,76"]
[null,null,null,0,1152,0,0,0,230.4,{"$f":"D180*'Série - IPCA'!$C$444/'Série - IPCA'!$C$385","v":0},{"$f":"E180*'Série - IPCA'!$C$444/'Série - IPCA'!$C$398","v":1434.6532986771767},{"$f":"F180*'Série - IPCA'!$C$444/'Série - IPCA'!$C$411","v":0},{"$f":"G180*'Série - IPCA'!$C$444/'Série - IPCA'!$C$424","v":0},{"$f":"H180*'Série - IPCA'!$C$444/'Série - IPCA'!$C$437","v":0},286.93065973543537,"Despesas Gerais e Administratias","N","SIM","NÃO","ENCARGOS DE GESTÃO","FIXO","DESPESAS_GERAIS",2310,"ASSESSORIA DAF","Despesas Gerais e Administratias230,4"]
[null,null,null,0,0,0,30.45,0,6.09,{"$f":"D181*'Série - IPCA'!$C$444/'Série - IPCA'!$C$385","v":0},{"$f":"E181*'Série - IPCA'!$C$444/'Série - IPCA'!$C$398","v":0},{"$f":"F181*'Série - IPCA'!$C$444/'Série - IPCA'!$C$411","v":0},{"$f":"G181*'Série - IPCA'!$C$444/'Série - IPCA'!$C$424","v":32.570462154569739},{"$f":"H181*'Série - IPCA'!$C$444/'Série - IPCA'!$C$437","v":0},6.5140924309139479,"Despesas Gerais e Administratias","N","SIM","NÃO","ENCARGOS DE GESTÃO","FIXO","DESPESAS_GERAIS",3300,"GERÊNCIA JURÍDICA","Despesas Gerais e Administratias6,09"]
[null,null,null,3464.75,2162.66,0,6125.8,23638.33,7078.308,{"$f":"D182*'Série - IPCA'!$C$444/'Série - IPCA'!$C$385","v":4509.778580219886},{"$f":"E182*'Série - IPCA'!$C$444/'Série - IPCA'!$C$398","v":2693.2875893378323},{"$f":"F182*'Série - IPCA'!$C$444/'Série - IPCA'!$C$411","v":0},{"$f":"G182*'Série - IPCA'!$C$444/'Série - IPCA'!$C$424","v":6552.3854537426378},{"$f":"H182*'Série - IPCA'!$C$444/'Série - IPCA'!$C$437","v":24167.613101300798},7584.6129449202299,"Despesas Gerais e Administratias","N","SIM","NÃO","ENCARGOS DE GESTÃO","FIXO","DESPESAS_GERAIS",4100,"GERÊNCIA DE SERVIÇOS CORPORATIVOS","Despesas Gerais e Administratias7078,308"]
[null,null,null,538.46,0,0,0,0,107.69200000000001,{"$f":"D183*'Série - IPCA'!$C$444/'Série - IPCA'!$C$385","v":700.86885758141284},{"$f":"E183*'Série - IPCA'!$C$444/'Série - IPCA'!$C$398","v":0},{"$f":"F183*'Série - IPCA'!$C$444/'Série - IPCA'!$C$411","v":0},{"$f":"G183*'Série - IPCA'!$C$444/'Série - IPCA'!$C$424","v":0},{"$f":"H183*'Série - IPCA'!$C$444/'Série - IPCA'!$C$437","v":0},140.17377151628256,"Despesas Gerais e Administratias","N","SIM","NÃO","ENCARGOS DE GESTÃO","FIXO","DESPESAS_GERAIS",4300,"GERÊNCIA DE TECNOLOGIA E SISTEMAS DE INFORMAÇÃO","Despesas Gerais e Administratias107,692"]
[null,null,null,21617.86,19363.38,15466.77,23049.91,38589.58,23617.500000000004,{"$f":"D184*'Série - IPCA'!$C$444/'Série - IPCA'!$C$385","v":28138.180814832893},{"$f":"E184*'Série - IPCA'!$C$444/'Série - IPCA'!$C$398","v":24114.355026510129},{"$f":"F184*'Série - IPCA'!$C$444/'Série - IPCA'!$C$411","v":17500.913698406075},{"$f":"G184*'Série - IPCA'!$C$444/'Série - IPCA'!$C$424","v":24655.048319252499},{"$f":"H184*'Série - IPCA'!$C$444/'Série - IPCA'!$C$437","v":39453.634803376342},26772.426532475587,"Custos","N","SIM","NÃO","OPEX","FUNCIONÁRIOS","PESSOAL",5100,"GERÊNCIA DE ENGENHARIA","Custos23617,5"]
[null,null,null,0,1525.42,55085.33,72472.88,69065.41,39629.808000000005,{"$f":"D185*'Série - IPCA'!$C$444/'Série - IPCA'!$C$385","v":0},{"$f":"E185*'Série - IPCA'!$C$444/'Série - IPCA'!$C$398","v":1899.6951691563706},{"$f":"F185*'Série - IPCA'!$C$444/'Série - IPCA'!$C$411","v":62329.989155991796},{"$f":"G185*'Série - IPCA'!$C$444/'Série - IPCA'!$C$424","v":77519.710846393253},{"$f":"H185*'Série - IPCA'!$C$444/'Série - IPCA'!$C$437","v":70611.845572961829},42472.248148900653,"Custos","N","SIM","NÃO","OPEX","FUNCIONÁRIOS","PESSOAL",5200,"GERÊNCIA DE OPERAÇÕES","Custos39629,808"]
[null,null,null,6944.94,20133.560000000001,16679.900000000001,25521.279999999999,70067.31,27869.397999999997,{"$f":"D186*'Série - IPCA'!$C$444/'Série - IPCA'!$C$385","v":9039.6541317302253},{"$f":"E186*'Série - IPCA'!$C$444/'Série - IPCA'!$C$398","v":25073.505441071928},{"$f":"F186*'Série - IPCA'!$C$444/'Série - IPCA'!$C$411","v":18873.590956485648},{"$f":"G186*'Série - IPCA'!$C$444/'Série - IPCA'!$C$424","v":27298.518370317819},{"$f":"H186*'Série - IPCA'!$C$444/'Série - IPCA'!$C$437","v":71636.178999485332},30384.289579818189,"Despesas com Vendas","N","SIM","NÃO","ENCARGOS DE COMERCIALIZAÇÃO","FUNCIONÁRIOS","PESSOAL",5300,"GERÊNCIA COMERCIAL","Despesas com Vendas27869,398"]
[null,null,null,0,0,3097.65,11900.58,26764.9,8352.6260000000002,{"$f":"D187*'Série - IPCA'!$C$444/'Série - IPCA'!$C$385","v":0},{"$f":"E187*'Série - IPCA'!$C$444/'Série - IPCA'!$C$398","v":0},{"$f":"F187*'Série - IPCA'!$C$444/'Série - IPCA'!$C$411","v":3505.043736854404},{"$f":"G187*'Série - IPCA'!$C$444/'Série - IPCA'!$C$424","v":12729.306749012465},{"$f":"H187*'Série - IPCA'!$C$444/'Série - IPCA'!$C$437","v":27364.189767001546},8719.7080505736831,"Despesas Gerais e Administratias","N","SIM","NÃO","ENCARGOS DE GESTÃO","FUNCIONÁRIOS","PESSOAL",1010,"GOVERNANÇA SOCIETÁRIA","Despesas Gerais e Administratias8352,626"]
[null,null,null,20028.400000000001,7613.89,0,0,0,5528.4580000000005,{"$f":"D188*'Série - IPCA'!$C$444/'Série - IPCA'!$C$385","v":26069.312162804235},{"$f":"E188*'Série - IPCA'!$C$444/'Série - IPCA'!$C$398","v":9482.0246564801819},{"$f":"F188*'Série - IPCA'!$C$444/'Série - IPCA'!$C$411","v":0},{"$f":"G188*'Série - IPCA'!$C$444/'Série - IPCA'!$C$424","v":0},{"$f":"H188*'Série - IPCA'!$C$444/'Série - IPCA'!$C$437","v":0},7110.267363856884,"Despesas Gerais e Administratias","N","SIM","NÃO","ENCARGOS DE GESTÃO","FUNCIONÁRIOS","PESSOAL",2100,"SECRETARIA","Despesas Gerais e Administratias5528,458"]
[null,null,null,0,0,0,22229.5,53339.17,15113.734,{"$f":"D189*'Série - IPCA'!$C$444/'Série - IPCA'!$C$385","v":0},{"$f":"E189*'Série - IPCA'!$C$444/'Série - IPCA'!$C$398","v":0},{"$f":"F189*'Série - IPCA'!$C$444/'Série - IPCA'!$C$411","v":0},{"$f":"G189*'Série - IPCA'!$C$444/'Série - IPCA'!$C$424","v":23777.507010345093},{"$f":"H189*'Série - IPCA'!$C$444/'Série - IPCA'!$C$437","v":54533.481159815863},15662.197634032191,"Despesas Gerais e Administratias","N","SIM","NÃO","ENCARGOS DE GESTÃO","FUNCIONÁRIOS","PESSOAL",2110,"ASSESSORIA DA DIRETORIA EXECUTIVA","Despesas Gerais e Administratias15113,734"]
[null,null,null,403.96,0,0,5632.74,26629.8,6533.3,{"$f":"D190*'Série - IPCA'!$C$444/'Série - IPCA'!$C$385","v":525.80132917688877},{"$f":"E190*'Série - IPCA'!$C$444/'Série - IPCA'!$C$398","v":0},{"$f":"F190*'Série - IPCA'!$C$444/'Série - IPCA'!$C$411","v":0},{"$f":"G190*'Série - IPCA'!$C$444/'Série - IPCA'!$C$424","v":6024.9899834657199},{"$f":"H190*'Série - IPCA'!$C$444/'Série - IPCA'!$C$437","v":27226.064758594192},6755.3712142473596,"Despesas Gerais e Administratias","N","SIM","NÃO","ENCARGOS DE GESTÃO","FUNCIONÁRIOS","PESSOAL",2410,"ASSESSORIA DE SEGURANÇA DO TRABALHO","Despesas Gerais e Administratias6533,3"]
[null,null,null,32793.72,0,11192,14495.29,0,11696.202000000001,{"$f":"D191*'Série - IPCA'!$C$444/'Série - IPCA'!$C$385","v":42684.87366237925},{"$f":"E191*'Série - IPCA'!$C$444/'Série - IPCA'!$C$398","v":0},{"$f":"F191*'Série - IPCA'!$C$444/'Série - IPCA'!$C$411","v":12663.938631825571},{"$f":"G191*'Série - IPCA'!$C$444/'Série - IPCA'!$C$424","v":15504.705890460205},{"$f":"H191*'Série - IPCA'!$C$444/'Série - IPCA'!$C$437","v":0},14170.703636933005,"Despesas Gerais e Administratias","N","SIM","NÃO","ENCARGOS DE GESTÃO","FUNCIONÁRIOS","PESSOAL",3100,"SMS","Despesas Gerais e Administratias11696,202"]
[null,null,null,0,0,6071.7,23080.71,26638.1,11158.101999999999,{"$f":"D192*'Série - IPCA'!$C$444/'Série - IPCA'!$C$385","v":0},{"$f":"E192*'Série - IPCA'!$C$444/'Série - IPCA'!$C$398","v":0},{"$f":"F192*'Série - IPCA'!$C$444/'Série - IPCA'!$C$411","v":6870.2319684466866},{"$f":"G192*'Série - IPCA'!$C$444/'Série - IPCA'!$C$424","v":24687.993154535281},{"$f":"H192*'Série - IPCA'!$C$444/'Série - IPCA'!$C$437","v":27234.550602930096},11758.555145182412,"Despesas Gerais e Administratias","N","SIM","NÃO","ENCARGOS DE GESTÃO","FUNCIONÁRIOS","PESSOAL",3200,"GERÊNCIA DE PLANEJAMENTO E MEIO AMBIENTE","Despesas Gerais e Administratias11158,102"]
[null,null,null,0,2103.5300000000002,18860.21,24065.42,24806.74,13967.179999999998,{"$f":"D193*'Série - IPCA'!$C$444/'Série - IPCA'!$C$385","v":0},{"$f":"E193*'Série - IPCA'!$C$444/'Série - IPCA'!$C$398","v":2619.6495254916681},{"$f":"F193*'Série - IPCA'!$C$444/'Série - IPCA'!$C$411","v":21340.648858411627},{"$f":"G193*'Série - IPCA'!$C$444/'Série - IPCA'!$C$424","v":25741.275906201172},{"$f":"H193*'Série - IPCA'!$C$444/'Série - IPCA'!$C$437","v":25362.184833893192},15012.751824799532,"Despesas Gerais e Administratias","N","SIM","NÃO","ENCARGOS DE GESTÃO","FUNCIONÁRIOS","PESSOAL",3300,"GERÊNCIA JURÍDICA","Despesas Gerais e Administratias13967,18"]
[null,null,null,9527.9500000000007,0,19764.55,10285.74,1789.26,8273.5,{"$f":"D194*'Série - IPCA'!$C$444/'Série - IPCA'!$C$385","v":12401.744663657137},{"$f":"E194*'Série - IPCA'!$C$444/'Série - IPCA'!$C$398","v":0},{"$f":"F194*'Série - IPCA'!$C$444/'Série - IPCA'!$C$411","v":22363.924971912802},{"$f":"G194*'Série - IPCA'!$C$444/'Série - IPCA'!$C$424","v":11002.01331368618},{"$f":"H194*'Série - IPCA'!$C$444/'Série - IPCA'!$C$437","v":1829.3231128270677},9519.4012124166384,"Despesas Gerais e Administratias","N","SIM","NÃO","ENCARGOS DE GESTÃO","FUNCIONÁRIOS","PESSOAL",3400,"MARKETING","Despesas Gerais e Administratias8273,5"]
[null,null,null,0,14779.94,0,10461.65,24986.48,10045.614,{"$f":"D195*'Série - IPCA'!$C$444/'Série - IPCA'!$C$385","v":0},{"$f":"E195*'Série - IPCA'!$C$444/'Série - IPCA'!$C$398","v":18406.327843099611},{"$f":"F195*'Série - IPCA'!$C$444/'Série - IPCA'!$C$411","v":0},{"$f":"G195*'Série - IPCA'!$C$444/'Série - IPCA'!$C$424","v":11190.173247926257},{"$f":"H195*'Série - IPCA'!$C$444/'Série - IPCA'!$C$437","v":25545.949371355349},11028.490092476244,"Despesas Gerais e Administratias","N","SIM","NÃO","ENCARGOS DE GESTÃO","FUNCIONÁRIOS","PESSOAL",3500,"ASSESSORIA DE COMUNICAÇÃO INSTITUCIONAL","Despesas Gerais e Administratias10045,614"]
[null,null,null,22494.25,8398.85,16284.16,2957.7,0,10026.991999999998,{"$f":"D196*'Série - IPCA'!$C$444/'Série - IPCA'!$C$385","v":29278.905210509034},{"$f":"E196*'Série - IPCA'!$C$444/'Série - IPCA'!$C$398","v":10459.581473606602},{"$f":"F196*'Série - IPCA'!$C$444/'Série - IPCA'!$C$411","v":18425.804405899635},{"$f":"G196*'Série - IPCA'!$C$444/'Série - IPCA'!$C$424","v":3163.6668609054486},{"$f":"H196*'Série - IPCA'!$C$444/'Série - IPCA'!$C$437","v":0},12265.591590184142,"Despesas Gerais e Administratias","N","SIM","NÃO","ENCARGOS DE GESTÃO","FUNCIONÁRIOS","PESSOAL",3600,"GERÊNCIA DE GOVERNANÇA, RISCO E COMPLIANCE","Despesas Gerais e Administratias10026,992"]
[null,null,null,0,0,10216.36,12144.5,28431.8,{"$f":"AVERAGE(D197:H197)","v":10158.532000000001},{"$f":"D197*'Série - IPCA'!$C$444/'Série - IPCA'!$C$385","v":0},{"$f":"E197*'Série - IPCA'!$C$444/'Série - IPCA'!$C$398","v":0},{"$f":"F197*'Série - IPCA'!$C$444/'Série - IPCA'!$C$411","v":11559.98535388112},{"$f":"G197*'Série - IPCA'!$C$444/'Série - IPCA'!$C$424","v":12990.21273025196},{"$f":"H197*'Série - IPCA'!$C$444/'Série - IPCA'!$C$437","v":29068.413131281435},{"$f":"AVERAGE(J197:N197)","v":10723.722243082902},"Despesas Gerais e Administratias","N","SIM","NÃO","ENCARGOS DE GESTÃO","FUNCIONÁRIOS","PESSOAL",3700,"GERÊNCIA DE REGULAÇÃO",{"$f":"B197&C197&P197&I197","v":"Despesas Gerais e Administratias10158,532"}]
[null,null,null,10354.81,16357.37,21767.94,20720.03,26759.82,19191.993999999999,{"$f":"D198*'Série - IPCA'!$C$444/'Série - IPCA'!$C$385","v":13477.999953891818},{"$f":"E198*'Série - IPCA'!$C$444/'Série - IPCA'!$C$398","v":20370.794121686711},{"$f":"F198*'Série - IPCA'!$C$444/'Série - IPCA'!$C$411","v":24630.794880384306},{"$f":"G198*'Série - IPCA'!$C$444/'Série - IPCA'!$C$424","v":22162.921279361235},{"$f":"H198*'Série - IPCA'!$C$444/'Série - IPCA'!$C$437","v":27358.996021311614},21600.301251327139,"Despesas Gerais e Administratias","N","SIM","NÃO","ENCARGOS DE GESTÃO","FUNCIONÁRIOS","PESSOAL",4100,"GERÊNCIA DE SERVIÇOS CORPORATIVOS","Despesas Gerais e Administratias19191,994"]
[null,null,null,17813.169999999998,17698.400000000001,23069.71,55218.96,50161.31,32792.31,{"$f":"D199*'Série - IPCA'!$C$444/'Série - IPCA'!$C$385","v":23185.93044572205},{"$f":"E199*'Série - IPCA'!$C$444/'Série - IPCA'!$C$398","v":22040.857587941096},{"$f":"F199*'Série - IPCA'!$C$444/'Série - IPCA'!$C$411","v":26103.769808257031},{"$f":"G199*'Série - IPCA'!$C$444/'Série - IPCA'!$C$424","v":59064.270833980314},{"$f":"H199*'Série - IPCA'!$C$444/'Série - IPCA'!$C$437","v":51284.466065682747},36335.858948316643,"Despesas Gerais e Administratias","N","SIM","NÃO","ENCARGOS DE GESTÃO","FUNCIONÁRIOS","PESSOAL",4200,"GERÊNCIA FINANCEIRA","Despesas Gerais e Administratias32792,31"]
[null,null,null,61790.61,25514.12,36249.47,44534.16,48419.41,43301.553999999996,{"$f":"D200*'Série - IPCA'!$C$444/'Série - IPCA'!$C$385","v":80427.727667716492},{"$f":"E200*'Série - IPCA'!$C$444/'Série - IPCA'!$C$398","v":31774.233004206009},{"$f":"F200*'Série - IPCA'!$C$444/'Série - IPCA'!$C$411","v":41016.892737330425},{"$f":"G200*'Série - IPCA'!$C$444/'Série - IPCA'!$C$424","v":47635.407975880255},{"$f":"H200*'Série - IPCA'!$C$444/'Série - IPCA'!$C$437","v":49503.563385114547},50071.564954049543,"Despesas Gerais e Administratias","N","SIM","NÃO","ENCARGOS DE GESTÃO","FUNCIONÁRIOS","PESSOAL",4300,"GERÊNCIA DE TECNOLOGIA E SISTEMAS DE INFORMAÇÃO","Despesas Gerais e Administratias43301,554"]
[null,null,null,41935.699999999997,11559.13,19351.5,23261.42,26908.15,24603.18,{"$f":"D201*'Série - IPCA'!$C$444/'Série - IPCA'!$C$385","v":54584.233092294409},{"$f":"E201*'Série - IPCA'!$C$444/'Série - IPCA'!$C$398","v":14395.263875293671},{"$f":"F201*'Série - IPCA'!$C$444/'Série - IPCA'!$C$411","v":21896.551861487897},{"$f":"G201*'Série - IPCA'!$C$444/'Série - IPCA'!$C$424","v":24881.287348819431},{"$f":"H201*'Série - IPCA'!$C$444/'Série - IPCA'!$C$437","v":27510.64726111223},28653.596687801532,"Despesas Gerais e Administratias","N","SIM","NÃO","ENCARGOS DE GESTÃO","FUNCIONÁRIOS","PESSOAL",4500,"GERÊNCIA CONTÁBIL","Despesas Gerais e Administratias24603,18"]
[null,null,null,21116.37,3414.75,0,0,0,4906.2240000000002,{"$f":"D202*'Série - IPCA'!$C$444/'Série - IPCA'!$C$385","v":27485.432749259769},{"$f":"E202*'Série - IPCA'!$C$444/'Série - IPCA'!$C$398","v":4252.5888469252504},{"$f":"F202*'Série - IPCA'!$C$444/'Série - IPCA'!$C$411","v":0},{"$f":"G202*'Série - IPCA'!$C$444/'Série - IPCA'!$C$424","v":0},{"$f":"H202*'Série - IPCA'!$C$444/'Série - IPCA'!$C$437","v":0},6347.6043192370034,"Despesas Gerais e Administratias","N","SIM","NÃO","ENCARGOS DE GESTÃO","FUNCIONÁRIOS","PESSOAL",4600,"GERÊNCIA DE PESSOAS E CULTURA","Despesas Gerais e Administratias4906,224"]
[null,null,null,572,0,0,0,0,114.4,{"$f":"D203*'Série - IPCA'!$C$444/'Série - IPCA'!$C$385","v":744.52510221106138},{"$f":"E203*'Série - IPCA'!$C$444/'Série - IPCA'!$C$398","v":0},{"$f":"F203*'Série - IPCA'!$C$444/'Série - IPCA'!$C$411","v":0},{"$f":"G203*'Série - IPCA'!$C$444/'Série - IPCA'!$C$424","v":0},{"$f":"H203*'Série - IPCA'!$C$444/'Série - IPCA'!$C$437","v":0},148.90502044221228,"Despesas Gerais e Administratias","N","SIM","NÃO","ENCARGOS DE GESTÃO","FUNCIONÁRIOS","PESSOAL",4100,"GERÊNCIA DE SERVIÇOS CORPORATIVOS","Despesas Gerais e Administratias114,4"]
[null,null,null,40860.01,0,0,0,0,8172.0020000000004,{"$f":"D204*'Série - IPCA'!$C$444/'Série - IPCA'!$C$385","v":53184.096366424812},{"$f":"E204*'Série - IPCA'!$C$444/'Série - IPCA'!$C$398","v":0},{"$f":"F204*'Série - IPCA'!$C$444/'Série - IPCA'!$C$411","v":0},{"$f":"G204*'Série - IPCA'!$C$444/'Série - IPCA'!$C$424","v":0},{"$f":"H204*'Série - IPCA'!$C$444/'Série - IPCA'!$C$437","v":0},10636.819273284962,"Despesas Gerais e Administratias","N","SIM","NÃO","ENCARGOS DE GESTÃO","FUNCIONÁRIOS","PESSOAL",4600,"GERÊNCIA DE PESSOAS E CULTURA","Despesas Gerais e Administratias8172,002"]
[null,null,null,495.9,0,0,0,0,99.179999999999993,{"$f":"D205*'Série - IPCA'!$C$444/'Série - IPCA'!$C$385","v":645.47202480151282},{"$f":"E205*'Série - IPCA'!$C$444/'Série - IPCA'!$C$398","v":0},{"$f":"F205*'Série - IPCA'!$C$444/'Série - IPCA'!$C$411","v":0},{"$f":"G205*'Série - IPCA'!$C$444/'Série - IPCA'!$C$424","v":0},{"$f":"H205*'Série - IPCA'!$C$444/'Série - IPCA'!$C$437","v":0},129.09440496030257,"Despesas Gerais e Administratias","N","SIM","NÃO","ENCARGOS DE GESTÃO","FUNCIONÁRIOS","PESSOAL",3100,"SMS","Despesas Gerais e Administratias99,18"]
[null,null,null,0,0,0,0,90527.03,18105.405999999999,{"$f":"D206*'Série - IPCA'!$C$444/'Série - IPCA'!$C$385","v":0},{"$f":"E206*'Série - IPCA'!$C$444/'Série - IPCA'!$C$398","v":0},{"$f":"F206*'Série - IPCA'!$C$444/'Série - IPCA'!$C$411","v":0},{"$f":"G206*'Série - IPCA'!$C$444/'Série - IPCA'!$C$424","v":0},{"$f":"H206*'Série - IPCA'!$C$444/'Série - IPCA'!$C$437","v":92554.01021349011},18510.802042698022,"Despesas com Vendas","N","NÃO","SIM","ENCARGOS DE COMERCIALIZAÇÃO","FIXO","DESPESAS_INSTITUCIONAIS",5300,"GERÊNCIA COMERCIAL","Despesas com Vendas18105,406"]
[null,null,null,0,547213.4,1285804.7,1508772.7,1099774.1000000001,888312.9800000001,{"$f":"D207*'Série - IPCA'!$C$444/'Série - IPCA'!$C$385","v":0},{"$f":"E207*'Série - IPCA'!$C$444/'Série - IPCA'!$C$398","v":681477.0046791262},{"$f":"F207*'Série - IPCA'!$C$444/'Série - IPCA'!$C$411","v":1454909.918987928},{"$f":"G207*'Série - IPCA'!$C$444/'Série - IPCA'!$C$424","v":1613839.872748703},{"$f":"H207*'Série - IPCA'!$C$444/'Série - IPCA'!$C$437","v":1124399.0141279562},974925.16210874286,"Despesas Gerais e Administratias","N","NÃO","SIM","ENCARGOS DE GESTÃO","FIXO","DESPESAS_INSTITUCIONAIS",3500,"ASSESSORIA DE COMUNICAÇÃO INSTITUCIONAL","Despesas Gerais e Administratias888312,98"]
[null,null,null,0,7824.18,0,160,3442.5,2285.3360000000002,{"$f":"D208*'Série - IPCA'!$C$444/'Série - IPCA'!$C$385","v":0},{"$f":"E208*'Série - IPCA'!$C$444/'Série - IPCA'!$C$398","v":9743.9111514270771},{"$f":"F208*'Série - IPCA'!$C$444/'Série - IPCA'!$C$411","v":0},{"$f":"G208*'Série - IPCA'!$C$444/'Série - IPCA'!$C$424","v":171.14200146900356},{"$f":"H208*'Série - IPCA'!$C$444/'Série - IPCA'!$C$437","v":3519.5806176336478},2686.9267541059457,"Despesas Gerais e Administratias","N","NÃO","SIM","ENCARGOS DE GESTÃO","FIXO","DESPESAS_INSTITUCIONAIS",4100,"GERÊNCIA DE SERVIÇOS CORPORATIVOS","Despesas Gerais e Administratias2285,336"]
[null,null,null,453.91,0,0,0,0,90.782000000000011,{"$f":"D209*'Série - IPCA'!$C$444/'Série - IPCA'!$C$385","v":590.81711388920087},{"$f":"E209*'Série - IPCA'!$C$444/'Série - IPCA'!$C$398","v":0},{"$f":"F209*'Série - IPCA'!$C$444/'Série - IPCA'!$C$411","v":0},{"$f":"G209*'Série - IPCA'!$C$444/'Série - IPCA'!$C$424","v":0},{"$f":"H209*'Série - IPCA'!$C$444/'Série - IPCA'!$C$437","v":0},118.16342277784017,"Despesas com Vendas","N","SIM","NÃO","ENCARGOS DE COMERCIALIZAÇÃO","FIXO","VEÍCULOS",5400,"GERÊNCIA COMERCIAL (inativo)","Despesas com Vendas90,782"]
[null,null,null,115.99,0,0,0,0,23.198,{"$f":"D210*'Série - IPCA'!$C$444/'Série - IPCA'!$C$385","v":150.97459196758916},{"$f":"E210*'Série - IPCA'!$C$444/'Série - IPCA'!$C$398","v":0},{"$f":"F210*'Série - IPCA'!$C$444/'Série - IPCA'!$C$411","v":0},{"$f":"G210*'Série - IPCA'!$C$444/'Série - IPCA'!$C$424","v":0},{"$f":"H210*'Série - IPCA'!$C$444/'Série - IPCA'!$C$437","v":0},30.194918393517831,"Despesas Gerais e Administratias","N","SIM","NÃO","ENCARGOS DE GESTÃO","FIXO","VEÍCULOS",4200,"GERÊNCIA FINANCEIRA","Despesas Gerais e Administratias23,198"]
[null,null,null,0,0,0,550,555.41,221.08199999999997,{"$f":"D211*'Série - IPCA'!$C$444/'Série - IPCA'!$C$385","v":0},{"$f":"E211*'Série - IPCA'!$C$444/'Série - IPCA'!$C$398","v":0},{"$f":"F211*'Série - IPCA'!$C$444/'Série - IPCA'!$C$411","v":0},{"$f":"G211*'Série - IPCA'!$C$444/'Série - IPCA'!$C$424","v":588.30063004969975},{"$f":"H211*'Série - IPCA'!$C$444/'Série - IPCA'!$C$437","v":567.84612079590534},231.22935016912101,"Despesas Gerais e Administratias","N","NÃO","SIM","ENCARGOS DE GESTÃO","FIXO","DESPESAS_INSTITUCIONAIS",2200,"DIRETORIA COLEGIADA - PRESIDÊNCIA","Despesas Gerais e Administratias221,082"]
[null,null,null,0,0,0,224310.18,313868.68,107635.772,{"$f":"D212*'Série - IPCA'!$C$444/'Série - IPCA'!$C$385","v":0},{"$f":"E212*'Série - IPCA'!$C$444/'Série - IPCA'!$C$398","v":0},{"$f":"F212*'Série - IPCA'!$C$444/'Série - IPCA'!$C$411","v":0},{"$f":"G212*'Série - IPCA'!$C$444/'Série - IPCA'!$C$424","v":239930.58221920283},{"$f":"H212*'Série - IPCA'!$C$444/'Série - IPCA'!$C$437","v":320896.47715621133},112165.41187508283,"Despesas Gerais e Administratias","N","NÃO","SIM","ENCARGOS DE GESTÃO","FIXO","DESPESAS_INSTITUCIONAIS",3500,"ASSESSORIA DE COMUNICAÇÃO INSTITUCIONAL","Despesas Gerais e Administratias107635,772"]
[null,null,null,0,0,0,340,0,68,{"$f":"D213*'Série - IPCA'!$C$444/'Série - IPCA'!$C$385","v":0},{"$f":"E213*'Série - IPCA'!$C$444/'Série - IPCA'!$C$398","v":0},{"$f":"F213*'Série - IPCA'!$C$444/'Série - IPCA'!$C$411","v":0},{"$f":"G213*'Série - IPCA'!$C$444/'Série - IPCA'!$C$424","v":363.6767531216326},{"$f":"H213*'Série - IPCA'!$C$444/'Série - IPCA'!$C$437","v":0},72.735350624326514,"Despesas Gerais e Administratias","N","NÃO","SIM","ENCARGOS DE GESTÃO","FIXO","DESPESAS_INSTITUCIONAIS",4100,"GERÊNCIA DE SERVIÇOS CORPORATIVOS","Despesas Gerais e Administratias68"]
[null,null,null,8416.0400000000009,9227.23,15684.81,19209.22,30330.55,16573.57,{"$f":"D214*'Série - IPCA'!$C$444/'Série - IPCA'!$C$385","v":10954.463358762905},{"$f":"E214*'Série - IPCA'!$C$444/'Série - IPCA'!$C$398","v":11491.211768361982},{"$f":"F214*'Série - IPCA'!$C$444/'Série - IPCA'!$C$411","v":17747.629672251969},{"$f":"G214*'Série - IPCA'!$C$444/'Série - IPCA'!$C$424","v":20546.902234115081},{"$f":"H214*'Série - IPCA'!$C$444/'Série - IPCA'!$C$437","v":31009.677821980604},18349.976971094507,"Custos","N","SIM","NÃO","OPEX","FIXO","DESPESAS_GERAIS",5100,"GERÊNCIA DE ENGENHARIA","Custos16573,57"]
[null,null,null,20722.490000000002,18679.39,25676.04,31445.41,49650.9,29234.846000000001,{"$f":"D215*'Série - IPCA'!$C$444/'Série - IPCA'!$C$385","v":26972.751722583387},{"$f":"E215*'Série - IPCA'!$C$444/'Série - IPCA'!$C$398","v":23262.542084008215},{"$f":"F215*'Série - IPCA'!$C$444/'Série - IPCA'!$C$411","v":29052.876596524184},{"$f":"G215*'Série - IPCA'!$C$444/'Série - IPCA'!$C$424","v":33635.190027583871},{"$f":"H215*'Série - IPCA'!$C$444/'Série - IPCA'!$C$437","v":50762.627534659834},32737.197593071898,"Custos","N","SIM","NÃO","OPEX","FIXO","DESPESAS_GERAIS",5200,"GERÊNCIA DE OPERAÇÕES","Custos29234,846"]
[null,null,null,15183.09,0,0,0,0,3036.6179999999999,{"$f":"D216*'Série - IPCA'!$C$444/'Série - IPCA'!$C$385","v":19762.572786940113},{"$f":"E216*'Série - IPCA'!$C$444/'Série - IPCA'!$C$398","v":0},{"$f":"F216*'Série - IPCA'!$C$444/'Série - IPCA'!$C$411","v":0},{"$f":"G216*'Série - IPCA'!$C$444/'Série - IPCA'!$C$424","v":0},{"$f":"H216*'Série - IPCA'!$C$444/'Série - IPCA'!$C$437","v":0},3952.5145573880227,"Despesas com Vendas","N","SIM","NÃO","ENCARGOS DE COMERCIALIZAÇÃO","FIXO","DESPESAS_GERAIS",5300,"GERÊNCIA COMERCIAL","Despesas com Vendas3036,618"]
[null,null,null,4664.55,50718.78,13546.94,16590.990000000002,26196.5,22343.552000000003,{"$f":"D217*'Série - IPCA'!$C$444/'Série - IPCA'!$C$385","v":6071.4590306269338},{"$f":"E217*'Série - IPCA'!$C$444/'Série - IPCA'!$C$398","v":63163.077284619802},{"$f":"F217*'Série - IPCA'!$C$444/'Série - IPCA'!$C$411","v":15328.593353200778},{"$f":"G217*'Série - IPCA'!$C$444/'Série - IPCA'!$C$424","v":17746.345218451399},{"$f":"H217*'Série - IPCA'!$C$444/'Série - IPCA'!$C$437","v":26783.062788624502},25818.507535104683,"Despesas com Vendas","N","SIM","NÃO","ENCARGOS DE COMERCIALIZAÇÃO","FIXO","DESPESAS_GERAIS",5300,"GERÊNCIA COMERCIAL","Despesas com Vendas22343,552"]
[null,null,null,0,201.97,708.98,868.29,1370.99,630.04600000000005,{"$f":"D218*'Série - IPCA'!$C$444/'Série - IPCA'!$C$385","v":0},{"$f":"E218*'Série - IPCA'!$C$444/'Série - IPCA'!$C$398","v":251.52511001200466},{"$f":"F218*'Série - IPCA'!$C$444/'Série - IPCA'!$C$411","v":802.22294596065888},{"$f":"G218*'Série - IPCA'!$C$444/'Série - IPCA'!$C$424","v":928.75555284700681},{"$f":"H218*'Série - IPCA'!$C$444/'Série - IPCA'!$C$437","v":1401.6876778415553},676.83825733224512,"Despesas Gerais e Administratias","N","SIM","NÃO","ENCARGOS DE GESTÃO","FIXO","DESPESAS_GERAIS",1005,"AUDITORIA INTERNA","Despesas Gerais e Administratias630,046"]
[null,null,null,0,1434.07,1428.86,1749.93,2763.08,1475.1879999999999,{"$f":"D219*'Série - IPCA'!$C$444/'Série - IPCA'!$C$385","v":0},{"$f":"E219*'Série - IPCA'!$C$444/'Série - IPCA'!$C$398","v":1785.9316458628286},{"$f":"F219*'Série - IPCA'!$C$444/'Série - IPCA'!$C$411","v":1616.7794275795463},{"$f":"G219*'Série - IPCA'!$C$444/'Série - IPCA'!$C$424","v":1871.7907664415839},{"$f":"H219*'Série - IPCA'!$C$444/'Série - IPCA'!$C$437","v":2824.9478033322234},1619.8899286432363,"Despesas Gerais e Administratias","N","SIM","NÃO","ENCARGOS DE GESTÃO","FIXO","DESPESAS_GERAIS",2110,"ASSESSORIA DA DIRETORIA EXECUTIVA","Despesas Gerais e Administratias1475,188"]
[null,null,null,0,609,2137.86,2618.2399999999998,4134.0600000000004,1899.8319999999999,{"$f":"D220*'Série - IPCA'!$C$444/'Série - IPCA'!$C$385","v":0},{"$f":"E220*'Série - IPCA'!$C$444/'Série - IPCA'!$C$398","v":758.42348862361166},{"$f":"F220*'Série - IPCA'!$C$444/'Série - IPCA'!$C$411","v":2419.0250038808631},{"$f":"G220*'Série - IPCA'!$C$444/'Série - IPCA'!$C$424","v":2800.5677120387741},{"$f":"H220*'Série - IPCA'!$C$444/'Série - IPCA'!$C$437","v":4226.625257264941},2040.9282923616381,"Despesas Gerais e Administratias","N","SIM","NÃO","ENCARGOS DE GESTÃO","FIXO","DESPESAS_GERAIS",2120,"ASSESSORIA DA PRESIDÊNCIA","Despesas Gerais e Administratias1899,832"]
[null,null,null,4138.55,2340.31,0,0,0,1295.7720000000002,{"$f":"D221*'Série - IPCA'!$C$444/'Série - IPCA'!$C$385","v":5386.8083247475315},{"$f":"E221*'Série - IPCA'!$C$444/'Série - IPCA'!$C$398","v":2914.5255741555411},{"$f":"F221*'Série - IPCA'!$C$444/'Série - IPCA'!$C$411","v":0},{"$f":"G221*'Série - IPCA'!$C$444/'Série - IPCA'!$C$424","v":0},{"$f":"H221*'Série - IPCA'!$C$444/'Série - IPCA'!$C$437","v":0},1660.2667797806146,"Despesas Gerais e Administratias","N","SIM","NÃO","ENCARGOS DE GESTÃO","FIXO","DESPESAS_GERAIS",2200,"DIRETORIA COLEGIADA - PRESIDÊNCIA","Despesas Gerais e Administratias1295,772"]
[null,null,null,1032.17,583.69000000000005,0,0,0,323.17200000000003,{"$f":"D222*'Série - IPCA'!$C$444/'Série - IPCA'!$C$385","v":1343.490340470614},{"$f":"E222*'Série - IPCA'!$C$444/'Série - IPCA'!$C$398","v":726.90345825076508},{"$f":"F222*'Série - IPCA'!$C$444/'Série - IPCA'!$C$411","v":0},{"$f":"G222*'Série - IPCA'!$C$444/'Série - IPCA'!$C$424","v":0},{"$f":"H222*'Série - IPCA'!$C$444/'Série - IPCA'!$C$437","v":0},414.07875974427577,"Despesas Gerais e Administratias","N","SIM","NÃO","ENCARGOS DE GESTÃO","FIXO","DESPESAS_GERAIS",2300,"DIRETORIA COLEGIADA - DAF","Despesas Gerais e Administratias323,172"]
[null,null,null,0,201.95,708.97,868.29,1370.99,630.04,{"$f":"D223*'Série - IPCA'!$C$444/'Série - IPCA'!$C$385","v":0},{"$f":"E223*'Série - IPCA'!$C$444/'Série - IPCA'!$C$398","v":251.50020283668039},{"$f":"F223*'Série - IPCA'!$C$444/'Série - IPCA'!$C$411","v":802.21163079033022},{"$f":"G223*'Série - IPCA'!$C$444/'Série - IPCA'!$C$424","v":928.75555284700681},{"$f":"H223*'Série - IPCA'!$C$444/'Série - IPCA'!$C$437","v":1401.6876778415553},676.83101286311444,"Despesas Gerais e Administratias","N","SIM","NÃO","ENCARGOS DE GESTÃO","FIXO","DESPESAS_GERAIS",2310,"ASSESSORIA DAF","Despesas Gerais e Administratias630,04"]
[null,null,null,1032.17,583.69000000000005,0,0,0,323.17200000000003,{"$f":"D224*'Série - IPCA'!$C$444/'Série - IPCA'!$C$385","v":1343.490340470614},{"$f":"E224*'Série - IPCA'!$C$444/'Série - IPCA'!$C$398","v":726.90345825076508},{"$f":"F224*'Série - IPCA'!$C$444/'Série - IPCA'!$C$411","v":0},{"$f":"G224*'Série - IPCA'!$C$444/'Série - IPCA'!$C$424","v":0},{"$f":"H224*'Série - IPCA'!$C$444/'Série - IPCA'!$C$437","v":0},414.07875974427577,"Despesas Gerais e Administratias","N","SIM","NÃO","ENCARGOS DE GESTÃO","FIXO","DESPESAS_GERAIS",2400,"DIRETORIA COLEGIADA - DTC","Despesas Gerais e Administratias323,172"]
[null,null,null,2590.3200000000002,6387,8551.3799999999992,10472.9,16536.25,8907.57,{"$f":"D225*'Série - IPCA'!$C$444/'Série - IPCA'!$C$385","v":3371.6053544743995},{"$f":"E225*'Série - IPCA'!$C$444/'Série - IPCA'!$C$398","v":7954.1064398013259},{"$f":"F225*'Série - IPCA'!$C$444/'Série - IPCA'!$C$411","v":9676.0321245014784},{"$f":"G225*'Série - IPCA'!$C$444/'Série - IPCA'!$C$424","v":11202.206669904546},{"$f":"H225*'Série - IPCA'!$C$444/'Série - IPCA'!$C$437","v":16906.511252968601},9822.0923683300698,"Despesas Gerais e Administratias","N","SIM","NÃO","ENCARGOS DE GESTÃO","FIXO","DESPESAS_GERAIS",3200,"GERÊNCIA DE PLANEJAMENTO E MEIO AMBIENTE","Despesas Gerais e Administratias8907,57"]
[null,null,null,3106.4,2567.61,2846.82,3486.5,5505.06,3502.4780000000001,{"$f":"D226*'Série - IPCA'!$C$444/'Série - IPCA'!$C$385","v":4043.3440166231489},{"$f":"E226*'Série - IPCA'!$C$444/'Série - IPCA'!$C$398","v":3197.5956217157163},{"$f":"F226*'Série - IPCA'!$C$444/'Série - IPCA'!$C$411","v":3221.2253195008648},{"$f":"G226*'Série - IPCA'!$C$444/'Série - IPCA'!$C$424","v":3729.2911757605061},{"$f":"H226*'Série - IPCA'!$C$444/'Série - IPCA'!$C$437","v":5628.3231590153346},3963.9558585231143,"Despesas Gerais e Administratias","N","SIM","NÃO","ENCARGOS DE GESTÃO","FIXO","DESPESAS_GERAIS",3300,"GERÊNCIA JURÍDICA","Despesas Gerais e Administratias3502,478"]
[null,null,null,169675.64,0,0,0,0,33935.128000000004,{"$f":"D227*'Série - IPCA'!$C$444/'Série - IPCA'!$C$385","v":220852.75037364906},{"$f":"E227*'Série - IPCA'!$C$444/'Série - IPCA'!$C$398","v":0},{"$f":"F227*'Série - IPCA'!$C$444/'Série - IPCA'!$C$411","v":0},{"$f":"G227*'Série - IPCA'!$C$444/'Série - IPCA'!$C$424","v":0},{"$f":"H227*'Série - IPCA'!$C$444/'Série - IPCA'!$C$437","v":0},44170.550074729814,"Despesas Gerais e Administratias","N","SIM","NÃO","ENCARGOS DE GESTÃO","FIXO","DESPESAS_GERAIS",3400,"MARKETING","Despesas Gerais e Administratias33935,128"]
[null,null,null,0,38711.440000000002,2846.82,3486.5,5505.06,10109.964,{"$f":"D228*'Série - IPCA'!$C$444/'Série - IPCA'!$C$385","v":0},{"$f":"E228*'Série - IPCA'!$C$444/'Série - IPCA'!$C$398","v":48209.63115672188},{"$f":"F228*'Série - IPCA'!$C$444/'Série - IPCA'!$C$411","v":3221.2253195008648},{"$f":"G228*'Série - IPCA'!$C$444/'Série - IPCA'!$C$424","v":3729.2911757605061},{"$f":"H228*'Série - IPCA'!$C$444/'Série - IPCA'!$C$437","v":5628.3231590153346},12157.694162199718,"Despesas Gerais e Administratias","N","SIM","NÃO","ENCARGOS DE GESTÃO","FIXO","DESPESAS_GERAIS",3500,"ASSESSORIA DE COMUNICAÇÃO INSTITUCIONAL","Despesas Gerais e Administratias10109,964"]
[null,null,null,1558.15,1766.49,4995.5600000000004,6118.09,9660.23,4819.7039999999997,{"$f":"D229*'Série - IPCA'!$C$444/'Série - IPCA'!$C$385","v":2028.1150140037857},{"$f":"E229*'Série - IPCA'!$C$444/'Série - IPCA'!$C$398","v":2199.9138069272967},{"$f":"F229*'Série - IPCA'!$C$444/'Série - IPCA'!$C$411","v":5652.5612286992991},{"$f":"G229*'Série - IPCA'!$C$444/'Série - IPCA'!$C$424","v":6544.1385485468509},{"$f":"H229*'Série - IPCA'!$C$444/'Série - IPCA'!$C$437","v":9876.5310878382243},5260.2519372030902,"Despesas Gerais e Administratias","N","SIM","NÃO","ENCARGOS DE GESTÃO","FIXO","DESPESAS_GERAIS",3600,"GERÊNCIA DE GOVERNANÇA, RISCO E COMPLIANCE","Despesas Gerais e Administratias4819,704"]
[null,null,null,212.5,15553.09,13546.94,19891.580000000002,29503.25,15741.472,{"$f":"D230*'Série - IPCA'!$C$444/'Série - IPCA'!$C$385","v":276.59367870603245},{"$f":"E230*'Série - IPCA'!$C$444/'Série - IPCA'!$C$398","v":19369.176973197056},{"$f":"F230*'Série - IPCA'!$C$444/'Série - IPCA'!$C$411","v":15328.593353200778},{"$f":"G230*'Série - IPCA'!$C$444/'Série - IPCA'!$C$424","v":21276.780084880014},{"$f":"H230*'Série - IPCA'!$C$444/'Série - IPCA'!$C$437","v":30163.853843776298},17282.999586752034,"Despesas Gerais e Administratias","N","SIM","NÃO","ENCARGOS DE GESTÃO","FIXO","DESPESAS_GERAIS",4100,"GERÊNCIA DE SERVIÇOS CORPORATIVOS","Despesas Gerais e Administratias15741,472"]
[null,null,null,5696.7,5048.42,6413.55,7854.66,12402.19,7483.1039999999994,{"$f":"D231*'Série - IPCA'!$C$444/'Série - IPCA'!$C$385","v":7414.9233387513168},{"$f":"E231*'Série - IPCA'!$C$444/'Série - IPCA'!$C$398","v":6287.09410252416},{"$f":"F231*'Série - IPCA'!$C$444/'Série - IPCA'!$C$411","v":7257.0410661316037},{"$f":"G231*'Série - IPCA'!$C$444/'Série - IPCA'!$C$424","v":8401.6389578657727},{"$f":"H231*'Série - IPCA'!$C$444/'Série - IPCA'!$C$437","v":12679.885995703658},8408.1166921953027,"Despesas Gerais e Administratias","N","SIM","NÃO","ENCARGOS DE GESTÃO","FIXO","DESPESAS_GERAIS",4200,"GERÊNCIA FINANCEIRA","Despesas Gerais e Administratias7483,104"]
[null,null,null,83628.66,82476.929999999993,82875.429999999993,91091.27,88692.07,85752.872000000003,{"$f":"D232*'Série - IPCA'!$C$444/'Série - IPCA'!$C$385","v":108852.5115983813},{"$f":"E232*'Série - IPCA'!$C$444/'Série - IPCA'!$C$398","v":102713.36778582167},{"$f":"F232*'Série - IPCA'!$C$444/'Série - IPCA'!$C$411","v":93774.96065101464},{"$f":"G232*'Série - IPCA'!$C$444/'Série - IPCA'!$C$424","v":97434.63915095877},{"$f":"H232*'Série - IPCA'!$C$444/'Série - IPCA'!$C$437","v":90677.963837271367},98690.688604689538,"Despesas Gerais e Administratias","N","SIM","NÃO","ENCARGOS DE GESTÃO","FIXO","DESPESAS_GERAIS",4300,"GERÊNCIA DE TECNOLOGIA E SISTEMAS DE INFORMAÇÃO","Despesas Gerais e Administratias85752,872"]
[null,null,null,4138.54,3558.29,4275.68,5236.45,8268.17,5095.4259999999995,{"$f":"D233*'Série - IPCA'!$C$444/'Série - IPCA'!$C$385","v":5386.7953085744157},{"$f":"E233*'Série - IPCA'!$C$444/'Série - IPCA'!$C$398","v":4431.3476442274396},{"$f":"F233*'Série - IPCA'!$C$444/'Série - IPCA'!$C$411","v":4838.0047470804111},{"$f":"G233*'Série - IPCA'!$C$444/'Série - IPCA'!$C$424","v":5601.1033349522731},{"$f":"H233*'Série - IPCA'!$C$444/'Série - IPCA'!$C$437","v":8453.3016340740724},5742.1105337817226,"Despesas Gerais e Administratias","N","SIM","NÃO","ENCARGOS DE GESTÃO","FIXO","DESPESAS_GERAIS",4500,"GERÊNCIA CONTÁBIL","Despesas Gerais e Administratias5095,426"]
[null,null,null,0,645085.21,909411.28,771434.4,707596.3,606705.43800000008,{"$f":"D234*'Série - IPCA'!$C$444/'Série - IPCA'!$C$385","v":0},{"$f":"E234*'Série - IPCA'!$C$444/'Série - IPCA'!$C$398","v":803362.52122774231},{"$f":"F234*'Série - IPCA'!$C$444/'Série - IPCA'!$C$411","v":1029014.3531996016},{"$f":"G234*'Série - IPCA'!$C$444/'Série - IPCA'!$C$424","v":825155.17011274933},{"$f":"H234*'Série - IPCA'!$C$444/'Série - IPCA'!$C$437","v":723440.00656188349},676194.41022039542,"Despesas com Vendas","N","SIM","NÃO","ENCARGOS DE COMERCIALIZAÇÃO","FIXO","SERVIÇOS",5300,"GERÊNCIA COMERCIAL","Despesas com Vendas606705,438"]
[null,null,null,688657.89,125935.37,0,0,0,162918.652,{"$f":"D235*'Série - IPCA'!$C$444/'Série - IPCA'!$C$385","v":896369.031364867},{"$f":"E235*'Série - IPCA'!$C$444/'Série - IPCA'!$C$398","v":156834.71700575584},{"$f":"F235*'Série - IPCA'!$C$444/'Série - IPCA'!$C$411","v":0},{"$f":"G235*'Série - IPCA'!$C$444/'Série - IPCA'!$C$424","v":0},{"$f":"H235*'Série - IPCA'!$C$444/'Série - IPCA'!$C$437","v":0},210640.74967412456,"Despesas com Vendas","N","SIM","NÃO","ENCARGOS DE COMERCIALIZAÇÃO","FIXO","SERVIÇOS",5500,"GERÊNCIA COMERCIAL (inativo)","Despesas com Vendas162918,652"]
[null,null,null,0,35913.94,137215.75,118896.73,229820.55,104369.394,{"$f":"D236*'Série - IPCA'!$C$444/'Série - IPCA'!$C$385","v":0},{"$f":"E236*'Série - IPCA'!$C$444/'Série - IPCA'!$C$398","v":44725.740008241497},{"$f":"F236*'Série - IPCA'!$C$444/'Série - IPCA'!$C$411","v":155261.95830235165},{"$f":"G236*'Série - IPCA'!$C$444/'Série - IPCA'!$C$424","v":127176.40212699826},{"$f":"H236*'Série - IPCA'!$C$444/'Série - IPCA'!$C$437","v":234966.43524005942},112426.10713553017,"Despesas Gerais e Administratias","N","SIM","NÃO","ENCARGOS DE GESTÃO","FIXO","SERVIÇOS",3500,"ASSESSORIA DE COMUNICAÇÃO INSTITUCIONAL","Despesas Gerais e Administratias104369,394"]
[null,null,null,0,0,0,102065.04,452657.91999999998,110944.59199999999,{"$f":"D237*'Série - IPCA'!$C$444/'Série - IPCA'!$C$385","v":0},{"$f":"E237*'Série - IPCA'!$C$444/'Série - IPCA'!$C$398","v":0},{"$f":"F237*'Série - IPCA'!$C$444/'Série - IPCA'!$C$411","v":0},{"$f":"G237*'Série - IPCA'!$C$444/'Série - IPCA'!$C$424","v":109172.59516008692},{"$f":"H237*'Série - IPCA'!$C$444/'Série - IPCA'!$C$437","v":462793.33090787567},114393.18521359251,"Despesas Gerais e Administratias","N","SIM","NÃO","ENCARGOS DE GESTÃO","FIXO","SERVIÇOS",5200,"GERÊNCIA DE OPERAÇÕES","Despesas Gerais e Administratias110944,592"]
[null,null,null,24680.45,33927.57,51060.639999999999,53024.75,55047.68,43548.218000000001,{"$f":"D238*'Série - IPCA'!$C$444/'Série - IPCA'!$C$385","v":32124.5009770367},{"$f":"E238*'Série - IPCA'!$C$444/'Série - IPCA'!$C$398","v":42251.996715799323},{"$f":"F238*'Série - IPCA'!$C$444/'Série - IPCA'!$C$411","v":57775.983868990174},{"$f":"G238*'Série - IPCA'!$C$444/'Série - IPCA'!$C$424","v":56717.261514959668},{"$f":"H238*'Série - IPCA'!$C$444/'Série - IPCA'!$C$437","v":56280.246208772522},49029.997857111681,"Custos","N","SIM","NÃO","OPEX","FIXO","ALUGUÉIS",5100,"GERÊNCIA DE ENGENHARIA","Custos43548,218"]
[null,null,null,51412.85,63982.11,83586.039999999994,86801.3,90112.639999999999,75178.987999999998,{"$f":"D239*'Série - IPCA'!$C$444/'Série - IPCA'!$C$385","v":66919.855596524416},{"$f":"E239*'Série - IPCA'!$C$444/'Série - IPCA'!$C$398","v":79680.681569293374},{"$f":"F239*'Série - IPCA'!$C$444/'Série - IPCA'!$C$411","v":94579.027969738876},{"$f":"G239*'Série - IPCA'!$C$444/'Série - IPCA'!$C$424","v":92845.926325696375},{"$f":"H239*'Série - IPCA'!$C$444/'Série - IPCA'!$C$437","v":92130.341655133918},85231.166623277386,"Custos","N","SIM","NÃO","OPEX","FIXO","ALUGUÉIS",5200,"GERÊNCIA DE OPERAÇÕES","Custos75178,988"]
[null,null,null,16444.13,66018.67,44101.09,45797.46,47544.67,43981.204000000005,{"$f":"D240*'Série - IPCA'!$C$444/'Série - IPCA'!$C$385","v":21403.964281506964},{"$f":"E240*'Série - IPCA'!$C$444/'Série - IPCA'!$C$398","v":82216.929418211774},{"$f":"F240*'Série - IPCA'!$C$444/'Série - IPCA'!$C$411","v":49901.134502914254},{"$f":"G240*'Série - IPCA'!$C$444/'Série - IPCA'!$C$424","v":48986.681041228949},{"$f":"H240*'Série - IPCA'!$C$444/'Série - IPCA'!$C$437","v":48609.237183380668},50223.589285448528,"Despesas com Vendas","N","SIM","NÃO","ENCARGOS DE COMERCIALIZAÇÃO","FIXO","ALUGUÉIS",5300,"GERÊNCIA COMERCIAL","Despesas com Vendas43981,204"]
[null,null,null,0,4584.37,4651.57,4830.4799999999996,5014.78,3816.2399999999993,{"$f":"D241*'Série - IPCA'!$C$444/'Série - IPCA'!$C$385","v":0},{"$f":"E241*'Série - IPCA'!$C$444/'Série - IPCA'!$C$398","v":5709.1853670630971},{"$f":"F241*'Série - IPCA'!$C$444/'Série - IPCA'!$C$411","v":5263.3306845640527},{"$f":"G241*'Série - IPCA'!$C$444/'Série - IPCA'!$C$424","v":5166.8625953499522},{"$f":"H241*'Série - IPCA'!$C$444/'Série - IPCA'!$C$437","v":5127.0653564842014},4253.2888006922603,"Despesas Gerais e Administratias","N","SIM","NÃO","ENCARGOS DE GESTÃO","FIXO","ALUGUÉIS",2110,"ASSESSORIA DA DIRETORIA EXECUTIVA","Despesas Gerais e Administratias3816,24"]
[null,null,null,0,763.33,2308.0100000000002,2396.81,2488.2399999999998,1591.2779999999998,{"$f":"D242*'Série - IPCA'!$C$444/'Série - IPCA'!$C$385","v":0},{"$f":"E242*'Série - IPCA'!$C$444/'Série - IPCA'!$C$398","v":950.61970701323719},{"$f":"F242*'Série - IPCA'!$C$444/'Série - IPCA'!$C$411","v":2611.5526270228506},{"$f":"G242*'Série - IPCA'!$C$444/'Série - IPCA'!$C$424","v":2563.7178783807653},{"$f":"H242*'Série - IPCA'!$C$444/'Série - IPCA'!$C$437","v":2543.9538928164843},1733.9688210466672,"Despesas Gerais e Administratias","N","SIM","NÃO","ENCARGOS DE GESTÃO","FIXO","ALUGUÉIS",1005,"AUDITORIA INTERNA","Despesas Gerais e Administratias1591,278"]
[null,null,null,0,2301.77,7094.21,7227.3,7503.03,4825.2619999999997,{"$f":"D243*'Série - IPCA'!$C$444/'Série - IPCA'!$C$385","v":0},{"$f":"E243*'Série - IPCA'!$C$444/'Série - IPCA'!$C$398","v":2866.5294473056988},{"$f":"F243*'Série - IPCA'!$C$444/'Série - IPCA'!$C$411","v":8027.2194497215223},{"$f":"G243*'Série - IPCA'!$C$444/'Série - IPCA'!$C$424","v":7730.5911701058094},{"$f":"H243*'Série - IPCA'!$C$444/'Série - IPCA'!$C$437","v":7671.0294732095235},5259.0739080685107,"Despesas Gerais e Administratias","N","SIM","NÃO","ENCARGOS DE GESTÃO","FIXO","ALUGUÉIS",2120,"ASSESSORIA DA PRESIDÊNCIA","Despesas Gerais e Administratias4825,262"]
[null,null,null,0,763.33,2308.0300000000002,2396.81,2488.2399999999998,1591.2819999999999,{"$f":"D244*'Série - IPCA'!$C$444/'Série - IPCA'!$C$385","v":0},{"$f":"E244*'Série - IPCA'!$C$444/'Série - IPCA'!$C$398","v":950.61970701323719},{"$f":"F244*'Série - IPCA'!$C$444/'Série - IPCA'!$C$411","v":2611.5752573635077},{"$f":"G244*'Série - IPCA'!$C$444/'Série - IPCA'!$C$424","v":2563.7178783807653},{"$f":"H244*'Série - IPCA'!$C$444/'Série - IPCA'!$C$437","v":2543.9538928164843},1733.9733471147988,"Despesas Gerais e Administratias","N","SIM","NÃO","ENCARGOS DE GESTÃO","FIXO","ALUGUÉIS",2310,"ASSESSORIA DAF","Despesas Gerais e Administratias1591,282"]
[null,null,null,2051.96,2322.5700000000002,0,0,0,874.90600000000018,{"$f":"D245*'Série - IPCA'!$C$444/'Série - IPCA'!$C$385","v":2670.8666586241425},{"$f":"E245*'Série - IPCA'!$C$444/'Série - IPCA'!$C$398","v":2892.4329096429256},{"$f":"F245*'Série - IPCA'!$C$444/'Série - IPCA'!$C$411","v":0},{"$f":"G245*'Série - IPCA'!$C$444/'Série - IPCA'!$C$424","v":0},{"$f":"H245*'Série - IPCA'!$C$444/'Série - IPCA'!$C$437","v":0},1112.6599136534137,"Despesas Gerais e Administratias","N","SIM","NÃO","ENCARGOS DE GESTÃO","FIXO","ALUGUÉIS",2200,"DIRETORIA COLEGIADA - PRESIDÊNCIA","Despesas Gerais e Administratias874,906"]
[null,null,null,2051.96,1504.3,0,0,0,711.25200000000007,{"$f":"D246*'Série - IPCA'!$C$444/'Série - IPCA'!$C$385","v":2670.8666586241425},{"$f":"E246*'Série - IPCA'!$C$444/'Série - IPCA'!$C$398","v":1873.3931920139555},{"$f":"F246*'Série - IPCA'!$C$444/'Série - IPCA'!$C$411","v":0},{"$f":"G246*'Série - IPCA'!$C$444/'Série - IPCA'!$C$424","v":0},{"$f":"H246*'Série - IPCA'!$C$444/'Série - IPCA'!$C$437","v":0},908.85197012761967,"Despesas Gerais e Administratias","N","SIM","NÃO","ENCARGOS DE GESTÃO","FIXO","ALUGUÉIS",2300,"DIRETORIA COLEGIADA - DAF","Despesas Gerais e Administratias711,252"]
[null,null,null,2051.96,1504.3,0,0,0,711.25200000000007,{"$f":"D247*'Série - IPCA'!$C$444/'Série - IPCA'!$C$385","v":2670.8666586241425},{"$f":"E247*'Série - IPCA'!$C$444/'Série - IPCA'!$C$398","v":1873.3931920139555},{"$f":"F247*'Série - IPCA'!$C$444/'Série - IPCA'!$C$411","v":0},{"$f":"G247*'Série - IPCA'!$C$444/'Série - IPCA'!$C$424","v":0},{"$f":"H247*'Série - IPCA'!$C$444/'Série - IPCA'!$C$437","v":0},908.85197012761967,"Despesas Gerais e Administratias","N","SIM","NÃO","ENCARGOS DE GESTÃO","FIXO","ALUGUÉIS",2400,"DIRETORIA COLEGIADA - DTC","Despesas Gerais e Administratias711,252"]
[null,null,null,8236.31,20941.060000000001,27838.35,28909.17,30012.06,23187.39,{"$f":"D248*'Série - IPCA'!$C$444/'Série - IPCA'!$C$385","v":10720.52367935662},{"$f":"E248*'Série - IPCA'!$C$444/'Série - IPCA'!$C$398","v":26079.132644788784},{"$f":"F248*'Série - IPCA'!$C$444/'Série - IPCA'!$C$411","v":31499.567191858598},{"$f":"G248*'Série - IPCA'!$C$444/'Série - IPCA'!$C$424","v":30922.33259129796},{"$f":"H248*'Série - IPCA'!$C$444/'Série - IPCA'!$C$437","v":30684.056549385066},25981.122531337409,"Despesas Gerais e Administratias","N","SIM","NÃO","ENCARGOS DE GESTÃO","FIXO","ALUGUÉIS",3200,"GERÊNCIA DE PLANEJAMENTO E MEIO AMBIENTE","Despesas Gerais e Administratias23187,39"]
[null,null,null,7381.33,8316.64,9267.61,9624.1,9991.2900000000009,8916.1939999999995,{"$f":"D249*'Série - IPCA'!$C$444/'Série - IPCA'!$C$385","v":9607.6669103209333},{"$f":"E249*'Série - IPCA'!$C$444/'Série - IPCA'!$C$398","v":10357.200529436244},{"$f":"F249*'Série - IPCA'!$C$444/'Série - IPCA'!$C$411","v":10486.458568950411},{"$f":"G249*'Série - IPCA'!$C$444/'Série - IPCA'!$C$424","v":10294.298352111484},{"$f":"H249*'Série - IPCA'!$C$444/'Série - IPCA'!$C$437","v":10215.003813843687},10192.125634932552,"Despesas Gerais e Administratias","N","SIM","NÃO","ENCARGOS DE GESTÃO","FIXO","ALUGUÉIS",3300,"GERÊNCIA JURÍDICA","Despesas Gerais e Administratias8916,194"]
[null,null,null,0,12663.36,9267.61,9624.1,9991.2900000000009,8309.2720000000008,{"$f":"D250*'Série - IPCA'!$C$444/'Série - IPCA'!$C$385","v":0},{"$f":"E250*'Série - IPCA'!$C$444/'Série - IPCA'!$C$398","v":15770.426385708866},{"$f":"F250*'Série - IPCA'!$C$444/'Série - IPCA'!$C$411","v":10486.458568950411},{"$f":"G250*'Série - IPCA'!$C$444/'Série - IPCA'!$C$424","v":10294.298352111484},{"$f":"H250*'Série - IPCA'!$C$444/'Série - IPCA'!$C$437","v":10215.003813843687},9353.2374241228899,"Despesas Gerais e Administratias","N","SIM","NÃO","ENCARGOS DE GESTÃO","FIXO","ALUGUÉIS",3500,"ASSESSORIA DE COMUNICAÇÃO INSTITUCIONAL","Despesas Gerais e Administratias8309,272"]
[null,null,null,0,5789.05,16262.72,16888.27,17532.57,11294.522000000001,{"$f":"D251*'Série - IPCA'!$C$444/'Série - IPCA'!$C$385","v":0},{"$f":"E251*'Série - IPCA'!$C$444/'Série - IPCA'!$C$398","v":7209.4441655443661},{"$f":"F251*'Série - IPCA'!$C$444/'Série - IPCA'!$C$411","v":18401.544680715007},{"$f":"G251*'Série - IPCA'!$C$444/'Série - IPCA'!$C$424","v":18064.327057180806},{"$f":"H251*'Série - IPCA'!$C$444/'Série - IPCA'!$C$437","v":17925.139738360249},12320.091128360084,"Despesas Gerais e Administratias","N","SIM","NÃO","ENCARGOS DE GESTÃO","FIXO","ALUGUÉIS",3600,"GERÊNCIA DE GOVERNANÇA, RISCO E COMPLIANCE","Despesas Gerais e Administratias11294,522"]
[null,null,null,13708.19,34187.5,44101.08,45797.46,47544.67,37067.780000000006,{"$f":"D252*'Série - IPCA'!$C$444/'Série - IPCA'!$C$385","v":17842.817414123514},{"$f":"E252*'Série - IPCA'!$C$444/'Série - IPCA'!$C$398","v":42575.702819901024},{"$f":"F252*'Série - IPCA'!$C$444/'Série - IPCA'!$C$411","v":49901.123187743928},{"$f":"G252*'Série - IPCA'!$C$444/'Série - IPCA'!$C$424","v":48986.681041228949},{"$f":"H252*'Série - IPCA'!$C$444/'Série - IPCA'!$C$437","v":48609.237183380668},41583.112329275624,"Despesas Gerais e Administratias","N","SIM","NÃO","ENCARGOS DE GESTÃO","FIXO","ALUGUÉIS",4100,"GERÊNCIA DE SERVIÇOS CORPORATIVOS","Despesas Gerais e Administratias37067,78"]
[null,null,null,20576.54,20764.310000000001,20878.759999999998,21681.9,22509.06,21282.114000000001,{"$f":"D253*'Série - IPCA'!$C$444/'Série - IPCA'!$C$385","v":26782.780675961527},{"$f":"E253*'Série - IPCA'!$C$444/'Série - IPCA'!$C$398","v":25859.015482860665},{"$f":"F253*'Série - IPCA'!$C$444/'Série - IPCA'!$C$411","v":23624.672565101362},{"$f":"G253*'Série - IPCA'!$C$444/'Série - IPCA'!$C$424","v":23191.773510317431},{"$f":"H253*'Série - IPCA'!$C$444/'Série - IPCA'!$C$437","v":23013.057747902058},24494.259996428609,"Despesas Gerais e Administratias","N","SIM","NÃO","ENCARGOS DE GESTÃO","FIXO","ALUGUÉIS",4200,"GERÊNCIA FINANCEIRA","Despesas Gerais e Administratias21282,114"]
[null,null,null,20576.54,20194.41,18570.73,19285.07,20020.8,19729.510000000002,{"$f":"D254*'Série - IPCA'!$C$444/'Série - IPCA'!$C$385","v":26782.780675961527},{"$f":"E254*'Série - IPCA'!$C$444/'Série - IPCA'!$C$398","v":25149.285521995975},{"$f":"F254*'Série - IPCA'!$C$444/'Série - IPCA'!$C$411","v":21013.097307737855},{"$f":"G254*'Série - IPCA'!$C$444/'Série - IPCA'!$C$424","v":20628.03423918648},{"$f":"H254*'Série - IPCA'!$C$444/'Série - IPCA'!$C$437","v":20469.083407267895},22808.456230429947,"Despesas Gerais e Administratias","N","SIM","NÃO","ENCARGOS DE GESTÃO","FIXO","ALUGUÉIS",4300,"GERÊNCIA DE TECNOLOGIA E SISTEMAS DE INFORMAÇÃO","Despesas Gerais e Administratias19729,51"]
[null,null,null,14195.37,14219.98,13919.17,14454.59,15006.04,14359.029999999999,{"$f":"D255*'Série - IPCA'!$C$444/'Série - IPCA'!$C$385","v":18476.939335968244},{"$f":"E255*'Série - IPCA'!$C$444/'Série - IPCA'!$C$398","v":17708.976748371075},{"$f":"F255*'Série - IPCA'!$C$444/'Série - IPCA'!$C$411","v":15749.777938344134},{"$f":"G255*'Série - IPCA'!$C$444/'Série - IPCA'!$C$424","v":15461.171643836527},{"$f":"H255*'Série - IPCA'!$C$444/'Série - IPCA'!$C$437","v":15342.038498601372},16547.78083302427,"Despesas Gerais e Administratias","N","SIM","NÃO","ENCARGOS DE GESTÃO","FIXO","ALUGUÉIS",4500,"GERÊNCIA CONTÁBIL","Despesas Gerais e Administratias14359,03"]
[null,null,null,49360.89,0,0,0,0,9872.1779999999999,{"$f":"D256*'Série - IPCA'!$C$444/'Série - IPCA'!$C$385","v":64248.988937900278},{"$f":"E256*'Série - IPCA'!$C$444/'Série - IPCA'!$C$398","v":0},{"$f":"F256*'Série - IPCA'!$C$444/'Série - IPCA'!$C$411","v":0},{"$f":"G256*'Série - IPCA'!$C$444/'Série - IPCA'!$C$424","v":0},{"$f":"H256*'Série - IPCA'!$C$444/'Série - IPCA'!$C$437","v":0},12849.797787580055,"Despesas com Vendas","N","SIM","NÃO","ENCARGOS DE COMERCIALIZAÇÃO","FIXO","ALUGUÉIS",5400,"GERÊNCIA COMERCIAL (inativo)","Despesas com Vendas9872,178"]
[null,null,null,10969.6,0,0,0,0,2193.92,{"$f":"D257*'Série - IPCA'!$C$444/'Série - IPCA'!$C$385","v":14278.221260864439},{"$f":"E257*'Série - IPCA'!$C$444/'Série - IPCA'!$C$398","v":0},{"$f":"F257*'Série - IPCA'!$C$444/'Série - IPCA'!$C$411","v":0},{"$f":"G257*'Série - IPCA'!$C$444/'Série - IPCA'!$C$424","v":0},{"$f":"H257*'Série - IPCA'!$C$444/'Série - IPCA'!$C$437","v":0},2855.6442521728877,"Despesas com Vendas","N","SIM","NÃO","ENCARGOS DE COMERCIALIZAÇÃO","FIXO","ALUGUÉIS",5500,"GERÊNCIA COMERCIAL (inativo)","Despesas com Vendas2193,92"]
[null,null,null,4274.8999999999996,0,0,0,0,854.9799999999999,{"$f":"D258*'Série - IPCA'!$C$444/'Série - IPCA'!$C$385","v":5564.2838451784373},{"$f":"E258*'Série - IPCA'!$C$444/'Série - IPCA'!$C$398","v":0},{"$f":"F258*'Série - IPCA'!$C$444/'Série - IPCA'!$C$411","v":0},{"$f":"G258*'Série - IPCA'!$C$444/'Série - IPCA'!$C$424","v":0},{"$f":"H258*'Série - IPCA'!$C$444/'Série - IPCA'!$C$437","v":0},1112.8567690356874,"Despesas Gerais e Administratias","N","SIM","NÃO","ENCARGOS DE GESTÃO","FIXO","ALUGUÉIS",2100,"SECRETARIA","Despesas Gerais e Administratias854,98"]
[null,null,null,8236.31,0,0,0,0,1647.2619999999999,{"$f":"D259*'Série - IPCA'!$C$444/'Série - IPCA'!$C$385","v":10720.52367935662},{"$f":"E259*'Série - IPCA'!$C$444/'Série - IPCA'!$C$398","v":0},{"$f":"F259*'Série - IPCA'!$C$444/'Série - IPCA'!$C$411","v":0},{"$f":"G259*'Série - IPCA'!$C$444/'Série - IPCA'!$C$424","v":0},{"$f":"H259*'Série - IPCA'!$C$444/'Série - IPCA'!$C$437","v":0},2144.104735871324,"Despesas Gerais e Administratias","N","SIM","NÃO","ENCARGOS DE GESTÃO","FIXO","ALUGUÉIS",3100,"SMS","Despesas Gerais e Administratias1647,262"]
[null,null,null,14392.17,0,0,0,0,2878.4340000000002,{"$f":"D260*'Série - IPCA'!$C$444/'Série - IPCA'!$C$385","v":18733.097622882819},{"$f":"E260*'Série - IPCA'!$C$444/'Série - IPCA'!$C$398","v":0},{"$f":"F260*'Série - IPCA'!$C$444/'Série - IPCA'!$C$411","v":0},{"$f":"G260*'Série - IPCA'!$C$444/'Série - IPCA'!$C$424","v":0},{"$f":"H260*'Série - IPCA'!$C$444/'Série - IPCA'!$C$437","v":0},3746.6195245765639,"Despesas Gerais e Administratias","N","SIM","NÃO","ENCARGOS DE GESTÃO","FIXO","ALUGUÉIS",3400,"MARKETING","Despesas Gerais e Administratias2878,434"]
[null,null,null,14392.17,0,0,0,0,{"$f":"AVERAGE(D261:H261)","v":2878.4340000000002},{"$f":"D261*'Série - IPCA'!$C$444/'Série - IPCA'!$C$385","v":18733.097622882819},{"$f":"E261*'Série - IPCA'!$C$444/'Série - IPCA'!$C$398","v":0},{"$f":"F261*'Série - IPCA'!$C$444/'Série - IPCA'!$C$411","v":0},{"$f":"G261*'Série - IPCA'!$C$444/'Série - IPCA'!$C$424","v":0},{"$f":"H261*'Série - IPCA'!$C$444/'Série - IPCA'!$C$437","v":0},{"$f":"AVERAGE(J261:N261)","v":3746.6195245765639},"Despesas Gerais e Administratias","N","SIM","NÃO","ENCARGOS DE GESTÃO","FIXO","ALUGUÉIS",4600,"GERÊNCIA DE PESSOAS E CULTURA",{"$f":"B261&C261&P261&I261","v":"Despesas Gerais e Administratias2878,434"}]
[null,null,null,11244.6,20215.98,12286.3,4365.7299999999996,9163.5499999999993,11455.232,{"$f":"D262*'Série - IPCA'!$C$444/'Série - IPCA'!$C$385","v":14636.166021542833},{"$f":"E262*'Série - IPCA'!$C$444/'Série - IPCA'!$C$398","v":25176.147910583186},{"$f":"F262*'Série - IPCA'!$C$444/'Série - IPCA'!$C$411","v":13902.157720889789},{"$f":"G262*'Série - IPCA'!$C$444/'Série - IPCA'!$C$424","v":4669.7485629579551},{"$f":"H262*'Série - IPCA'!$C$444/'Série - IPCA'!$C$437","v":9368.7299836504881},13550.590039924849,"Custos","N","SIM","NÃO","OPEX","EXTENSÃO","MATERIAIS_MANUTENÇÃO",5100,"GERÊNCIA DE ENGENHARIA","Custos11455,232"]
[null,null,null,5251.24,5299.52,37029.199999999997,5085.7,6609.81,11855.093999999999,{"$f":"D263*'Série - IPCA'!$C$444/'Série - IPCA'!$C$385","v":6835.1048911447797},{"$f":"E263*'Série - IPCA'!$C$444/'Série - IPCA'!$C$398","v":6599.8036887202006},{"$f":"F263*'Série - IPCA'!$C$444/'Série - IPCA'!$C$411","v":41899.170513366284},{"$f":"G263*'Série - IPCA'!$C$444/'Série - IPCA'!$C$424","v":5439.855480443196},{"$f":"H263*'Série - IPCA'!$C$444/'Série - IPCA'!$C$437","v":6757.8094879422106},13506.348812323335,"Custos","N","SIM","NÃO","OPEX","EXTENSÃO","MATERIAIS_MANUTENÇÃO",5200,"GERÊNCIA DE OPERAÇÕES","Custos11855,094"]
[null,null,null,32308.28,13481.93,0,0,53.52,9168.7459999999992,{"$f":"D264*'Série - IPCA'!$C$444/'Série - IPCA'!$C$385","v":42053.016554656628},{"$f":"E264*'Série - IPCA'!$C$444/'Série - IPCA'!$C$398","v":16789.839710967699},{"$f":"F264*'Série - IPCA'!$C$444/'Série - IPCA'!$C$411","v":0},{"$f":"G264*'Série - IPCA'!$C$444/'Série - IPCA'!$C$424","v":0},{"$f":"H264*'Série - IPCA'!$C$444/'Série - IPCA'!$C$437","v":54.718360103341418},11779.514925145533,"Custos","N","SIM","NÃO","OPEX","EXTENSÃO","MATERIAIS_MANUTENÇÃO",5100,"GERÊNCIA DE ENGENHARIA","Custos9168,746"]
[null,null,null,1703.86,3444.55,300.39999999999998,0,126,1114.962,{"$f":"D265*'Série - IPCA'!$C$444/'Série - IPCA'!$C$385","v":2217.773672470872},{"$f":"E265*'Série - IPCA'!$C$444/'Série - IPCA'!$C$398","v":4289.7005381583931},{"$f":"F265*'Série - IPCA'!$C$444/'Série - IPCA'!$C$411","v":339.90771667265921},{"$f":"G265*'Série - IPCA'!$C$444/'Série - IPCA'!$C$424","v":0},{"$f":"H265*'Série - IPCA'!$C$444/'Série - IPCA'!$C$437","v":128.82125136436881},1395.2406357332586,"Custos","N","SIM","NÃO","OPEX","EXTENSÃO","MATERIAIS_MANUTENÇÃO",5200,"GERÊNCIA DE OPERAÇÕES","Custos1114,962"]
[null,null,null,516.62,2740.01,25093.41,13119.21,6703.35,9634.52,{"$f":"D266*'Série - IPCA'!$C$444/'Série - IPCA'!$C$385","v":672.44153549699047},{"$f":"E266*'Série - IPCA'!$C$444/'Série - IPCA'!$C$398","v":3412.2954730108081},{"$f":"F266*'Série - IPCA'!$C$444/'Série - IPCA'!$C$411","v":28393.620827666022},{"$f":"G266*'Série - IPCA'!$C$444/'Série - IPCA'!$C$424","v":14032.79910682604},{"$f":"H266*'Série - IPCA'!$C$444/'Série - IPCA'!$C$437","v":6853.443931216997},10672.920174843373,"Despesas com Vendas","N","SIM","NÃO","ENCARGOS DE COMERCIALIZAÇÃO","NÚMERO DE CLIENTES","MATERIAIS_MANUTENÇÃO",5300,"GERÊNCIA COMERCIAL","Despesas com Vendas9634,52"]
[null,null,null,2498.31,5934.99,187.2,7,13438.91,4413.2820000000002,{"$f":"D267*'Série - IPCA'!$C$444/'Série - IPCA'!$C$385","v":3251.8435456379661},{"$f":"E267*'Série - IPCA'!$C$444/'Série - IPCA'!$C$398","v":7391.191823885466},{"$f":"F267*'Série - IPCA'!$C$444/'Série - IPCA'!$C$411","v":211.81998855233621},{"$f":"G267*'Série - IPCA'!$C$444/'Série - IPCA'!$C$424","v":7.4874625642689061},{"$f":"H267*'Série - IPCA'!$C$444/'Série - IPCA'!$C$437","v":13739.819072802615},4920.4323786885307,"Despesas com Vendas","N","SIM","NÃO","ENCARGOS DE COMERCIALIZAÇÃO","NÚMERO DE CLIENTES","MATERIAIS_MANUTENÇÃO",5300,"GERÊNCIA COMERCIAL","Despesas com Vendas4413,282"]
[null,null,null,26654.44,0,0,0,0,5330.8879999999999,{"$f":"D268*'Série - IPCA'!$C$444/'Série - IPCA'!$C$385","v":34693.880533878677},{"$f":"E268*'Série - IPCA'!$C$444/'Série - IPCA'!$C$398","v":0},{"$f":"F268*'Série - IPCA'!$C$444/'Série - IPCA'!$C$411","v":0},{"$f":"G268*'Série - IPCA'!$C$444/'Série - IPCA'!$C$424","v":0},{"$f":"H268*'Série - IPCA'!$C$444/'Série - IPCA'!$C$437","v":0},6938.7761067757356,"Despesas com Vendas","N","SIM","NÃO","ENCARGOS DE COMERCIALIZAÇÃO","NÚMERO DE CLIENTES","MATERIAIS_MANUTENÇÃO",5400,"GERÊNCIA COMERCIAL (inativo)","Despesas com Vendas5330,888"]
[null,null,null,0,1522.71,1783.42,1630.58,1630.56,1313.4540000000002,{"$f":"D269*'Série - IPCA'!$C$444/'Série - IPCA'!$C$385","v":0},{"$f":"E269*'Série - IPCA'!$C$444/'Série - IPCA'!$C$398","v":1896.3202468999339},{"$f":"F269*'Série - IPCA'!$C$444/'Série - IPCA'!$C$411","v":2017.9701067521767},{"$f":"G269*'Série - IPCA'!$C$444/'Série - IPCA'!$C$424","v":1744.1295297207989},{"$f":"H269*'Série - IPCA'!$C$444/'Série - IPCA'!$C$437","v":1667.0696795609936},1465.0979125867807,"Despesas com Vendas","S","NÃO ",null,"ENCARGOS DE COMERCIALIZAÇÃO","VOLUME","DESPESAS GERAIS",5300,"GERÊNCIA COMERCIAL","Despesas com Vendas1313,454"]
[null,null,null,3289.31,0,0,0,0,657.86199999999997,{"$f":"D270*'Série - IPCA'!$C$444/'Série - IPCA'!$C$385","v":4281.4228390801854},{"$f":"E270*'Série - IPCA'!$C$444/'Série - IPCA'!$C$398","v":0},{"$f":"F270*'Série - IPCA'!$C$444/'Série - IPCA'!$C$411","v":0},{"$f":"G270*'Série - IPCA'!$C$444/'Série - IPCA'!$C$424","v":0},{"$f":"H270*'Série - IPCA'!$C$444/'Série - IPCA'!$C$437","v":0},856.28456781603711,"Despesas com Vendas","S","NÃO",null,"ENCARGOS DE COMERCIALIZAÇÃO","VOLUME","DESPESAS GERAIS",5400,"GERÊNCIA COMERCIAL (inativo)","Despesas com Vendas657,862"]
[null,null,null,549.04999999999995,204.95,0,0,0,150.80000000000001,{"$f":"D271*'Série - IPCA'!$C$444/'Série - IPCA'!$C$385","v":714.65298491080978},{"$f":"E271*'Série - IPCA'!$C$444/'Série - IPCA'!$C$398","v":255.23627913531888},{"$f":"F271*'Série - IPCA'!$C$444/'Série - IPCA'!$C$411","v":0},{"$f":"G271*'Série - IPCA'!$C$444/'Série - IPCA'!$C$424","v":0},{"$f":"H271*'Série - IPCA'!$C$444/'Série - IPCA'!$C$437","v":0},193.97785280922574,"Despesas com Vendas","S","NÃO",null,"ENCARGOS DE COMERCIALIZAÇÃO","VOLUME","DESPESAS GERAIS",5500,"GERÊNCIA COMERCIAL (inativo)","Despesas com Vendas150,8"]
[null,null,null,47.77,106.3,308.61,0,0,92.536000000000001,{"$f":"D272*'Série - IPCA'!$C$444/'Série - IPCA'!$C$385","v":62.178258973116094},{"$f":"E272*'Série - IPCA'!$C$444/'Série - IPCA'!$C$398","v":132.38163684842351},{"$f":"F272*'Série - IPCA'!$C$444/'Série - IPCA'!$C$411","v":349.19747151248123},{"$f":"G272*'Série - IPCA'!$C$444/'Série - IPCA'!$C$424","v":0},{"$f":"H272*'Série - IPCA'!$C$444/'Série - IPCA'!$C$437","v":0},108.75147346680417,"Despesas Gerais e Administratias","N","SIM","NÃO","ENCARGOS DE GESTÃO","FIXO","MATERIAIS_MANUTENÇÃO",1001,"CONSELHO DE ADMINISTRAÇÃO","Despesas Gerais e Administratias92,536"]
[null,null,null,1510.53,669.57,0,0,0,436.02,{"$f":"D273*'Série - IPCA'!$C$444/'Série - IPCA'!$C$385","v":1966.1319976274031},{"$f":"E273*'Série - IPCA'!$C$444/'Série - IPCA'!$C$398","v":833.85486909312272},{"$f":"F273*'Série - IPCA'!$C$444/'Série - IPCA'!$C$411","v":0},{"$f":"G273*'Série - IPCA'!$C$444/'Série - IPCA'!$C$424","v":0},{"$f":"H273*'Série - IPCA'!$C$444/'Série - IPCA'!$C$437","v":0},559.99737334410509,"Despesas Gerais e Administratias","N","SIM","NÃO","ENCARGOS DE GESTÃO","FIXO","MATERIAIS_MANUTENÇÃO",1002,"CONSELHO FISCAL","Despesas Gerais e Administratias436,02"]
[null,null,null,0,0,0,132.28,1004.91,227.43800000000002,{"$f":"D274*'Série - IPCA'!$C$444/'Série - IPCA'!$C$385","v":0},{"$f":"E274*'Série - IPCA'!$C$444/'Série - IPCA'!$C$398","v":0},{"$f":"F274*'Série - IPCA'!$C$444/'Série - IPCA'!$C$411","v":0},{"$f":"G274*'Série - IPCA'!$C$444/'Série - IPCA'!$C$424","v":141.49164971449872},{"$f":"H274*'Série - IPCA'!$C$444/'Série - IPCA'!$C$437","v":1027.4108230838719},233.78049455967411,"Despesas Gerais e Administratias","N","SIM","SIM","ENCARGOS DE GESTÃO","FIXO","MATERIAIS_MANUTENÇÃO",1004,"COMITÊ DE AUDITORIA ESTATUTÁRIA","Despesas Gerais e Administratias227,438"]
[null,null,null,0,0,0,20.8,71.84,18.527999999999999,{"$f":"D275*'Série - IPCA'!$C$444/'Série - IPCA'!$C$385","v":0},{"$f":"E275*'Série - IPCA'!$C$444/'Série - IPCA'!$C$398","v":0},{"$f":"F275*'Série - IPCA'!$C$444/'Série - IPCA'!$C$411","v":0},{"$f":"G275*'Série - IPCA'!$C$444/'Série - IPCA'!$C$424","v":22.248460190970462},{"$f":"H275*'Série - IPCA'!$C$444/'Série - IPCA'!$C$437","v":73.448561095367097},19.139404257267511,"Despesas Gerais e Administratias","N","SIM","NÃO","ENCARGOS DE GESTÃO","FIXO","MATERIAIS_MANUTENÇÃO",1005,"AUDITORIA INTERNA","Despesas Gerais e Administratias18,528"]
[null,null,null,0,0,879.52,0,1872,550.30399999999997,{"$f":"D276*'Série - IPCA'!$C$444/'Série - IPCA'!$C$385","v":0},{"$f":"E276*'Série - IPCA'!$C$444/'Série - IPCA'!$C$398","v":0},{"$f":"F276*'Série - IPCA'!$C$444/'Série - IPCA'!$C$411","v":995.19186074546337},{"$f":"G276*'Série - IPCA'!$C$444/'Série - IPCA'!$C$424","v":0},{"$f":"H276*'Série - IPCA'!$C$444/'Série - IPCA'!$C$437","v":1913.9157345563365},581.82151906035995,"Despesas Gerais e Administratias","N","SIM","NÃO","ENCARGOS DE GESTÃO","FIXO","MATERIAIS_MANUTENÇÃO",1010,"GOVERNANÇA SOCIETÁRIA","Despesas Gerais e Administratias550,304"]
[null,null,null,0,0,405.97,1691.16,0,419.42600000000004,{"$f":"D277*'Série - IPCA'!$C$444/'Série - IPCA'!$C$385","v":0},{"$f":"E277*'Série - IPCA'!$C$444/'Série - IPCA'!$C$398","v":0},{"$f":"F277*'Série - IPCA'!$C$444/'Série - IPCA'!$C$411","v":459.36196983222192},{"$f":"G277*'Série - IPCA'!$C$444/'Série - IPCA'!$C$424","v":1808.9281700270005},{"$f":"H277*'Série - IPCA'!$C$444/'Série - IPCA'!$C$437","v":0},453.65802797184449,"Despesas Gerais e Administratias","N","SIM","NÃO","ENCARGOS DE GESTÃO","FIXO","MATERIAIS_MANUTENÇÃO",2100,"SECRETARIA","Despesas Gerais e Administratias419,426"]
[null,null,null,0,0,0,226.67,4056,856.53399999999999,{"$f":"D278*'Série - IPCA'!$C$444/'Série - IPCA'!$C$385","v":0},{"$f":"E278*'Série - IPCA'!$C$444/'Série - IPCA'!$C$398","v":0},{"$f":"F278*'Série - IPCA'!$C$444/'Série - IPCA'!$C$411","v":0},{"$f":"G278*'Série - IPCA'!$C$444/'Série - IPCA'!$C$424","v":242.45473420611899},{"$f":"H278*'Série - IPCA'!$C$444/'Série - IPCA'!$C$437","v":4146.8174248720625},877.85443181563619,"Despesas Gerais e Administratias","N","SIM","NÃO","ENCARGOS DE GESTÃO","FIXO","MATERIAIS_MANUTENÇÃO",2110,"ASSESSORIA DA DIRETORIA EXECUTIVA","Despesas Gerais e Administratias856,534"]
[null,null,null,0,0,818.28,1950.06,1282.99,810.26599999999996,{"$f":"D279*'Série - IPCA'!$C$444/'Série - IPCA'!$C$385","v":0},{"$f":"E279*'Série - IPCA'!$C$444/'Série - IPCA'!$C$398","v":0},{"$f":"F279*'Série - IPCA'!$C$444/'Série - IPCA'!$C$411","v":925.8977576528082},{"$f":"G279*'Série - IPCA'!$C$444/'Série - IPCA'!$C$424","v":2085.857321154032},{"$f":"H279*'Série - IPCA'!$C$444/'Série - IPCA'!$C$437","v":1311.7172800632659},864.69447177402128,"Despesas Gerais e Administratias","N","SIM","NÃO","ENCARGOS DE GESTÃO","FIXO","MATERIAIS_MANUTENÇÃO",2120,"ASSESSORIA DA PRESIDÊNCIA","Despesas Gerais e Administratias810,266"]
[null,null,null,0,0,330,1672.99,333.72,467.34199999999998,{"$f":"D280*'Série - IPCA'!$C$444/'Série - IPCA'!$C$385","v":0},{"$f":"E280*'Série - IPCA'!$C$444/'Série - IPCA'!$C$398","v":0},{"$f":"F280*'Série - IPCA'!$C$444/'Série - IPCA'!$C$411","v":373.40062084546446},{"$f":"G280*'Série - IPCA'!$C$444/'Série - IPCA'!$C$424","v":1789.4928564851766},{"$f":"H280*'Série - IPCA'!$C$444/'Série - IPCA'!$C$437","v":341.19228575648543},500.81715261742528,"Despesas Gerais e Administratias","N","SIM","NÃO","ENCARGOS DE GESTÃO","FIXO","MATERIAIS_MANUTENÇÃO",2130,"ASSESSORIA DE RELAÇÕES INSTITUCIONAIS E NOVOS NEGÓCIOS","Despesas Gerais e Administratias467,342"]
[null,null,null,6503.09,3764.24,347.76,782.7,3024.14,2884.386,{"$f":"D281*'Série - IPCA'!$C$444/'Série - IPCA'!$C$385","v":8464.5345226184108},{"$f":"E281*'Série - IPCA'!$C$444/'Série - IPCA'!$C$398","v":4687.8292821289715},{"$f":"F281*'Série - IPCA'!$C$444/'Série - IPCA'!$C$411","v":393.49636334914771},{"$f":"G281*'Série - IPCA'!$C$444/'Série - IPCA'!$C$424","v":837.20527843618197},{"$f":"H281*'Série - IPCA'!$C$444/'Série - IPCA'!$C$437","v":3091.8531674685892},3494.9837228002607,"Despesas Gerais e Administratias","N","SIM","NÃO","ENCARGOS DE GESTÃO","FIXO","MATERIAIS_MANUTENÇÃO",2200,"DIRETORIA COLEGIADA - PRESIDÊNCIA","Despesas Gerais e Administratias2884,386"]
[null,null,null,958.39,0,0,259.7,1089.99,461.61599999999999,{"$f":"D282*'Série - IPCA'!$C$444/'Série - IPCA'!$C$385","v":1247.4570152238796},{"$f":"E282*'Série - IPCA'!$C$444/'Série - IPCA'!$C$398","v":0},{"$f":"F282*'Série - IPCA'!$C$444/'Série - IPCA'!$C$411","v":0},{"$f":"G282*'Série - IPCA'!$C$444/'Série - IPCA'!$C$424","v":277.7848611343764},{"$f":"H282*'Série - IPCA'!$C$444/'Série - IPCA'!$C$437","v":1114.395839481336},527.92754316791832,"Despesas Gerais e Administratias","N","SIM","NÃO","ENCARGOS DE GESTÃO","FIXO","MATERIAIS_MANUTENÇÃO",2300,"DIRETORIA COLEGIADA - DAF","Despesas Gerais e Administratias461,616"]
[null,null,null,0,1528,5051.87,286,209.42,1415.058,{"$f":"D283*'Série - IPCA'!$C$444/'Série - IPCA'!$C$385","v":0},{"$f":"E283*'Série - IPCA'!$C$444/'Série - IPCA'!$C$398","v":1902.9081947731995},{"$f":"F283*'Série - IPCA'!$C$444/'Série - IPCA'!$C$411","v":5716.2769528199287},{"$f":"G283*'Série - IPCA'!$C$444/'Série - IPCA'!$C$424","v":305.91632762584385},{"$f":"H283*'Série - IPCA'!$C$444/'Série - IPCA'!$C$437","v":214.10909889465168},1627.8421148227249,"Despesas Gerais e Administratias","N","SIM","NÃO","ENCARGOS DE GESTÃO","FIXO","MATERIAIS_MANUTENÇÃO",2310,"ASSESSORIA DAF","Despesas Gerais e Administratias1415,058"]
[null,null,null,882.38,288.25,0,878.31,3613.93,1132.5740000000001,{"$f":"D284*'Série - IPCA'!$C$444/'Série - IPCA'!$C$385","v":1148.5210833723711},{"$f":"E284*'Série - IPCA'!$C$444/'Série - IPCA'!$C$398","v":358.97466436084733},{"$f":"F284*'Série - IPCA'!$C$444/'Série - IPCA'!$C$411","v":0},{"$f":"G284*'Série - IPCA'!$C$444/'Série - IPCA'!$C$424","v":939.47332068900323},{"$f":"H284*'Série - IPCA'!$C$444/'Série - IPCA'!$C$437","v":3694.849086851058},1228.3636310546558,"Despesas Gerais e Administratias","N","SIM","NÃO","ENCARGOS DE GESTÃO","FIXO","MATERIAIS_MANUTENÇÃO",2400,"DIRETORIA COLEGIADA - DTC","Despesas Gerais e Administratias1132,574"]
[null,null,null,0,44.48,11501.76,638,2116.8000000000002,2860.2080000000001,{"$f":"D285*'Série - IPCA'!$C$444/'Série - IPCA'!$C$385","v":0},{"$f":"E285*'Série - IPCA'!$C$444/'Série - IPCA'!$C$398","v":55.393557921146538},{"$f":"F285*'Série - IPCA'!$C$444/'Série - IPCA'!$C$411","v":13014.437347925847},{"$f":"G285*'Série - IPCA'!$C$444/'Série - IPCA'!$C$424","v":682.42873085765177},{"$f":"H285*'Série - IPCA'!$C$444/'Série - IPCA'!$C$437","v":2164.1970229213957},3183.2913319252084,"Despesas Gerais e Administratias","N","SIM","NÃO","ENCARGOS DE GESTÃO","FIXO","MATERIAIS_MANUTENÇÃO",2410,"ASSESSORIA DE SEGURANÇA DO TRABALHO","Despesas Gerais e Administratias2860,208"]
[null,null,null,221.06,0,137,0,265.10000000000002,124.63200000000002,{"$f":"D286*'Série - IPCA'!$C$444/'Série - IPCA'!$C$385","v":287.7355228929672},{"$f":"E286*'Série - IPCA'!$C$444/'Série - IPCA'!$C$398","v":0},{"$f":"F286*'Série - IPCA'!$C$444/'Série - IPCA'!$C$411","v":155.01783350251102},{"$f":"G286*'Série - IPCA'!$C$444/'Série - IPCA'!$C$424","v":0},{"$f":"H286*'Série - IPCA'!$C$444/'Série - IPCA'!$C$437","v":271.03582330709662},142.75783594051498,"Despesas Gerais e Administratias","N","SIM","NÃO","ENCARGOS DE GESTÃO","FIXO","MATERIAIS_MANUTENÇÃO",3100,"SMS","Despesas Gerais e Administratias124,632"]
[null,null,null,3251.71,475.52,4802.21,1552.2,2166.16,2449.5600000000004,{"$f":"D287*'Série - IPCA'!$C$444/'Série - IPCA'!$C$385","v":4232.482028165613},{"$f":"E287*'Série - IPCA'!$C$444/'Série - IPCA'!$C$398","v":592.19300050952336},{"$f":"F287*'Série - IPCA'!$C$444/'Série - IPCA'!$C$411","v":5433.7824103948424},{"$f":"G287*'Série - IPCA'!$C$444/'Série - IPCA'!$C$424","v":1660.2913417511709},{"$f":"H287*'Série - IPCA'!$C$444/'Série - IPCA'!$C$437","v":2214.6622369479455},2826.6822035538185,"Despesas Gerais e Administratias","N","SIM","NÃO","ENCARGOS DE GESTÃO","FIXO","MATERIAIS_MANUTENÇÃO",3200,"GERÊNCIA DE PLANEJAMENTO E MEIO AMBIENTE","Despesas Gerais e Administratias2449,56"]
[null,null,null,1568.17,2053.08,20511.740000000002,533.13,2089.61,5351.1460000000006,{"$f":"D288*'Série - IPCA'!$C$444/'Série - IPCA'!$C$385","v":2041.1572194655946},{"$f":"E288*'Série - IPCA'!$C$444/'Série - IPCA'!$C$398","v":2556.8211757362305},{"$f":"F288*'Série - IPCA'!$C$444/'Série - IPCA'!$C$411","v":23209.383183699239},{"$f":"G288*'Série - IPCA'!$C$444/'Série - IPCA'!$C$424","v":570.25584526981174},{"$f":"H288*'Série - IPCA'!$C$444/'Série - IPCA'!$C$437","v":2136.3982147896722},6102.8031277921091,"Despesas Gerais e Administratias","N","SIM","NÃO","ENCARGOS DE GESTÃO","FIXO","MATERIAIS_MANUTENÇÃO",3300,"GERÊNCIA JURÍDICA","Despesas Gerais e Administratias5351,146"]
[null,null,null,0,506.56,5095.75,1950.46,3046.68,2119.8900000000003,{"$f":"D289*'Série - IPCA'!$C$444/'Série - IPCA'!$C$385","v":0},{"$f":"E289*'Série - IPCA'!$C$444/'Série - IPCA'!$C$398","v":630.84893661276965},{"$f":"F289*'Série - IPCA'!$C$444/'Série - IPCA'!$C$411","v":5765.9279202220478},{"$f":"G289*'Série - IPCA'!$C$444/'Série - IPCA'!$C$424","v":2086.2851761577044},{"$f":"H289*'Série - IPCA'!$C$444/'Série - IPCA'!$C$437","v":3114.8978579904374},2319.5919781965922,"Despesas Gerais e Administratias","N","SIM","NÃO","ENCARGOS DE GESTÃO","FIXO","MATERIAIS_MANUTENÇÃO",3500,"ASSESSORIA DE COMUNICAÇÃO INSTITUCIONAL","Despesas Gerais e Administratias2119,89"]
[null,null,null,154.79,116.54,0,86,296.60000000000002,130.786,{"$f":"D290*'Série - IPCA'!$C$444/'Série - IPCA'!$C$385","v":201.47734365603179},{"$f":"E290*'Série - IPCA'!$C$444/'Série - IPCA'!$C$398","v":145.13411061444287},{"$f":"F290*'Série - IPCA'!$C$444/'Série - IPCA'!$C$411","v":0},{"$f":"G290*'Série - IPCA'!$C$444/'Série - IPCA'!$C$424","v":91.988825789589427},{"$f":"H290*'Série - IPCA'!$C$444/'Série - IPCA'!$C$437","v":303.24113614818879},148.36828324165057,"Despesas Gerais e Administratias","N","SIM","NÃO","ENCARGOS DE GESTÃO","FIXO","MATERIAIS_MANUTENÇÃO",3600,"GERÊNCIA DE GOVERNANÇA, RISCO E COMPLIANCE","Despesas Gerais e Administratias130,786"]
[null,null,null,0,0,141.19999999999999,197.84,2526.08,573.024,{"$f":"D291*'Série - IPCA'!$C$444/'Série - IPCA'!$C$385","v":0},{"$f":"E291*'Série - IPCA'!$C$444/'Série - IPCA'!$C$398","v":0},{"$f":"F291*'Série - IPCA'!$C$444/'Série - IPCA'!$C$411","v":159.7702050405442},{"$f":"G291*'Série - IPCA'!$C$444/'Série - IPCA'!$C$424","v":211.6170848164229},{"$f":"H291*'Série - IPCA'!$C$444/'Série - IPCA'!$C$437","v":2582.6411638611485},590.80569074362313,"Despesas Gerais e Administratias","N","SIM","NÃO","ENCARGOS DE GESTÃO","FIXO","MATERIAIS_MANUTENÇÃO",3700,"GERÊNCIA DE REGULAÇÃO","Despesas Gerais e Administratias573,024"]
[null,null,null,0,55558.09,213547.88,18821.22,2728.9,58131.217999999993,{"$f":"D292*'Série - IPCA'!$C$444/'Série - IPCA'!$C$385","v":0},{"$f":"E292*'Série - IPCA'!$C$444/'Série - IPCA'!$C$398","v":69189.754415541189},{"$f":"F292*'Série - IPCA'!$C$444/'Série - IPCA'!$C$411","v":241633.06355222044},{"$f":"G292*'Série - IPCA'!$C$444/'Série - IPCA'!$C$424","v":20131.882880552748},{"$f":"H292*'Série - IPCA'!$C$444/'Série - IPCA'!$C$437","v":2790.002482922429},66748.940666247363,"Despesas Gerais e Administratias","N","SIM","NÃO","ENCARGOS DE GESTÃO","FIXO","MATERIAIS_MANUTENÇÃO",4100,"GERÊNCIA DE SERVIÇOS CORPORATIVOS","Despesas Gerais e Administratias58131,218"]
[null,null,null,989.21,2150.56,10229.02,253.44,4938.87,3712.2200000000003,{"$f":"D293*'Série - IPCA'!$C$444/'Série - IPCA'!$C$385","v":1287.572860766091},{"$f":"E293*'Série - IPCA'!$C$444/'Série - IPCA'!$C$398","v":2678.2187482666573},{"$f":"F293*'Série - IPCA'!$C$444/'Série - IPCA'!$C$411","v":11574.310359517192},{"$f":"G293*'Série - IPCA'!$C$444/'Série - IPCA'!$C$424","v":271.08893032690168},{"$f":"H293*'Série - IPCA'!$C$444/'Série - IPCA'!$C$437","v":5049.4556644915883},4172.1293126736864,"Despesas Gerais e Administratias","N","SIM","NÃO","ENCARGOS DE GESTÃO","FIXO","MATERIAIS_MANUTENÇÃO",4200,"GERÊNCIA FINANCEIRA","Despesas Gerais e Administratias3712,22"]
[null,null,null,1076.8900000000001,5725.26,30421.05,1700.08,4401.5600000000004,8664.9679999999989,{"$f":"D294*'Série - IPCA'!$C$444/'Série - IPCA'!$C$385","v":1401.6986666434789},{"$f":"E294*'Série - IPCA'!$C$444/'Série - IPCA'!$C$398","v":7130.0027298476489},{"$f":"F294*'Série - IPCA'!$C$444/'Série - IPCA'!$C$411","v":34421.936232639142},{"$f":"G294*'Série - IPCA'!$C$444/'Série - IPCA'!$C$424","v":1818.4693366088975},{"$f":"H294*'Série - IPCA'!$C$444/'Série - IPCA'!$C$437","v":4500.1148186932633},9854.4443568864863,"Despesas Gerais e Administratias","N","SIM","NÃO","ENCARGOS DE GESTÃO","FIXO","MATERIAIS_MANUTENÇÃO",4300,"GERÊNCIA DE TECNOLOGIA E SISTEMAS DE INFORMAÇÃO","Despesas Gerais e Administratias8664,968"]
[null,null,null,544.57000000000005,407.42,13077.13,185.36,2382.7600000000002,3319.4479999999994,{"$f":"D295*'Série - IPCA'!$C$444/'Série - IPCA'!$C$385","v":708.82173935503101},{"$f":"E295*'Série - IPCA'!$C$444/'Série - IPCA'!$C$398","v":507.38406853042994},{"$f":"F295*'Série - IPCA'!$C$444/'Série - IPCA'!$C$411","v":14796.99533599045},{"$f":"G295*'Série - IPCA'!$C$444/'Série - IPCA'!$C$424","v":198.26800870184067},{"$f":"H295*'Série - IPCA'!$C$444/'Série - IPCA'!$C$437","v":2436.1121023885985},3729.5162509932698,"Despesas Gerais e Administratias","N","SIM","NÃO","ENCARGOS DE GESTÃO","FIXO","MATERIAIS_MANUTENÇÃO",4500,"GERÊNCIA CONTÁBIL","Despesas Gerais e Administratias3319,448"]
[null,null,null,242.98,47.26,0,0,0,58.048000000000002,{"$f":"D296*'Série - IPCA'!$C$444/'Série - IPCA'!$C$385","v":316.2669743623141},{"$f":"E296*'Série - IPCA'!$C$444/'Série - IPCA'!$C$398","v":58.855655291218198},{"$f":"F296*'Série - IPCA'!$C$444/'Série - IPCA'!$C$411","v":0},{"$f":"G296*'Série - IPCA'!$C$444/'Série - IPCA'!$C$424","v":0},{"$f":"H296*'Série - IPCA'!$C$444/'Série - IPCA'!$C$437","v":0},75.02452593070646,"Despesas Gerais e Administratias","N","SIM","NÃO","ENCARGOS DE GESTÃO","FIXO","MATERIAIS_MANUTENÇÃO",1001,"CONSELHO DE ADMINISTRAÇÃO","Despesas Gerais e Administratias58,048"]
[null,null,null,0,0,0,113.46,0,22.692,{"$f":"D297*'Série - IPCA'!$C$444/'Série - IPCA'!$C$385","v":0},{"$f":"E297*'Série - IPCA'!$C$444/'Série - IPCA'!$C$398","v":0},{"$f":"F297*'Série - IPCA'!$C$444/'Série - IPCA'!$C$411","v":0},{"$f":"G297*'Série - IPCA'!$C$444/'Série - IPCA'!$C$424","v":121.36107179170716},{"$f":"H297*'Série - IPCA'!$C$444/'Série - IPCA'!$C$437","v":0},24.272214358341433,"Despesas Gerais e Administratias","N","SIM","SIM","ENCARGOS DE GESTÃO","FIXO","MATERIAIS_MANUTENÇÃO",1004,"COMITÊ DE AUDITORIA ESTATUTÁRIA","Despesas Gerais e Administratias22,692"]
[null,null,null,0,0,0,0,55.76,11.151999999999999,{"$f":"D298*'Série - IPCA'!$C$444/'Série - IPCA'!$C$385","v":0},{"$f":"E298*'Série - IPCA'!$C$444/'Série - IPCA'!$C$398","v":0},{"$f":"F298*'Série - IPCA'!$C$444/'Série - IPCA'!$C$411","v":0},{"$f":"G298*'Série - IPCA'!$C$444/'Série - IPCA'!$C$424","v":0},{"$f":"H298*'Série - IPCA'!$C$444/'Série - IPCA'!$C$437","v":57.008515683152417},11.401703136630484,"Despesas Gerais e Administratias","N","SIM","NÃO","ENCARGOS DE GESTÃO","FIXO","MATERIAIS_MANUTENÇÃO",1005,"AUDITORIA INTERNA","Despesas Gerais e Administratias11,152"]
[null,null,null,573,62.56,0,259.91000000000003,0,179.09399999999999,{"$f":"D299*'Série - IPCA'!$C$444/'Série - IPCA'!$C$385","v":745.82671952261921},{"$f":"E299*'Série - IPCA'!$C$444/'Série - IPCA'!$C$398","v":77.909644414274453},{"$f":"F299*'Série - IPCA'!$C$444/'Série - IPCA'!$C$411","v":0},{"$f":"G299*'Série - IPCA'!$C$444/'Série - IPCA'!$C$424","v":278.00948501130449},{"$f":"H299*'Série - IPCA'!$C$444/'Série - IPCA'!$C$437","v":0},220.34916978963966,"Despesas Gerais e Administratias","N","SIM","NÃO","ENCARGOS DE GESTÃO","FIXO","MATERIAIS_MANUTENÇÃO",2100,"SECRETARIA","Despesas Gerais e Administratias179,094"]
[null,null,null,0,0,0,0,1030.99,206.19800000000001,{"$f":"D300*'Série - IPCA'!$C$444/'Série - IPCA'!$C$385","v":0},{"$f":"E300*'Série - IPCA'!$C$444/'Série - IPCA'!$C$398","v":0},{"$f":"F300*'Série - IPCA'!$C$444/'Série - IPCA'!$C$411","v":0},{"$f":"G300*'Série - IPCA'!$C$444/'Série - IPCA'!$C$424","v":0},{"$f":"H300*'Série - IPCA'!$C$444/'Série - IPCA'!$C$437","v":1054.0747773345286},210.8149554669057,"Despesas Gerais e Administratias","N","SIM","NÃO","ENCARGOS DE GESTÃO","FIXO","MATERIAIS_MANUTENÇÃO",2120,"ASSESSORIA DA PRESIDÊNCIA","Despesas Gerais e Administratias206,198"]
[null,null,null,0,0,0,213.5,0,42.7,{"$f":"D301*'Série - IPCA'!$C$444/'Série - IPCA'!$C$385","v":0},{"$f":"E301*'Série - IPCA'!$C$444/'Série - IPCA'!$C$398","v":0},{"$f":"F301*'Série - IPCA'!$C$444/'Série - IPCA'!$C$411","v":0},{"$f":"G301*'Série - IPCA'!$C$444/'Série - IPCA'!$C$424","v":228.36760821020167},{"$f":"H301*'Série - IPCA'!$C$444/'Série - IPCA'!$C$437","v":0},45.673521642040335,"Despesas Gerais e Administratias","N","SIM","NÃO","ENCARGOS DE GESTÃO","FIXO","MATERIAIS_MANUTENÇÃO",2130,"ASSESSORIA DE RELAÇÕES INSTITUCIONAIS E NOVOS NEGÓCIOS","Despesas Gerais e Administratias42,7"]
[null,null,null,0,0,0,0,134.96,26.992000000000001,{"$f":"D302*'Série - IPCA'!$C$444/'Série - IPCA'!$C$385","v":0},{"$f":"E302*'Série - IPCA'!$C$444/'Série - IPCA'!$C$398","v":0},{"$f":"F302*'Série - IPCA'!$C$444/'Série - IPCA'!$C$411","v":0},{"$f":"G302*'Série - IPCA'!$C$444/'Série - IPCA'!$C$424","v":0},{"$f":"H302*'Série - IPCA'!$C$444/'Série - IPCA'!$C$437","v":137.9818736836128},27.596374736722559,"Despesas Gerais e Administratias","N","SIM","NÃO","ENCARGOS DE GESTÃO","FIXO","MATERIAIS_MANUTENÇÃO",2140,"ASSESSORIA DTC","Despesas Gerais e Administratias26,992"]
[null,null,null,1416.42,676.3,0,40,1990.16,824.57600000000002,{"$f":"D303*'Série - IPCA'!$C$444/'Série - IPCA'!$C$385","v":1843.6367924366987},{"$f":"E303*'Série - IPCA'!$C$444/'Série - IPCA'!$C$398","v":842.23613358973478},{"$f":"F303*'Série - IPCA'!$C$444/'Série - IPCA'!$C$411","v":0},{"$f":"G303*'Série - IPCA'!$C$444/'Série - IPCA'!$C$424","v":42.78550036725089},{"$f":"H303*'Série - IPCA'!$C$444/'Série - IPCA'!$C$437","v":2034.7214413913669},952.67597355701014,"Despesas Gerais e Administratias","N","SIM","NÃO","ENCARGOS DE GESTÃO","FIXO","MATERIAIS_MANUTENÇÃO",2200,"DIRETORIA COLEGIADA - PRESIDÊNCIA","Despesas Gerais e Administratias824,576"]
[null,null,null,364.99,253.13,0,0,420.65,207.75399999999999,{"$f":"D304*'Série - IPCA'!$C$444/'Série - IPCA'!$C$385","v":475.0773025454813},{"$f":"E304*'Série - IPCA'!$C$444/'Série - IPCA'!$C$398","v":315.23766449145285},{"$f":"F304*'Série - IPCA'!$C$444/'Série - IPCA'!$C$411","v":0},{"$f":"G304*'Série - IPCA'!$C$444/'Série - IPCA'!$C$424","v":0},{"$f":"H304*'Série - IPCA'!$C$444/'Série - IPCA'!$C$437","v":430.06872528906138},244.0767384651991,"Despesas Gerais e Administratias","N","SIM","NÃO","ENCARGOS DE GESTÃO","FIXO","MATERIAIS_MANUTENÇÃO",2300,"DIRETORIA COLEGIADA - DAF","Despesas Gerais e Administratias207,754"]
[null,null,null,0,889.83,0,179.97,0,213.95999999999998,{"$f":"D305*'Série - IPCA'!$C$444/'Série - IPCA'!$C$385","v":0},{"$f":"E305*'Série - IPCA'!$C$444/'Série - IPCA'!$C$398","v":1108.1575909391597},{"$f":"F305*'Série - IPCA'!$C$444/'Série - IPCA'!$C$411","v":0},{"$f":"G305*'Série - IPCA'!$C$444/'Série - IPCA'!$C$424","v":192.50266252735358},{"$f":"H305*'Série - IPCA'!$C$444/'Série - IPCA'!$C$437","v":0},260.13205069330263,"Despesas Gerais e Administratias","N","SIM","NÃO","ENCARGOS DE GESTÃO","FIXO","MATERIAIS_MANUTENÇÃO",2310,"ASSESSORIA DAF","Despesas Gerais e Administratias213,96"]
[null,null,null,186.15,312.45999999999998,0,0,140.5,127.822,{"$f":"D306*'Série - IPCA'!$C$444/'Série - IPCA'!$C$385","v":242.29606254648439},{"$f":"E306*'Série - IPCA'!$C$444/'Série - IPCA'!$C$398","v":389.12480009085988},{"$f":"F306*'Série - IPCA'!$C$444/'Série - IPCA'!$C$411","v":0},{"$f":"G306*'Série - IPCA'!$C$444/'Série - IPCA'!$C$424","v":0},{"$f":"H306*'Série - IPCA'!$C$444/'Série - IPCA'!$C$437","v":143.64591918010964},155.0133563634908,"Despesas Gerais e Administratias","N","SIM","NÃO","ENCARGOS DE GESTÃO","FIXO","MATERIAIS_MANUTENÇÃO",2400,"DIRETORIA COLEGIADA - DTC","Despesas Gerais e Administratias127,822"]
[null,null,null,0,0,0,0,113.04,22.608000000000001,{"$f":"D307*'Série - IPCA'!$C$444/'Série - IPCA'!$C$385","v":0},{"$f":"E307*'Série - IPCA'!$C$444/'Série - IPCA'!$C$398","v":0},{"$f":"F307*'Série - IPCA'!$C$444/'Série - IPCA'!$C$411","v":0},{"$f":"G307*'Série - IPCA'!$C$444/'Série - IPCA'!$C$424","v":0},{"$f":"H307*'Série - IPCA'!$C$444/'Série - IPCA'!$C$437","v":115.57106550974801},23.114213101949602,"Despesas Gerais e Administratias","N","SIM","NÃO","ENCARGOS DE GESTÃO","FIXO","MATERIAIS_MANUTENÇÃO",2410,"ASSESSORIA DE SEGURANÇA DO TRABALHO","Despesas Gerais e Administratias22,608"]
[null,null,null,696.74,0,0,0,0,139.34800000000001,{"$f":"D308*'Série - IPCA'!$C$444/'Série - IPCA'!$C$385","v":906.88884565478133},{"$f":"E308*'Série - IPCA'!$C$444/'Série - IPCA'!$C$398","v":0},{"$f":"F308*'Série - IPCA'!$C$444/'Série - IPCA'!$C$411","v":0},{"$f":"G308*'Série - IPCA'!$C$444/'Série - IPCA'!$C$424","v":0},{"$f":"H308*'Série - IPCA'!$C$444/'Série - IPCA'!$C$437","v":0},181.37776913095627,"Despesas Gerais e Administratias","N","SIM","NÃO","ENCARGOS DE GESTÃO","FIXO","MATERIAIS_MANUTENÇÃO",3100,"SMS","Despesas Gerais e Administratias139,348"]
[null,null,null,953.7,447.15,0,69.959999999999994,1544.08,602.97799999999995,{"$f":"D309*'Série - IPCA'!$C$444/'Série - IPCA'!$C$385","v":1241.3524300326735},{"$f":"E309*'Série - IPCA'!$C$444/'Série - IPCA'!$C$398","v":556.86217231206558},{"$f":"F309*'Série - IPCA'!$C$444/'Série - IPCA'!$C$411","v":0},{"$f":"G309*'Série - IPCA'!$C$444/'Série - IPCA'!$C$424","v":74.831840142321795},{"$f":"H309*'Série - IPCA'!$C$444/'Série - IPCA'!$C$437","v":1578.6533159261473},690.33995168264164,"Despesas Gerais e Administratias","N","SIM","NÃO","ENCARGOS DE GESTÃO","FIXO","MATERIAIS_MANUTENÇÃO",3200,"GERÊNCIA DE PLANEJAMENTO E MEIO AMBIENTE","Despesas Gerais e Administratias602,978"]
[null,null,null,2320.5300000000002,1951.28,0,0,108.72,876.10600000000011,{"$f":"D310*'Série - IPCA'!$C$444/'Série - IPCA'!$C$385","v":3020.4420199892211},{"$f":"E310*'Série - IPCA'!$C$444/'Série - IPCA'!$C$398","v":2430.0436533357647},{"$f":"F310*'Série - IPCA'!$C$444/'Série - IPCA'!$C$411","v":0},{"$f":"G310*'Série - IPCA'!$C$444/'Série - IPCA'!$C$424","v":0},{"$f":"H310*'Série - IPCA'!$C$444/'Série - IPCA'!$C$437","v":111.15433689154108},1112.3280020433053,"Despesas Gerais e Administratias","N","SIM","NÃO","ENCARGOS DE GESTÃO","FIXO","MATERIAIS_MANUTENÇÃO",3300,"GERÊNCIA JURÍDICA","Despesas Gerais e Administratias876,106"]
[null,null,null,2722.17,0,0,0,0,544.43399999999997,{"$f":"D311*'Série - IPCA'!$C$444/'Série - IPCA'!$C$385","v":3543.2235970032957},{"$f":"E311*'Série - IPCA'!$C$444/'Série - IPCA'!$C$398","v":0},{"$f":"F311*'Série - IPCA'!$C$444/'Série - IPCA'!$C$411","v":0},{"$f":"G311*'Série - IPCA'!$C$444/'Série - IPCA'!$C$424","v":0},{"$f":"H311*'Série - IPCA'!$C$444/'Série - IPCA'!$C$437","v":0},708.64471940065914,"Despesas Gerais e Administratias","N","SIM","NÃO","ENCARGOS DE GESTÃO","FIXO","MATERIAIS_MANUTENÇÃO",3400,"MARKETING","Despesas Gerais e Administratias544,434"]
[null,null,null,0,299.72000000000003,0,0,2859.14,631.77199999999993,{"$f":"D312*'Série - IPCA'!$C$444/'Série - IPCA'!$C$385","v":0},{"$f":"E312*'Série - IPCA'!$C$444/'Série - IPCA'!$C$398","v":373.25892940930851},{"$f":"F312*'Série - IPCA'!$C$444/'Série - IPCA'!$C$411","v":0},{"$f":"G312*'Série - IPCA'!$C$444/'Série - IPCA'!$C$424","v":0},{"$f":"H312*'Série - IPCA'!$C$444/'Série - IPCA'!$C$437","v":2923.1586716342968},659.28352020872103,"Despesas Gerais e Administratias","N","SIM","NÃO","ENCARGOS DE GESTÃO","FIXO","MATERIAIS_MANUTENÇÃO",3500,"ASSESSORIA DE COMUNICAÇÃO INSTITUCIONAL","Despesas Gerais e Administratias631,772"]
[null,null,null,1549.14,234.46,0,0,295.2,415.76000000000005,{"$f":"D313*'Série - IPCA'!$C$444/'Série - IPCA'!$C$385","v":2016.3874420266498},{"$f":"E313*'Série - IPCA'!$C$444/'Série - IPCA'!$C$398","v":291.98681632625937},{"$f":"F313*'Série - IPCA'!$C$444/'Série - IPCA'!$C$411","v":0},{"$f":"G313*'Série - IPCA'!$C$444/'Série - IPCA'!$C$424","v":0},{"$f":"H313*'Série - IPCA'!$C$444/'Série - IPCA'!$C$437","v":301.8097889108069},522.03680945274323,"Despesas Gerais e Administratias","N","SIM","NÃO","ENCARGOS DE GESTÃO","FIXO","MATERIAIS_MANUTENÇÃO",3600,"GERÊNCIA DE GOVERNANÇA, RISCO E COMPLIANCE","Despesas Gerais e Administratias415,76"]
[null,null,null,0,0,0,0,117.12,23.423999999999999,{"$f":"D314*'Série - IPCA'!$C$444/'Série - IPCA'!$C$385","v":0},{"$f":"E314*'Série - IPCA'!$C$444/'Série - IPCA'!$C$398","v":0},{"$f":"F314*'Série - IPCA'!$C$444/'Série - IPCA'!$C$411","v":0},{"$f":"G314*'Série - IPCA'!$C$444/'Série - IPCA'!$C$424","v":0},{"$f":"H314*'Série - IPCA'!$C$444/'Série - IPCA'!$C$437","v":119.74242031583235},23.948484063166468,"Despesas Gerais e Administratias","N","SIM","NÃO","ENCARGOS DE GESTÃO","FIXO","MATERIAIS_MANUTENÇÃO",3700,"GERÊNCIA DE REGULAÇÃO","Despesas Gerais e Administratias23,424"]
[null,null,null,34231.160000000003,50181.68,0,446,24068.01,21785.37,{"$f":"D315*'Série - IPCA'!$C$444/'Série - IPCA'!$C$385","v":44555.870450704897},{"$f":"E315*'Série - IPCA'!$C$444/'Série - IPCA'!$C$398","v":62494.195091286892},{"$f":"F315*'Série - IPCA'!$C$444/'Série - IPCA'!$C$411","v":0},{"$f":"G315*'Série - IPCA'!$C$444/'Série - IPCA'!$C$424","v":477.05832909484747},{"$f":"H315*'Série - IPCA'!$C$444/'Série - IPCA'!$C$437","v":24606.914016270963},26426.807577471518,"Despesas Gerais e Administratias","N","SIM","NÃO","ENCARGOS DE GESTÃO","FIXO","MATERIAIS_MANUTENÇÃO",4100,"GERÊNCIA DE SERVIÇOS CORPORATIVOS","Despesas Gerais e Administratias21785,37"]
[null,null,null,587.74,1735.89,0,0,234.72,511.66999999999996,{"$f":"D316*'Série - IPCA'!$C$444/'Série - IPCA'!$C$385","v":765.01255869498118},{"$f":"E316*'Série - IPCA'!$C$444/'Série - IPCA'!$C$398","v":2161.8058286811843},{"$f":"F316*'Série - IPCA'!$C$444/'Série - IPCA'!$C$411","v":0},{"$f":"G316*'Série - IPCA'!$C$444/'Série - IPCA'!$C$424","v":0},{"$f":"H316*'Série - IPCA'!$C$444/'Série - IPCA'!$C$437","v":239.97558825590988},633.35879512641509,"Despesas Gerais e Administratias","N","SIM","NÃO","ENCARGOS DE GESTÃO","FIXO","MATERIAIS_MANUTENÇÃO",4200,"GERÊNCIA FINANCEIRA","Despesas Gerais e Administratias511,67"]
[null,null,null,2202.75,2193.81,0,0,3751.28,1629.568,{"$f":"D317*'Série - IPCA'!$C$444/'Série - IPCA'!$C$385","v":2867.1375330339429},{"$f":"E317*'Série - IPCA'!$C$444/'Série - IPCA'!$C$398","v":2732.0805149053617},{"$f":"F317*'Série - IPCA'!$C$444/'Série - IPCA'!$C$411","v":0},{"$f":"G317*'Série - IPCA'!$C$444/'Série - IPCA'!$C$424","v":0},{"$f":"H317*'Série - IPCA'!$C$444/'Série - IPCA'!$C$437","v":3835.2744747470588},1886.8985045372726,"Despesas Gerais e Administratias","N","SIM","NÃO","ENCARGOS DE GESTÃO","FIXO","MATERIAIS_MANUTENÇÃO",4300,"GERÊNCIA DE TECNOLOGIA E SISTEMAS DE INFORMAÇÃO","Despesas Gerais e Administratias1629,568"]
[null,null,null,917.99,0,0,0,80.64,199.726,{"$f":"D318*'Série - IPCA'!$C$444/'Série - IPCA'!$C$385","v":1194.8716758369444},{"$f":"E318*'Série - IPCA'!$C$444/'Série - IPCA'!$C$398","v":0},{"$f":"F318*'Série - IPCA'!$C$444/'Série - IPCA'!$C$411","v":0},{"$f":"G318*'Série - IPCA'!$C$444/'Série - IPCA'!$C$424","v":0},{"$f":"H318*'Série - IPCA'!$C$444/'Série - IPCA'!$C$437","v":82.445600873196042},255.46345534202811,"Despesas Gerais e Administratias","N","SIM","NÃO","ENCARGOS DE GESTÃO","FIXO","MATERIAIS_MANUTENÇÃO",4500,"GERÊNCIA CONTÁBIL","Despesas Gerais e Administratias199,726"]
[null,null,null,624.52,29.58,0,0,0,130.82,{"$f":"D319*'Série - IPCA'!$C$444/'Série - IPCA'!$C$385","v":812.88604341407699},{"$f":"E319*'Série - IPCA'!$C$444/'Série - IPCA'!$C$398","v":36.837712304575419},{"$f":"F319*'Série - IPCA'!$C$444/'Série - IPCA'!$C$411","v":0},{"$f":"G319*'Série - IPCA'!$C$444/'Série - IPCA'!$C$424","v":0},{"$f":"H319*'Série - IPCA'!$C$444/'Série - IPCA'!$C$437","v":0},169.94475114373049,"Despesas Gerais e Administratias","N","SIM","NÃO","ENCARGOS DE GESTÃO","FIXO","MATERIAIS_MANUTENÇÃO",4600,"GERÊNCIA DE PESSOAS E CULTURA","Despesas Gerais e Administratias130,82"]
[null,null,null,150.44,355.12,-2.94,0,-117622.15,-23423.905999999999,{"$f":"D320*'Série - IPCA'!$C$444/'Série - IPCA'!$C$385","v":195.81530835075537},{"$f":"E320*'Série - IPCA'!$C$444/'Série - IPCA'!$C$398","v":442.25180505749915},{"$f":"F320*'Série - IPCA'!$C$444/'Série - IPCA'!$C$411","v":-3.3266600766232286},{"$f":"G320*'Série - IPCA'!$C$444/'Série - IPCA'!$C$424","v":0},{"$f":"H320*'Série - IPCA'!$C$444/'Série - IPCA'!$C$437","v":-120255.81389815468},-23924.21468896461,"Custos","N","SIM","NÃO","OPEX","NÚMERO DE CLIENTES","SERVIÇOS",5100,"GERÊNCIA DE ENGENHARIA","Custos-23423,906"]
[null,null,null,0,635596,477024.68,387933.45,-993566.47,101397.53199999998,{"$f":"D321*'Série - IPCA'!$C$444/'Série - IPCA'!$C$385","v":0},{"$f":"E321*'Série - IPCA'!$C$444/'Série - IPCA'!$C$398","v":791545.05036980798},{"$f":"F321*'Série - IPCA'!$C$444/'Série - IPCA'!$C$411","v":539761.55051699711},{"$f":"G321*'Série - IPCA'!$C$444/'Série - IPCA'!$C$424","v":414948.16918609769},{"$f":"H321*'Série - IPCA'!$C$444/'Série - IPCA'!$C$437","v":-1015813.3014212586},146088.29373032879,"Custos","N","SIM","NÃO","OPEX","NÚMERO DE CLIENTES","SERVIÇOS",5200,"GERÊNCIA DE OPERAÇÕES","Custos101397,532"]
[null,null,null,0,7714.39,383.61,0,0,1619.6,{"$f":"D322*'Série - IPCA'!$C$444/'Série - IPCA'!$C$385","v":0},{"$f":"E322*'Série - IPCA'!$C$444/'Série - IPCA'!$C$398","v":9607.1832124845696},{"$f":"F322*'Série - IPCA'!$C$444/'Série - IPCA'!$C$411","v":434.06124897735947},{"$f":"G322*'Série - IPCA'!$C$444/'Série - IPCA'!$C$424","v":0},{"$f":"H322*'Série - IPCA'!$C$444/'Série - IPCA'!$C$437","v":0},2008.2488922923858,"Despesas com Vendas","N","SIM","NÃO","ENCARGOS DE COMERCIALIZAÇÃO","NÚMERO DE CLIENTES","SERVIÇOS",5300,"GERÊNCIA COMERCIAL","Despesas com Vendas1619,6"]
[null,null,null,231665.19,0,0,0,0,46333.038,{"$f":"D323*'Série - IPCA'!$C$444/'Série - IPCA'!$C$385","v":301539.42178932682},{"$f":"E323*'Série - IPCA'!$C$444/'Série - IPCA'!$C$398","v":0},{"$f":"F323*'Série - IPCA'!$C$444/'Série - IPCA'!$C$411","v":0},{"$f":"G323*'Série - IPCA'!$C$444/'Série - IPCA'!$C$424","v":0},{"$f":"H323*'Série - IPCA'!$C$444/'Série - IPCA'!$C$437","v":0},60307.884357865361,"Despesas com Vendas","N","SIM","NÃO","ENCARGOS DE COMERCIALIZAÇÃO","NÚMERO DE CLIENTES","SERVIÇOS",5400,"GERÊNCIA COMERCIAL (inativo)","Despesas com Vendas46333,038"]
[null,null,null,9149.2999999999993,36249.699999999997,807.41,36535.74,19316.650000000001,20411.759999999998,{"$f":"D324*'Série - IPCA'!$C$444/'Série - IPCA'!$C$385","v":11908.887268635775},{"$f":"E324*'Série - IPCA'!$C$444/'Série - IPCA'!$C$398","v":45143.881667585112},{"$f":"F324*'Série - IPCA'!$C$444/'Série - IPCA'!$C$411","v":913.59816750556513},{"$f":"G324*'Série - IPCA'!$C$444/'Série - IPCA'!$C$424","v":39079.997929694575},{"$f":"H324*'Série - IPCA'!$C$444/'Série - IPCA'!$C$437","v":19749.166866409007},23359.106379966008,"Despesas com Vendas","S",null,null,"ENCARGOS DE COMERCIALIZAÇÃO","VOLUME","TRIBUTOS_E_TAXAS_FISCAIS",5300,"GERÊNCIA COMERCIAL","Despesas com Vendas20411,76"]
[null,null,null,20303.650000000001,0,0,0,0,{"$f":"AVERAGE(D325:H325)","v":4060.7300000000005},{"$f":"D325*'Série - IPCA'!$C$444/'Série - IPCA'!$C$385","v":26427.58232781052},{"$f":"E325*'Série - IPCA'!$C$444/'Série - IPCA'!$C$398","v":0},{"$f":"F325*'Série - IPCA'!$C$444/'Série - IPCA'!$C$411","v":0},{"$f":"G325*'Série - IPCA'!$C$444/'Série - IPCA'!$C$424","v":0},{"$f":"H325*'Série - IPCA'!$C$444/'Série - IPCA'!$C$437","v":0},{"$f":"AVERAGE(J325:N325)","v":5285.5164655621038},"Despesas com Vendas","S",null,null,"ENCARGOS DE COMERCIALIZAÇÃO","VOLUME","TRIBUTOS_E_TAXAS_FISCAIS",5400,"GERÊNCIA COMERCIAL (inativo)",{"$f":"B325&C325&P325&I325","v":"Despesas com Vendas4060,73"}]
[null,null,null,10161.540000000001,0,0,0,0,2032.3080000000002,{"$f":"D326*'Série - IPCA'!$C$444/'Série - IPCA'!$C$385","v":13226.436376087044},{"$f":"E326*'Série - IPCA'!$C$444/'Série - IPCA'!$C$398","v":0},{"$f":"F326*'Série - IPCA'!$C$444/'Série - IPCA'!$C$411","v":0},{"$f":"G326*'Série - IPCA'!$C$444/'Série - IPCA'!$C$424","v":0},{"$f":"H326*'Série - IPCA'!$C$444/'Série - IPCA'!$C$437","v":0},2645.2872752174089,"Despesas com Vendas","S",null,null,"ENCARGOS DE COMERCIALIZAÇÃO","VOLUME","TRIBUTOS_E_TAXAS_FISCAIS",5500,"GERÊNCIA COMERCIAL (inativo)","Despesas com Vendas2032,308"]
[null,null,null,6118.84,3727.33,0,0,0,1969.2339999999999,{"$f":"D327*'Série - IPCA'!$C$444/'Série - IPCA'!$C$385","v":7964.3880706523269},{"$f":"E327*'Série - IPCA'!$C$444/'Série - IPCA'!$C$398","v":4641.8630900680555},{"$f":"F327*'Série - IPCA'!$C$444/'Série - IPCA'!$C$411","v":0},{"$f":"G327*'Série - IPCA'!$C$444/'Série - IPCA'!$C$424","v":0},{"$f":"H327*'Série - IPCA'!$C$444/'Série - IPCA'!$C$437","v":0},2521.2502321440761,"Despesas com Vendas","N","SIM","NÃO","ENCARGOS DE COMERCIALIZAÇÃO","NÚMERO DE CLIENTES","SERVIÇOS",5500,"GERÊNCIA COMERCIAL (inativo)","Despesas com Vendas1969,234"]
[null,null,null,-296.35000000000002,4448,2695,0,0,1369.33,{"$f":"D328*'Série - IPCA'!$C$444/'Série - IPCA'!$C$385","v":-385.73429028015391},{"$f":"E328*'Série - IPCA'!$C$444/'Série - IPCA'!$C$398","v":5539.3557921146539},{"$f":"F328*'Série - IPCA'!$C$444/'Série - IPCA'!$C$411","v":3049.4384035712933},{"$f":"G328*'Série - IPCA'!$C$444/'Série - IPCA'!$C$424","v":0},{"$f":"H328*'Série - IPCA'!$C$444/'Série - IPCA'!$C$437","v":0},1640.6119810811585,"Despesas Gerais e Administratias","N","SIM","NÃO","ENCARGOS DE GESTÃO","NÚMERO DE CLIENTES","SERVIÇOS",4100,"GERÊNCIA DE SERVIÇOS CORPORATIVOS","Despesas Gerais e Administratias1369,33"]
[null,null,null,543.5,1858.42,188.62,245.19,174.56,602.05799999999999,{"$f":"D329*'Série - IPCA'!$C$444/'Série - IPCA'!$C$385","v":707.42900883166408},{"$f":"E329*'Série - IPCA'!$C$444/'Série - IPCA'!$C$398","v":2314.3996383052418},{"$f":"F329*'Série - IPCA'!$C$444/'Série - IPCA'!$C$411","v":213.4267427390046},{"$f":"G329*'Série - IPCA'!$C$444/'Série - IPCA'!$C$424","v":262.26442087615612},{"$f":"H329*'Série - IPCA'!$C$444/'Série - IPCA'!$C$437","v":178.468552683843},735.19767268718192,"Custos","N","SIM","NÃO","OPEX","FUNCIONÁRIOS","DESPESAS_GERAIS",5100,"GERÊNCIA DE ENGENHARIA","Custos602,058"]
[null,null,null,4525.13,6756.96,9327.94,17128.98,13422,10232.201999999999,{"$f":"D330*'Série - IPCA'!$C$444/'Série - IPCA'!$C$385","v":5889.9875450495456},{"$f":"E330*'Série - IPCA'!$C$444/'Série - IPCA'!$C$398","v":8414.8393689494224},{"$f":"F330*'Série - IPCA'!$C$444/'Série - IPCA'!$C$411","v":10554.722991543158},{"$f":"G330*'Série - IPCA'!$C$444/'Série - IPCA'!$C$424","v":18321.799502015831},{"$f":"H330*'Série - IPCA'!$C$444/'Série - IPCA'!$C$437","v":13722.53044295681},11380.775970102952,"Custos","N","SIM","NÃO","OPEX","FUNCIONÁRIOS","DESPESAS_GERAIS",5200,"GERÊNCIA DE OPERAÇÕES","Custos10232,202"]
[null,null,null,389,726.42,190.09,211.78,945.57,492.572,{"$f":"D331*'Série - IPCA'!$C$444/'Série - IPCA'!$C$385","v":506.32913419598401},{"$f":"E331*'Série - IPCA'!$C$444/'Série - IPCA'!$C$398","v":904.65351495232164},{"$f":"F331*'Série - IPCA'!$C$444/'Série - IPCA'!$C$411","v":215.09007277731621},{"$f":"G331*'Série - IPCA'!$C$444/'Série - IPCA'!$C$424","v":226.52783169440985},{"$f":"H331*'Série - IPCA'!$C$444/'Série - IPCA'!$C$437","v":966.74214803655718},563.86854033131772,"Despesas com Vendas","N","SIM","NÃO","ENCARGOS DE COMERCIALIZAÇÃO","FUNCIONÁRIOS","DESPESAS_GERAIS",5300,"GERÊNCIA COMERCIAL","Despesas com Vendas492,572"]
[null,null,null,7065.21,0,0,0,0,1413.0419999999999,{"$f":"D332*'Série - IPCA'!$C$444/'Série - IPCA'!$C$385","v":9196.199645791281},{"$f":"E332*'Série - IPCA'!$C$444/'Série - IPCA'!$C$398","v":0},{"$f":"F332*'Série - IPCA'!$C$444/'Série - IPCA'!$C$411","v":0},{"$f":"G332*'Série - IPCA'!$C$444/'Série - IPCA'!$C$424","v":0},{"$f":"H332*'Série - IPCA'!$C$444/'Série - IPCA'!$C$437","v":0},1839.2399291582562,"Despesas com Vendas","N","SIM","NÃO","ENCARGOS DE COMERCIALIZAÇÃO","FUNCIONÁRIOS","DESPESAS_GERAIS",5400,"GERÊNCIA COMERCIAL (inativo)","Despesas com Vendas1413,042"]
[null,null,null,0,40,0,0,0,8,{"$f":"D333*'Série - IPCA'!$C$444/'Série - IPCA'!$C$385","v":0},{"$f":"E333*'Série - IPCA'!$C$444/'Série - IPCA'!$C$398","v":49.814350648513077},{"$f":"F333*'Série - IPCA'!$C$444/'Série - IPCA'!$C$411","v":0},{"$f":"G333*'Série - IPCA'!$C$444/'Série - IPCA'!$C$424","v":0},{"$f":"H333*'Série - IPCA'!$C$444/'Série - IPCA'!$C$437","v":0},9.9628701297026154,"Despesas Gerais e Administratias","N","SIM","NÃO","ENCARGOS DE GESTÃO","FUNCIONÁRIOS","DESPESAS_GERAIS",1001,"CONSELHO DE ADMINISTRAÇÃO","Despesas Gerais e Administratias8"]
[null,null,null,0,8,0,0,0,1.6,{"$f":"D334*'Série - IPCA'!$C$444/'Série - IPCA'!$C$385","v":0},{"$f":"E334*'Série - IPCA'!$C$444/'Série - IPCA'!$C$398","v":9.9628701297026154},{"$f":"F334*'Série - IPCA'!$C$444/'Série - IPCA'!$C$411","v":0},{"$f":"G334*'Série - IPCA'!$C$444/'Série - IPCA'!$C$424","v":0},{"$f":"H334*'Série - IPCA'!$C$444/'Série - IPCA'!$C$437","v":0},1.9925740259405231,"Despesas Gerais e Administratias","N","SIM","SIM","ENCARGOS DE GESTÃO","FUNCIONÁRIOS","DESPESAS_GERAIS",1004,"COMITÊ DE AUDITORIA ESTATUTÁRIA","Despesas Gerais e Administratias1,6"]
[null,null,null,0,38.020000000000003,8.51,11.08,7.9,13.102,{"$f":"D335*'Série - IPCA'!$C$444/'Série - IPCA'!$C$385","v":0},{"$f":"E335*'Série - IPCA'!$C$444/'Série - IPCA'!$C$398","v":47.348540291411688},{"$f":"F335*'Série - IPCA'!$C$444/'Série - IPCA'!$C$411","v":9.629209949681524},{"$f":"G335*'Série - IPCA'!$C$444/'Série - IPCA'!$C$424","v":11.851583601728498},{"$f":"H335*'Série - IPCA'!$C$444/'Série - IPCA'!$C$437","v":8.0768879823691559},15.381244365038174,"Despesas Gerais e Administratias","N","SIM","NÃO","ENCARGOS DE GESTÃO","FUNCIONÁRIOS","DESPESAS_GERAIS",1005,"AUDITORIA INTERNA","Despesas Gerais e Administratias13,102"]
[null,null,null,0,68,0,0,0,13.6,{"$f":"D336*'Série - IPCA'!$C$444/'Série - IPCA'!$C$385","v":0},{"$f":"E336*'Série - IPCA'!$C$444/'Série - IPCA'!$C$398","v":84.68439610247222},{"$f":"F336*'Série - IPCA'!$C$444/'Série - IPCA'!$C$411","v":0},{"$f":"G336*'Série - IPCA'!$C$444/'Série - IPCA'!$C$424","v":0},{"$f":"H336*'Série - IPCA'!$C$444/'Série - IPCA'!$C$437","v":0},16.936879220494443,"Despesas Gerais e Administratias","N","SIM","NÃO","ENCARGOS DE GESTÃO","FUNCIONÁRIOS","DESPESAS_GERAIS",2100,"SECRETARIA","Despesas Gerais e Administratias13,6"]
[null,null,null,0,76.62,17.190000000000001,147.34,89.67,66.164000000000001,{"$f":"D337*'Série - IPCA'!$C$444/'Série - IPCA'!$C$385","v":0},{"$f":"E337*'Série - IPCA'!$C$444/'Série - IPCA'!$C$398","v":95.419388667226812},{"$f":"F337*'Série - IPCA'!$C$444/'Série - IPCA'!$C$411","v":19.450777794950106},{"$f":"G337*'Série - IPCA'!$C$444/'Série - IPCA'!$C$424","v":157.60039060276867},{"$f":"H337*'Série - IPCA'!$C$444/'Série - IPCA'!$C$437","v":91.677790554309126},72.829669523850939,"Despesas Gerais e Administratias","N","SIM","NÃO","ENCARGOS DE GESTÃO","FUNCIONÁRIOS","DESPESAS_GERAIS",2110,"ASSESSORIA DA DIRETORIA EXECUTIVA","Despesas Gerais e Administratias66,164"]
[null,null,null,0,114.63,25.71,33.42,23.79,39.51,{"$f":"D338*'Série - IPCA'!$C$444/'Série - IPCA'!$C$385","v":0},{"$f":"E338*'Série - IPCA'!$C$444/'Série - IPCA'!$C$398","v":142.75547537097634},{"$f":"F338*'Série - IPCA'!$C$444/'Série - IPCA'!$C$411","v":29.091302914960281},{"$f":"G338*'Série - IPCA'!$C$444/'Série - IPCA'!$C$424","v":35.747285556838122},{"$f":"H338*'Série - IPCA'!$C$444/'Série - IPCA'!$C$437","v":24.322679126653441},46.383348593885636,"Despesas Gerais e Administratias","N","SIM","NÃO","ENCARGOS DE GESTÃO","FUNCIONÁRIOS","DESPESAS_GERAIS",2120,"ASSESSORIA DA PRESIDÊNCIA","Despesas Gerais e Administratias39,51"]
[null,null,null,0,376.67,107.6,0,0,96.853999999999999,{"$f":"D339*'Série - IPCA'!$C$444/'Série - IPCA'!$C$385","v":0},{"$f":"E339*'Série - IPCA'!$C$444/'Série - IPCA'!$C$398","v":469.08928646938551},{"$f":"F339*'Série - IPCA'!$C$444/'Série - IPCA'!$C$411","v":121.75123273627872},{"$f":"G339*'Série - IPCA'!$C$444/'Série - IPCA'!$C$424","v":0},{"$f":"H339*'Série - IPCA'!$C$444/'Série - IPCA'!$C$437","v":0},118.16810384113285,"Despesas Gerais e Administratias","N","SIM","NÃO","ENCARGOS DE GESTÃO","FUNCIONÁRIOS","DESPESAS_GERAIS",2200,"DIRETORIA COLEGIADA - PRESIDÊNCIA","Despesas Gerais e Administratias96,854"]
[null,null,null,0,757,0,0,0,151.4,{"$f":"D340*'Série - IPCA'!$C$444/'Série - IPCA'!$C$385","v":0},{"$f":"E340*'Série - IPCA'!$C$444/'Série - IPCA'!$C$398","v":942.73658602310991},{"$f":"F340*'Série - IPCA'!$C$444/'Série - IPCA'!$C$411","v":0},{"$f":"G340*'Série - IPCA'!$C$444/'Série - IPCA'!$C$424","v":0},{"$f":"H340*'Série - IPCA'!$C$444/'Série - IPCA'!$C$437","v":0},188.54731720462198,"Despesas Gerais e Administratias","N","SIM","NÃO","ENCARGOS DE GESTÃO","FUNCIONÁRIOS","DESPESAS_GERAIS",2300,"DIRETORIA COLEGIADA - DAF","Despesas Gerais e Administratias151,4"]
[null,null,null,0,86.01,8.5299999999999994,11.08,7.9,22.704000000000001,{"$f":"D341*'Série - IPCA'!$C$444/'Série - IPCA'!$C$385","v":0},{"$f":"E341*'Série - IPCA'!$C$444/'Série - IPCA'!$C$398","v":107.11330748196525},{"$f":"F341*'Série - IPCA'!$C$444/'Série - IPCA'!$C$411","v":9.6518402903388232},{"$f":"G341*'Série - IPCA'!$C$444/'Série - IPCA'!$C$424","v":11.851583601728498},{"$f":"H341*'Série - IPCA'!$C$444/'Série - IPCA'!$C$437","v":8.0768879823691559},27.338723871280347,"Despesas Gerais e Administratias","N","SIM","NÃO","ENCARGOS DE GESTÃO","FUNCIONÁRIOS","DESPESAS_GERAIS",2310,"ASSESSORIA DAF","Despesas Gerais e Administratias22,704"]
[null,null,null,0,595,0,0,0,119,{"$f":"D342*'Série - IPCA'!$C$444/'Série - IPCA'!$C$385","v":0},{"$f":"E342*'Série - IPCA'!$C$444/'Série - IPCA'!$C$398","v":740.98846589663208},{"$f":"F342*'Série - IPCA'!$C$444/'Série - IPCA'!$C$411","v":0},{"$f":"G342*'Série - IPCA'!$C$444/'Série - IPCA'!$C$424","v":0},{"$f":"H342*'Série - IPCA'!$C$444/'Série - IPCA'!$C$437","v":0},148.19769317932642,"Despesas Gerais e Administratias","N","SIM","NÃO","ENCARGOS DE GESTÃO","FUNCIONÁRIOS","DESPESAS_GERAIS",2400,"DIRETORIA COLEGIADA - DTC","Despesas Gerais e Administratias119"]
[null,null,null,0,413,0,0,0,82.6,{"$f":"D343*'Série - IPCA'!$C$444/'Série - IPCA'!$C$385","v":0},{"$f":"E343*'Série - IPCA'!$C$444/'Série - IPCA'!$C$398","v":514.33317044589751},{"$f":"F343*'Série - IPCA'!$C$444/'Série - IPCA'!$C$411","v":0},{"$f":"G343*'Série - IPCA'!$C$444/'Série - IPCA'!$C$424","v":0},{"$f":"H343*'Série - IPCA'!$C$444/'Série - IPCA'!$C$437","v":0},102.8666340891795,"Despesas Gerais e Administratias","N","SIM","NÃO","ENCARGOS DE GESTÃO","FUNCIONÁRIOS","DESPESAS_GERAIS",2410,"ASSESSORIA DE SEGURANÇA DO TRABALHO","Despesas Gerais e Administratias82,6"]
[null,null,null,0,0,0,0,0,0,{"$f":"D344*'Série - IPCA'!$C$444/'Série - IPCA'!$C$385","v":0},{"$f":"E344*'Série - IPCA'!$C$444/'Série - IPCA'!$C$398","v":0},{"$f":"F344*'Série - IPCA'!$C$444/'Série - IPCA'!$C$411","v":0},{"$f":"G344*'Série - IPCA'!$C$444/'Série - IPCA'!$C$424","v":0},{"$f":"H344*'Série - IPCA'!$C$444/'Série - IPCA'!$C$437","v":0},0,"Despesas Gerais e Administratias","N","SIM","NÃO","ENCARGOS DE GESTÃO","FUNCIONÁRIOS","DESPESAS_GERAIS",3100,"SMS","Despesas Gerais e Administratias0"]
[null,null,null,0,1293.04,102.83,133.68,95.17,324.94400000000002,{"$f":"D345*'Série - IPCA'!$C$444/'Série - IPCA'!$C$385","v":0},{"$f":"E345*'Série - IPCA'!$C$444/'Série - IPCA'!$C$398","v":1610.2986990638335},{"$f":"F345*'Série - IPCA'!$C$444/'Série - IPCA'!$C$411","v":116.35389648951246},{"$f":"G345*'Série - IPCA'!$C$444/'Série - IPCA'!$C$424","v":142.98914222735249},{"$f":"H345*'Série - IPCA'!$C$444/'Série - IPCA'!$C$437","v":97.300940415452203},393.3885356392301,"Despesas Gerais e Administratias","N","SIM","NÃO","ENCARGOS DE GESTÃO","FUNCIONÁRIOS","DESPESAS_GERAIS",3200,"GERÊNCIA DE PLANEJAMENTO E MEIO AMBIENTE","Despesas Gerais e Administratias324,944"]
[null,null,null,0,160.65,34.229999999999997,44.51,31.68,54.213999999999999,{"$f":"D346*'Série - IPCA'!$C$444/'Série - IPCA'!$C$385","v":0},{"$f":"E346*'Série - IPCA'!$C$444/'Série - IPCA'!$C$398","v":200.06688579209066},{"$f":"F346*'Série - IPCA'!$C$444/'Série - IPCA'!$C$411","v":38.731828034970448},{"$f":"G346*'Série - IPCA'!$C$444/'Série - IPCA'!$C$424","v":47.609565533658433},{"$f":"H346*'Série - IPCA'!$C$444/'Série - IPCA'!$C$437","v":32.389343200184157},63.759524512180732,"Despesas Gerais e Administratias","N","SIM","NÃO","ENCARGOS DE GESTÃO","FUNCIONÁRIOS","DESPESAS_GERAIS",3300,"GERÊNCIA JURÍDICA","Despesas Gerais e Administratias54,214"]
[null,null,null,0,0,0,0,0,0,{"$f":"D347*'Série - IPCA'!$C$444/'Série - IPCA'!$C$385","v":0},{"$f":"E347*'Série - IPCA'!$C$444/'Série - IPCA'!$C$398","v":0},{"$f":"F347*'Série - IPCA'!$C$444/'Série - IPCA'!$C$411","v":0},{"$f":"G347*'Série - IPCA'!$C$444/'Série - IPCA'!$C$424","v":0},{"$f":"H347*'Série - IPCA'!$C$444/'Série - IPCA'!$C$437","v":0},0,"Despesas Gerais e Administratias","N","SIM","NÃO","ENCARGOS DE GESTÃO","FUNCIONÁRIOS","DESPESAS_GERAIS",3400,"MARKETING","Despesas Gerais e Administratias0"]
[null,null,null,0,330.86,34.229999999999997,44.51,31.68,88.256,{"$f":"D348*'Série - IPCA'!$C$444/'Série - IPCA'!$C$385","v":0},{"$f":"E348*'Série - IPCA'!$C$444/'Série - IPCA'!$C$398","v":412.03940138917596},{"$f":"F348*'Série - IPCA'!$C$444/'Série - IPCA'!$C$411","v":38.731828034970448},{"$f":"G348*'Série - IPCA'!$C$444/'Série - IPCA'!$C$424","v":47.609565533658433},{"$f":"H348*'Série - IPCA'!$C$444/'Série - IPCA'!$C$437","v":32.389343200184157},106.15402763159781,"Despesas Gerais e Administratias","N","SIM","NÃO","ENCARGOS DE GESTÃO","FUNCIONÁRIOS","DESPESAS_GERAIS",3500,"ASSESSORIA DE COMUNICAÇÃO INSTITUCIONAL","Despesas Gerais e Administratias88,256"]
[null,null,null,0,439.87,60.08,78.09,55.6,126.72799999999999,{"$f":"D349*'Série - IPCA'!$C$444/'Série - IPCA'!$C$385","v":0},{"$f":"E349*'Série - IPCA'!$C$444/'Série - IPCA'!$C$398","v":547.79596049403619},{"$f":"F349*'Série - IPCA'!$C$444/'Série - IPCA'!$C$411","v":67.981543334531835},{"$f":"G349*'Série - IPCA'!$C$444/'Série - IPCA'!$C$424","v":83.527993091965556},{"$f":"H349*'Série - IPCA'!$C$444/'Série - IPCA'!$C$437","v":56.844933141737343},151.23008601245417,"Despesas Gerais e Administratias","N","SIM","NÃO","ENCARGOS DE GESTÃO","FUNCIONÁRIOS","DESPESAS_GERAIS",3600,"GERÊNCIA DE GOVERNANÇA, RISCO E COMPLIANCE","Despesas Gerais e Administratias126,728"]
[null,null,null,0,29608.27,15311.96,32078.02,46161.03,24631.856,{"$f":"D350*'Série - IPCA'!$C$444/'Série - IPCA'!$C$385","v":0},{"$f":"E350*'Série - IPCA'!$C$444/'Série - IPCA'!$C$398","v":36872.918596896256},{"$f":"F350*'Série - IPCA'!$C$444/'Série - IPCA'!$C$411","v":17325.743546548238},{"$f":"G350*'Série - IPCA'!$C$444/'Série - IPCA'!$C$424","v":34311.853412267039},{"$f":"H350*'Série - IPCA'!$C$444/'Série - IPCA'!$C$437","v":47194.616260858485},27141.026363314002,"Despesas Gerais e Administratias","N","SIM","NÃO","ENCARGOS DE GESTÃO","FUNCIONÁRIOS","DESPESAS_GERAIS",4100,"GERÊNCIA DE SERVIÇOS CORPORATIVOS","Despesas Gerais e Administratias24631,856"]
[null,null,null,0,351.9,77.13,100.26,71.38,120.13399999999999,{"$f":"D351*'Série - IPCA'!$C$444/'Série - IPCA'!$C$385","v":0},{"$f":"E351*'Série - IPCA'!$C$444/'Série - IPCA'!$C$398","v":438.24174983029377},{"$f":"F351*'Série - IPCA'!$C$444/'Série - IPCA'!$C$411","v":87.273908744880842},{"$f":"G351*'Série - IPCA'!$C$444/'Série - IPCA'!$C$424","v":107.24185667051438},{"$f":"H351*'Série - IPCA'!$C$444/'Série - IPCA'!$C$437","v":72.978261288798763},141.14715530689756,"Despesas Gerais e Administratias","N","SIM","NÃO","ENCARGOS DE GESTÃO","FUNCIONÁRIOS","DESPESAS_GERAIS",4200,"GERÊNCIA FINANCEIRA","Despesas Gerais e Administratias120,134"]
[null,null,null,0,870.2,68.61,89.17,63.48,218.292,{"$f":"D352*'Série - IPCA'!$C$444/'Série - IPCA'!$C$385","v":0},{"$f":"E352*'Série - IPCA'!$C$444/'Série - IPCA'!$C$398","v":1083.711198358402},{"$f":"F352*'Série - IPCA'!$C$444/'Série - IPCA'!$C$411","v":77.63338362487066},{"$f":"G352*'Série - IPCA'!$C$444/'Série - IPCA'!$C$424","v":95.379576693694062},{"$f":"H352*'Série - IPCA'!$C$444/'Série - IPCA'!$C$437","v":64.901373306429605},264.3251063966793,"Despesas Gerais e Administratias","N","SIM","NÃO","ENCARGOS DE GESTÃO","FUNCIONÁRIOS","DESPESAS_GERAIS",4300,"GERÊNCIA DE TECNOLOGIA E SISTEMAS DE INFORMAÇÃO","Despesas Gerais e Administratias218,292"]
[null,null,null,0,760.27,51.42,66.84,47.58,185.22200000000001,{"$f":"D353*'Série - IPCA'!$C$444/'Série - IPCA'!$C$385","v":0},{"$f":"E353*'Série - IPCA'!$C$444/'Série - IPCA'!$C$398","v":946.80890918862588},{"$f":"F353*'Série - IPCA'!$C$444/'Série - IPCA'!$C$411","v":58.182605829920561},{"$f":"G353*'Série - IPCA'!$C$444/'Série - IPCA'!$C$424","v":71.494571113676244},{"$f":"H353*'Série - IPCA'!$C$444/'Série - IPCA'!$C$437","v":48.645358253306881},225.02628887710588,"Despesas Gerais e Administratias","N","SIM","NÃO","ENCARGOS DE GESTÃO","FUNCIONÁRIOS","DESPESAS_GERAIS",4500,"GERÊNCIA CONTÁBIL","Despesas Gerais e Administratias185,222"]
[null,null,null,3000.84,0,0,0,0,600.16800000000001,{"$f":"D354*'Série - IPCA'!$C$444/'Série - IPCA'!$C$385","v":3905.945293215108},{"$f":"E354*'Série - IPCA'!$C$444/'Série - IPCA'!$C$398","v":0},{"$f":"F354*'Série - IPCA'!$C$444/'Série - IPCA'!$C$411","v":0},{"$f":"G354*'Série - IPCA'!$C$444/'Série - IPCA'!$C$424","v":0},{"$f":"H354*'Série - IPCA'!$C$444/'Série - IPCA'!$C$437","v":0},781.18905864302155,"Despesas Gerais e Administratias","N","SIM","NÃO","ENCARGOS DE GESTÃO","FUNCIONÁRIOS","DESPESAS_GERAIS",3100,"SMS","Despesas Gerais e Administratias600,168"]
[null,null,null,2472.4899999999998,0,0,0,0,494.49799999999993,{"$f":"D355*'Série - IPCA'!$C$444/'Série - IPCA'!$C$385","v":3218.2357866535435},{"$f":"E355*'Série - IPCA'!$C$444/'Série - IPCA'!$C$398","v":0},{"$f":"F355*'Série - IPCA'!$C$444/'Série - IPCA'!$C$411","v":0},{"$f":"G355*'Série - IPCA'!$C$444/'Série - IPCA'!$C$424","v":0},{"$f":"H355*'Série - IPCA'!$C$444/'Série - IPCA'!$C$437","v":0},643.64715733070875,"Despesas Gerais e Administratias","N","SIM","NÃO","ENCARGOS DE GESTÃO","FUNCIONÁRIOS","DESPESAS_GERAIS",3400,"MARKETING","Despesas Gerais e Administratias494,498"]
[null,null,null,2472.46,0,0,0,0,494.49200000000002,{"$f":"D356*'Série - IPCA'!$C$444/'Série - IPCA'!$C$385","v":3218.1967381341974},{"$f":"E356*'Série - IPCA'!$C$444/'Série - IPCA'!$C$398","v":0},{"$f":"F356*'Série - IPCA'!$C$444/'Série - IPCA'!$C$411","v":0},{"$f":"G356*'Série - IPCA'!$C$444/'Série - IPCA'!$C$424","v":0},{"$f":"H356*'Série - IPCA'!$C$444/'Série - IPCA'!$C$437","v":0},643.63934762683948,"Despesas Gerais e Administratias","N","SIM","NÃO","ENCARGOS DE GESTÃO","FUNCIONÁRIOS","DESPESAS_GERAIS",4600,"GERÊNCIA DE PESSOAS E CULTURA","Despesas Gerais e Administratias494,492"]
[null,null,null,0,0,0,0,20,4,{"$f":"D357*'Série - IPCA'!$C$444/'Série - IPCA'!$C$385","v":0},{"$f":"E357*'Série - IPCA'!$C$444/'Série - IPCA'!$C$398","v":0},{"$f":"F357*'Série - IPCA'!$C$444/'Série - IPCA'!$C$411","v":0},{"$f":"G357*'Série - IPCA'!$C$444/'Série - IPCA'!$C$424","v":0},{"$f":"H357*'Série - IPCA'!$C$444/'Série - IPCA'!$C$437","v":20.447817676883936},4.0895635353767874,"Despesas com Vendas","N","SIM","NÃO","ENCARGOS DE COMERCIALIZAÇÃO","FIXO","DESPESAS_GERAIS",5300,"GERÊNCIA COMERCIAL","Despesas com Vendas4"]
[null,null,null,0,0,0,0,441.18,88.236000000000004,{"$f":"D358*'Série - IPCA'!$C$444/'Série - IPCA'!$C$385","v":0},{"$f":"E358*'Série - IPCA'!$C$444/'Série - IPCA'!$C$398","v":0},{"$f":"F358*'Série - IPCA'!$C$444/'Série - IPCA'!$C$411","v":0},{"$f":"G358*'Série - IPCA'!$C$444/'Série - IPCA'!$C$424","v":0},{"$f":"H358*'Série - IPCA'!$C$444/'Série - IPCA'!$C$437","v":451.05841013438271},90.211682026876545,"Custos","N","SIM","NÃO","OPEX","FIXO","DESPESAS_GERAIS",5200,"GERÊNCIA DE OPERAÇÕES","Custos88,236"]
[null,null,null,2532.38,545.94000000000005,0,154.34,645.44000000000005,775.62000000000012,{"$f":"D359*'Série - IPCA'!$C$444/'Série - IPCA'!$C$385","v":3296.1896474427408},{"$f":"E359*'Série - IPCA'!$C$444/'Série - IPCA'!$C$398","v":679.89116482623081},{"$f":"F359*'Série - IPCA'!$C$444/'Série - IPCA'!$C$411","v":0},{"$f":"G359*'Série - IPCA'!$C$444/'Série - IPCA'!$C$424","v":165.08785316703757},{"$f":"H359*'Série - IPCA'!$C$444/'Série - IPCA'!$C$437","v":659.89197206839845},960.21212750088159,"Custos","N","SIM","NÃO","OPEX","FIXO","DESPESAS_GERAIS",5100,"GERÊNCIA DE ENGENHARIA","Custos775,62"]
[null,null,null,30,9,0,0,0,7.8,{"$f":"D360*'Série - IPCA'!$C$444/'Série - IPCA'!$C$385","v":39.04851934673399},{"$f":"E360*'Série - IPCA'!$C$444/'Série - IPCA'!$C$398","v":11.208228895915443},{"$f":"F360*'Série - IPCA'!$C$444/'Série - IPCA'!$C$411","v":0},{"$f":"G360*'Série - IPCA'!$C$444/'Série - IPCA'!$C$424","v":0},{"$f":"H360*'Série - IPCA'!$C$444/'Série - IPCA'!$C$437","v":0},10.051349648529888,"Despesas Gerais e Administratias","N","SIM","NÃO","ENCARGOS DE GESTÃO","FIXO","DESPESAS_GERAIS",2100,"SECRETARIA","Despesas Gerais e Administratias7,8"]
[null,null,null,0,0,70,0,0,14,{"$f":"D361*'Série - IPCA'!$C$444/'Série - IPCA'!$C$385","v":0},{"$f":"E361*'Série - IPCA'!$C$444/'Série - IPCA'!$C$398","v":0},{"$f":"F361*'Série - IPCA'!$C$444/'Série - IPCA'!$C$411","v":79.20619230055307},{"$f":"G361*'Série - IPCA'!$C$444/'Série - IPCA'!$C$424","v":0},{"$f":"H361*'Série - IPCA'!$C$444/'Série - IPCA'!$C$437","v":0},15.841238460110613,"Despesas Gerais e Administratias","N","SIM","NÃO","ENCARGOS DE GESTÃO","FIXO","DESPESAS_GERAIS",2310,"ASSESSORIA DAF","Despesas Gerais e Administratias14"]
[null,null,null,0,0,0,0,35,7,{"$f":"D362*'Série - IPCA'!$C$444/'Série - IPCA'!$C$385","v":0},{"$f":"E362*'Série - IPCA'!$C$444/'Série - IPCA'!$C$398","v":0},{"$f":"F362*'Série - IPCA'!$C$444/'Série - IPCA'!$C$411","v":0},{"$f":"G362*'Série - IPCA'!$C$444/'Série - IPCA'!$C$424","v":0},{"$f":"H362*'Série - IPCA'!$C$444/'Série - IPCA'!$C$437","v":35.783680934546886},7.1567361869093773,"Despesas Gerais e Administratias","N","SIM","NÃO","ENCARGOS DE GESTÃO","FIXO","DESPESAS_GERAIS",3500,"ASSESSORIA DE COMUNICAÇÃO INSTITUCIONAL","Despesas Gerais e Administratias7"]
[null,null,null,0,0,0,0,2632.8,526.56000000000006,{"$f":"D363*'Série - IPCA'!$C$444/'Série - IPCA'!$C$385","v":0},{"$f":"E363*'Série - IPCA'!$C$444/'Série - IPCA'!$C$398","v":0},{"$f":"F363*'Série - IPCA'!$C$444/'Série - IPCA'!$C$411","v":0},{"$f":"G363*'Série - IPCA'!$C$444/'Série - IPCA'!$C$424","v":0},{"$f":"H363*'Série - IPCA'!$C$444/'Série - IPCA'!$C$437","v":2691.7507189850012},538.35014379700021,"Despesas Gerais e Administratias","N","SIM","NÃO","ENCARGOS DE GESTÃO","FIXO","DESPESAS_GERAIS",3600,"GERÊNCIA DE GOVERNANÇA, RISCO E COMPLIANCE","Despesas Gerais e Administratias526,56"]
[null,null,null,0,0,116.18,0,0,23.236000000000001,{"$f":"D364*'Série - IPCA'!$C$444/'Série - IPCA'!$C$385","v":0},{"$f":"E364*'Série - IPCA'!$C$444/'Série - IPCA'!$C$398","v":0},{"$f":"F364*'Série - IPCA'!$C$444/'Série - IPCA'!$C$411","v":131.45964887826082},{"$f":"G364*'Série - IPCA'!$C$444/'Série - IPCA'!$C$424","v":0},{"$f":"H364*'Série - IPCA'!$C$444/'Série - IPCA'!$C$437","v":0},26.291929775652164,"Despesas Gerais e Administratias","N","SIM","NÃO","ENCARGOS DE GESTÃO","FIXO","DESPESAS_GERAIS",3700,"GERÊNCIA DE REGULAÇÃO","Despesas Gerais e Administratias23,236"]
[null,null,null,82.47,125.36,24.26,0,0,46.417999999999992,{"$f":"D365*'Série - IPCA'!$C$444/'Série - IPCA'!$C$385","v":107.34437968417173},{"$f":"E365*'Série - IPCA'!$C$444/'Série - IPCA'!$C$398","v":156.11817493243998},{"$f":"F365*'Série - IPCA'!$C$444/'Série - IPCA'!$C$411","v":27.450603217305968},{"$f":"G365*'Série - IPCA'!$C$444/'Série - IPCA'!$C$424","v":0},{"$f":"H365*'Série - IPCA'!$C$444/'Série - IPCA'!$C$437","v":0},58.182631566783542,"Custos","N","SIM","NÃO","OPEX","FIXO","DESPESAS_GERAIS",5100,"GERÊNCIA DE ENGENHARIA","Custos46,418"]
[null,null,null,72.89,12.13,73.14,0,0,31.631999999999998,{"$f":"D366*'Série - IPCA'!$C$444/'Série - IPCA'!$C$385","v":94.874885839448012},{"$f":"E366*'Série - IPCA'!$C$444/'Série - IPCA'!$C$398","v":15.106201834161592},{"$f":"F366*'Série - IPCA'!$C$444/'Série - IPCA'!$C$411","v":82.759155783749321},{"$f":"G366*'Série - IPCA'!$C$444/'Série - IPCA'!$C$424","v":0},{"$f":"H366*'Série - IPCA'!$C$444/'Série - IPCA'!$C$437","v":0},38.548048691471784,"Custos","N","SIM","NÃO","OPEX","FIXO","DESPESAS_GERAIS",5200,"GERÊNCIA DE OPERAÇÕES","Custos31,632"]
[null,null,null,3120.77,-8320.17,1118.1600000000001,559.53,1076.78,-488.98600000000005,{"$f":"D367*'Série - IPCA'!$C$444/'Série - IPCA'!$C$385","v":4062.0482573902341},{"$f":"E367*'Série - IPCA'!$C$444/'Série - IPCA'!$C$398","v":-10361.596645880976},{"$f":"F367*'Série - IPCA'!$C$444/'Série - IPCA'!$C$411","v":1265.2170854683777},{"$f":"G367*'Série - IPCA'!$C$444/'Série - IPCA'!$C$424","v":598.49427551219719},{"$f":"H367*'Série - IPCA'!$C$444/'Série - IPCA'!$C$437","v":1100.8900559057543},-666.98939432088275,"Despesas com Vendas","N","SIM","NÃO","ENCARGOS DE COMERCIALIZAÇÃO","FIXO","DESPESAS_GERAIS",5300,"GERÊNCIA COMERCIAL","Despesas com Vendas-488,986"]
[null,null,null,2883.4,0,0,0,0,576.68000000000006,{"$f":"D368*'Série - IPCA'!$C$444/'Série - IPCA'!$C$385","v":3753.0833561457594},{"$f":"E368*'Série - IPCA'!$C$444/'Série - IPCA'!$C$398","v":0},{"$f":"F368*'Série - IPCA'!$C$444/'Série - IPCA'!$C$411","v":0},{"$f":"G368*'Série - IPCA'!$C$444/'Série - IPCA'!$C$424","v":0},{"$f":"H368*'Série - IPCA'!$C$444/'Série - IPCA'!$C$437","v":0},750.61667122915185,"Despesas com Vendas","N","SIM","NÃO","ENCARGOS DE COMERCIALIZAÇÃO","FIXO","DESPESAS_GERAIS",5400,"GERÊNCIA COMERCIAL (inativo)","Despesas com Vendas576,68"]
[null,null,null,0,48.24,0,0,0,9.6479999999999997,{"$f":"D369*'Série - IPCA'!$C$444/'Série - IPCA'!$C$385","v":0},{"$f":"E369*'Série - IPCA'!$C$444/'Série - IPCA'!$C$398","v":60.076106882106778},{"$f":"F369*'Série - IPCA'!$C$444/'Série - IPCA'!$C$411","v":0},{"$f":"G369*'Série - IPCA'!$C$444/'Série - IPCA'!$C$424","v":0},{"$f":"H369*'Série - IPCA'!$C$444/'Série - IPCA'!$C$437","v":0},12.015221376421355,"Despesas com Vendas","N","SIM","NÃO","ENCARGOS DE COMERCIALIZAÇÃO","FIXO","DESPESAS_GERAIS",5500,"GERÊNCIA COMERCIAL (inativo)","Despesas com Vendas9,648"]
[null,null,null,1095.3800000000001,24.26,0,0,0,223.92800000000003,{"$f":"D370*'Série - IPCA'!$C$444/'Série - IPCA'!$C$385","v":1425.7655707341828},{"$f":"E370*'Série - IPCA'!$C$444/'Série - IPCA'!$C$398","v":30.212403668323184},{"$f":"F370*'Série - IPCA'!$C$444/'Série - IPCA'!$C$411","v":0},{"$f":"G370*'Série - IPCA'!$C$444/'Série - IPCA'!$C$424","v":0},{"$f":"H370*'Série - IPCA'!$C$444/'Série - IPCA'!$C$437","v":0},291.19559488050118,"Despesas Gerais e Administratias","N","SIM","NÃO","ENCARGOS DE GESTÃO","FIXO","DESPESAS_GERAIS",2100,"SECRETARIA","Despesas Gerais e Administratias223,928"]
[null,null,null,0,0,24.12,48.24,0,14.472,{"$f":"D371*'Série - IPCA'!$C$444/'Série - IPCA'!$C$385","v":0},{"$f":"E371*'Série - IPCA'!$C$444/'Série - IPCA'!$C$398","v":0},{"$f":"F371*'Série - IPCA'!$C$444/'Série - IPCA'!$C$411","v":27.292190832704865},{"$f":"G371*'Série - IPCA'!$C$444/'Série - IPCA'!$C$424","v":51.599313442904581},{"$f":"H371*'Série - IPCA'!$C$444/'Série - IPCA'!$C$437","v":0},15.77830085512189,"Despesas Gerais e Administratias","N","SIM","NÃO","ENCARGOS DE GESTÃO","FIXO","DESPESAS_GERAIS",2110,"ASSESSORIA DA DIRETORIA EXECUTIVA","Despesas Gerais e Administratias14,472"]
[null,null,null,0,48.24,0,0,0,9.6479999999999997,{"$f":"D372*'Série - IPCA'!$C$444/'Série - IPCA'!$C$385","v":0},{"$f":"E372*'Série - IPCA'!$C$444/'Série - IPCA'!$C$398","v":60.076106882106778},{"$f":"F372*'Série - IPCA'!$C$444/'Série - IPCA'!$C$411","v":0},{"$f":"G372*'Série - IPCA'!$C$444/'Série - IPCA'!$C$424","v":0},{"$f":"H372*'Série - IPCA'!$C$444/'Série - IPCA'!$C$437","v":0},12.015221376421355,"Despesas Gerais e Administratias","N","SIM","NÃO","ENCARGOS DE GESTÃO","FIXO","DESPESAS_GERAIS",2120,"ASSESSORIA DA PRESIDÊNCIA","Despesas Gerais e Administratias9,648"]
[null,null,null,464.77,651.94000000000005,0,0,33.909999999999997,230.12400000000002,{"$f":"D373*'Série - IPCA'!$C$444/'Série - IPCA'!$C$385","v":604.9526778927185},{"$f":"E373*'Série - IPCA'!$C$444/'Série - IPCA'!$C$398","v":811.89919404479042},{"$f":"F373*'Série - IPCA'!$C$444/'Série - IPCA'!$C$411","v":0},{"$f":"G373*'Série - IPCA'!$C$444/'Série - IPCA'!$C$424","v":0},{"$f":"H373*'Série - IPCA'!$C$444/'Série - IPCA'!$C$437","v":34.669274871156709},290.30422936173306,"Despesas Gerais e Administratias","N","SIM","NÃO","ENCARGOS DE GESTÃO","FIXO","DESPESAS_GERAIS",2200,"DIRETORIA COLEGIADA - PRESIDÊNCIA","Despesas Gerais e Administratias230,124"]
[null,null,null,12.13,0,0,0,0,2.4260000000000002,{"$f":"D374*'Série - IPCA'!$C$444/'Série - IPCA'!$C$385","v":15.788617989196112},{"$f":"E374*'Série - IPCA'!$C$444/'Série - IPCA'!$C$398","v":0},{"$f":"F374*'Série - IPCA'!$C$444/'Série - IPCA'!$C$411","v":0},{"$f":"G374*'Série - IPCA'!$C$444/'Série - IPCA'!$C$424","v":0},{"$f":"H374*'Série - IPCA'!$C$444/'Série - IPCA'!$C$437","v":0},3.1577235978392224,"Despesas Gerais e Administratias","N","SIM","NÃO","ENCARGOS DE GESTÃO","FIXO","DESPESAS_GERAIS",2300,"DIRETORIA COLEGIADA - DAF","Despesas Gerais e Administratias2,426"]
[null,null,null,0,0,24.12,0,0,4.8239999999999998,{"$f":"D375*'Série - IPCA'!$C$444/'Série - IPCA'!$C$385","v":0},{"$f":"E375*'Série - IPCA'!$C$444/'Série - IPCA'!$C$398","v":0},{"$f":"F375*'Série - IPCA'!$C$444/'Série - IPCA'!$C$411","v":27.292190832704865},{"$f":"G375*'Série - IPCA'!$C$444/'Série - IPCA'!$C$424","v":0},{"$f":"H375*'Série - IPCA'!$C$444/'Série - IPCA'!$C$437","v":0},5.4584381665409731,"Despesas Gerais e Administratias","N","SIM","NÃO","ENCARGOS DE GESTÃO","FIXO","DESPESAS_GERAIS",2400,"DIRETORIA COLEGIADA - DTC","Despesas Gerais e Administratias4,824"]
[null,null,null,0,0,0,24.12,0,4.8239999999999998,{"$f":"D376*'Série - IPCA'!$C$444/'Série - IPCA'!$C$385","v":0},{"$f":"E376*'Série - IPCA'!$C$444/'Série - IPCA'!$C$398","v":0},{"$f":"F376*'Série - IPCA'!$C$444/'Série - IPCA'!$C$411","v":0},{"$f":"G376*'Série - IPCA'!$C$444/'Série - IPCA'!$C$424","v":25.79965672145229},{"$f":"H376*'Série - IPCA'!$C$444/'Série - IPCA'!$C$437","v":0},5.1599313442904577,"Despesas Gerais e Administratias","N","SIM","NÃO","ENCARGOS DE GESTÃO","FIXO","DESPESAS_GERAIS",2410,"ASSESSORIA DE SEGURANÇA DO TRABALHO","Despesas Gerais e Administratias4,824"]
[null,null,null,163.66,0,0,0,0,32.731999999999999,{"$f":"D377*'Série - IPCA'!$C$444/'Série - IPCA'!$C$385","v":213.0226892095495},{"$f":"E377*'Série - IPCA'!$C$444/'Série - IPCA'!$C$398","v":0},{"$f":"F377*'Série - IPCA'!$C$444/'Série - IPCA'!$C$411","v":0},{"$f":"G377*'Série - IPCA'!$C$444/'Série - IPCA'!$C$424","v":0},{"$f":"H377*'Série - IPCA'!$C$444/'Série - IPCA'!$C$437","v":0},42.604537841909902,"Despesas Gerais e Administratias","N","SIM","NÃO","ENCARGOS DE GESTÃO","FIXO","DESPESAS_GERAIS",3100,"SMS","Despesas Gerais e Administratias32,732"]
[null,null,null,168.43,313.56,464.69,48.24,13,201.584,{"$f":"D378*'Série - IPCA'!$C$444/'Série - IPCA'!$C$385","v":219.23140378568021},{"$f":"E378*'Série - IPCA'!$C$444/'Série - IPCA'!$C$398","v":390.49469473369402},{"$f":"F378*'Série - IPCA'!$C$444/'Série - IPCA'!$C$411","v":525.8046500020572},{"$f":"G378*'Série - IPCA'!$C$444/'Série - IPCA'!$C$424","v":51.599313442904581},{"$f":"H378*'Série - IPCA'!$C$444/'Série - IPCA'!$C$437","v":13.291081489974559},240.08422869086212,"Despesas Gerais e Administratias","N","SIM","NÃO","ENCARGOS DE GESTÃO","FIXO","DESPESAS_GERAIS",3200,"GERÊNCIA DE PLANEJAMENTO E MEIO AMBIENTE","Despesas Gerais e Administratias201,584"]
[null,null,null,308.14,302.41000000000003,381.46,114.39,24.12,226.10399999999998,{"$f":"D379*'Série - IPCA'!$C$444/'Série - IPCA'!$C$385","v":401.08035838342033},{"$f":"E379*'Série - IPCA'!$C$444/'Série - IPCA'!$C$398","v":376.60894449042098},{"$f":"F379*'Série - IPCA'!$C$444/'Série - IPCA'!$C$411","v":431.62848735669962},{"$f":"G379*'Série - IPCA'!$C$444/'Série - IPCA'!$C$424","v":122.35583467524575},{"$f":"H379*'Série - IPCA'!$C$444/'Série - IPCA'!$C$437","v":24.66006811832203},271.26673860482174,"Despesas Gerais e Administratias","N","SIM","NÃO","ENCARGOS DE GESTÃO","FIXO","DESPESAS_GERAIS",3300,"GERÊNCIA JURÍDICA","Despesas Gerais e Administratias226,104"]
[null,null,null,547.22,36.25,0,0,0,116.694,{"$f":"D380*'Série - IPCA'!$C$444/'Série - IPCA'!$C$385","v":712.27102523065912},{"$f":"E380*'Série - IPCA'!$C$444/'Série - IPCA'!$C$398","v":45.144255275214974},{"$f":"F380*'Série - IPCA'!$C$444/'Série - IPCA'!$C$411","v":0},{"$f":"G380*'Série - IPCA'!$C$444/'Série - IPCA'!$C$424","v":0},{"$f":"H380*'Série - IPCA'!$C$444/'Série - IPCA'!$C$437","v":0},151.48305610117481,"Despesas Gerais e Administratias","N","SIM","NÃO","ENCARGOS DE GESTÃO","FIXO","DESPESAS_GERAIS",3400,"MARKETING","Despesas Gerais e Administratias116,694"]
[null,null,null,0,535.96,213.79,67.239999999999995,315.94,226.58600000000001,{"$f":"D381*'Série - IPCA'!$C$444/'Série - IPCA'!$C$385","v":0},{"$f":"E381*'Série - IPCA'!$C$444/'Série - IPCA'!$C$398","v":667.46248433942674},{"$f":"F381*'Série - IPCA'!$C$444/'Série - IPCA'!$C$411","v":241.90702645621772},{"$f":"G381*'Série - IPCA'!$C$444/'Série - IPCA'!$C$424","v":71.922426117348749},{"$f":"H381*'Série - IPCA'!$C$444/'Série - IPCA'!$C$437","v":323.01417584173555},260.8612225509458,"Despesas Gerais e Administratias","N","SIM","NÃO","ENCARGOS DE GESTÃO","FIXO","DESPESAS_GERAIS",3500,"ASSESSORIA DE COMUNICAÇÃO INSTITUCIONAL","Despesas Gerais e Administratias226,586"]
[null,null,null,265.32,821.06,506.52,229.35,164.3,397.30999999999995,{"$f":"D382*'Série - IPCA'!$C$444/'Série - IPCA'!$C$385","v":345.34510510251539},{"$f":"E382*'Série - IPCA'!$C$444/'Série - IPCA'!$C$398","v":1022.5142685867036},{"$f":"F382*'Série - IPCA'!$C$444/'Série - IPCA'!$C$411","v":573.13600748680199},{"$f":"G382*'Série - IPCA'!$C$444/'Série - IPCA'!$C$424","v":245.32136273072479},{"$f":"H382*'Série - IPCA'!$C$444/'Série - IPCA'!$C$437","v":167.97882221560155},470.85911322446947,"Despesas Gerais e Administratias","N","SIM","NÃO","ENCARGOS DE GESTÃO","FIXO","DESPESAS_GERAIS",3600,"GERÊNCIA DE GOVERNANÇA, RISCO E COMPLIANCE","Despesas Gerais e Administratias397,31"]
[null,null,null,507895.98,179852.06,206069.48,166862.51999999999,143412.92000000001,240818.592,{"$f":"D383*'Série - IPCA'!$C$444/'Série - IPCA'!$C$385","v":661086.20003861398},{"$f":"E383*'Série - IPCA'!$C$444/'Série - IPCA'!$C$398","v":223980.33954243531},{"$f":"F383*'Série - IPCA'!$C$444/'Série - IPCA'!$C$411","v":233171.12657364254},{"$f":"G383*'Série - IPCA'!$C$444/'Série - IPCA'!$C$424","v":178482.4102685102},{"$f":"H383*'Série - IPCA'!$C$444/'Série - IPCA'!$C$437","v":146624.06203347709},288668.82769133581,"Despesas Gerais e Administratias","N","SIM","NÃO","ENCARGOS DE GESTÃO","NÚMERO DE CLIENTES","DESPESAS_GERAIS",4100,"GERÊNCIA DE SERVIÇOS CORPORATIVOS","Despesas Gerais e Administratias240818,592"]
[null,null,null,42068.19,48247.61,40556.83,46363.98,50551.18,45557.558000000005,{"$f":"D384*'Série - IPCA'!$C$444/'Série - IPCA'!$C$385","v":54756.684369902709},{"$f":"E384*'Série - IPCA'!$C$444/'Série - IPCA'!$C$398","v":60085.584062317648},{"$f":"F384*'Série - IPCA'!$C$444/'Série - IPCA'!$C$411","v":45890.743944012},{"$f":"G384*'Série - IPCA'!$C$444/'Série - IPCA'!$C$424","v":49592.652082930334},{"$f":"H384*'Série - IPCA'!$C$444/'Série - IPCA'!$C$437","v":51683.065599567082},52401.746011745956,"Despesas Gerais e Administratias","N","SIM","NÃO","ENCARGOS DE GESTÃO","NÚMERO DE CLIENTES","DESPESAS_GERAIS",4200,"GERÊNCIA FINANCEIRA","Despesas Gerais e Administratias45557,558"]
[null,null,null,166.69,144.86000000000001,24.12,18.399999999999999,0,70.813999999999993,{"$f":"D385*'Série - IPCA'!$C$444/'Série - IPCA'!$C$385","v":216.96658966356964},{"$f":"E385*'Série - IPCA'!$C$444/'Série - IPCA'!$C$398","v":180.40267087359013},{"$f":"F385*'Série - IPCA'!$C$444/'Série - IPCA'!$C$411","v":27.292190832704865},{"$f":"G385*'Série - IPCA'!$C$444/'Série - IPCA'!$C$424","v":19.681330168935411},{"$f":"H385*'Série - IPCA'!$C$444/'Série - IPCA'!$C$437","v":0},88.868556307760016,"Despesas Gerais e Administratias","N","SIM","NÃO","ENCARGOS DE GESTÃO","FIXO","DESPESAS_GERAIS",4300,"GERÊNCIA DE TECNOLOGIA E SISTEMAS DE INFORMAÇÃO","Despesas Gerais e Administratias70,814"]
[null,null,null,0,1316.49,0,0,0,263.298,{"$f":"D386*'Série - IPCA'!$C$444/'Série - IPCA'!$C$385","v":0},{"$f":"E386*'Série - IPCA'!$C$444/'Série - IPCA'!$C$398","v":1639.5023621315245},{"$f":"F386*'Série - IPCA'!$C$444/'Série - IPCA'!$C$411","v":0},{"$f":"G386*'Série - IPCA'!$C$444/'Série - IPCA'!$C$424","v":0},{"$f":"H386*'Série - IPCA'!$C$444/'Série - IPCA'!$C$437","v":0},327.90047242630487,"Despesas Gerais e Administratias","N","SIM","NÃO","ENCARGOS DE GESTÃO","FIXO","DESPESAS_GERAIS",4500,"GERÊNCIA CONTÁBIL","Despesas Gerais e Administratias263,298"]
[null,null,null,54.2,0,24.12,0,0,15.664000000000001,{"$f":"D387*'Série - IPCA'!$C$444/'Série - IPCA'!$C$385","v":70.54765828643275},{"$f":"E387*'Série - IPCA'!$C$444/'Série - IPCA'!$C$398","v":0},{"$f":"F387*'Série - IPCA'!$C$444/'Série - IPCA'!$C$411","v":27.292190832704865},{"$f":"G387*'Série - IPCA'!$C$444/'Série - IPCA'!$C$424","v":0},{"$f":"H387*'Série - IPCA'!$C$444/'Série - IPCA'!$C$437","v":0},19.567969823827521,"Despesas Gerais e Administratias","N","SIM","NÃO","ENCARGOS DE GESTÃO","FIXO","DESPESAS_GERAIS",4600,"GERÊNCIA DE PESSOAS E CULTURA","Despesas Gerais e Administratias15,664"]
[null,null,null,27394.16,33370.92,70720.63,113430.89,105307.52,70044.824000000008,{"$f":"D388*'Série - IPCA'!$C$444/'Série - IPCA'!$C$385","v":35656.712891584211},{"$f":"E388*'Série - IPCA'!$C$444/'Série - IPCA'!$C$398","v":41558.767758586946},{"$f":"F388*'Série - IPCA'!$C$444/'Série - IPCA'!$C$411","v":80021.597419946615},{"$f":"G388*'Série - IPCA'!$C$444/'Série - IPCA'!$C$424","v":121329.93464381489},{"$f":"H388*'Série - IPCA'!$C$444/'Série - IPCA'!$C$437","v":107665.44844824044},77246.492232434612,"Custos","N","SIM","NÃO","OPEX","FIXO","DESPESAS_SEGUROS",5100,"GERÊNCIA DE ENGENHARIA","Custos70044,824"]
[null,null,null,67451.66,68828.83,115769.42,185685.93,172388.01,{"$f":"AVERAGE(D389:H389)","v":122024.76999999999},{"$f":"D389*'Série - IPCA'!$C$444/'Série - IPCA'!$C$385","v":87796.248349310772},{"$f":"E389*'Série - IPCA'!$C$444/'Série - IPCA'!$C$398","v":85716.586808672408},{"$f":"F389*'Série - IPCA'!$C$444/'Série - IPCA'!$C$411","v":130995.07061490708},{"$f":"G389*'Série - IPCA'!$C$444/'Série - IPCA'!$C$424","v":198616.63565520808},{"$f":"H389*'Série - IPCA'!$C$444/'Série - IPCA'!$C$437","v":176247.92990804228},{"$f":"AVERAGE(J389:N389)","v":135874.49426722812},"Custos","N","SIM","NÃO","OPEX","FIXO","DESPESAS_SEGUROS",5200,"GERÊNCIA DE OPERAÇÕES",{"$f":"B389&C389&P389&I389","v":"Custos122024,77"}]
[null,null,null,40940.03,0,0,0,0,8188.0059999999994,{"$f":"D390*'Série - IPCA'!$C$444/'Série - IPCA'!$C$385","v":53288.251783695669},{"$f":"E390*'Série - IPCA'!$C$444/'Série - IPCA'!$C$398","v":0},{"$f":"F390*'Série - IPCA'!$C$444/'Série - IPCA'!$C$411","v":0},{"$f":"G390*'Série - IPCA'!$C$444/'Série - IPCA'!$C$424","v":0},{"$f":"H390*'Série - IPCA'!$C$444/'Série - IPCA'!$C$437","v":0},10657.650356739134,"Despesas Gerais e Administratias","S","NÃO","SIM","ENCARGOS DE GESTÃO","FIXO","MATERIAIS_MANUTENÇÃO",9999,"RATEIO","Despesas Gerais e Administratias8188,006"]
[null,null,null,177676.67,185134.24,115368.27,222889.67,317027.43,203619.25599999999,{"$f":"D391*'Série - IPCA'!$C$444/'Série - IPCA'!$C$385","v":231267.02953194239},{"$f":"E391*'Série - IPCA'!$C$444/'Série - IPCA'!$C$398","v":230558.54871014936},{"$f":"F391*'Série - IPCA'!$C$444/'Série - IPCA'!$C$411","v":130541.16255717326},{"$f":"G391*'Série - IPCA'!$C$444/'Série - IPCA'!$C$424","v":238411.15144103579},{"$f":"H391*'Série - IPCA'!$C$444/'Série - IPCA'!$C$437","v":324125.95436055423},230980.76932017101,"Custos","N","SIM","NÃO","OPEX","VOLUME","CUSTO_ODORIZAÇAO",5200,"GERÊNCIA DE OPERAÇÕES","Custos203619,256"]
[null,null,null,0,0,0,78.13,8,17.225999999999999,{"$f":"D392*'Série - IPCA'!$C$444/'Série - IPCA'!$C$385","v":0},{"$f":"E392*'Série - IPCA'!$C$444/'Série - IPCA'!$C$398","v":0},{"$f":"F392*'Série - IPCA'!$C$444/'Série - IPCA'!$C$411","v":0},{"$f":"G392*'Série - IPCA'!$C$444/'Série - IPCA'!$C$424","v":83.5707785923328},{"$f":"H392*'Série - IPCA'!$C$444/'Série - IPCA'!$C$437","v":8.1791270707535748},18.349981132617277,"Custos","N","NÃO","NÃO","OPEX","FIXO","DESPESAS_GERAIS",5100,"GERÊNCIA DE ENGENHARIA","Custos17,226"]
[null,null,null,0,0,0,16,32,9.6,{"$f":"D393*'Série - IPCA'!$C$444/'Série - IPCA'!$C$385","v":0},{"$f":"E393*'Série - IPCA'!$C$444/'Série - IPCA'!$C$398","v":0},{"$f":"F393*'Série - IPCA'!$C$444/'Série - IPCA'!$C$411","v":0},{"$f":"G393*'Série - IPCA'!$C$444/'Série - IPCA'!$C$424","v":17.114200146900355},{"$f":"H393*'Série - IPCA'!$C$444/'Série - IPCA'!$C$437","v":32.716508283014299},9.9661416859829295,"Custos","N","NÃO","NÃO","OPEX","FIXO","DESPESAS_GERAIS",5200,"GERÊNCIA DE OPERAÇÕES","Custos9,6"]
[null,null,null,250512.82,161496.81,109675.08,139415.92000000001,130551.1,158330.34599999999,{"$f":"D394*'Série - IPCA'!$C$444/'Série - IPCA'!$C$385","v":326071.82327916299},{"$f":"E394*'Série - IPCA'!$C$444/'Série - IPCA'!$C$398","v":201121.46804890732},{"$f":"F394*'Série - IPCA'!$C$444/'Série - IPCA'!$C$411","v":124099.22110083634},{"$f":"G394*'Série - IPCA'!$C$444/'Série - IPCA'!$C$424","v":149124.49740901554},{"$f":"H394*'Série - IPCA'!$C$444/'Série - IPCA'!$C$437","v":133474.25451583212},186778.25287075085,"Custos","N","SIM","NÃO","OPEX","FUNCIONÁRIOS","PESSOAL",5100,"GERÊNCIA DE ENGENHARIA","Custos158330,346"]
[null,null,null,416943.34,378701.53,399857.43,429706.16,355455.05,396132.70199999999,{"$f":"D395*'Série - IPCA'!$C$444/'Série - IPCA'!$C$385","v":542700.66928272962},{"$f":"E395*'Série - IPCA'!$C$444/'Série - IPCA'!$C$398","v":471619.27016370994},{"$f":"F395*'Série - IPCA'!$C$444/'Série - IPCA'!$C$411","v":452445.49276264198},{"$f":"G395*'Série - IPCA'!$C$444/'Série - IPCA'!$C$424","v":459629.82666224928},{"$f":"H395*'Série - IPCA'!$C$444/'Série - IPCA'!$C$437","v":363414.00273638312},457961.8523215428,"Custos","N","SIM","NÃO","OPEX","FUNCIONÁRIOS","PESSOAL",5200,"GERÊNCIA DE OPERAÇÕES","Custos396132,702"]
[null,null,null,233089.52,208396.65,295985.52,297753.36,293137.46000000002,265672.50199999998,{"$f":"D396*'Série - IPCA'!$C$444/'Série - IPCA'!$C$385","v":303393.35437469796},{"$f":"E396*'Série - IPCA'!$C$444/'Série - IPCA'!$C$398","v":259528.59492688632},{"$f":"F396*'Série - IPCA'!$C$444/'Série - IPCA'!$C$411","v":334912.65736141714},{"$f":"G396*'Série - IPCA'!$C$444/'Série - IPCA'!$C$424","v":318488.16234075464},{"$f":"H396*'Série - IPCA'!$C$444/'Série - IPCA'!$C$437","v":299701.06681724294},303204.76716419979,"Despesas com Vendas","N","SIM","NÃO","ENCARGOS DE COMERCIALIZAÇÃO","FUNCIONÁRIOS","PESSOAL",5300,"GERÊNCIA COMERCIAL","Despesas com Vendas265672,502"]
[null,null,null,0,24131.86,26138.05,29204.04,19923.7,19879.530000000002,{"$f":"D397*'Série - IPCA'!$C$444/'Série - IPCA'!$C$385","v":0},{"$f":"E397*'Série - IPCA'!$C$444/'Série - IPCA'!$C$398","v":30052.823396020671},{"$f":"F397*'Série - IPCA'!$C$444/'Série - IPCA'!$C$411","v":29575.64878087816},{"$f":"G397*'Série - IPCA'!$C$444/'Série - IPCA'!$C$424","v":31237.736603630245},{"$f":"H397*'Série - IPCA'!$C$444/'Série - IPCA'!$C$437","v":20369.809252446626},22247.20360659514,"Despesas Gerais e Administratias","N","SIM","NÃO","ENCARGOS DE GESTÃO","FUNCIONÁRIOS","PESSOAL",1005,"AUDITORIA INTERNA","Despesas Gerais e Administratias19879,53"]
[null,null,null,0,0,39509.949999999997,28289.119999999999,15823.31,16724.475999999999,{"$f":"D398*'Série - IPCA'!$C$444/'Série - IPCA'!$C$385","v":0},{"$f":"E398*'Série - IPCA'!$C$444/'Série - IPCA'!$C$398","v":0},{"$f":"F398*'Série - IPCA'!$C$444/'Série - IPCA'!$C$411","v":44706.181392646242},{"$f":"G398*'Série - IPCA'!$C$444/'Série - IPCA'!$C$424","v":30259.10385373011},{"$f":"H398*'Série - IPCA'!$C$444/'Série - IPCA'!$C$437","v":16177.607896240717},18228.578628523413,"Despesas Gerais e Administratias","N","SIM","NÃO","ENCARGOS DE GESTÃO","FUNCIONÁRIOS","PESSOAL",1010,"GOVERNANÇA SOCIETÁRIA","Despesas Gerais e Administratias16724,476"]
[null,null,null,24296.639999999999,25803.7,16006.62,6537.98,7263.53,15981.693999999998,{"$f":"D399*'Série - IPCA'!$C$444/'Série - IPCA'!$C$385","v":31624.927236687694},{"$f":"E399*'Série - IPCA'!$C$444/'Série - IPCA'!$C$398","v":32134.863995725926},{"$f":"F399*'Série - IPCA'!$C$444/'Série - IPCA'!$C$411","v":18111.763168598271},{"$f":"G399*'Série - IPCA'!$C$444/'Série - IPCA'!$C$424","v":6993.2686422769748},{"$f":"H399*'Série - IPCA'!$C$444/'Série - IPCA'!$C$437","v":7426.1668565288383},19258.197979963541,"Despesas Gerais e Administratias","N","SIM","NÃO","ENCARGOS DE GESTÃO","FUNCIONÁRIOS","PESSOAL",2110,"ASSESSORIA DA DIRETORIA EXECUTIVA","Despesas Gerais e Administratias15981,694"]
[null,null,null,37318.15,38498.26,41698.800000000003,46590.06,48621.38,42545.33,{"$f":"D400*'Série - IPCA'!$C$444/'Série - IPCA'!$C$385","v":48573.950075310699},{"$f":"E400*'Série - IPCA'!$C$444/'Série - IPCA'!$C$398","v":47944.14557494063},{"$f":"F400*'Série - IPCA'!$C$444/'Série - IPCA'!$C$411","v":47182.902450032896},{"$f":"G400*'Série - IPCA'!$C$444/'Série - IPCA'!$C$424","v":49834.47573100603},{"$f":"H400*'Série - IPCA'!$C$444/'Série - IPCA'!$C$437","v":49710.055671924551},48649.105900642964,"Despesas Gerais e Administratias","N","SIM","NÃO","ENCARGOS DE GESTÃO","FUNCIONÁRIOS","PESSOAL",2120,"ASSESSORIA DA PRESIDÊNCIA","Despesas Gerais e Administratias42545,33"]
[null,null,null,0,17818.259999999998,19299.57,21563.41,13650.79,14466.405999999999,{"$f":"D401*'Série - IPCA'!$C$444/'Série - IPCA'!$C$385","v":0},{"$f":"E401*'Série - IPCA'!$C$444/'Série - IPCA'!$C$398","v":22190.126289659362},{"$f":"F401*'Série - IPCA'!$C$444/'Série - IPCA'!$C$411","v":21837.792181971217},{"$f":"G401*'Série - IPCA'!$C$444/'Série - IPCA'!$C$424","v":23065.032161854539},{"$f":"H401*'Série - IPCA'!$C$444/'Série - IPCA'!$C$437","v":13956.443253271524},16209.878777351329,"Despesas Gerais e Administratias","N","SIM","NÃO","ENCARGOS DE GESTÃO","FUNCIONÁRIOS","PESSOAL",2130,"ASSESSORIA DE RELAÇÕES INSTITUCIONAIS E NOVOS NEGÓCIOS","Despesas Gerais e Administratias14466,406"]
[null,null,null,0,0,0,0,20258.91,4051.7820000000002,{"$f":"D402*'Série - IPCA'!$C$444/'Série - IPCA'!$C$385","v":0},{"$f":"E402*'Série - IPCA'!$C$444/'Série - IPCA'!$C$398","v":0},{"$f":"F402*'Série - IPCA'!$C$444/'Série - IPCA'!$C$411","v":0},{"$f":"G402*'Série - IPCA'!$C$444/'Série - IPCA'!$C$424","v":0},{"$f":"H402*'Série - IPCA'!$C$444/'Série - IPCA'!$C$437","v":20712.524900620036},4142.5049801240075,"Despesas Gerais e Administratias","N","SIM","NÃO","ENCARGOS DE GESTÃO","FUNCIONÁRIOS","PESSOAL",2140,"ASSESSORIA DTC","Despesas Gerais e Administratias4051,782"]
[null,null,null,0,16040.94,17374.5,0,0,6683.0880000000006,{"$f":"D403*'Série - IPCA'!$C$444/'Série - IPCA'!$C$385","v":0},{"$f":"E403*'Série - IPCA'!$C$444/'Série - IPCA'!$C$398","v":19976.725247293984},{"$f":"F403*'Série - IPCA'!$C$444/'Série - IPCA'!$C$411","v":19659.542687513705},{"$f":"G403*'Série - IPCA'!$C$444/'Série - IPCA'!$C$424","v":0},{"$f":"H403*'Série - IPCA'!$C$444/'Série - IPCA'!$C$437","v":0},7927.2535869615385,"Despesas Gerais e Administratias","N","SIM","NÃO","ENCARGOS DE GESTÃO","FUNCIONÁRIOS","PESSOAL",2300,"DIRETORIA COLEGIADA - DAF","Despesas Gerais e Administratias6683,088"]
[null,null,null,44678.6,57659.51,59628.69,71932.67,55348.12,57849.517999999996,{"$f":"D404*'Série - IPCA'!$C$444/'Série - IPCA'!$C$385","v":58154.439216166305},{"$f":"E404*'Série - IPCA'!$C$444/'Série - IPCA'!$C$398","v":71806.776234036151},{"$f":"F404*'Série - IPCA'!$C$444/'Série - IPCA'!$C$411","v":67470.878382429524},{"$f":"G404*'Série - IPCA'!$C$444/'Série - IPCA'!$C$424","v":76941.881967558438},{"$f":"H404*'Série - IPCA'!$C$444/'Série - IPCA'!$C$437","v":56587.413325914669},66192.277825221026,"Despesas Gerais e Administratias","N","SIM","NÃO","ENCARGOS DE GESTÃO","FUNCIONÁRIOS","PESSOAL",2410,"ASSESSORIA DE SEGURANÇA DO TRABALHO","Despesas Gerais e Administratias57849,518"]
[null,null,null,71580.3,67944.83,74443.42,86413.42,71182.33,74312.86,{"$f":"D405*'Série - IPCA'!$C$444/'Série - IPCA'!$C$385","v":93170.157646500767},{"$f":"E405*'Série - IPCA'!$C$444/'Série - IPCA'!$C$398","v":84615.689659340263},{"$f":"F405*'Série - IPCA'!$C$444/'Série - IPCA'!$C$411","v":84233.997714726269},{"$f":"G405*'Série - IPCA'!$C$444/'Série - IPCA'!$C$424","v":92431.035328635146},{"$f":"H405*'Série - IPCA'!$C$444/'Série - IPCA'!$C$437","v":72776.165282789298},85445.409126398343,"Despesas Gerais e Administratias","N","SIM","NÃO","ENCARGOS DE GESTÃO","FUNCIONÁRIOS","PESSOAL",3200,"GERÊNCIA DE PLANEJAMENTO E MEIO AMBIENTE","Despesas Gerais e Administratias74312,86"]
[null,null,null,47336.24,48343.71,50858.91,55177.08,41055.58,48554.304000000004,{"$f":"D406*'Série - IPCA'!$C$444/'Série - IPCA'!$C$385","v":61613.669448054774},{"$f":"E406*'Série - IPCA'!$C$444/'Série - IPCA'!$C$398","v":60205.263039750702},{"$f":"F406*'Série - IPCA'!$C$444/'Série - IPCA'!$C$411","v":57547.722937950311},{"$f":"G406*'Série - IPCA'!$C$444/'Série - IPCA'!$C$424","v":59019.474415095799},{"$f":"H406*'Série - IPCA'!$C$444/'Série - IPCA'!$C$437","v":41974.850722936135},56072.196112757549,"Despesas Gerais e Administratias","N","SIM","NÃO","ENCARGOS DE GESTÃO","FUNCIONÁRIOS","PESSOAL",3300,"GERÊNCIA JURÍDICA","Despesas Gerais e Administratias48554,304"]
[null,null,null,52589.07,40275.26,46519.360000000001,36955.53,29085.65,41084.974000000002,{"$f":"D407*'Série - IPCA'!$C$444/'Série - IPCA'!$C$385","v":68450.843910724929},{"$f":"E407*'Série - IPCA'!$C$444/'Série - IPCA'!$C$398","v":50157.148102500818},{"$f":"F407*'Série - IPCA'!$C$444/'Série - IPCA'!$C$411","v":52637.448197980804},{"$f":"G407*'Série - IPCA'!$C$444/'Série - IPCA'!$C$424","v":39529.021059673782},{"$f":"H407*'Série - IPCA'!$C$444/'Série - IPCA'!$C$437","v":29736.903410682968},48102.272936312664,"Despesas Gerais e Administratias","N","SIM","NÃO","ENCARGOS DE GESTÃO","FUNCIONÁRIOS","PESSOAL",3500,"ASSESSORIA DE COMUNICAÇÃO INSTITUCIONAL","Despesas Gerais e Administratias41084,974"]
[null,null,null,83753.89,72369.8,75862.67,116480.3,75458.03,84784.937999999995,{"$f":"D408*'Série - IPCA'!$C$444/'Série - IPCA'!$C$385","v":109015.51313430768},{"$f":"E408*'Série - IPCA'!$C$444/'Série - IPCA'!$C$398","v":90126.364839069051},{"$f":"F408*'Série - IPCA'!$C$444/'Série - IPCA'!$C$411","v":85839.903263619985},{"$f":"G408*'Série - IPCA'!$C$444/'Série - IPCA'!$C$424","v":124591.69796068735},{"$f":"H408*'Série - IPCA'!$C$444/'Série - IPCA'!$C$437","v":77147.601984841924},97344.216236505192,"Despesas Gerais e Administratias","N","SIM","NÃO","ENCARGOS DE GESTÃO","FUNCIONÁRIOS","PESSOAL",3600,"GERÊNCIA DE GOVERNANÇA, RISCO E COMPLIANCE","Despesas Gerais e Administratias84784,938"]
[null,null,null,0,20813.79,22677.38,25337.43,15848.14,16935.348000000002,{"$f":"D409*'Série - IPCA'!$C$444/'Série - IPCA'!$C$385","v":0},{"$f":"E409*'Série - IPCA'!$C$444/'Série - IPCA'!$C$398","v":25920.635834612876},{"$f":"F409*'Série - IPCA'!$C$444/'Série - IPCA'!$C$411","v":25659.841730753091},{"$f":"G409*'Série - IPCA'!$C$444/'Série - IPCA'!$C$424","v":27101.865514254845},{"$f":"H409*'Série - IPCA'!$C$444/'Série - IPCA'!$C$437","v":16202.993861886569},18977.067388301475,"Despesas Gerais e Administratias","N","SIM","NÃO","ENCARGOS DE GESTÃO","FUNCIONÁRIOS","PESSOAL",3700,"GERÊNCIA DE REGULAÇÃO","Despesas Gerais e Administratias16935,348"]
[null,null,null,194014.43,230525.81,172485.32,214163.32,99475.26,182132.82800000004,{"$f":"D410*'Série - IPCA'!$C$444/'Série - IPCA'!$C$385","v":252532.5407800189},{"$f":"E410*'Série - IPCA'!$C$444/'Série - IPCA'!$C$398","v":287087.33832181257},{"$f":"F410*'Série - IPCA'!$C$444/'Série - IPCA'!$C$411","v":195170.07749917763},{"$f":"G410*'Série - IPCA'!$C$444/'Série - IPCA'!$C$424","v":229077.12016279178},{"$f":"H410*'Série - IPCA'!$C$444/'Série - IPCA'!$C$437","v":101702.59899203127},213113.93515116643,"Despesas Gerais e Administratias","N","SIM","NÃO","ENCARGOS DE GESTÃO","FUNCIONÁRIOS","PESSOAL",4100,"GERÊNCIA DE SERVIÇOS CORPORATIVOS","Despesas Gerais e Administratias182132,828"]
[null,null,null,81040.63,65903.59,83165.490000000005,85304.01,84545.33,79991.810000000012,{"$f":"D411*'Série - IPCA'!$C$444/'Série - IPCA'!$C$385","v":105483.88694755036},{"$f":"E411*'Série - IPCA'!$C$444/'Série - IPCA'!$C$398","v":82073.613531395997},{"$f":"F411*'Série - IPCA'!$C$444/'Série - IPCA'!$C$411","v":94103.168481567482},{"$f":"G411*'Série - IPCA'!$C$444/'Série - IPCA'!$C$424","v":91244.368779574346},{"$f":"H411*'Série - IPCA'!$C$444/'Série - IPCA'!$C$437","v":86438.374663599287},91868.682480737494,"Despesas Gerais e Administratias","N","SIM","NÃO","ENCARGOS DE GESTÃO","FUNCIONÁRIOS","PESSOAL",4200,"GERÊNCIA FINANCEIRA","Despesas Gerais e Administratias79991,81"]
[null,null,null,100520.35,92331.36,90028.84,82211.91,73551.990000000005,87728.890000000014,{"$f":"D412*'Série - IPCA'!$C$444/'Série - IPCA'!$C$385","v":130839.02772384907},{"$f":"E412*'Série - IPCA'!$C$444/'Série - IPCA'!$C$398","v":114985.66857235236},{"$f":"F412*'Série - IPCA'!$C$444/'Série - IPCA'!$C$411","v":101869.16590908177},{"$f":"G412*'Série - IPCA'!$C$444/'Série - IPCA'!$C$424","v":87936.942637434928},{"$f":"H412*'Série - IPCA'!$C$444/'Série - IPCA'!$C$437","v":75198.884064599537},102165.93778146352,"Despesas Gerais e Administratias","N","SIM","NÃO","ENCARGOS DE GESTÃO","FUNCIONÁRIOS","PESSOAL",4300,"GERÊNCIA DE TECNOLOGIA E SISTEMAS DE INFORMAÇÃO","Despesas Gerais e Administratias87728,89"]
[null,null,null,69808.58,67896.52,67522.289999999994,79426.12,68406.94,70612.09,{"$f":"D413*'Série - IPCA'!$C$444/'Série - IPCA'!$C$385","v":90864.056223267587},{"$f":"E413*'Série - IPCA'!$C$444/'Série - IPCA'!$C$398","v":84555.526377344533},{"$f":"F413*'Série - IPCA'!$C$444/'Série - IPCA'!$C$411","v":76402.621233053025},{"$f":"G413*'Série - IPCA'!$C$444/'Série - IPCA'!$C$424","v":84957.157160732837},{"$f":"H413*'Série - IPCA'!$C$444/'Série - IPCA'!$C$437","v":69938.631847676937},81343.598568414993,"Despesas Gerais e Administratias","N","SIM","NÃO","ENCARGOS DE GESTÃO","FUNCIONÁRIOS","PESSOAL",4500,"GERÊNCIA CONTÁBIL","Despesas Gerais e Administratias70612,09"]
[null,null,null,8563.11,0,0,0,72371.61,16186.944,{"$f":"D414*'Série - IPCA'!$C$444/'Série - IPCA'!$C$385","v":11145.892216773711},{"$f":"E414*'Série - IPCA'!$C$444/'Série - IPCA'!$C$398","v":0},{"$f":"F414*'Série - IPCA'!$C$444/'Série - IPCA'!$C$411","v":0},{"$f":"G414*'Série - IPCA'!$C$444/'Série - IPCA'!$C$424","v":0},{"$f":"H414*'Série - IPCA'!$C$444/'Série - IPCA'!$C$437","v":73992.074313127523},17027.593305980245,"Despesas Gerais e Administratias","N","SIM","NÃO","ENCARGOS DE GESTÃO","FUNCIONÁRIOS","PESSOAL",4600,"GERÊNCIA DE PESSOAS E CULTURA","Despesas Gerais e Administratias16186,944"]
[null,null,null,9758189.1199999992,10924867.310000001,5971910.3399999999,13198395.890000001,18088203.190000001,11588313.169999998,{"$f":"D415*'Série - IPCA'!$C$444/'Série - IPCA'!$C$385","v":12701427.888046969},{"$f":"E415*'Série - IPCA'!$C$444/'Série - IPCA'!$C$398","v":13605379.274220446},{"$f":"F415*'Série - IPCA'!$C$444/'Série - IPCA'!$C$411","v":6757318.2684528762},{"$f":"G415*'Série - IPCA'!$C$444/'Série - IPCA'!$C$424","v":14117499.304967944},{"$f":"H415*'Série - IPCA'!$C$444/'Série - IPCA'!$C$437","v":18493214.046577524},13134967.756453153,"Outras Receitas e Despesas","N","NÃO","SIM","OPEX","FIXO","DESPESA GERAIS",4200,"GERÊNCIA FINANCEIRA","Outras Receitas e Despesas11588313,17"]
[null,null,null,0,-861.85,0,0,0,-172.37,{"$f":"D416*'Série - IPCA'!$C$444/'Série - IPCA'!$C$385","v":0},{"$f":"E416*'Série - IPCA'!$C$444/'Série - IPCA'!$C$398","v":-1073.3124526605247},{"$f":"F416*'Série - IPCA'!$C$444/'Série - IPCA'!$C$411","v":0},{"$f":"G416*'Série - IPCA'!$C$444/'Série - IPCA'!$C$424","v":0},{"$f":"H416*'Série - IPCA'!$C$444/'Série - IPCA'!$C$437","v":0},-214.66249053210495,"Outras Receitas e Despesas","N","NÃO","SIM","OPEX","FIXO","DESPESA GERAIS",5200,"GERÊNCIA DE OPERAÇÕES","Outras Receitas e Despesas-172,37"]
[null,null,null,0,0,0,0,0,0,{"$f":"D417*'Série - IPCA'!$C$444/'Série - IPCA'!$C$385","v":0},{"$f":"E417*'Série - IPCA'!$C$444/'Série - IPCA'!$C$398","v":0},{"$f":"F417*'Série - IPCA'!$C$444/'Série - IPCA'!$C$411","v":0},{"$f":"G417*'Série - IPCA'!$C$444/'Série - IPCA'!$C$424","v":0},{"$f":"H417*'Série - IPCA'!$C$444/'Série - IPCA'!$C$437","v":0},0,"Custos","N","NÃO ","NÃO","OPEX","FIXO","DESPESAS_GERAIS",5200,"GERÊNCIA DE OPERAÇÕES","Custos0"]
[null,null,null,0,0,135,90,0,45,{"$f":"D418*'Série - IPCA'!$C$444/'Série - IPCA'!$C$385","v":0},{"$f":"E418*'Série - IPCA'!$C$444/'Série - IPCA'!$C$398","v":0},{"$f":"F418*'Série - IPCA'!$C$444/'Série - IPCA'!$C$411","v":152.75479943678093},{"$f":"G418*'Série - IPCA'!$C$444/'Série - IPCA'!$C$424","v":96.267375826314506},{"$f":"H418*'Série - IPCA'!$C$444/'Série - IPCA'!$C$437","v":0},49.804435052619091,"Despesas Gerais e Administratias","N","NÃO ","NÃO","ENCARGOS DE GESTÃO","NÚMERO DE CLIENTES","DESPESAS_GERAIS",2100,"SECRETARIA","Despesas Gerais e Administratias45"]
[null,null,null,124.32,0,0,0,48,34.463999999999999,{"$f":"D419*'Série - IPCA'!$C$444/'Série - IPCA'!$C$385","v":161.81706417286563},{"$f":"E419*'Série - IPCA'!$C$444/'Série - IPCA'!$C$398","v":0},{"$f":"F419*'Série - IPCA'!$C$444/'Série - IPCA'!$C$411","v":0},{"$f":"G419*'Série - IPCA'!$C$444/'Série - IPCA'!$C$424","v":0},{"$f":"H419*'Série - IPCA'!$C$444/'Série - IPCA'!$C$437","v":49.074762424521452},42.178365319477415,"Despesas Gerais e Administratias","N","NÃO ","NÃO","ENCARGOS DE GESTÃO","NÚMERO DE CLIENTES","DESPESAS_GERAIS",2200,"DIRETORIA COLEGIADA - PRESIDÊNCIA","Despesas Gerais e Administratias34,464"]
[null,null,null,0,0,0,0,48,9.6,{"$f":"D420*'Série - IPCA'!$C$444/'Série - IPCA'!$C$385","v":0},{"$f":"E420*'Série - IPCA'!$C$444/'Série - IPCA'!$C$398","v":0},{"$f":"F420*'Série - IPCA'!$C$444/'Série - IPCA'!$C$411","v":0},{"$f":"G420*'Série - IPCA'!$C$444/'Série - IPCA'!$C$424","v":0},{"$f":"H420*'Série - IPCA'!$C$444/'Série - IPCA'!$C$437","v":49.074762424521452},9.8149524849042908,"Despesas Gerais e Administratias","N","NÃO ","NÃO","ENCARGOS DE GESTÃO","NÚMERO DE CLIENTES","DESPESAS_GERAIS",2400,"DIRETORIA COLEGIADA - DTC","Despesas Gerais e Administratias9,6"]
[null,null,null,0,10.68,0,102.42,2.94,23.207999999999998,{"$f":"D421*'Série - IPCA'!$C$444/'Série - IPCA'!$C$385","v":0},{"$f":"E421*'Série - IPCA'!$C$444/'Série - IPCA'!$C$398","v":13.300431623152992},{"$f":"F421*'Série - IPCA'!$C$444/'Série - IPCA'!$C$411","v":0},{"$f":"G421*'Série - IPCA'!$C$444/'Série - IPCA'!$C$424","v":109.55227369034591},{"$f":"H421*'Série - IPCA'!$C$444/'Série - IPCA'!$C$437","v":3.0058291985019383},25.171706902400167,"Despesas Gerais e Administratias","N","NÃO ","NÃO","ENCARGOS DE GESTÃO","NÚMERO DE CLIENTES","DESPESAS_GERAIS",4100,"GERÊNCIA DE SERVIÇOS CORPORATIVOS","Despesas Gerais e Administratias23,208"]
[null,null,null,532736.99,445235.24,469557.26,556095.06000000006,827885.78,566302.06599999999,{"$f":"D422*'Série - IPCA'!$C$444/'Série - IPCA'!$C$385","v":693419.6886911944},{"$f":"E422*'Série - IPCA'!$C$444/'Série - IPCA'!$C$398","v":554477.60916087183},{"$f":"F422*'Série - IPCA'!$C$444/'Série - IPCA'!$C$411","v":531312.03759544005},{"$f":"G422*'Série - IPCA'!$C$444/'Série - IPCA'!$C$424","v":594820.13484641025},{"$f":"H422*'Série - IPCA'!$C$444/'Série - IPCA'!$C$437","v":846422.87433624221},644090.46892603184,"Despesas Gerais e Administratias","N","NÃO ","NÃO","ENCARGOS DE GESTÃO","NÚMERO DE CLIENTES","DESPESAS_GERAIS",4200,"GERÊNCIA FINANCEIRA","Despesas Gerais e Administratias566302,066"]
[null,null,null,177.18,0,0,0,0,35.436,{"$f":"D423*'Série - IPCA'!$C$444/'Série - IPCA'!$C$385","v":230.62055526181095},{"$f":"E423*'Série - IPCA'!$C$444/'Série - IPCA'!$C$398","v":0},{"$f":"F423*'Série - IPCA'!$C$444/'Série - IPCA'!$C$411","v":0},{"$f":"G423*'Série - IPCA'!$C$444/'Série - IPCA'!$C$424","v":0},{"$f":"H423*'Série - IPCA'!$C$444/'Série - IPCA'!$C$437","v":0},46.124111052362188,"Despesas Gerais e Administratias","N","NÃO ","NÃO","ENCARGOS DE GESTÃO","NÚMERO DE CLIENTES","DESPESAS_GERAIS",2300,"DIRETORIA COLEGIADA - DAF","Despesas Gerais e Administratias35,436"]
[null,null,null,34532.86,0,0,0,0,6906.5720000000001,{"$f":"D424*'Série - IPCA'!$C$444/'Série - IPCA'!$C$385","v":44948.568393601883},{"$f":"E424*'Série - IPCA'!$C$444/'Série - IPCA'!$C$398","v":0},{"$f":"F424*'Série - IPCA'!$C$444/'Série - IPCA'!$C$411","v":0},{"$f":"G424*'Série - IPCA'!$C$444/'Série - IPCA'!$C$424","v":0},{"$f":"H424*'Série - IPCA'!$C$444/'Série - IPCA'!$C$437","v":0},8989.7136787203763,"Despesas com Vendas","N","SIM","NÃO","ENCARGOS DE COMERCIALIZAÇÃO","FUNCIONÁRIOS","PESSOAL",5400,"GERÊNCIA COMERCIAL (inativo)","Despesas com Vendas6906,572"]
[null,null,null,-3520.69,0,0,0,0,-704.13800000000003,{"$f":"D425*'Série - IPCA'!$C$444/'Série - IPCA'!$C$385","v":-4582.5910526284297},{"$f":"E425*'Série - IPCA'!$C$444/'Série - IPCA'!$C$398","v":0},{"$f":"F425*'Série - IPCA'!$C$444/'Série - IPCA'!$C$411","v":0},{"$f":"G425*'Série - IPCA'!$C$444/'Série - IPCA'!$C$424","v":0},{"$f":"H425*'Série - IPCA'!$C$444/'Série - IPCA'!$C$437","v":0},-916.51821052568596,"Despesas com Vendas","N","SIM","NÃO","ENCARGOS DE COMERCIALIZAÇÃO","FUNCIONÁRIOS","PESSOAL",5400,"GERÊNCIA COMERCIAL (inativo)","Despesas com Vendas-704,138"]
[null,null,null,-534.89,0,0,0,0,-106.97799999999999,{"$f":"D426*'Série - IPCA'!$C$444/'Série - IPCA'!$C$385","v":-696.22208377915138},{"$f":"E426*'Série - IPCA'!$C$444/'Série - IPCA'!$C$398","v":0},{"$f":"F426*'Série - IPCA'!$C$444/'Série - IPCA'!$C$411","v":0},{"$f":"G426*'Série - IPCA'!$C$444/'Série - IPCA'!$C$424","v":0},{"$f":"H426*'Série - IPCA'!$C$444/'Série - IPCA'!$C$437","v":0},-139.24441675583029,"Despesas com Vendas","N","SIM","NÃO","ENCARGOS DE COMERCIALIZAÇÃO","FUNCIONÁRIOS","PESSOAL",5500,"GERÊNCIA COMERCIAL (inativo)","Despesas com Vendas-106,978"]
[null,null,null,-602.67999999999995,0,0,0,0,-120.53599999999999,{"$f":"D427*'Série - IPCA'!$C$444/'Série - IPCA'!$C$385","v":-784.45872132965462},{"$f":"E427*'Série - IPCA'!$C$444/'Série - IPCA'!$C$398","v":0},{"$f":"F427*'Série - IPCA'!$C$444/'Série - IPCA'!$C$411","v":0},{"$f":"G427*'Série - IPCA'!$C$444/'Série - IPCA'!$C$424","v":0},{"$f":"H427*'Série - IPCA'!$C$444/'Série - IPCA'!$C$437","v":0},-156.89174426593092,"Despesas Gerais e Administratias","N","SIM","NÃO","ENCARGOS DE GESTÃO","FUNCIONÁRIOS","PESSOAL",2100,"SECRETARIA","Despesas Gerais e Administratias-120,536"]
[null,null,null,-5505.42,0,0,0,0,-1101.0840000000001,{"$f":"D428*'Série - IPCA'!$C$444/'Série - IPCA'!$C$385","v":-7165.9499793965415},{"$f":"E428*'Série - IPCA'!$C$444/'Série - IPCA'!$C$398","v":0},{"$f":"F428*'Série - IPCA'!$C$444/'Série - IPCA'!$C$411","v":0},{"$f":"G428*'Série - IPCA'!$C$444/'Série - IPCA'!$C$424","v":0},{"$f":"H428*'Série - IPCA'!$C$444/'Série - IPCA'!$C$437","v":0},-1433.1899958793083,"Despesas Gerais e Administratias","N","SIM","NÃO","ENCARGOS DE GESTÃO","FUNCIONÁRIOS","PESSOAL",2200,"DIRETORIA COLEGIADA - PRESIDÊNCIA","Despesas Gerais e Administratias-1101,084"]
[null,null,null,-1503.08,0,0,0,0,-300.61599999999999,{"$f":"D429*'Série - IPCA'!$C$444/'Série - IPCA'!$C$385","v":-1956.4349486562976},{"$f":"E429*'Série - IPCA'!$C$444/'Série - IPCA'!$C$398","v":0},{"$f":"F429*'Série - IPCA'!$C$444/'Série - IPCA'!$C$411","v":0},{"$f":"G429*'Série - IPCA'!$C$444/'Série - IPCA'!$C$424","v":0},{"$f":"H429*'Série - IPCA'!$C$444/'Série - IPCA'!$C$437","v":0},-391.2869897312595,"Despesas Gerais e Administratias","N","SIM","NÃO","ENCARGOS DE GESTÃO","FUNCIONÁRIOS","PESSOAL",2400,"DIRETORIA COLEGIADA - DTC","Despesas Gerais e Administratias-300,616"]
[null,null,null,1278.76,0,0,0,0,255.75200000000001,{"$f":"D430*'Série - IPCA'!$C$444/'Série - IPCA'!$C$385","v":1664.4561533276519},{"$f":"E430*'Série - IPCA'!$C$444/'Série - IPCA'!$C$398","v":0},{"$f":"F430*'Série - IPCA'!$C$444/'Série - IPCA'!$C$411","v":0},{"$f":"G430*'Série - IPCA'!$C$444/'Série - IPCA'!$C$424","v":0},{"$f":"H430*'Série - IPCA'!$C$444/'Série - IPCA'!$C$437","v":0},332.89123066553037,"Despesas Gerais e Administratias","N","SIM","NÃO","ENCARGOS DE GESTÃO","FUNCIONÁRIOS","PESSOAL",3100,"SMS","Despesas Gerais e Administratias255,752"]
[null,null,null,-218.09,0,0,0,0,-43.618000000000002,{"$f":"D431*'Série - IPCA'!$C$444/'Série - IPCA'!$C$385","v":-283.86971947764056},{"$f":"E431*'Série - IPCA'!$C$444/'Série - IPCA'!$C$398","v":0},{"$f":"F431*'Série - IPCA'!$C$444/'Série - IPCA'!$C$411","v":0},{"$f":"G431*'Série - IPCA'!$C$444/'Série - IPCA'!$C$424","v":0},{"$f":"H431*'Série - IPCA'!$C$444/'Série - IPCA'!$C$437","v":0},-56.773943895528113,"Despesas Gerais e Administratias","N","SIM","NÃO","ENCARGOS DE GESTÃO","FUNCIONÁRIOS","PESSOAL",3400,"MARKETING","Despesas Gerais e Administratias-43,618"]
[null,null,null,-11794.4,0,0,0,0,-2358.88,{"$f":"D432*'Série - IPCA'!$C$444/'Série - IPCA'!$C$385","v":-15351.795219437312},{"$f":"E432*'Série - IPCA'!$C$444/'Série - IPCA'!$C$398","v":0},{"$f":"F432*'Série - IPCA'!$C$444/'Série - IPCA'!$C$411","v":0},{"$f":"G432*'Série - IPCA'!$C$444/'Série - IPCA'!$C$424","v":0},{"$f":"H432*'Série - IPCA'!$C$444/'Série - IPCA'!$C$437","v":0},-3070.3590438874626,"Despesas com Vendas","N","SIM","NÃO","ENCARGOS DE COMERCIALIZAÇÃO","FUNCIONÁRIOS","PESSOAL",5400,"GERÊNCIA COMERCIAL (inativo)","Despesas com Vendas-2358,88"]
[null,null,null,-1791.96,0,0,0,0,-358.392,{"$f":"D433*'Série - IPCA'!$C$444/'Série - IPCA'!$C$385","v":-2332.4461576191143},{"$f":"E433*'Série - IPCA'!$C$444/'Série - IPCA'!$C$398","v":0},{"$f":"F433*'Série - IPCA'!$C$444/'Série - IPCA'!$C$411","v":0},{"$f":"G433*'Série - IPCA'!$C$444/'Série - IPCA'!$C$424","v":0},{"$f":"H433*'Série - IPCA'!$C$444/'Série - IPCA'!$C$437","v":0},-466.48923152382287,"Despesas com Vendas","N","SIM","NÃO","ENCARGOS DE COMERCIALIZAÇÃO","FUNCIONÁRIOS","PESSOAL",5500,"GERÊNCIA COMERCIAL (inativo)","Despesas com Vendas-358,392"]
[null,null,null,-2019.07,0,0,0,0,-403.81399999999996,{"$f":"D434*'Série - IPCA'!$C$444/'Série - IPCA'!$C$385","v":-2628.0564652470061},{"$f":"E434*'Série - IPCA'!$C$444/'Série - IPCA'!$C$398","v":0},{"$f":"F434*'Série - IPCA'!$C$444/'Série - IPCA'!$C$411","v":0},{"$f":"G434*'Série - IPCA'!$C$444/'Série - IPCA'!$C$424","v":0},{"$f":"H434*'Série - IPCA'!$C$444/'Série - IPCA'!$C$437","v":0},-525.61129304940118,"Despesas Gerais e Administratias","N","SIM","NÃO","ENCARGOS DE GESTÃO","FUNCIONÁRIOS","PESSOAL",2100,"SECRETARIA","Despesas Gerais e Administratias-403,814"]
[null,null,null,-18443.2,0,0,0,0,-3688.6400000000003,{"$f":"D435*'Série - IPCA'!$C$444/'Série - IPCA'!$C$385","v":-24005.988400522809},{"$f":"E435*'Série - IPCA'!$C$444/'Série - IPCA'!$C$398","v":0},{"$f":"F435*'Série - IPCA'!$C$444/'Série - IPCA'!$C$411","v":0},{"$f":"G435*'Série - IPCA'!$C$444/'Série - IPCA'!$C$424","v":0},{"$f":"H435*'Série - IPCA'!$C$444/'Série - IPCA'!$C$437","v":0},-4801.1976801045621,"Despesas Gerais e Administratias","N","SIM","NÃO","ENCARGOS DE GESTÃO","FUNCIONÁRIOS","PESSOAL",2200,"DIRETORIA COLEGIADA - PRESIDÊNCIA","Despesas Gerais e Administratias-3688,64"]
[null,null,null,-5035.29,0,0,0,0,-1007.058,{"$f":"D436*'Série - IPCA'!$C$444/'Série - IPCA'!$C$385","v":-6554.0206327138731},{"$f":"E436*'Série - IPCA'!$C$444/'Série - IPCA'!$C$398","v":0},{"$f":"F436*'Série - IPCA'!$C$444/'Série - IPCA'!$C$411","v":0},{"$f":"G436*'Série - IPCA'!$C$444/'Série - IPCA'!$C$424","v":0},{"$f":"H436*'Série - IPCA'!$C$444/'Série - IPCA'!$C$437","v":0},-1310.8041265427746,"Despesas Gerais e Administratias","N","SIM","NÃO","ENCARGOS DE GESTÃO","FUNCIONÁRIOS","PESSOAL",2400,"DIRETORIA COLEGIADA - DTC","Despesas Gerais e Administratias-1007,058"]
[null,null,null,4283.79,0,0,0,0,856.75800000000004,{"$f":"D437*'Série - IPCA'!$C$444/'Série - IPCA'!$C$385","v":5575.855223078187},{"$f":"E437*'Série - IPCA'!$C$444/'Série - IPCA'!$C$398","v":0},{"$f":"F437*'Série - IPCA'!$C$444/'Série - IPCA'!$C$411","v":0},{"$f":"G437*'Série - IPCA'!$C$444/'Série - IPCA'!$C$424","v":0},{"$f":"H437*'Série - IPCA'!$C$444/'Série - IPCA'!$C$437","v":0},1115.1710446156374,"Despesas Gerais e Administratias","N","SIM","NÃO","ENCARGOS DE GESTÃO","FUNCIONÁRIOS","PESSOAL",3100,"SMS","Despesas Gerais e Administratias856,758"]
[null,null,null,-730.68,0,0,0,0,-146.136,{"$f":"D438*'Série - IPCA'!$C$444/'Série - IPCA'!$C$385","v":-951.06573720905305},{"$f":"E438*'Série - IPCA'!$C$444/'Série - IPCA'!$C$398","v":0},{"$f":"F438*'Série - IPCA'!$C$444/'Série - IPCA'!$C$411","v":0},{"$f":"G438*'Série - IPCA'!$C$444/'Série - IPCA'!$C$424","v":0},{"$f":"H438*'Série - IPCA'!$C$444/'Série - IPCA'!$C$437","v":0},-190.21314744181061,"Despesas Gerais e Administratias","N","SIM","NÃO","ENCARGOS DE GESTÃO","FUNCIONÁRIOS","PESSOAL",3400,"MARKETING","Despesas Gerais e Administratias-146,136"]
[null,null,null,4657.2,0,0,0,0,931.43999999999994,{"$f":"D439*'Série - IPCA'!$C$444/'Série - IPCA'!$C$385","v":6061.8921433869837},{"$f":"E439*'Série - IPCA'!$C$444/'Série - IPCA'!$C$398","v":0},{"$f":"F439*'Série - IPCA'!$C$444/'Série - IPCA'!$C$411","v":0},{"$f":"G439*'Série - IPCA'!$C$444/'Série - IPCA'!$C$424","v":0},{"$f":"H439*'Série - IPCA'!$C$444/'Série - IPCA'!$C$437","v":0},1212.3784286773966,"Despesas Gerais e Administratias","N","SIM","NÃO","ENCARGOS DE GESTÃO","FUNCIONÁRIOS","PESSOAL",2200,"DIRETORIA COLEGIADA - PRESIDÊNCIA","Despesas Gerais e Administratias931,44"]
[null,null,null,14195.43,0,0,0,0,2839.0860000000002,{"$f":"D440*'Série - IPCA'!$C$444/'Série - IPCA'!$C$385","v":18477.017433006935},{"$f":"E440*'Série - IPCA'!$C$444/'Série - IPCA'!$C$398","v":0},{"$f":"F440*'Série - IPCA'!$C$444/'Série - IPCA'!$C$411","v":0},{"$f":"G440*'Série - IPCA'!$C$444/'Série - IPCA'!$C$424","v":0},{"$f":"H440*'Série - IPCA'!$C$444/'Série - IPCA'!$C$437","v":0},3695.4034866013872,"Despesas Gerais e Administratias","N","SIM","NÃO","ENCARGOS DE GESTÃO","FUNCIONÁRIOS","PESSOAL",3100,"SMS","Despesas Gerais e Administratias2839,086"]
[null,null,null,0,19678.87,61081.39,97970.19,90954.06,53936.902000000002,{"$f":"D441*'Série - IPCA'!$C$444/'Série - IPCA'!$C$385","v":0},{"$f":"E441*'Série - IPCA'!$C$444/'Série - IPCA'!$C$398","v":24507.253263662609},{"$f":"F441*'Série - IPCA'!$C$444/'Série - IPCA'!$C$411","v":69114.633176072559},{"$f":"G441*'Série - IPCA'!$C$444/'Série - IPCA'!$C$424","v":104792.590005616},{"$f":"H441*'Série - IPCA'!$C$444/'Série - IPCA'!$C$437","v":92990.601792618094},58281.015647593849,"Despesas com Vendas","N","SIM","NÃO","ENCARGOS DE COMERCIALIZAÇÃO","FIXO","DESPESAS_SEGUROS",5300,"GERÊNCIA COMERCIAL","Despesas com Vendas53936,902"]
[null,null,null,0,5185.87,6442.57,10333.42,9593.3799999999992,6311.0479999999998,{"$f":"D442*'Série - IPCA'!$C$444/'Série - IPCA'!$C$385","v":0},{"$f":"E442*'Série - IPCA'!$C$444/'Série - IPCA'!$C$398","v":6458.268664940113},{"$f":"F442*'Série - IPCA'!$C$444/'Série - IPCA'!$C$411","v":7289.8776904253455},{"$f":"G442*'Série - IPCA'!$C$444/'Série - IPCA'!$C$424","v":11053.013630123944},{"$f":"H442*'Série - IPCA'!$C$444/'Série - IPCA'!$C$437","v":9808.1842572532387},6921.8688485485281,"Despesas Gerais e Administratias","N","SIM","NÃO","ENCARGOS DE GESTÃO","FIXO","DESPESAS_SEGUROS",2110,"ASSESSORIA DA DIRETORIA EXECUTIVA","Despesas Gerais e Administratias6311,048"]
[null,null,null,0,730.56,3196.67,5127.2700000000004,4760.08,2762.9160000000002,{"$f":"D443*'Série - IPCA'!$C$444/'Série - IPCA'!$C$385","v":0},{"$f":"E443*'Série - IPCA'!$C$444/'Série - IPCA'!$C$398","v":909.80930024444285},{"$f":"F443*'Série - IPCA'!$C$444/'Série - IPCA'!$C$411","v":3617.0865534487002},{"$f":"G443*'Série - IPCA'!$C$444/'Série - IPCA'!$C$424","v":5484.3203116998629},{"$f":"H443*'Série - IPCA'!$C$444/'Série - IPCA'!$C$437","v":4866.6623983690843},2975.575712752418,"Despesas Gerais e Administratias","N","SIM","NÃO","ENCARGOS DE GESTÃO","FIXO","DESPESAS_SEGUROS",1005,"AUDITORIA INTERNA","Despesas Gerais e Administratias2762,916"]
[null,null,null,0,2203.08,9639.24,15460.68,14353.44,8331.2880000000005,{"$f":"D444*'Série - IPCA'!$C$444/'Série - IPCA'!$C$385","v":0},{"$f":"E444*'Série - IPCA'!$C$444/'Série - IPCA'!$C$398","v":2743.6249906681546},{"$f":"F444*'Série - IPCA'!$C$444/'Série - IPCA'!$C$411","v":10906.964243874045},{"$f":"G444*'Série - IPCA'!$C$444/'Série - IPCA'!$C$424","v":16537.323245448712},{"$f":"H444*'Série - IPCA'!$C$444/'Série - IPCA'!$C$437","v":14674.82620780465},8972.5477375591108,"Despesas Gerais e Administratias","N","SIM","NÃO","ENCARGOS DE GESTÃO","FIXO","DESPESAS_SEGUROS",2120,"ASSESSORIA DA PRESIDÊNCIA","Despesas Gerais e Administratias8331,288"]
[null,null,null,0,730.6,3196.68,5127.2700000000004,4760.08,2762.9259999999999,{"$f":"D445*'Série - IPCA'!$C$444/'Série - IPCA'!$C$385","v":0},{"$f":"E445*'Série - IPCA'!$C$444/'Série - IPCA'!$C$398","v":909.85911459509134},{"$f":"F445*'Série - IPCA'!$C$444/'Série - IPCA'!$C$411","v":3617.0978686190288},{"$f":"G445*'Série - IPCA'!$C$444/'Série - IPCA'!$C$424","v":5484.3203116998629},{"$f":"H445*'Série - IPCA'!$C$444/'Série - IPCA'!$C$437","v":4866.6623983690843},2975.5879386566135,"Despesas Gerais e Administratias","N","SIM","NÃO","ENCARGOS DE GESTÃO","FIXO","DESPESAS_SEGUROS",2310,"ASSESSORIA DAF","Despesas Gerais e Administratias2762,926"]
[null,null,null,13470.94,8461.64,0,0,0,4386.5160000000005,{"$f":"D446*'Série - IPCA'!$C$444/'Série - IPCA'!$C$385","v":17534.008706956425},{"$f":"E446*'Série - IPCA'!$C$444/'Série - IPCA'!$C$398","v":10537.777550537103},{"$f":"F446*'Série - IPCA'!$C$444/'Série - IPCA'!$C$411","v":0},{"$f":"G446*'Série - IPCA'!$C$444/'Série - IPCA'!$C$424","v":0},{"$f":"H446*'Série - IPCA'!$C$444/'Série - IPCA'!$C$437","v":0},5614.3572514987054,"Despesas Gerais e Administratias","N","SIM","NÃO","ENCARGOS DE GESTÃO","FIXO","DESPESAS_SEGUROS",2200,"DIRETORIA COLEGIADA - PRESIDÊNCIA","Despesas Gerais e Administratias4386,516"]
[null,null,null,3359.67,2110.34,0,0,0,1094.002,{"$f":"D447*'Série - IPCA'!$C$444/'Série - IPCA'!$C$385","v":4373.0046331213935},{"$f":"E447*'Série - IPCA'!$C$444/'Série - IPCA'!$C$398","v":2628.1304186895773},{"$f":"F447*'Série - IPCA'!$C$444/'Série - IPCA'!$C$411","v":0},{"$f":"G447*'Série - IPCA'!$C$444/'Série - IPCA'!$C$424","v":0},{"$f":"H447*'Série - IPCA'!$C$444/'Série - IPCA'!$C$437","v":0},1400.2270103621941,"Despesas Gerais e Administratias","N","SIM","NÃO","ENCARGOS DE GESTÃO","FIXO","DESPESAS_SEGUROS",2300,"DIRETORIA COLEGIADA - DAF","Despesas Gerais e Administratias1094,002"]
[null,null,null,3359.67,2110.34,0,0,0,1094.002,{"$f":"D448*'Série - IPCA'!$C$444/'Série - IPCA'!$C$385","v":4373.0046331213935},{"$f":"E448*'Série - IPCA'!$C$444/'Série - IPCA'!$C$398","v":2628.1304186895773},{"$f":"F448*'Série - IPCA'!$C$444/'Série - IPCA'!$C$411","v":0},{"$f":"G448*'Série - IPCA'!$C$444/'Série - IPCA'!$C$424","v":0},{"$f":"H448*'Série - IPCA'!$C$444/'Série - IPCA'!$C$437","v":0},1400.2270103621941,"Despesas Gerais e Administratias","N","SIM","NÃO","ENCARGOS DE GESTÃO","FIXO","DESPESAS_SEGUROS",2400,"DIRETORIA COLEGIADA - DTC","Despesas Gerais e Administratias1094,002"]
[null,null,null,8431.44,23097.78,38557.03,61842.7,57413.84,37868.558000000005,{"$f":"D449*'Série - IPCA'!$C$444/'Série - IPCA'!$C$385","v":10974.508265360895},{"$f":"E449*'Série - IPCA'!$C$444/'Série - IPCA'!$C$398","v":28765.022803055308},{"$f":"F449*'Série - IPCA'!$C$444/'Série - IPCA'!$C$411","v":43627.936181688485},{"$f":"G449*'Série - IPCA'!$C$444/'Série - IPCA'!$C$424","v":66149.271589044671},{"$f":"H449*'Série - IPCA'!$C$444/'Série - IPCA'!$C$437","v":58699.386622489299},41643.225092327732,"Despesas Gerais e Administratias","N","SIM","NÃO","ENCARGOS DE GESTÃO","FIXO","DESPESAS_SEGUROS",3200,"GERÊNCIA DE PLANEJAMENTO E MEIO AMBIENTE","Despesas Gerais e Administratias37868,558"]
[null,null,null,10111.299999999999,9285.0499999999993,12835.97,20587.95,19113.55,14386.764000000001,{"$f":"D450*'Série - IPCA'!$C$444/'Série - IPCA'!$C$385","v":13161.04312235438},{"$f":"E450*'Série - IPCA'!$C$444/'Série - IPCA'!$C$398","v":11563.218412224407},{"$f":"F450*'Série - IPCA'!$C$444/'Série - IPCA'!$C$411","v":14524.118688344717},{"$f":"G450*'Série - IPCA'!$C$444/'Série - IPCA'!$C$424","v":22021.643557148574},{"$f":"H450*'Série - IPCA'!$C$444/'Série - IPCA'!$C$437","v":19541.519277900246},16162.308611594466,"Despesas Gerais e Administratias","N","SIM","NÃO","ENCARGOS DE GESTÃO","FIXO","DESPESAS_SEGUROS",3300,"GERÊNCIA JURÍDICA","Despesas Gerais e Administratias14386,764"]
[null,null,null,0,10340.23,12835.97,20587.95,19113.55,12575.539999999999,{"$f":"D451*'Série - IPCA'!$C$444/'Série - IPCA'!$C$385","v":0},{"$f":"E451*'Série - IPCA'!$C$444/'Série - IPCA'!$C$398","v":12877.296075156857},{"$f":"F451*'Série - IPCA'!$C$444/'Série - IPCA'!$C$411","v":14524.118688344717},{"$f":"G451*'Série - IPCA'!$C$444/'Série - IPCA'!$C$424","v":22021.643557148574},{"$f":"H451*'Série - IPCA'!$C$444/'Série - IPCA'!$C$437","v":19541.519277900246},13792.915519710077,"Despesas Gerais e Administratias","N","SIM","NÃO","ENCARGOS DE GESTÃO","FIXO","DESPESAS_SEGUROS",3500,"ASSESSORIA DE COMUNICAÇÃO INSTITUCIONAL","Despesas Gerais e Administratias12575,54"]
[null,null,null,5071.79,8333.8799999999992,22524.36,36127.51,33540.230000000003,21119.554000000004,{"$f":"D452*'Série - IPCA'!$C$444/'Série - IPCA'!$C$385","v":6601.5296645857316},{"$f":"E452*'Série - IPCA'!$C$444/'Série - IPCA'!$C$398","v":10378.670514565752},{"$f":"F452*'Série - IPCA'!$C$444/'Série - IPCA'!$C$411","v":25486.696994384081},{"$f":"G452*'Série - IPCA'!$C$444/'Série - IPCA'!$C$424","v":38643.339809321507},{"$f":"H452*'Série - IPCA'!$C$444/'Série - IPCA'!$C$437","v":34291.225394037647},23080.292475378945,"Despesas Gerais e Administratias","N","SIM","NÃO","ENCARGOS DE GESTÃO","FIXO","DESPESAS_SEGUROS",3600,"GERÊNCIA DE GOVERNANÇA, RISCO E COMPLIANCE","Despesas Gerais e Administratias21119,554"]
[null,null,null,25327.4,43749.78,66062.39,97970.19,90954.06,{"$f":"AVERAGE(D453:H453)","v":64812.764000000003},{"$f":"D453*'Série - IPCA'!$C$444/'Série - IPCA'!$C$385","v":32966.582296749017},{"$f":"E453*'Série - IPCA'!$C$444/'Série - IPCA'!$C$398","v":54484.172042882608},{"$f":"F453*'Série - IPCA'!$C$444/'Série - IPCA'!$C$411","v":74750.719516773344},{"$f":"G453*'Série - IPCA'!$C$444/'Série - IPCA'!$C$424","v":104792.590005616},{"$f":"H453*'Série - IPCA'!$C$444/'Série - IPCA'!$C$437","v":92990.601792618094},{"$f":"AVERAGE(J453:N453)","v":71996.93313092782},"Despesas Gerais e Administratias","N","SIM","NÃO","ENCARGOS DE GESTÃO","FIXO","DESPESAS_SEGUROS",4100,"GERÊNCIA DE SERVIÇOS CORPORATIVOS",{"$f":"B453&C453&P453&I453","v":"Despesas Gerais e Administratias64812,764"}]
[null,null,null,18542.75,18256.78,28917.74,46382.02,43060.37,31031.932000000001,{"$f":"D454*'Série - IPCA'!$C$444/'Série - IPCA'!$C$385","v":24135.564403888391},{"$f":"E454*'Série - IPCA'!$C$444/'Série - IPCA'!$C$398","v":22736.24101581901},{"$f":"F454*'Série - IPCA'!$C$444/'Série - IPCA'!$C$411","v":32720.915361962794},{"$f":"G454*'Série - IPCA'!$C$444/'Série - IPCA'!$C$424","v":49611.948343595956},{"$f":"H454*'Série - IPCA'!$C$444/'Série - IPCA'!$C$437","v":44024.529742958141},34645.839773644853,"Despesas Gerais e Administratias","N","SIM","NÃO","ENCARGOS DE GESTÃO","FIXO","DESPESAS_SEGUROS",4200,"GERÊNCIA FINANCEIRA","Despesas Gerais e Administratias31031,932"]
[null,null,null,20933.27,19027.73,25721.07,41254.76,38300.31,29047.428000000004,{"$f":"D455*'Série - IPCA'!$C$444/'Série - IPCA'!$C$385","v":27247.106619513543},{"$f":"E455*'Série - IPCA'!$C$444/'Série - IPCA'!$C$398","v":23696.350356630792},{"$f":"F455*'Série - IPCA'!$C$444/'Série - IPCA'!$C$411","v":29103.828808514092},{"$f":"G455*'Série - IPCA'!$C$444/'Série - IPCA'!$C$424","v":44127.638728271195},{"$f":"H455*'Série - IPCA'!$C$444/'Série - IPCA'!$C$437","v":39157.887792406727},32666.562461067271,"Despesas Gerais e Administratias","N","SIM","NÃO","ENCARGOS DE GESTÃO","FIXO","DESPESAS_SEGUROS",4300,"GERÊNCIA DE TECNOLOGIA E SISTEMAS DE INFORMAÇÃO","Despesas Gerais e Administratias29047,428"]
[null,null,null,13470.97,12867.83,19278.5,30921.360000000001,28706.93,21049.117999999999,{"$f":"D456*'Série - IPCA'!$C$444/'Série - IPCA'!$C$385","v":17534.047755475771},{"$f":"E456*'Série - IPCA'!$C$444/'Série - IPCA'!$C$398","v":16025.064892636399},{"$f":"F456*'Série - IPCA'!$C$444/'Série - IPCA'!$C$411","v":21813.951118088749},{"$f":"G456*'Série - IPCA'!$C$444/'Série - IPCA'!$C$424","v":33074.646490897423},{"$f":"H456*'Série - IPCA'!$C$444/'Série - IPCA'!$C$437","v":29349.703535153487},23559.482758450366,"Despesas Gerais e Administratias","N","SIM","NÃO","ENCARGOS DE GESTÃO","FIXO","DESPESAS_SEGUROS",4500,"GERÊNCIA CONTÁBIL","Despesas Gerais e Administratias21049,118"]
[null,null,null,2325.25,0,0,0,0,465.05,{"$f":"D457*'Série - IPCA'!$C$444/'Série - IPCA'!$C$385","v":3026.5856536997735},{"$f":"E457*'Série - IPCA'!$C$444/'Série - IPCA'!$C$398","v":0},{"$f":"F457*'Série - IPCA'!$C$444/'Série - IPCA'!$C$411","v":0},{"$f":"G457*'Série - IPCA'!$C$444/'Série - IPCA'!$C$424","v":0},{"$f":"H457*'Série - IPCA'!$C$444/'Série - IPCA'!$C$437","v":0},605.31713073995468,"Despesas com Vendas","N","SIM","NÃO","ENCARGOS DE COMERCIALIZAÇÃO","FUNCIONÁRIOS","PESSOAL",5400,"GERÊNCIA COMERCIAL (inativo)","Despesas com Vendas465,05"]
[null,null,null,1163.74,0,0,0,0,232.74799999999999,{"$f":"D458*'Série - IPCA'!$C$444/'Série - IPCA'!$C$385","v":1514.7441301522736},{"$f":"E458*'Série - IPCA'!$C$444/'Série - IPCA'!$C$398","v":0},{"$f":"F458*'Série - IPCA'!$C$444/'Série - IPCA'!$C$411","v":0},{"$f":"G458*'Série - IPCA'!$C$444/'Série - IPCA'!$C$424","v":0},{"$f":"H458*'Série - IPCA'!$C$444/'Série - IPCA'!$C$437","v":0},302.94882603045471,"Despesas com Vendas","N","SIM","NÃO","ENCARGOS DE COMERCIALIZAÇÃO","FUNCIONÁRIOS","PESSOAL",5500,"GERÊNCIA COMERCIAL (inativo)","Despesas com Vendas232,748"]
[null,null,null,407.97,0,0,0,0,81.594000000000008,{"$f":"D459*'Série - IPCA'!$C$444/'Série - IPCA'!$C$385","v":531.0208145962356},{"$f":"E459*'Série - IPCA'!$C$444/'Série - IPCA'!$C$398","v":0},{"$f":"F459*'Série - IPCA'!$C$444/'Série - IPCA'!$C$411","v":0},{"$f":"G459*'Série - IPCA'!$C$444/'Série - IPCA'!$C$424","v":0},{"$f":"H459*'Série - IPCA'!$C$444/'Série - IPCA'!$C$437","v":0},106.20416291924712,"Despesas Gerais e Administratias","N","SIM","NÃO","ENCARGOS DE GESTÃO","FUNCIONÁRIOS","PESSOAL",2100,"SECRETARIA","Despesas Gerais e Administratias81,594"]
[null,null,null,813.73,0,0,0,0,162.74600000000001,{"$f":"D460*'Série - IPCA'!$C$444/'Série - IPCA'!$C$385","v":1059.1650549339283},{"$f":"E460*'Série - IPCA'!$C$444/'Série - IPCA'!$C$398","v":0},{"$f":"F460*'Série - IPCA'!$C$444/'Série - IPCA'!$C$411","v":0},{"$f":"G460*'Série - IPCA'!$C$444/'Série - IPCA'!$C$424","v":0},{"$f":"H460*'Série - IPCA'!$C$444/'Série - IPCA'!$C$437","v":0},211.83301098678567,"Despesas Gerais e Administratias","N","SIM","NÃO","ENCARGOS DE GESTÃO","FUNCIONÁRIOS","PESSOAL",3400,"MARKETING","Despesas Gerais e Administratias162,746"]
[null,null,null,-72423.78,0,0,0,0,-14484.755999999999,{"$f":"D461*'Série - IPCA'!$C$444/'Série - IPCA'!$C$385","v":-94268.045816453538},{"$f":"E461*'Série - IPCA'!$C$444/'Série - IPCA'!$C$398","v":0},{"$f":"F461*'Série - IPCA'!$C$444/'Série - IPCA'!$C$411","v":0},{"$f":"G461*'Série - IPCA'!$C$444/'Série - IPCA'!$C$424","v":0},{"$f":"H461*'Série - IPCA'!$C$444/'Série - IPCA'!$C$437","v":0},-18853.609163290708,"Despesas com Vendas","N","SIM","NÃO","ENCARGOS DE COMERCIALIZAÇÃO","FUNCIONÁRIOS","PESSOAL",5400,"GERÊNCIA COMERCIAL (inativo)","Despesas com Vendas-14484,756"]
[null,null,null,-24586.44,0,0,0,0,-4917.2879999999996,{"$f":"D462*'Série - IPCA'!$C$444/'Série - IPCA'!$C$385","v":-32002.135933577145},{"$f":"E462*'Série - IPCA'!$C$444/'Série - IPCA'!$C$398","v":0},{"$f":"F462*'Série - IPCA'!$C$444/'Série - IPCA'!$C$411","v":0},{"$f":"G462*'Série - IPCA'!$C$444/'Série - IPCA'!$C$424","v":0},{"$f":"H462*'Série - IPCA'!$C$444/'Série - IPCA'!$C$437","v":0},-6400.4271867154293,"Despesas com Vendas","N","SIM","NÃO","ENCARGOS DE COMERCIALIZAÇÃO","FUNCIONÁRIOS","PESSOAL",5500,"GERÊNCIA COMERCIAL (inativo)","Despesas com Vendas-4917,288"]
[null,null,null,-22382.53,0,0,0,0,-4476.5059999999994,{"$f":"D463*'Série - IPCA'!$C$444/'Série - IPCA'!$C$385","v":-29133.488524461794},{"$f":"E463*'Série - IPCA'!$C$444/'Série - IPCA'!$C$398","v":0},{"$f":"F463*'Série - IPCA'!$C$444/'Série - IPCA'!$C$411","v":0},{"$f":"G463*'Série - IPCA'!$C$444/'Série - IPCA'!$C$424","v":0},{"$f":"H463*'Série - IPCA'!$C$444/'Série - IPCA'!$C$437","v":0},-5826.6977048923591,"Despesas Gerais e Administratias","N","SIM","NÃO","ENCARGOS DE GESTÃO","FUNCIONÁRIOS","PESSOAL",2100,"SECRETARIA","Despesas Gerais e Administratias-4476,506"]
[null,null,null,-86022.52,0,0,0,0,-17204.504000000001,{"$f":"D464*'Série - IPCA'!$C$444/'Série - IPCA'!$C$385","v":-111968.40121582705},{"$f":"E464*'Série - IPCA'!$C$444/'Série - IPCA'!$C$398","v":0},{"$f":"F464*'Série - IPCA'!$C$444/'Série - IPCA'!$C$411","v":0},{"$f":"G464*'Série - IPCA'!$C$444/'Série - IPCA'!$C$424","v":0},{"$f":"H464*'Série - IPCA'!$C$444/'Série - IPCA'!$C$437","v":0},-22393.680243165411,"Despesas Gerais e Administratias","N","SIM","NÃO","ENCARGOS DE GESTÃO","FUNCIONÁRIOS","PESSOAL",2200,"DIRETORIA COLEGIADA - PRESIDÊNCIA","Despesas Gerais e Administratias-17204,504"]
[null,null,null,-32243.54,0,0,0,0,-6448.7080000000005,{"$f":"D465*'Série - IPCA'!$C$444/'Série - IPCA'!$C$385","v":-41968.749849906373},{"$f":"E465*'Série - IPCA'!$C$444/'Série - IPCA'!$C$398","v":0},{"$f":"F465*'Série - IPCA'!$C$444/'Série - IPCA'!$C$411","v":0},{"$f":"G465*'Série - IPCA'!$C$444/'Série - IPCA'!$C$424","v":0},{"$f":"H465*'Série - IPCA'!$C$444/'Série - IPCA'!$C$437","v":0},-8393.7499699812743,"Despesas Gerais e Administratias","N","SIM","NÃO","ENCARGOS DE GESTÃO","FUNCIONÁRIOS","PESSOAL",2400,"DIRETORIA COLEGIADA - DTC","Despesas Gerais e Administratias-6448,708"]
[null,null,null,2243.5500000000002,0,0,0,0,448.71000000000004,{"$f":"D466*'Série - IPCA'!$C$444/'Série - IPCA'!$C$385","v":2920.2435193455017},{"$f":"E466*'Série - IPCA'!$C$444/'Série - IPCA'!$C$398","v":0},{"$f":"F466*'Série - IPCA'!$C$444/'Série - IPCA'!$C$411","v":0},{"$f":"G466*'Série - IPCA'!$C$444/'Série - IPCA'!$C$424","v":0},{"$f":"H466*'Série - IPCA'!$C$444/'Série - IPCA'!$C$437","v":0},584.04870386910034,"Despesas Gerais e Administratias","N","SIM","NÃO","ENCARGOS DE GESTÃO","FUNCIONÁRIOS","PESSOAL",3100,"SMS","Despesas Gerais e Administratias448,71"]
[null,null,null,-19741.93,0,0,0,0,-3948.386,{"$f":"D467*'Série - IPCA'!$C$444/'Série - IPCA'!$C$385","v":-25696.43785156227},{"$f":"E467*'Série - IPCA'!$C$444/'Série - IPCA'!$C$398","v":0},{"$f":"F467*'Série - IPCA'!$C$444/'Série - IPCA'!$C$411","v":0},{"$f":"G467*'Série - IPCA'!$C$444/'Série - IPCA'!$C$424","v":0},{"$f":"H467*'Série - IPCA'!$C$444/'Série - IPCA'!$C$437","v":0},-5139.2875703124537,"Despesas Gerais e Administratias","N","SIM","NÃO","ENCARGOS DE GESTÃO","FUNCIONÁRIOS","PESSOAL",3400,"MARKETING","Despesas Gerais e Administratias-3948,386"]
[null,null,null,0,0,0,0,6455,1291,{"$f":"D468*'Série - IPCA'!$C$444/'Série - IPCA'!$C$385","v":0},{"$f":"E468*'Série - IPCA'!$C$444/'Série - IPCA'!$C$398","v":0},{"$f":"F468*'Série - IPCA'!$C$444/'Série - IPCA'!$C$411","v":0},{"$f":"G468*'Série - IPCA'!$C$444/'Série - IPCA'!$C$424","v":0},{"$f":"H468*'Série - IPCA'!$C$444/'Série - IPCA'!$C$437","v":6599.5331552142907},1319.9066310428582,"Despesas Gerais e Administratias","N","SIM","NÃO","ENCARGOS DE GESTÃO","FUNCIONÁRIOS","TRIBUTOS_E_TAXAS_FISCAIS",4300,"GERÊNCIA DE TECNOLOGIA E SISTEMAS DE INFORMAÇÃO","Despesas Gerais e Administratias1291"]
[null,null,null,462,0,0,0,0,92.4,{"$f":"D469*'Série - IPCA'!$C$444/'Série - IPCA'!$C$385","v":601.34719793970339},{"$f":"E469*'Série - IPCA'!$C$444/'Série - IPCA'!$C$398","v":0},{"$f":"F469*'Série - IPCA'!$C$444/'Série - IPCA'!$C$411","v":0},{"$f":"G469*'Série - IPCA'!$C$444/'Série - IPCA'!$C$424","v":0},{"$f":"H469*'Série - IPCA'!$C$444/'Série - IPCA'!$C$437","v":0},120.26943958794068,"Despesas Gerais e Administratias","N","SIM","NÃO","ENCARGOS DE GESTÃO","FIXO","MATERIAIS_MANUTENÇÃO",3100,"SMS","Despesas Gerais e Administratias92,4"]
[null,null,null,44.7,0,0,0,0,8.9400000000000013,{"$f":"D470*'Série - IPCA'!$C$444/'Série - IPCA'!$C$385","v":58.182293826633646},{"$f":"E470*'Série - IPCA'!$C$444/'Série - IPCA'!$C$398","v":0},{"$f":"F470*'Série - IPCA'!$C$444/'Série - IPCA'!$C$411","v":0},{"$f":"G470*'Série - IPCA'!$C$444/'Série - IPCA'!$C$424","v":0},{"$f":"H470*'Série - IPCA'!$C$444/'Série - IPCA'!$C$437","v":0},11.636458765326729,"Despesas Gerais e Administratias","N","SIM","NÃO","ENCARGOS DE GESTÃO","FIXO","MATERIAIS_MANUTENÇÃO",4600,"GERÊNCIA DE PESSOAS E CULTURA","Despesas Gerais e Administratias8,94"]
[null,null,null,0,0,0,178.94,40,43.787999999999997,{"$f":"D471*'Série - IPCA'!$C$444/'Série - IPCA'!$C$385","v":0},{"$f":"E471*'Série - IPCA'!$C$444/'Série - IPCA'!$C$398","v":0},{"$f":"F471*'Série - IPCA'!$C$444/'Série - IPCA'!$C$411","v":0},{"$f":"G471*'Série - IPCA'!$C$444/'Série - IPCA'!$C$424","v":191.40093589289685},{"$f":"H471*'Série - IPCA'!$C$444/'Série - IPCA'!$C$437","v":40.895635353767872},46.459314249332941,"Despesas com Vendas","N","NÃO","NÃO","ENCARGOS DE COMERCIALIZAÇÃO","FIXO","DESPESAS_GERAIS",5300,"GERÊNCIA COMERCIAL","Despesas com Vendas43,788"]
[null,null,null,0,0,0,8,0,1.6,{"$f":"D472*'Série - IPCA'!$C$444/'Série - IPCA'!$C$385","v":0},{"$f":"E472*'Série - IPCA'!$C$444/'Série - IPCA'!$C$398","v":0},{"$f":"F472*'Série - IPCA'!$C$444/'Série - IPCA'!$C$411","v":0},{"$f":"G472*'Série - IPCA'!$C$444/'Série - IPCA'!$C$424","v":8.5571000734501776},{"$f":"H472*'Série - IPCA'!$C$444/'Série - IPCA'!$C$437","v":0},1.7114200146900356,"Despesas Gerais e Administratias","N","NÃO","NÃO","ENCARGOS DE GESTÃO","FIXO","DESPESAS_GERAIS",1001,"CONSELHO DE ADMINISTRAÇÃO","Despesas Gerais e Administratias1,6"]
[null,null,null,0,0,0,8,8,3.2,{"$f":"D473*'Série - IPCA'!$C$444/'Série - IPCA'!$C$385","v":0},{"$f":"E473*'Série - IPCA'!$C$444/'Série - IPCA'!$C$398","v":0},{"$f":"F473*'Série - IPCA'!$C$444/'Série - IPCA'!$C$411","v":0},{"$f":"G473*'Série - IPCA'!$C$444/'Série - IPCA'!$C$424","v":8.5571000734501776},{"$f":"H473*'Série - IPCA'!$C$444/'Série - IPCA'!$C$437","v":8.1791270707535748},3.3472454288407505,"Despesas Gerais e Administratias","N","NÃO","NÃO","ENCARGOS DE GESTÃO","FIXO","DESPESAS_GERAIS",1010,"GOVERNANÇA SOCIETÁRIA","Despesas Gerais e Administratias3,2"]
[null,null,null,0,0,154.5,0,0,30.9,{"$f":"D474*'Série - IPCA'!$C$444/'Série - IPCA'!$C$385","v":0},{"$f":"E474*'Série - IPCA'!$C$444/'Série - IPCA'!$C$398","v":0},{"$f":"F474*'Série - IPCA'!$C$444/'Série - IPCA'!$C$411","v":174.8193815776493},{"$f":"G474*'Série - IPCA'!$C$444/'Série - IPCA'!$C$424","v":0},{"$f":"H474*'Série - IPCA'!$C$444/'Série - IPCA'!$C$437","v":0},34.963876315529859,"Despesas Gerais e Administratias","N","NÃO","NÃO","ENCARGOS DE GESTÃO","FIXO","DESPESAS_GERAIS",2100,"SECRETARIA","Despesas Gerais e Administratias30,9"]
[null,null,null,0,0,6,16,0,4.4000000000000004,{"$f":"D475*'Série - IPCA'!$C$444/'Série - IPCA'!$C$385","v":0},{"$f":"E475*'Série - IPCA'!$C$444/'Série - IPCA'!$C$398","v":0},{"$f":"F475*'Série - IPCA'!$C$444/'Série - IPCA'!$C$411","v":6.7891021971902639},{"$f":"G475*'Série - IPCA'!$C$444/'Série - IPCA'!$C$424","v":17.114200146900355},{"$f":"H475*'Série - IPCA'!$C$444/'Série - IPCA'!$C$437","v":0},4.780660468818124,"Despesas Gerais e Administratias","N","NÃO","NÃO","ENCARGOS DE GESTÃO","FIXO","DESPESAS_GERAIS",2110,"ASSESSORIA DA DIRETORIA EXECUTIVA","Despesas Gerais e Administratias4,4"]
[null,null,null,0,0,0,8,0,1.6,{"$f":"D476*'Série - IPCA'!$C$444/'Série - IPCA'!$C$385","v":0},{"$f":"E476*'Série - IPCA'!$C$444/'Série - IPCA'!$C$398","v":0},{"$f":"F476*'Série - IPCA'!$C$444/'Série - IPCA'!$C$411","v":0},{"$f":"G476*'Série - IPCA'!$C$444/'Série - IPCA'!$C$424","v":8.5571000734501776},{"$f":"H476*'Série - IPCA'!$C$444/'Série - IPCA'!$C$437","v":0},1.7114200146900356,"Despesas Gerais e Administratias","N","NÃO","NÃO","ENCARGOS DE GESTÃO","FIXO","DESPESAS_GERAIS",2120,"ASSESSORIA DA PRESIDÊNCIA","Despesas Gerais e Administratias1,6"]
[null,null,null,0,0,350,0,50,80,{"$f":"D477*'Série - IPCA'!$C$444/'Série - IPCA'!$C$385","v":0},{"$f":"E477*'Série - IPCA'!$C$444/'Série - IPCA'!$C$398","v":0},{"$f":"F477*'Série - IPCA'!$C$444/'Série - IPCA'!$C$411","v":396.03096150276536},{"$f":"G477*'Série - IPCA'!$C$444/'Série - IPCA'!$C$424","v":0},{"$f":"H477*'Série - IPCA'!$C$444/'Série - IPCA'!$C$437","v":51.119544192209844},89.430101138995042,"Despesas Gerais e Administratias","N","NÃO","NÃO","ENCARGOS DE GESTÃO","FIXO","DESPESAS_GERAIS",2200,"DIRETORIA COLEGIADA - PRESIDÊNCIA","Despesas Gerais e Administratias80"]
[null,null,null,0,0,0,8,0,1.6,{"$f":"D478*'Série - IPCA'!$C$444/'Série - IPCA'!$C$385","v":0},{"$f":"E478*'Série - IPCA'!$C$444/'Série - IPCA'!$C$398","v":0},{"$f":"F478*'Série - IPCA'!$C$444/'Série - IPCA'!$C$411","v":0},{"$f":"G478*'Série - IPCA'!$C$444/'Série - IPCA'!$C$424","v":8.5571000734501776},{"$f":"H478*'Série - IPCA'!$C$444/'Série - IPCA'!$C$437","v":0},1.7114200146900356,"Despesas Gerais e Administratias","N","NÃO","NÃO","ENCARGOS DE GESTÃO","FIXO","DESPESAS_GERAIS",2310,"ASSESSORIA DAF","Despesas Gerais e Administratias1,6"]
[null,null,null,0,0,0,8,8,3.2,{"$f":"D479*'Série - IPCA'!$C$444/'Série - IPCA'!$C$385","v":0},{"$f":"E479*'Série - IPCA'!$C$444/'Série - IPCA'!$C$398","v":0},{"$f":"F479*'Série - IPCA'!$C$444/'Série - IPCA'!$C$411","v":0},{"$f":"G479*'Série - IPCA'!$C$444/'Série - IPCA'!$C$424","v":8.5571000734501776},{"$f":"H479*'Série - IPCA'!$C$444/'Série - IPCA'!$C$437","v":8.1791270707535748},3.3472454288407505,"Despesas Gerais e Administratias","N","NÃO","NÃO","ENCARGOS DE GESTÃO","FIXO","DESPESAS_GERAIS",2400,"DIRETORIA COLEGIADA - DTC","Despesas Gerais e Administratias3,2"]
[null,null,null,0,0,0,349.91,74,84.782000000000011,{"$f":"D480*'Série - IPCA'!$C$444/'Série - IPCA'!$C$385","v":0},{"$f":"E480*'Série - IPCA'!$C$444/'Série - IPCA'!$C$398","v":0},{"$f":"F480*'Série - IPCA'!$C$444/'Série - IPCA'!$C$411","v":0},{"$f":"G480*'Série - IPCA'!$C$444/'Série - IPCA'!$C$424","v":374.27686083761904},{"$f":"H480*'Série - IPCA'!$C$444/'Série - IPCA'!$C$437","v":75.65692540447057},89.986757248417916,"Despesas Gerais e Administratias","N","NÃO","NÃO","ENCARGOS DE GESTÃO","FIXO","DESPESAS_GERAIS",2410,"ASSESSORIA DE SEGURANÇA DO TRABALHO","Despesas Gerais e Administratias84,782"]
[null,null,null,0,0,0,0,8,1.6,{"$f":"D481*'Série - IPCA'!$C$444/'Série - IPCA'!$C$385","v":0},{"$f":"E481*'Série - IPCA'!$C$444/'Série - IPCA'!$C$398","v":0},{"$f":"F481*'Série - IPCA'!$C$444/'Série - IPCA'!$C$411","v":0},{"$f":"G481*'Série - IPCA'!$C$444/'Série - IPCA'!$C$424","v":0},{"$f":"H481*'Série - IPCA'!$C$444/'Série - IPCA'!$C$437","v":8.1791270707535748},1.6358254141507149,"Despesas Gerais e Administratias","N","NÃO","NÃO","ENCARGOS DE GESTÃO","FIXO","DESPESAS_GERAIS",3300,"GERÊNCIA JURÍDICA","Despesas Gerais e Administratias1,6"]
[null,null,null,0,500,0,16,0,103.2,{"$f":"D482*'Série - IPCA'!$C$444/'Série - IPCA'!$C$385","v":0},{"$f":"E482*'Série - IPCA'!$C$444/'Série - IPCA'!$C$398","v":622.67938310641341},{"$f":"F482*'Série - IPCA'!$C$444/'Série - IPCA'!$C$411","v":0},{"$f":"G482*'Série - IPCA'!$C$444/'Série - IPCA'!$C$424","v":17.114200146900355},{"$f":"H482*'Série - IPCA'!$C$444/'Série - IPCA'!$C$437","v":0},127.95871665066275,"Despesas Gerais e Administratias","N","NÃO","NÃO","ENCARGOS DE GESTÃO","FIXO","DESPESAS_GERAIS",3500,"ASSESSORIA DE COMUNICAÇÃO INSTITUCIONAL","Despesas Gerais e Administratias103,2"]
[null,null,null,0,0,0,8,8,3.2,{"$f":"D483*'Série - IPCA'!$C$444/'Série - IPCA'!$C$385","v":0},{"$f":"E483*'Série - IPCA'!$C$444/'Série - IPCA'!$C$398","v":0},{"$f":"F483*'Série - IPCA'!$C$444/'Série - IPCA'!$C$411","v":0},{"$f":"G483*'Série - IPCA'!$C$444/'Série - IPCA'!$C$424","v":8.5571000734501776},{"$f":"H483*'Série - IPCA'!$C$444/'Série - IPCA'!$C$437","v":8.1791270707535748},3.3472454288407505,"Despesas Gerais e Administratias","N","NÃO","NÃO","ENCARGOS DE GESTÃO","FIXO","DESPESAS_GERAIS",3600,"GERÊNCIA DE GOVERNANÇA, RISCO E COMPLIANCE","Despesas Gerais e Administratias3,2"]
[null,null,null,0,0,0,0,8,1.6,{"$f":"D484*'Série - IPCA'!$C$444/'Série - IPCA'!$C$385","v":0},{"$f":"E484*'Série - IPCA'!$C$444/'Série - IPCA'!$C$398","v":0},{"$f":"F484*'Série - IPCA'!$C$444/'Série - IPCA'!$C$411","v":0},{"$f":"G484*'Série - IPCA'!$C$444/'Série - IPCA'!$C$424","v":0},{"$f":"H484*'Série - IPCA'!$C$444/'Série - IPCA'!$C$437","v":8.1791270707535748},1.6358254141507149,"Despesas Gerais e Administratias","N","NÃO","NÃO","ENCARGOS DE GESTÃO","FIXO","DESPESAS_GERAIS",3700,"GERÊNCIA DE REGULAÇÃO","Despesas Gerais e Administratias1,6"]
[null,null,null,0,0,166.07,40,1114.73,264.15999999999997,{"$f":"D485*'Série - IPCA'!$C$444/'Série - IPCA'!$C$385","v":0},{"$f":"E485*'Série - IPCA'!$C$444/'Série - IPCA'!$C$398","v":0},{"$f":"F485*'Série - IPCA'!$C$444/'Série - IPCA'!$C$411","v":187.91103364789785},{"$f":"G485*'Série - IPCA'!$C$444/'Série - IPCA'!$C$424","v":42.78550036725089},{"$f":"H485*'Série - IPCA'!$C$444/'Série - IPCA'!$C$437","v":1139.6897899476417},274.07726479255808,"Despesas Gerais e Administratias","N","NÃO","NÃO","ENCARGOS DE GESTÃO","FIXO","DESPESAS_GERAIS",4100,"GERÊNCIA DE SERVIÇOS CORPORATIVOS","Despesas Gerais e Administratias264,16"]
[null,null,null,0,0,0,16,165,36.200000000000003,{"$f":"D486*'Série - IPCA'!$C$444/'Série - IPCA'!$C$385","v":0},{"$f":"E486*'Série - IPCA'!$C$444/'Série - IPCA'!$C$398","v":0},{"$f":"F486*'Série - IPCA'!$C$444/'Série - IPCA'!$C$411","v":0},{"$f":"G486*'Série - IPCA'!$C$444/'Série - IPCA'!$C$424","v":17.114200146900355},{"$f":"H486*'Série - IPCA'!$C$444/'Série - IPCA'!$C$437","v":168.69449583429247},37.161739196238564,"Despesas Gerais e Administratias","N","NÃO","NÃO","ENCARGOS DE GESTÃO","FIXO","DESPESAS_GERAIS",4200,"GERÊNCIA FINANCEIRA","Despesas Gerais e Administratias36,2"]
[null,null,null,0,0,0,8,8,3.2,{"$f":"D487*'Série - IPCA'!$C$444/'Série - IPCA'!$C$385","v":0},{"$f":"E487*'Série - IPCA'!$C$444/'Série - IPCA'!$C$398","v":0},{"$f":"F487*'Série - IPCA'!$C$444/'Série - IPCA'!$C$411","v":0},{"$f":"G487*'Série - IPCA'!$C$444/'Série - IPCA'!$C$424","v":8.5571000734501776},{"$f":"H487*'Série - IPCA'!$C$444/'Série - IPCA'!$C$437","v":8.1791270707535748},3.3472454288407505,"Despesas Gerais e Administratias","N","NÃO","NÃO","ENCARGOS DE GESTÃO","FIXO","DESPESAS_GERAIS",4300,"GERÊNCIA DE TECNOLOGIA E SISTEMAS DE INFORMAÇÃO","Despesas Gerais e Administratias3,2"]
[null,null,null,0,0,0,0,16,3.2,{"$f":"D488*'Série - IPCA'!$C$444/'Série - IPCA'!$C$385","v":0},{"$f":"E488*'Série - IPCA'!$C$444/'Série - IPCA'!$C$398","v":0},{"$f":"F488*'Série - IPCA'!$C$444/'Série - IPCA'!$C$411","v":0},{"$f":"G488*'Série - IPCA'!$C$444/'Série - IPCA'!$C$424","v":0},{"$f":"H488*'Série - IPCA'!$C$444/'Série - IPCA'!$C$437","v":16.35825414150715},3.2716508283014298,"Despesas Gerais e Administratias","N","NÃO","NÃO","ENCARGOS DE GESTÃO","FIXO","DESPESAS_GERAIS",4500,"GERÊNCIA CONTÁBIL","Despesas Gerais e Administratias3,2"]
[null,null,null,74,0,0,0,0,14.8,{"$f":"D489*'Série - IPCA'!$C$444/'Série - IPCA'!$C$385","v":96.319681055277172},{"$f":"E489*'Série - IPCA'!$C$444/'Série - IPCA'!$C$398","v":0},{"$f":"F489*'Série - IPCA'!$C$444/'Série - IPCA'!$C$411","v":0},{"$f":"G489*'Série - IPCA'!$C$444/'Série - IPCA'!$C$424","v":0},{"$f":"H489*'Série - IPCA'!$C$444/'Série - IPCA'!$C$437","v":0},19.263936211055434,"Despesas com Vendas","N","SIM","NÃO","ENCARGOS DE COMERCIALIZAÇÃO","FIXO","DESPESAS_GERAIS",5400,"GERÊNCIA COMERCIAL (inativo)","Despesas com Vendas14,8"]
[null,null,null,8,0,0,0,0,1.6,{"$f":"D490*'Série - IPCA'!$C$444/'Série - IPCA'!$C$385","v":10.412938492462397},{"$f":"E490*'Série - IPCA'!$C$444/'Série - IPCA'!$C$398","v":0},{"$f":"F490*'Série - IPCA'!$C$444/'Série - IPCA'!$C$411","v":0},{"$f":"G490*'Série - IPCA'!$C$444/'Série - IPCA'!$C$424","v":0},{"$f":"H490*'Série - IPCA'!$C$444/'Série - IPCA'!$C$437","v":0},2.0825876984924792,"Despesas com Vendas","N","SIM","NÃO","ENCARGOS DE COMERCIALIZAÇÃO","FIXO","DESPESAS_GERAIS",5500,"GERÊNCIA COMERCIAL (inativo)","Despesas com Vendas1,6"]
[null,null,null,1432,0,0,0,0,286.39999999999998,{"$f":"D491*'Série - IPCA'!$C$444/'Série - IPCA'!$C$385","v":1863.9159901507689},{"$f":"E491*'Série - IPCA'!$C$444/'Série - IPCA'!$C$398","v":0},{"$f":"F491*'Série - IPCA'!$C$444/'Série - IPCA'!$C$411","v":0},{"$f":"G491*'Série - IPCA'!$C$444/'Série - IPCA'!$C$424","v":0},{"$f":"H491*'Série - IPCA'!$C$444/'Série - IPCA'!$C$437","v":0},372.78319803015381,"Despesas Gerais e Administratias","N","SIM","NÃO","ENCARGOS DE GESTÃO","FIXO","DESPESAS_GERAIS",4600,"GERÊNCIA DE PESSOAS E CULTURA","Despesas Gerais e Administratias286,4"]
[null,null,null,67.900000000000006,0,0,0,0,13.580000000000002,{"$f":"D492*'Série - IPCA'!$C$444/'Série - IPCA'!$C$385","v":88.379815454774601},{"$f":"E492*'Série - IPCA'!$C$444/'Série - IPCA'!$C$398","v":0},{"$f":"F492*'Série - IPCA'!$C$444/'Série - IPCA'!$C$411","v":0},{"$f":"G492*'Série - IPCA'!$C$444/'Série - IPCA'!$C$424","v":0},{"$f":"H492*'Série - IPCA'!$C$444/'Série - IPCA'!$C$437","v":0},17.675963090954919,"Despesas Gerais e Administratias","N","SIM","NÃO","ENCARGOS DE GESTÃO","FIXO","DESPESAS_GERAIS",2100,"SECRETARIA","Despesas Gerais e Administratias13,58"]
[null,null,null,3034.62,0,0,0,0,606.92399999999998,{"$f":"D493*'Série - IPCA'!$C$444/'Série - IPCA'!$C$385","v":3949.91392599953},{"$f":"E493*'Série - IPCA'!$C$444/'Série - IPCA'!$C$398","v":0},{"$f":"F493*'Série - IPCA'!$C$444/'Série - IPCA'!$C$411","v":0},{"$f":"G493*'Série - IPCA'!$C$444/'Série - IPCA'!$C$424","v":0},{"$f":"H493*'Série - IPCA'!$C$444/'Série - IPCA'!$C$437","v":0},789.98278519990595,"Despesas Gerais e Administratias","N","SIM","NÃO","ENCARGOS DE GESTÃO","FIXO","DESPESAS_GERAIS",2200,"DIRETORIA COLEGIADA - PRESIDÊNCIA","Despesas Gerais e Administratias606,924"]
[null,null,null,489.4,0,0,0,0,97.88,{"$f":"D494*'Série - IPCA'!$C$444/'Série - IPCA'!$C$385","v":637.01151227638718},{"$f":"E494*'Série - IPCA'!$C$444/'Série - IPCA'!$C$398","v":0},{"$f":"F494*'Série - IPCA'!$C$444/'Série - IPCA'!$C$411","v":0},{"$f":"G494*'Série - IPCA'!$C$444/'Série - IPCA'!$C$424","v":0},{"$f":"H494*'Série - IPCA'!$C$444/'Série - IPCA'!$C$437","v":0},127.40230245527744,"Despesas Gerais e Administratias","N","SIM","NÃO","ENCARGOS DE GESTÃO","FIXO","DESPESAS_GERAIS",2300,"DIRETORIA COLEGIADA - DAF","Despesas Gerais e Administratias97,88"]
[null,null,null,108,0,0,0,0,21.6,{"$f":"D495*'Série - IPCA'!$C$444/'Série - IPCA'!$C$385","v":140.57466964824235},{"$f":"E495*'Série - IPCA'!$C$444/'Série - IPCA'!$C$398","v":0},{"$f":"F495*'Série - IPCA'!$C$444/'Série - IPCA'!$C$411","v":0},{"$f":"G495*'Série - IPCA'!$C$444/'Série - IPCA'!$C$424","v":0},{"$f":"H495*'Série - IPCA'!$C$444/'Série - IPCA'!$C$437","v":0},28.114933929648469,"Despesas Gerais e Administratias","N","SIM","NÃO","ENCARGOS DE GESTÃO","FIXO","DESPESAS_GERAIS",2400,"DIRETORIA COLEGIADA - DTC","Despesas Gerais e Administratias21,6"]
[null,null,null,106.4,0,0,0,0,21.28,{"$f":"D496*'Série - IPCA'!$C$444/'Série - IPCA'!$C$385","v":138.49208194974989},{"$f":"E496*'Série - IPCA'!$C$444/'Série - IPCA'!$C$398","v":0},{"$f":"F496*'Série - IPCA'!$C$444/'Série - IPCA'!$C$411","v":0},{"$f":"G496*'Série - IPCA'!$C$444/'Série - IPCA'!$C$424","v":0},{"$f":"H496*'Série - IPCA'!$C$444/'Série - IPCA'!$C$437","v":0},27.698416389949976,"Despesas Gerais e Administratias","N","SIM","NÃO","ENCARGOS DE GESTÃO","FIXO","DESPESAS_GERAIS",3100,"SMS","Despesas Gerais e Administratias21,28"]
[null,null,null,1587.8,0,0,0,0,317.56,{"$f":"D497*'Série - IPCA'!$C$444/'Série - IPCA'!$C$385","v":2066.7079672914742},{"$f":"E497*'Série - IPCA'!$C$444/'Série - IPCA'!$C$398","v":0},{"$f":"F497*'Série - IPCA'!$C$444/'Série - IPCA'!$C$411","v":0},{"$f":"G497*'Série - IPCA'!$C$444/'Série - IPCA'!$C$424","v":0},{"$f":"H497*'Série - IPCA'!$C$444/'Série - IPCA'!$C$437","v":0},413.34159345829482,"Despesas Gerais e Administratias","N","SIM","NÃO","ENCARGOS DE GESTÃO","FIXO","DESPESAS_GERAIS",3300,"GERÊNCIA JURÍDICA","Despesas Gerais e Administratias317,56"]
[null,null,null,1396,0,0,0,0,279.2,{"$f":"D498*'Série - IPCA'!$C$444/'Série - IPCA'!$C$385","v":1817.0577669346881},{"$f":"E498*'Série - IPCA'!$C$444/'Série - IPCA'!$C$398","v":0},{"$f":"F498*'Série - IPCA'!$C$444/'Série - IPCA'!$C$411","v":0},{"$f":"G498*'Série - IPCA'!$C$444/'Série - IPCA'!$C$424","v":0},{"$f":"H498*'Série - IPCA'!$C$444/'Série - IPCA'!$C$437","v":0},363.41155338693761,"Despesas Gerais e Administratias","N","SIM","NÃO","ENCARGOS DE GESTÃO","FIXO","DESPESAS_GERAIS",3400,"MARKETING","Despesas Gerais e Administratias279,2"]
[null,null,null,138.15,0,0,0,0,27.630000000000003,{"$f":"D499*'Série - IPCA'!$C$444/'Série - IPCA'!$C$385","v":179.81843159171004},{"$f":"E499*'Série - IPCA'!$C$444/'Série - IPCA'!$C$398","v":0},{"$f":"F499*'Série - IPCA'!$C$444/'Série - IPCA'!$C$411","v":0},{"$f":"G499*'Série - IPCA'!$C$444/'Série - IPCA'!$C$424","v":0},{"$f":"H499*'Série - IPCA'!$C$444/'Série - IPCA'!$C$437","v":0},35.963686318342006,"Despesas Gerais e Administratias","N","SIM","NÃO","ENCARGOS DE GESTÃO","FIXO","DESPESAS_GERAIS",3600,"GERÊNCIA DE GOVERNANÇA, RISCO E COMPLIANCE","Despesas Gerais e Administratias27,63"]
[null,null,null,15682.78,0,0,0,0,3136.556,{"$f":"D500*'Série - IPCA'!$C$444/'Série - IPCA'!$C$385","v":20412.97794135243},{"$f":"E500*'Série - IPCA'!$C$444/'Série - IPCA'!$C$398","v":0},{"$f":"F500*'Série - IPCA'!$C$444/'Série - IPCA'!$C$411","v":0},{"$f":"G500*'Série - IPCA'!$C$444/'Série - IPCA'!$C$424","v":0},{"$f":"H500*'Série - IPCA'!$C$444/'Série - IPCA'!$C$437","v":0},4082.5955882704861,"Despesas Gerais e Administratias","N","SIM","NÃO","ENCARGOS DE GESTÃO","FIXO","DESPESAS_GERAIS",4100,"GERÊNCIA DE SERVIÇOS CORPORATIVOS","Despesas Gerais e Administratias3136,556"]
[null,null,null,155.6,0,0,0,0,31.119999999999997,{"$f":"D501*'Série - IPCA'!$C$444/'Série - IPCA'!$C$385","v":202.53165367839361},{"$f":"E501*'Série - IPCA'!$C$444/'Série - IPCA'!$C$398","v":0},{"$f":"F501*'Série - IPCA'!$C$444/'Série - IPCA'!$C$411","v":0},{"$f":"G501*'Série - IPCA'!$C$444/'Série - IPCA'!$C$424","v":0},{"$f":"H501*'Série - IPCA'!$C$444/'Série - IPCA'!$C$437","v":0},40.506330735678723,"Despesas Gerais e Administratias","N","SIM","NÃO","ENCARGOS DE GESTÃO","FIXO","DESPESAS_GERAIS",4200,"GERÊNCIA FINANCEIRA","Despesas Gerais e Administratias31,12"]
[null,null,null,16,0,0,0,0,3.2,{"$f":"D502*'Série - IPCA'!$C$444/'Série - IPCA'!$C$385","v":20.825876984924793},{"$f":"E502*'Série - IPCA'!$C$444/'Série - IPCA'!$C$398","v":0},{"$f":"F502*'Série - IPCA'!$C$444/'Série - IPCA'!$C$411","v":0},{"$f":"G502*'Série - IPCA'!$C$444/'Série - IPCA'!$C$424","v":0},{"$f":"H502*'Série - IPCA'!$C$444/'Série - IPCA'!$C$437","v":0},4.1651753969849583,"Despesas Gerais e Administratias","N","SIM","NÃO","ENCARGOS DE GESTÃO","FIXO","DESPESAS_GERAIS",4300,"GERÊNCIA DE TECNOLOGIA E SISTEMAS DE INFORMAÇÃO","Despesas Gerais e Administratias3,2"]
[null,null,null,1795.42,0,0,0,0,359.084,{"$f":"D503*'Série - IPCA'!$C$444/'Série - IPCA'!$C$385","v":2336.9497535171045},{"$f":"E503*'Série - IPCA'!$C$444/'Série - IPCA'!$C$398","v":0},{"$f":"F503*'Série - IPCA'!$C$444/'Série - IPCA'!$C$411","v":0},{"$f":"G503*'Série - IPCA'!$C$444/'Série - IPCA'!$C$424","v":0},{"$f":"H503*'Série - IPCA'!$C$444/'Série - IPCA'!$C$437","v":0},467.38995070342088,"Despesas Gerais e Administratias","N","SIM","NÃO","ENCARGOS DE GESTÃO","FIXO","DESPESAS_GERAIS",4500,"GERÊNCIA CONTÁBIL","Despesas Gerais e Administratias359,084"]
[null,null,null,16101.32,0,0,0,0,3220.2640000000001,{"$f":"D504*'Série - IPCA'!$C$444/'Série - IPCA'!$C$385","v":20957.75685093183},{"$f":"E504*'Série - IPCA'!$C$444/'Série - IPCA'!$C$398","v":0},{"$f":"F504*'Série - IPCA'!$C$444/'Série - IPCA'!$C$411","v":0},{"$f":"G504*'Série - IPCA'!$C$444/'Série - IPCA'!$C$424","v":0},{"$f":"H504*'Série - IPCA'!$C$444/'Série - IPCA'!$C$437","v":0},4191.5513701863656,"Despesas Gerais e Administratias","N","NÃO","SIM","ENCARGOS DE GESTÃO","FIXO","DESPESAS_GERAIS",4600,"GERÊNCIA DE PESSOAS E CULTURA","Despesas Gerais e Administratias3220,264"]
[null,null,null,120,12,0,0,0,26.4,{"$f":"D505*'Série - IPCA'!$C$444/'Série - IPCA'!$C$385","v":156.19407738693596},{"$f":"E505*'Série - IPCA'!$C$444/'Série - IPCA'!$C$398","v":14.944305194553923},{"$f":"F505*'Série - IPCA'!$C$444/'Série - IPCA'!$C$411","v":0},{"$f":"G505*'Série - IPCA'!$C$444/'Série - IPCA'!$C$424","v":0},{"$f":"H505*'Série - IPCA'!$C$444/'Série - IPCA'!$C$437","v":0},34.227676516297976,"Custos","N","SIM","NÃO","OPEX","FIXO","DESPESAS_GERAIS",5100,"GERÊNCIA DE ENGENHARIA","Custos26,4"]
[null,null,null,0,0,125,70.13,73.73,53.772000000000006,{"$f":"D506*'Série - IPCA'!$C$444/'Série - IPCA'!$C$385","v":0},{"$f":"E506*'Série - IPCA'!$C$444/'Série - IPCA'!$C$398","v":0},{"$f":"F506*'Série - IPCA'!$C$444/'Série - IPCA'!$C$411","v":141.43962910813048},{"$f":"G506*'Série - IPCA'!$C$444/'Série - IPCA'!$C$424","v":75.013678518882614},{"$f":"H506*'Série - IPCA'!$C$444/'Série - IPCA'!$C$437","v":75.380879865832625},58.366837498569147,"Custos","N","SIM","NÃO","OPEX","FIXO","DESPESAS_INSTITUCIONAIS",5200,"GERÊNCIA DE OPERAÇÕES","Custos53,772"]
[null,null,null,491.7,135.04,0,0,0,125.348,{"$f":"D507*'Série - IPCA'!$C$444/'Série - IPCA'!$C$385","v":640.00523209297},{"$f":"E507*'Série - IPCA'!$C$444/'Série - IPCA'!$C$398","v":168.17324778938016},{"$f":"F507*'Série - IPCA'!$C$444/'Série - IPCA'!$C$411","v":0},{"$f":"G507*'Série - IPCA'!$C$444/'Série - IPCA'!$C$424","v":0},{"$f":"H507*'Série - IPCA'!$C$444/'Série - IPCA'!$C$437","v":0},161.63569597647003,"Despesas com Vendas","N","SIM","NÃO","ENCARGOS DE COMERCIALIZAÇÃO","FIXO","DESPESAS_INSTITUCIONAIS",5300,"GERÊNCIA COMERCIAL","Despesas com Vendas125,348"]
[null,null,null,24,0,0,0,0,4.8,{"$f":"D508*'Série - IPCA'!$C$444/'Série - IPCA'!$C$385","v":31.238815477387192},{"$f":"E508*'Série - IPCA'!$C$444/'Série - IPCA'!$C$398","v":0},{"$f":"F508*'Série - IPCA'!$C$444/'Série - IPCA'!$C$411","v":0},{"$f":"G508*'Série - IPCA'!$C$444/'Série - IPCA'!$C$424","v":0},{"$f":"H508*'Série - IPCA'!$C$444/'Série - IPCA'!$C$437","v":0},6.2477630954774384,"Despesas com Vendas","N","SIM","NÃO","ENCARGOS DE COMERCIALIZAÇÃO","FIXO","DESPESAS_INSTITUCIONAIS",5400,"GERÊNCIA COMERCIAL (inativo)","Despesas com Vendas4,8"]
[null,null,null,6299.53,2451.9,4271.1000000000004,439,0,2692.306,{"$f":"D509*'Série - IPCA'!$C$444/'Série - IPCA'!$C$385","v":8199.5773026777042},{"$f":"E509*'Série - IPCA'!$C$444/'Série - IPCA'!$C$398","v":3053.4951588772306},{"$f":"F509*'Série - IPCA'!$C$444/'Série - IPCA'!$C$411","v":4832.8223990698898},{"$f":"G509*'Série - IPCA'!$C$444/'Série - IPCA'!$C$424","v":469.57086653057848},{"$f":"H509*'Série - IPCA'!$C$444/'Série - IPCA'!$C$437","v":0},3311.0931454310803,"Despesas Gerais e Administratias","N","SIM","NÃO","ENCARGOS DE GESTÃO","FIXO","DESPESAS_INSTITUCIONAIS",2100,"SECRETARIA","Despesas Gerais e Administratias2692,306"]
[null,null,null,0,0,2204.4,6113.8,7358.95,3135.4300000000003,{"$f":"D510*'Série - IPCA'!$C$444/'Série - IPCA'!$C$385","v":0},{"$f":"E510*'Série - IPCA'!$C$444/'Série - IPCA'!$C$398","v":0},{"$f":"F510*'Série - IPCA'!$C$444/'Série - IPCA'!$C$411","v":2494.3161472477032},{"$f":"G510*'Série - IPCA'!$C$444/'Série - IPCA'!$C$424","v":6539.5498036324625},{"$f":"H510*'Série - IPCA'!$C$444/'Série - IPCA'!$C$437","v":7523.7233946652523},3311.5178691090832,"Despesas Gerais e Administratias","N","SIM","NÃO","ENCARGOS DE GESTÃO","FIXO","DESPESAS_INSTITUCIONAIS",2110,"ASSESSORIA DA DIRETORIA EXECUTIVA","Despesas Gerais e Administratias3135,43"]
[null,null,null,798.46,2168.64,57.76,0,0,604.97199999999998,{"$f":"D511*'Série - IPCA'!$C$444/'Série - IPCA'!$C$385","v":1039.2893585864408},{"$f":"E511*'Série - IPCA'!$C$444/'Série - IPCA'!$C$398","v":2700.7348347597845},{"$f":"F511*'Série - IPCA'!$C$444/'Série - IPCA'!$C$411","v":65.356423818284938},{"$f":"G511*'Série - IPCA'!$C$444/'Série - IPCA'!$C$424","v":0},{"$f":"H511*'Série - IPCA'!$C$444/'Série - IPCA'!$C$437","v":0},761.07612343290202,"Despesas Gerais e Administratias","N","SIM","NÃO","ENCARGOS DE GESTÃO","FIXO","DESPESAS_INSTITUCIONAIS",2200,"DIRETORIA COLEGIADA - PRESIDÊNCIA","Despesas Gerais e Administratias604,972"]
[null,null,null,145.16,0,0,0,0,29.032,{"$f":"D512*'Série - IPCA'!$C$444/'Série - IPCA'!$C$385","v":188.94276894573019},{"$f":"E512*'Série - IPCA'!$C$444/'Série - IPCA'!$C$398","v":0},{"$f":"F512*'Série - IPCA'!$C$444/'Série - IPCA'!$C$411","v":0},{"$f":"G512*'Série - IPCA'!$C$444/'Série - IPCA'!$C$424","v":0},{"$f":"H512*'Série - IPCA'!$C$444/'Série - IPCA'!$C$437","v":0},37.788553789146036,"Despesas Gerais e Administratias","N","SIM","NÃO","ENCARGOS DE GESTÃO","FIXO","DESPESAS_INSTITUCIONAIS",2400,"DIRETORIA COLEGIADA - DTC","Despesas Gerais e Administratias29,032"]
[null,null,null,23.92,0,36.81,0,0,12.146000000000001,{"$f":"D513*'Série - IPCA'!$C$444/'Série - IPCA'!$C$385","v":31.134686092462566},{"$f":"E513*'Série - IPCA'!$C$444/'Série - IPCA'!$C$398","v":0},{"$f":"F513*'Série - IPCA'!$C$444/'Série - IPCA'!$C$411","v":41.651141979762265},{"$f":"G513*'Série - IPCA'!$C$444/'Série - IPCA'!$C$424","v":0},{"$f":"H513*'Série - IPCA'!$C$444/'Série - IPCA'!$C$437","v":0},14.557165614444965,"Despesas Gerais e Administratias","N","SIM","NÃO","ENCARGOS DE GESTÃO","FIXO","DESPESAS_INSTITUCIONAIS",3100,"SMS","Despesas Gerais e Administratias12,146"]
[null,null,null,0,0,0,114.3,0,22.86,{"$f":"D514*'Série - IPCA'!$C$444/'Série - IPCA'!$C$385","v":0},{"$f":"E514*'Série - IPCA'!$C$444/'Série - IPCA'!$C$398","v":0},{"$f":"F514*'Série - IPCA'!$C$444/'Série - IPCA'!$C$411","v":0},{"$f":"G514*'Série - IPCA'!$C$444/'Série - IPCA'!$C$424","v":122.25956729941942},{"$f":"H514*'Série - IPCA'!$C$444/'Série - IPCA'!$C$437","v":0},24.451913459883883,"Despesas Gerais e Administratias","N","SIM","NÃO","ENCARGOS DE GESTÃO","FIXO","DESPESAS_INSTITUCIONAIS",3200,"GERÊNCIA DE PLANEJAMENTO E MEIO AMBIENTE","Despesas Gerais e Administratias22,86"]
[null,null,null,46290.81,179970.39,76397.39,61313.84,86937.86,90182.058000000005,{"$f":"D515*'Série - IPCA'!$C$444/'Série - IPCA'!$C$385","v":60252.919662032909},{"$f":"E515*'Série - IPCA'!$C$444/'Série - IPCA'!$C$398","v":224127.70284524129},{"$f":"F515*'Série - IPCA'!$C$444/'Série - IPCA'!$C$411","v":86444.948051433574},{"$f":"G515*'Série - IPCA'!$C$444/'Série - IPCA'!$C$424","v":65583.583095939059},{"$f":"H515*'Série - IPCA'!$C$444/'Série - IPCA'!$C$437","v":88884.475524923051},105058.72583591398,"Despesas Gerais e Administratias","N","SIM","NÃO","ENCARGOS DE GESTÃO","FIXO","DESPESAS_INSTITUCIONAIS",3300,"GERÊNCIA JURÍDICA","Despesas Gerais e Administratias90182,058"]
[null,null,null,0,0,0,0,85.2,17.04,{"$f":"D516*'Série - IPCA'!$C$444/'Série - IPCA'!$C$385","v":0},{"$f":"E516*'Série - IPCA'!$C$444/'Série - IPCA'!$C$398","v":0},{"$f":"F516*'Série - IPCA'!$C$444/'Série - IPCA'!$C$411","v":0},{"$f":"G516*'Série - IPCA'!$C$444/'Série - IPCA'!$C$424","v":0},{"$f":"H516*'Série - IPCA'!$C$444/'Série - IPCA'!$C$437","v":87.107703303525582},17.421540660705116,"Despesas Gerais e Administratias","N","SIM","NÃO","ENCARGOS DE GESTÃO","FIXO","DESPESAS_INSTITUCIONAIS",3600,"GERÊNCIA DE GOVERNANÇA, RISCO E COMPLIANCE","Despesas Gerais e Administratias17,04"]
[null,null,null,60.12,458.96,197.34,-82523.210000000006,1684.15,{"$f":"AVERAGE(D517:H517)","v":-16024.528000000002},{"$f":"D517*'Série - IPCA'!$C$444/'Série - IPCA'!$C$385","v":78.253232770854908},{"$f":"E517*'Série - IPCA'!$C$444/'Série - IPCA'!$C$398","v":571.56985934103909},{"$f":"F517*'Série - IPCA'!$C$444/'Série - IPCA'!$C$411","v":223.29357126558779},{"$f":"G517*'Série - IPCA'!$C$444/'Série - IPCA'!$C$424","v":-88269.920794043064},{"$f":"H517*'Série - IPCA'!$C$444/'Série - IPCA'!$C$437","v":1721.859607026204},{"$f":"AVERAGE(J517:N517)","v":-17134.988904727878},"Despesas Gerais e Administratias","N","SIM","NÃO","ENCARGOS DE GESTÃO","FIXO","DESPESAS_INSTITUCIONAIS",4100,"GERÊNCIA DE SERVIÇOS CORPORATIVOS",{"$f":"B517&C517&P517&I517","v":"Despesas Gerais e Administratias-16024,528"}]
[null,null,null,341744.63,95348.11,1441.93,264.85000000000002,0,87759.903999999995,{"$f":"D518*'Série - IPCA'!$C$444/'Série - IPCA'!$C$385","v":444820.72653991496},{"$f":"E518*'Série - IPCA'!$C$444/'Série - IPCA'!$C$398","v":118742.6046303249},{"$f":"F518*'Série - IPCA'!$C$444/'Série - IPCA'!$C$411","v":1631.568355199093},{"$f":"G518*'Série - IPCA'!$C$444/'Série - IPCA'!$C$424","v":283.29349430666002},{"$f":"H518*'Série - IPCA'!$C$444/'Série - IPCA'!$C$437","v":0},113095.6386039491,"Despesas Gerais e Administratias","N","SIM","NÃO","ENCARGOS DE GESTÃO","FIXO","DESPESAS_INSTITUCIONAIS",4200,"GERÊNCIA FINANCEIRA","Despesas Gerais e Administratias87759,904"]
[null,null,null,903.07,0,0,16.48,0,183.91000000000003,{"$f":"D519*'Série - IPCA'!$C$444/'Série - IPCA'!$C$385","v":1175.4515455485023},{"$f":"E519*'Série - IPCA'!$C$444/'Série - IPCA'!$C$398","v":0},{"$f":"F519*'Série - IPCA'!$C$444/'Série - IPCA'!$C$411","v":0},{"$f":"G519*'Série - IPCA'!$C$444/'Série - IPCA'!$C$424","v":17.627626151307368},{"$f":"H519*'Série - IPCA'!$C$444/'Série - IPCA'!$C$437","v":0},238.61583433996194,"Despesas Gerais e Administratias","N","SIM","NÃO","ENCARGOS DE GESTÃO","FIXO","DESPESAS_INSTITUCIONAIS",4500,"GERÊNCIA CONTÁBIL","Despesas Gerais e Administratias183,91"]
[null,null,null,0,528309.84,976.58,5294.18,1642.54,107244.628,{"$f":"D520*'Série - IPCA'!$C$444/'Série - IPCA'!$C$385","v":0},{"$f":"E520*'Série - IPCA'!$C$444/'Série - IPCA'!$C$398","v":657935.29052049597},{"$f":"F520*'Série - IPCA'!$C$444/'Série - IPCA'!$C$411","v":1105.0169039553446},{"$f":"G520*'Série - IPCA'!$C$444/'Série - IPCA'!$C$424","v":5662.8535083573088},{"$f":"H520*'Série - IPCA'!$C$444/'Série - IPCA'!$C$437","v":1679.3179223494469},133276.49577103162,"Despesas com Vendas","N","NÃO","SIM","ENCARGOS DE COMERCIALIZAÇÃO","VOLUME","DESPESAS_INSTITUCIONAIS",5300,"GERÊNCIA COMERCIAL","Despesas com Vendas107244,628"]
[null,null,null,0,281226.07,0,0,0,56245.214,{"$f":"D521*'Série - IPCA'!$C$444/'Série - IPCA'!$C$385","v":0},{"$f":"E521*'Série - IPCA'!$C$444/'Série - IPCA'!$C$398","v":350227.35156208213},{"$f":"F521*'Série - IPCA'!$C$444/'Série - IPCA'!$C$411","v":0},{"$f":"G521*'Série - IPCA'!$C$444/'Série - IPCA'!$C$424","v":0},{"$f":"H521*'Série - IPCA'!$C$444/'Série - IPCA'!$C$437","v":0},70045.470312416423,"Despesas com Vendas","N","NÃO","SIM","ENCARGOS DE COMERCIALIZAÇÃO","VOLUME","DESPESAS_INSTITUCIONAIS",5400,"GERÊNCIA COMERCIAL (inativo)","Despesas com Vendas56245,214"]
[null,null,null,0,139.51,0,0,0,27.901999999999997,{"$f":"D522*'Série - IPCA'!$C$444/'Série - IPCA'!$C$385","v":0},{"$f":"E522*'Série - IPCA'!$C$444/'Série - IPCA'!$C$398","v":173.74000147435146},{"$f":"F522*'Série - IPCA'!$C$444/'Série - IPCA'!$C$411","v":0},{"$f":"G522*'Série - IPCA'!$C$444/'Série - IPCA'!$C$424","v":0},{"$f":"H522*'Série - IPCA'!$C$444/'Série - IPCA'!$C$437","v":0},34.748000294870295,"Despesas com Vendas","N","NÃO","SIM","ENCARGOS DE COMERCIALIZAÇÃO","VOLUME","DESPESAS_INSTITUCIONAIS",5500,"GERÊNCIA COMERCIAL (inativo)","Despesas com Vendas27,902"]
[null,null,null,7345,4719.2,5808.07,5379.17,9851.6,6620.6080000000002,{"$f":"D523*'Série - IPCA'!$C$444/'Série - IPCA'!$C$385","v":9560.3791533920394},{"$f":"E523*'Série - IPCA'!$C$444/'Série - IPCA'!$C$398","v":5877.0970895115724},{"$f":"F523*'Série - IPCA'!$C$444/'Série - IPCA'!$C$411","v":6571.9301330724747},{"$f":"G523*'Série - IPCA'!$C$444/'Série - IPCA'!$C$424","v":5753.7620002626245},{"$f":"H523*'Série - IPCA'!$C$444/'Série - IPCA'!$C$437","v":10072.186031279491},7567.0708815036396,"Custos","N","SIM","NÃO","OPEX","FUNCIONÁRIOS","VIAGENS_REPRESENTAÇÕES",5100,"GERÊNCIA DE ENGENHARIA","Custos6620,608"]
[null,null,null,13250,11862.5,10075,8962.75,11981.65,11226.380000000001,{"$f":"D524*'Série - IPCA'!$C$444/'Série - IPCA'!$C$385","v":17246.429378140845},{"$f":"E524*'Série - IPCA'!$C$444/'Série - IPCA'!$C$398","v":14773.06836419966},{"$f":"F524*'Série - IPCA'!$C$444/'Série - IPCA'!$C$411","v":11400.034106115318},{"$f":"G524*'Série - IPCA'!$C$444/'Série - IPCA'!$C$424","v":9586.8935854144493},{"$f":"H524*'Série - IPCA'!$C$444/'Série - IPCA'!$C$437","v":12249.929733411822},13051.27103345642,"Custos","N","SIM","NÃO","OPEX","FUNCIONÁRIOS","VIAGENS_REPRESENTAÇÕES",5200,"GERÊNCIA DE OPERAÇÕES","Custos11226,38"]
[null,null,null,1352.5,45,620,743.25,1064.5,765.05,{"$f":"D525*'Série - IPCA'!$C$444/'Série - IPCA'!$C$385","v":1760.4374138819242},{"$f":"E525*'Série - IPCA'!$C$444/'Série - IPCA'!$C$398","v":56.041144479577213},{"$f":"F525*'Série - IPCA'!$C$444/'Série - IPCA'!$C$411","v":701.54056037632722},{"$f":"G525*'Série - IPCA'!$C$444/'Série - IPCA'!$C$424","v":795.00807869898063},{"$f":"H525*'Série - IPCA'!$C$444/'Série - IPCA'!$C$437","v":1088.3350958521476},880.27245865779128,"Despesas com Vendas","N","SIM","NÃO","ENCARGOS DE COMERCIALIZAÇÃO","FUNCIONÁRIOS","VIAGENS_REPRESENTAÇÕES",5300,"GERÊNCIA COMERCIAL","Despesas com Vendas765,05"]
[null,null,null,0,0,32.5,0,0,6.5,{"$f":"D526*'Série - IPCA'!$C$444/'Série - IPCA'!$C$385","v":0},{"$f":"E526*'Série - IPCA'!$C$444/'Série - IPCA'!$C$398","v":0},{"$f":"F526*'Série - IPCA'!$C$444/'Série - IPCA'!$C$411","v":36.774303568113929},{"$f":"G526*'Série - IPCA'!$C$444/'Série - IPCA'!$C$424","v":0},{"$f":"H526*'Série - IPCA'!$C$444/'Série - IPCA'!$C$437","v":0},7.3548607136227862,"Despesas Gerais e Administratias","N","SIM","NÃO","ENCARGOS DE GESTÃO","FUNCIONÁRIOS","VIAGENS_REPRESENTAÇÕES",1001,"CONSELHO DE ADMINISTRAÇÃO","Despesas Gerais e Administratias6,5"]
[null,null,null,0,0,607.5,1510.75,1068.25,637.29999999999995,{"$f":"D527*'Série - IPCA'!$C$444/'Série - IPCA'!$C$385","v":0},{"$f":"E527*'Série - IPCA'!$C$444/'Série - IPCA'!$C$398","v":0},{"$f":"F527*'Série - IPCA'!$C$444/'Série - IPCA'!$C$411","v":687.39659746551422},{"$f":"G527*'Série - IPCA'!$C$444/'Série - IPCA'!$C$424","v":1615.9548669956073},{"$f":"H527*'Série - IPCA'!$C$444/'Série - IPCA'!$C$437","v":1092.1690616665633},679.10410522553696,"Despesas Gerais e Administratias","N","SIM","NÃO","ENCARGOS DE GESTÃO","FUNCIONÁRIOS","VIAGENS_REPRESENTAÇÕES",2120,"ASSESSORIA DA PRESIDÊNCIA","Despesas Gerais e Administratias637,3"]
[null,null,null,0,0,510,1937.25,1590.25,807.5,{"$f":"D528*'Série - IPCA'!$C$444/'Série - IPCA'!$C$385","v":0},{"$f":"E528*'Série - IPCA'!$C$444/'Série - IPCA'!$C$398","v":0},{"$f":"F528*'Série - IPCA'!$C$444/'Série - IPCA'!$C$411","v":577.07368676117233},{"$f":"G528*'Série - IPCA'!$C$444/'Série - IPCA'!$C$424","v":2072.1552646614196},{"$f":"H528*'Série - IPCA'!$C$444/'Série - IPCA'!$C$437","v":1625.8571030332339},855.01721089116506,"Despesas Gerais e Administratias","N","SIM","NÃO","ENCARGOS DE GESTÃO","FUNCIONÁRIOS","VIAGENS_REPRESENTAÇÕES",2130,"ASSESSORIA DE RELAÇÕES INSTITUCIONAIS E NOVOS NEGÓCIOS","Despesas Gerais e Administratias807,5"]
[null,null,null,0,0,0,0,868.5,173.7,{"$f":"D529*'Série - IPCA'!$C$444/'Série - IPCA'!$C$385","v":0},{"$f":"E529*'Série - IPCA'!$C$444/'Série - IPCA'!$C$398","v":0},{"$f":"F529*'Série - IPCA'!$C$444/'Série - IPCA'!$C$411","v":0},{"$f":"G529*'Série - IPCA'!$C$444/'Série - IPCA'!$C$424","v":0},{"$f":"H529*'Série - IPCA'!$C$444/'Série - IPCA'!$C$437","v":887.94648261868497},177.589296523737,"Despesas Gerais e Administratias","N","SIM","NÃO","ENCARGOS DE GESTÃO","FUNCIONÁRIOS","VIAGENS_REPRESENTAÇÕES",2410,"ASSESSORIA DE SEGURANÇA DO TRABALHO","Despesas Gerais e Administratias173,7"]
[null,null,null,12488.62,1531.94,0,1802.06,0,3164.5240000000003,{"$f":"D530*'Série - IPCA'!$C$444/'Série - IPCA'!$C$385","v":16255.403989466968},{"$f":"E530*'Série - IPCA'!$C$444/'Série - IPCA'!$C$398","v":1907.8149083120782},{"$f":"F530*'Série - IPCA'!$C$444/'Série - IPCA'!$C$411","v":0},{"$f":"G530*'Série - IPCA'!$C$444/'Série - IPCA'!$C$424","v":1927.5509697952036},{"$f":"H530*'Série - IPCA'!$C$444/'Série - IPCA'!$C$437","v":0},4018.1539735148499,"Despesas Gerais e Administratias","N","SIM","NÃO","ENCARGOS DE GESTÃO","FUNCIONÁRIOS","VIAGENS_REPRESENTAÇÕES",2200,"DIRETORIA COLEGIADA - PRESIDÊNCIA","Despesas Gerais e Administratias3164,524"]
[null,null,null,0,0,360,764.5,550,334.9,{"$f":"D531*'Série - IPCA'!$C$444/'Série - IPCA'!$C$385","v":0},{"$f":"E531*'Série - IPCA'!$C$444/'Série - IPCA'!$C$398","v":0},{"$f":"F531*'Série - IPCA'!$C$444/'Série - IPCA'!$C$411","v":407.34613183141579},{"$f":"G531*'Série - IPCA'!$C$444/'Série - IPCA'!$C$424","v":817.73787576908262},{"$f":"H531*'Série - IPCA'!$C$444/'Série - IPCA'!$C$437","v":562.31498611430823},357.47979874296135,"Despesas Gerais e Administratias","N","SIM","NÃO","ENCARGOS DE GESTÃO","FUNCIONÁRIOS","VIAGENS_REPRESENTAÇÕES",2310,"ASSESSORIA DAF","Despesas Gerais e Administratias334,9"]
[null,null,null,1795,32.5,845,673.75,1907.5,1050.75,{"$f":"D532*'Série - IPCA'!$C$444/'Série - IPCA'!$C$385","v":2336.4030742462501},{"$f":"E532*'Série - IPCA'!$C$444/'Série - IPCA'!$C$398","v":40.474159901916877},{"$f":"F532*'Série - IPCA'!$C$444/'Série - IPCA'!$C$411","v":956.13189277096217},{"$f":"G532*'Série - IPCA'!$C$444/'Série - IPCA'!$C$424","v":720.66827181088229},{"$f":"H532*'Série - IPCA'!$C$444/'Série - IPCA'!$C$437","v":1950.2106109328054},1200.7776019325634,"Despesas Gerais e Administratias","N","SIM","NÃO","ENCARGOS DE GESTÃO","FUNCIONÁRIOS","VIAGENS_REPRESENTAÇÕES",3100,"SMS","Despesas Gerais e Administratias1050,75"]
[null,null,null,2707.5,745,207.5,841.5,385.25,977.35,{"$f":"D533*'Série - IPCA'!$C$444/'Série - IPCA'!$C$385","v":3524.1288710427425},{"$f":"E533*'Série - IPCA'!$C$444/'Série - IPCA'!$C$398","v":927.79228082855616},{"$f":"F533*'Série - IPCA'!$C$444/'Série - IPCA'!$C$411","v":234.78978431949662},{"$f":"G533*'Série - IPCA'!$C$444/'Série - IPCA'!$C$424","v":900.09996397604061},{"$f":"H533*'Série - IPCA'!$C$444/'Série - IPCA'!$C$437","v":393.87608800097678},1196.1373976335624,"Despesas Gerais e Administratias","N","SIM","NÃO","ENCARGOS DE GESTÃO","FUNCIONÁRIOS","VIAGENS_REPRESENTAÇÕES",3200,"GERÊNCIA DE PLANEJAMENTO E MEIO AMBIENTE","Despesas Gerais e Administratias977,35"]
[null,null,null,2360,110,0,165,275,582,{"$f":"D534*'Série - IPCA'!$C$444/'Série - IPCA'!$C$385","v":3071.8168552764068},{"$f":"E534*'Série - IPCA'!$C$444/'Série - IPCA'!$C$398","v":136.98946428341097},{"$f":"F534*'Série - IPCA'!$C$444/'Série - IPCA'!$C$411","v":0},{"$f":"G534*'Série - IPCA'!$C$444/'Série - IPCA'!$C$424","v":176.49018901490993},{"$f":"H534*'Série - IPCA'!$C$444/'Série - IPCA'!$C$437","v":281.15749305715411},733.29080032637637,"Despesas Gerais e Administratias","N","SIM","NÃO","ENCARGOS DE GESTÃO","FUNCIONÁRIOS","VIAGENS_REPRESENTAÇÕES",3300,"GERÊNCIA JURÍDICA","Despesas Gerais e Administratias582"]
[null,null,null,0,0,0,595,1516.75,422.35,{"$f":"D535*'Série - IPCA'!$C$444/'Série - IPCA'!$C$385","v":0},{"$f":"E535*'Série - IPCA'!$C$444/'Série - IPCA'!$C$398","v":0},{"$f":"F535*'Série - IPCA'!$C$444/'Série - IPCA'!$C$411","v":0},{"$f":"G535*'Série - IPCA'!$C$444/'Série - IPCA'!$C$424","v":636.43431796285699},{"$f":"H535*'Série - IPCA'!$C$444/'Série - IPCA'!$C$437","v":1550.7113730706856},437.42913820670856,"Despesas Gerais e Administratias","N","SIM","NÃO","ENCARGOS DE GESTÃO","FUNCIONÁRIOS","VIAGENS_REPRESENTAÇÕES",3500,"ASSESSORIA DE COMUNICAÇÃO INSTITUCIONAL","Despesas Gerais e Administratias422,35"]
[null,null,null,165,55,0,0,585,161,{"$f":"D536*'Série - IPCA'!$C$444/'Série - IPCA'!$C$385","v":214.76685640703693},{"$f":"E536*'Série - IPCA'!$C$444/'Série - IPCA'!$C$398","v":68.494732141705484},{"$f":"F536*'Série - IPCA'!$C$444/'Série - IPCA'!$C$411","v":0},{"$f":"G536*'Série - IPCA'!$C$444/'Série - IPCA'!$C$424","v":0},{"$f":"H536*'Série - IPCA'!$C$444/'Série - IPCA'!$C$437","v":598.09866704885519},176.27205111951952,"Despesas Gerais e Administratias","N","SIM","NÃO","ENCARGOS DE GESTÃO","FUNCIONÁRIOS","VIAGENS_REPRESENTAÇÕES",3600,"GERÊNCIA DE GOVERNANÇA, RISCO E COMPLIANCE","Despesas Gerais e Administratias161"]
[null,null,null,0,0,360,220,880,292,{"$f":"D537*'Série - IPCA'!$C$444/'Série - IPCA'!$C$385","v":0},{"$f":"E537*'Série - IPCA'!$C$444/'Série - IPCA'!$C$398","v":0},{"$f":"F537*'Série - IPCA'!$C$444/'Série - IPCA'!$C$411","v":407.34613183141579},{"$f":"G537*'Série - IPCA'!$C$444/'Série - IPCA'!$C$424","v":235.32025201987992},{"$f":"H537*'Série - IPCA'!$C$444/'Série - IPCA'!$C$437","v":899.70397778289328},308.47407232683781,"Despesas Gerais e Administratias","N","SIM","NÃO","ENCARGOS DE GESTÃO","FUNCIONÁRIOS","VIAGENS_REPRESENTAÇÕES",3700,"GERÊNCIA DE REGULAÇÃO","Despesas Gerais e Administratias292"]
[null,null,null,410.75,0,0,275,369.97,211.14400000000001,{"$f":"D538*'Série - IPCA'!$C$444/'Série - IPCA'!$C$385","v":534.63931072236619},{"$f":"E538*'Série - IPCA'!$C$444/'Série - IPCA'!$C$398","v":0},{"$f":"F538*'Série - IPCA'!$C$444/'Série - IPCA'!$C$411","v":0},{"$f":"G538*'Série - IPCA'!$C$444/'Série - IPCA'!$C$424","v":294.15031502484987},{"$f":"H538*'Série - IPCA'!$C$444/'Série - IPCA'!$C$437","v":378.25395529583756},241.40871620861071,"Despesas Gerais e Administratias","N","SIM","NÃO","ENCARGOS DE GESTÃO","FUNCIONÁRIOS","VIAGENS_REPRESENTAÇÕES",4100,"GERÊNCIA DE SERVIÇOS CORPORATIVOS","Despesas Gerais e Administratias211,144"]
[null,null,null,1290,0,0,0,3393.63,936.726,{"$f":"D539*'Série - IPCA'!$C$444/'Série - IPCA'!$C$385","v":1679.0863319095613},{"$f":"E539*'Série - IPCA'!$C$444/'Série - IPCA'!$C$398","v":0},{"$f":"F539*'Série - IPCA'!$C$444/'Série - IPCA'!$C$411","v":0},{"$f":"G539*'Série - IPCA'!$C$444/'Série - IPCA'!$C$424","v":0},{"$f":"H539*'Série - IPCA'!$C$444/'Série - IPCA'!$C$437","v":3469.6163751401818},1029.7405414099487,"Despesas Gerais e Administratias","N","SIM","NÃO","ENCARGOS DE GESTÃO","FUNCIONÁRIOS","VIAGENS_REPRESENTAÇÕES",4200,"GERÊNCIA FINANCEIRA","Despesas Gerais e Administratias936,726"]
[null,null,null,1615,275,65,0,110,413,{"$f":"D540*'Série - IPCA'!$C$444/'Série - IPCA'!$C$385","v":2102.1119581658463},{"$f":"E540*'Série - IPCA'!$C$444/'Série - IPCA'!$C$398","v":342.4736607085274},{"$f":"F540*'Série - IPCA'!$C$444/'Série - IPCA'!$C$411","v":73.548607136227858},{"$f":"G540*'Série - IPCA'!$C$444/'Série - IPCA'!$C$424","v":0},{"$f":"H540*'Série - IPCA'!$C$444/'Série - IPCA'!$C$437","v":112.46299722286166},526.11944464669273,"Despesas Gerais e Administratias","N","SIM","NÃO","ENCARGOS DE GESTÃO","FUNCIONÁRIOS","VIAGENS_REPRESENTAÇÕES",4300,"GERÊNCIA DE TECNOLOGIA E SISTEMAS DE INFORMAÇÃO","Despesas Gerais e Administratias413"]
[null,null,null,495,0,0,0,380,175,{"$f":"D541*'Série - IPCA'!$C$444/'Série - IPCA'!$C$385","v":644.30056922111089},{"$f":"E541*'Série - IPCA'!$C$444/'Série - IPCA'!$C$398","v":0},{"$f":"F541*'Série - IPCA'!$C$444/'Série - IPCA'!$C$411","v":0},{"$f":"G541*'Série - IPCA'!$C$444/'Série - IPCA'!$C$424","v":0},{"$f":"H541*'Série - IPCA'!$C$444/'Série - IPCA'!$C$437","v":388.50853586079478},206.56182101638115,"Despesas Gerais e Administratias","N","SIM","NÃO","ENCARGOS DE GESTÃO","FUNCIONÁRIOS","VIAGENS_REPRESENTAÇÕES",4500,"GERÊNCIA CONTÁBIL","Despesas Gerais e Administratias175"]
[null,null,null,607.5,0,0,0,0,121.5,{"$f":"D542*'Série - IPCA'!$C$444/'Série - IPCA'!$C$385","v":790.73251677136329},{"$f":"E542*'Série - IPCA'!$C$444/'Série - IPCA'!$C$398","v":0},{"$f":"F542*'Série - IPCA'!$C$444/'Série - IPCA'!$C$411","v":0},{"$f":"G542*'Série - IPCA'!$C$444/'Série - IPCA'!$C$424","v":0},{"$f":"H542*'Série - IPCA'!$C$444/'Série - IPCA'!$C$437","v":0},158.14650335427265,"Despesas com Vendas","N","SIM","NÃO","ENCARGOS DE COMERCIALIZAÇÃO","FUNCIONÁRIOS","VIAGENS_REPRESENTAÇÕES",5400,"GERÊNCIA COMERCIAL (inativo)","Despesas com Vendas121,5"]
[null,null,null,32.5,0,0,0,0,6.5,{"$f":"D543*'Série - IPCA'!$C$444/'Série - IPCA'!$C$385","v":42.302562625628489},{"$f":"E543*'Série - IPCA'!$C$444/'Série - IPCA'!$C$398","v":0},{"$f":"F543*'Série - IPCA'!$C$444/'Série - IPCA'!$C$411","v":0},{"$f":"G543*'Série - IPCA'!$C$444/'Série - IPCA'!$C$424","v":0},{"$f":"H543*'Série - IPCA'!$C$444/'Série - IPCA'!$C$437","v":0},8.4605125251256972,"Despesas com Vendas","N","SIM","NÃO","ENCARGOS DE COMERCIALIZAÇÃO","FUNCIONÁRIOS","VIAGENS_REPRESENTAÇÕES",5500,"GERÊNCIA COMERCIAL (inativo)","Despesas com Vendas6,5"]
[null,null,null,202.9,0,0,0,0,40.58,{"$f":"D544*'Série - IPCA'!$C$444/'Série - IPCA'!$C$385","v":264.09815251507757},{"$f":"E544*'Série - IPCA'!$C$444/'Série - IPCA'!$C$398","v":0},{"$f":"F544*'Série - IPCA'!$C$444/'Série - IPCA'!$C$411","v":0},{"$f":"G544*'Série - IPCA'!$C$444/'Série - IPCA'!$C$424","v":0},{"$f":"H544*'Série - IPCA'!$C$444/'Série - IPCA'!$C$437","v":0},52.819630503015517,"Despesas Gerais e Administratias","N","SIM","NÃO","ENCARGOS DE GESTÃO","FUNCIONÁRIOS","VIAGENS_REPRESENTAÇÕES",1002,"CONSELHO FISCAL","Despesas Gerais e Administratias40,58"]
[null,null,null,385,0,0,0,0,77,{"$f":"D545*'Série - IPCA'!$C$444/'Série - IPCA'!$C$385","v":501.12266494975285},{"$f":"E545*'Série - IPCA'!$C$444/'Série - IPCA'!$C$398","v":0},{"$f":"F545*'Série - IPCA'!$C$444/'Série - IPCA'!$C$411","v":0},{"$f":"G545*'Série - IPCA'!$C$444/'Série - IPCA'!$C$424","v":0},{"$f":"H545*'Série - IPCA'!$C$444/'Série - IPCA'!$C$437","v":0},100.22453298995057,"Despesas Gerais e Administratias","N","SIM","NÃO","ENCARGOS DE GESTÃO","FUNCIONÁRIOS","VIAGENS_REPRESENTAÇÕES",2300,"DIRETORIA COLEGIADA - DAF","Despesas Gerais e Administratias77"]
[null,null,null,260,0,0,0,0,52,{"$f":"D546*'Série - IPCA'!$C$444/'Série - IPCA'!$C$385","v":338.42050100502792},{"$f":"E546*'Série - IPCA'!$C$444/'Série - IPCA'!$C$398","v":0},{"$f":"F546*'Série - IPCA'!$C$444/'Série - IPCA'!$C$411","v":0},{"$f":"G546*'Série - IPCA'!$C$444/'Série - IPCA'!$C$424","v":0},{"$f":"H546*'Série - IPCA'!$C$444/'Série - IPCA'!$C$437","v":0},67.684100201005577,"Despesas Gerais e Administratias","N","SIM","NÃO","ENCARGOS DE GESTÃO","FUNCIONÁRIOS","VIAGENS_REPRESENTAÇÕES",2400,"DIRETORIA COLEGIADA - DTC","Despesas Gerais e Administratias52"]
[null,null,null,1247.5,0,0,0,0,249.5,{"$f":"D547*'Série - IPCA'!$C$444/'Série - IPCA'!$C$385","v":1623.7675961683551},{"$f":"E547*'Série - IPCA'!$C$444/'Série - IPCA'!$C$398","v":0},{"$f":"F547*'Série - IPCA'!$C$444/'Série - IPCA'!$C$411","v":0},{"$f":"G547*'Série - IPCA'!$C$444/'Série - IPCA'!$C$424","v":0},{"$f":"H547*'Série - IPCA'!$C$444/'Série - IPCA'!$C$437","v":0},324.753519233671,"Despesas Gerais e Administratias","N","SIM","NÃO","ENCARGOS DE GESTÃO","FUNCIONÁRIOS","VIAGENS_REPRESENTAÇÕES",3400,"MARKETING","Despesas Gerais e Administratias249,5"]
[null,null,null,255,0,0,0,0,51,{"$f":"D548*'Série - IPCA'!$C$444/'Série - IPCA'!$C$385","v":331.91241444723892},{"$f":"E548*'Série - IPCA'!$C$444/'Série - IPCA'!$C$398","v":0},{"$f":"F548*'Série - IPCA'!$C$444/'Série - IPCA'!$C$411","v":0},{"$f":"G548*'Série - IPCA'!$C$444/'Série - IPCA'!$C$424","v":0},{"$f":"H548*'Série - IPCA'!$C$444/'Série - IPCA'!$C$437","v":0},66.382482889447786,"Despesas Gerais e Administratias","N","SIM","NÃO","ENCARGOS DE GESTÃO","FUNCIONÁRIOS","VIAGENS_REPRESENTAÇÕES",4600,"GERÊNCIA DE PESSOAS E CULTURA","Despesas Gerais e Administratias51"]
[null,null,null,2349.1,0,0,0,0,469.82,{"$f":"D549*'Série - IPCA'!$C$444/'Série - IPCA'!$C$385","v":3057.6292265804273},{"$f":"E549*'Série - IPCA'!$C$444/'Série - IPCA'!$C$398","v":0},{"$f":"F549*'Série - IPCA'!$C$444/'Série - IPCA'!$C$411","v":0},{"$f":"G549*'Série - IPCA'!$C$444/'Série - IPCA'!$C$424","v":0},{"$f":"H549*'Série - IPCA'!$C$444/'Série - IPCA'!$C$437","v":0},611.52584531608545,"Despesas Gerais e Administratias","N","SIM","NÃO","ENCARGOS DE GESTÃO","FUNCIONÁRIOS","VIAGENS_REPRESENTAÇÕES",3400,"MARKETING","Despesas Gerais e Administratias469,82"]
[null,null,null,439.95,0,0,0,0,87.99,{"$f":"D550*'Série - IPCA'!$C$444/'Série - IPCA'!$C$385","v":572.64653621985394},{"$f":"E550*'Série - IPCA'!$C$444/'Série - IPCA'!$C$398","v":0},{"$f":"F550*'Série - IPCA'!$C$444/'Série - IPCA'!$C$411","v":0},{"$f":"G550*'Série - IPCA'!$C$444/'Série - IPCA'!$C$424","v":0},{"$f":"H550*'Série - IPCA'!$C$444/'Série - IPCA'!$C$437","v":0},114.52930724397079,"Despesas Gerais e Administratias","N","SIM","NÃO","ENCARGOS DE GESTÃO","FUNCIONÁRIOS","VIAGENS_REPRESENTAÇÕES",4600,"GERÊNCIA DE PESSOAS E CULTURA","Despesas Gerais e Administratias87,99"]
[null,null,null,101829.6,151566.6,352888.34,138775.51,140062.91,177024.592,{"$f":"D551*'Série - IPCA'!$C$444/'Série - IPCA'!$C$385","v":132543.17018900611},{"$f":"E551*'Série - IPCA'!$C$444/'Série - IPCA'!$C$398","v":188754.79397507306},{"$f":"F551*'Série - IPCA'!$C$444/'Série - IPCA'!$C$411","v":399299.16740947077},{"$f":"G551*'Série - IPCA'!$C$444/'Série - IPCA'!$C$424","v":148439.49085176075},{"$f":"H551*'Série - IPCA'!$C$444/'Série - IPCA'!$C$437","v":143199.04234869019},202447.13295480018,"Custos","N","SIM","NÃO","OPEX","EXTENSÃO","DIREITO_PASSAGEM",5200,"GERÊNCIA DE OPERAÇÕES","Custos177024,592"]
[null,null,null,483151.32,0,0,0,0,96630.263999999996,{"$f":"D552*'Série - IPCA'!$C$444/'Série - IPCA'!$C$385","v":628878.12221400219},{"$f":"E552*'Série - IPCA'!$C$444/'Série - IPCA'!$C$398","v":0},{"$f":"F552*'Série - IPCA'!$C$444/'Série - IPCA'!$C$411","v":0},{"$f":"G552*'Série - IPCA'!$C$444/'Série - IPCA'!$C$424","v":0},{"$f":"H552*'Série - IPCA'!$C$444/'Série - IPCA'!$C$437","v":0},125775.62444280044,"Despesas Gerais e Administratias","N","NÃO","SIM","ENCARGOS DE GESTÃO","FIXO","DESPESAS_INSTITUCIONAIS",3400,"MARKETING","Despesas Gerais e Administratias96630,264"]
[null,null,null,-48320.800000000003,0,0,0,0,-9664.16,{"$f":"D553*'Série - IPCA'!$C$444/'Série - IPCA'!$C$385","v":-62895.189788322132},{"$f":"E553*'Série - IPCA'!$C$444/'Série - IPCA'!$C$398","v":0},{"$f":"F553*'Série - IPCA'!$C$444/'Série - IPCA'!$C$411","v":0},{"$f":"G553*'Série - IPCA'!$C$444/'Série - IPCA'!$C$424","v":0},{"$f":"H553*'Série - IPCA'!$C$444/'Série - IPCA'!$C$437","v":0},-12579.037957664426,"Outras Receitas e Despesas","N","NÃO","SIM","OPEX","FIXO","DESPESAS_GERAIS",9999,"RATEIO","Outras Receitas e Despesas-9664,16"]
[null,null,null,17872.689999999999,24408.03,39571.74,38249.26,31885.79,30397.502,{"$f":"D554*'Série - IPCA'!$C$444/'Série - IPCA'!$C$385","v":23263.402708105968},{"$f":"E554*'Série - IPCA'!$C$444/'Série - IPCA'!$C$398","v":30396.754126485666},{"$f":"F554*'Série - IPCA'!$C$444/'Série - IPCA'!$C$411","v":44776.09783010697},{"$f":"G554*'Série - IPCA'!$C$444/'Série - IPCA'!$C$424","v":40912.843194426874},{"$f":"H554*'Série - IPCA'!$C$444/'Série - IPCA'!$C$437","v":32599.741020170455},34389.767775859182,"Custos","N","SIM","NÃO","OPEX","VOLUME","SERVIÇOS",5100,"GERÊNCIA DE ENGENHARIA","Custos30397,502"]
[null,null,null,44007.26,49450.66,64778.69,62613.85,52196.93,54609.478000000003,{"$f":"D555*'Série - IPCA'!$C$444/'Série - IPCA'!$C$385","v":57280.611450225093},{"$f":"E555*'Série - IPCA'!$C$444/'Série - IPCA'!$C$398","v":61583.812926010003},{"$f":"F555*'Série - IPCA'!$C$444/'Série - IPCA'!$C$411","v":73298.191101684497},{"$f":"G555*'Série - IPCA'!$C$444/'Série - IPCA'!$C$424","v":66974.1225542498},{"$f":"H555*'Série - IPCA'!$C$444/'Série - IPCA'!$C$437","v":53365.665396653669},62500.480685764611,"Custos","N","SIM","NÃO","OPEX","VOLUME","SERVIÇOS",5200,"GERÊNCIA DE OPERAÇÕES","Custos54609,478"]
[null,null,null,9905.84,38753.800000000003,34178.1,33035.85,27539.79,28682.675999999999,{"$f":"D556*'Série - IPCA'!$C$444/'Série - IPCA'!$C$385","v":12893.612829521715},{"$f":"E556*'Série - IPCA'!$C$444/'Série - IPCA'!$C$398","v":48262.384554058655},{"$f":"F556*'Série - IPCA'!$C$444/'Série - IPCA'!$C$411","v":38673.102300964754},{"$f":"G556*'Série - IPCA'!$C$444/'Série - IPCA'!$C$424","v":35336.38430768613},{"$f":"H556*'Série - IPCA'!$C$444/'Série - IPCA'!$C$437","v":28156.430238983576},32664.382846242963,"Despesas com Vendas","N","SIM","NÃO","ENCARGOS DE COMERCIALIZAÇÃO","FIXO","SERVIÇOS",5300,"GERÊNCIA COMERCIAL","Despesas com Vendas28682,676"]
[null,null,null,0,583.22,1788.71,1728.94,1441.28,1108.43,{"$f":"D557*'Série - IPCA'!$C$444/'Série - IPCA'!$C$385","v":0},{"$f":"E557*'Série - IPCA'!$C$444/'Série - IPCA'!$C$398","v":726.31813963064496},{"$f":"F557*'Série - IPCA'!$C$444/'Série - IPCA'!$C$411","v":2023.9558318560328},{"$f":"G557*'Série - IPCA'!$C$444/'Série - IPCA'!$C$424","v":1849.339075123869},{"$f":"H557*'Série - IPCA'!$C$444/'Série - IPCA'!$C$437","v":1473.5515330669639},1214.6329159355021,"Despesas Gerais e Administratias","N","SIM","NÃO","ENCARGOS DE GESTÃO","FIXO","SERVIÇOS",1005,"AUDITORIA INTERNA","Despesas Gerais e Administratias1108,43"]
[null,null,null,0,3658.21,3604.92,3484.45,2904.77,2730.4700000000003,{"$f":"D558*'Série - IPCA'!$C$444/'Série - IPCA'!$C$385","v":0},{"$f":"E558*'Série - IPCA'!$C$444/'Série - IPCA'!$C$398","v":4555.7838921474258},{"$f":"F558*'Série - IPCA'!$C$444/'Série - IPCA'!$C$411","v":4079.0283821158541},{"$f":"G558*'Série - IPCA'!$C$444/'Série - IPCA'!$C$424","v":3727.0984188666844},{"$f":"H558*'Série - IPCA'!$C$444/'Série - IPCA'!$C$437","v":2969.8103676641072},3066.3442121588146,"Despesas Gerais e Administratias","N","SIM","NÃO","ENCARGOS DE GESTÃO","FIXO","SERVIÇOS",2110,"ASSESSORIA DA DIRETORIA EXECUTIVA","Despesas Gerais e Administratias2730,47"]
[null,null,null,0,1758.67,5393.65,5213.38,4346.04,3342.3480000000004,{"$f":"D559*'Série - IPCA'!$C$444/'Série - IPCA'!$C$385","v":0},{"$f":"E559*'Série - IPCA'!$C$444/'Série - IPCA'!$C$398","v":2190.1751013755124},{"$f":"F559*'Série - IPCA'!$C$444/'Série - IPCA'!$C$411","v":6103.0068443125438},{"$f":"G559*'Série - IPCA'!$C$444/'Série - IPCA'!$C$424","v":5576.4267976154615},{"$f":"H559*'Série - IPCA'!$C$444/'Série - IPCA'!$C$437","v":4443.3516768222335},3662.5920840251501,"Despesas Gerais e Administratias","N","SIM","NÃO","ENCARGOS DE GESTÃO","FIXO","SERVIÇOS",2120,"ASSESSORIA DA PRESIDÊNCIA","Despesas Gerais e Administratias3342,348"]
[null,null,null,8788.82,5657.62,0,0,0,2889.2879999999996,{"$f":"D560*'Série - IPCA'!$C$444/'Série - IPCA'!$C$385","v":11439.68026016542},{"$f":"E560*'Série - IPCA'!$C$444/'Série - IPCA'!$C$398","v":7045.7666629010137},{"$f":"F560*'Série - IPCA'!$C$444/'Série - IPCA'!$C$411","v":0},{"$f":"G560*'Série - IPCA'!$C$444/'Série - IPCA'!$C$424","v":0},{"$f":"H560*'Série - IPCA'!$C$444/'Série - IPCA'!$C$437","v":0},3697.0893846132867,"Despesas Gerais e Administratias","N","SIM","NÃO","ENCARGOS DE GESTÃO","FIXO","SERVIÇOS",2200,"DIRETORIA COLEGIADA - PRESIDÊNCIA","Despesas Gerais e Administratias2889,288"]
[null,null,null,2191.9299999999998,1411,0,0,0,720.58600000000001,{"$f":"D561*'Série - IPCA'!$C$444/'Série - IPCA'!$C$385","v":2853.0540337228877},{"$f":"E561*'Série - IPCA'!$C$444/'Série - IPCA'!$C$398","v":1757.2012191262986},{"$f":"F561*'Série - IPCA'!$C$444/'Série - IPCA'!$C$411","v":0},{"$f":"G561*'Série - IPCA'!$C$444/'Série - IPCA'!$C$424","v":0},{"$f":"H561*'Série - IPCA'!$C$444/'Série - IPCA'!$C$437","v":0},922.05105056983723,"Despesas Gerais e Administratias","N","SIM","NÃO","ENCARGOS DE GESTÃO","FIXO","SERVIÇOS",2300,"DIRETORIA COLEGIADA - DAF","Despesas Gerais e Administratias720,586"]
[null,null,null,0,583.24,1788.71,1728.94,1441.28,1108.4339999999997,{"$f":"D562*'Série - IPCA'!$C$444/'Série - IPCA'!$C$385","v":0},{"$f":"E562*'Série - IPCA'!$C$444/'Série - IPCA'!$C$398","v":726.34304680596915},{"$f":"F562*'Série - IPCA'!$C$444/'Série - IPCA'!$C$411","v":2023.9558318560328},{"$f":"G562*'Série - IPCA'!$C$444/'Série - IPCA'!$C$424","v":1849.339075123869},{"$f":"H562*'Série - IPCA'!$C$444/'Série - IPCA'!$C$437","v":1473.5515330669639},1214.6378973705669,"Despesas Gerais e Administratias","N","SIM","NÃO","ENCARGOS DE GESTÃO","FIXO","SERVIÇOS",2310,"ASSESSORIA DAF","Despesas Gerais e Administratias1108,434"]
[null,null,null,2191.9299999999998,1411,0,0,0,720.58600000000001,{"$f":"D563*'Série - IPCA'!$C$444/'Série - IPCA'!$C$385","v":2853.0540337228877},{"$f":"E563*'Série - IPCA'!$C$444/'Série - IPCA'!$C$398","v":1757.2012191262986},{"$f":"F563*'Série - IPCA'!$C$444/'Série - IPCA'!$C$411","v":0},{"$f":"G563*'Série - IPCA'!$C$444/'Série - IPCA'!$C$424","v":0},{"$f":"H563*'Série - IPCA'!$C$444/'Série - IPCA'!$C$437","v":0},922.05105056983723,"Despesas Gerais e Administratias","N","SIM","NÃO","ENCARGOS DE GESTÃO","FIXO","SERVIÇOS",2400,"DIRETORIA COLEGIADA - DTC","Despesas Gerais e Administratias720,586"]
[null,null,null,5500.91,16586.12,21574.58,20853.53,17384.2,16379.867999999999,{"$f":"D564*'Série - IPCA'!$C$444/'Série - IPCA'!$C$385","v":7160.079685321416},{"$f":"E564*'Série - IPCA'!$C$444/'Série - IPCA'!$C$398","v":20655.66993945789},{"$f":"F564*'Série - IPCA'!$C$444/'Série - IPCA'!$C$411","v":24412.004746909519},{"$f":"G564*'Série - IPCA'!$C$444/'Série - IPCA'!$C$424","v":22305.717886836937},{"$f":"H564*'Série - IPCA'!$C$444/'Série - IPCA'!$C$437","v":17773.447602924287},18461.383972290008,"Despesas Gerais e Administratias","N","SIM","NÃO","ENCARGOS DE GESTÃO","FIXO","SERVIÇOS",3200,"GERÊNCIA DE PLANEJAMENTO E MEIO AMBIENTE","Despesas Gerais e Administratias16379,868"]
[null,null,null,6596.87,6588.52,7182.36,6942.32,5787.36,6619.4859999999999,{"$f":"D565*'Série - IPCA'!$C$444/'Série - IPCA'!$C$385","v":8586.6001940963015},{"$f":"E565*'Série - IPCA'!$C$444/'Série - IPCA'!$C$398","v":8205.0711383685357},{"$f":"F565*'Série - IPCA'!$C$444/'Série - IPCA'!$C$411","v":8126.9626761685768},{"$f":"G565*'Série - IPCA'!$C$444/'Série - IPCA'!$C$424","v":7425.76587273933},{"$f":"H565*'Série - IPCA'!$C$444/'Série - IPCA'!$C$437","v":5916.9441055245507},7652.2687973794582,"Despesas Gerais e Administratias","N","SIM","NÃO","ENCARGOS DE GESTÃO","FIXO","SERVIÇOS",3300,"GERÊNCIA JURÍDICA","Despesas Gerais e Administratias6619,486"]
[null,null,null,0,7294,7182.36,6942.32,5787.36,5441.2080000000005,{"$f":"D566*'Série - IPCA'!$C$444/'Série - IPCA'!$C$385","v":0},{"$f":"E566*'Série - IPCA'!$C$444/'Série - IPCA'!$C$398","v":9083.6468407563589},{"$f":"F566*'Série - IPCA'!$C$444/'Série - IPCA'!$C$411","v":8126.9626761685768},{"$f":"G566*'Série - IPCA'!$C$444/'Série - IPCA'!$C$424","v":7425.76587273933},{"$f":"H566*'Série - IPCA'!$C$444/'Série - IPCA'!$C$437","v":5916.9441055245507},6110.6638990377633,"Despesas Gerais e Administratias","N","SIM","NÃO","ENCARGOS DE GESTÃO","FIXO","SERVIÇOS",3500,"ASSESSORIA DE COMUNICAÇÃO INSTITUCIONAL","Despesas Gerais e Administratias5441,208"]
[null,null,null,3308.92,6239.62,12603.52,12182.3,10155.549999999999,8897.982,{"$f":"D567*'Série - IPCA'!$C$444/'Série - IPCA'!$C$385","v":4306.9475545598343},{"$f":"E567*'Série - IPCA'!$C$444/'Série - IPCA'!$C$398","v":7770.5654648368791},{"$f":"F567*'Série - IPCA'!$C$444/'Série - IPCA'!$C$411","v":14261.097554055239},{"$f":"G567*'Série - IPCA'!$C$444/'Série - IPCA'!$C$424","v":13030.645028099012},{"$f":"H567*'Série - IPCA'!$C$444/'Série - IPCA'!$C$437","v":10382.941740423932},9950.4394683949795,"Despesas Gerais e Administratias","N","SIM","NÃO","ENCARGOS DE GESTÃO","FIXO","SERVIÇOS",3600,"GERÊNCIA DE GOVERNANÇA, RISCO E COMPLIANCE","Despesas Gerais e Administratias8897,982"]
[null,null,null,14289.71,25294.99,34178.089999999997,33035.85,27539.79,26867.685999999998,{"$f":"D568*'Série - IPCA'!$C$444/'Série - IPCA'!$C$385","v":18599.733913140604},{"$f":"E568*'Série - IPCA'!$C$444/'Série - IPCA'!$C$398","v":31501.337537765798},{"$f":"F568*'Série - IPCA'!$C$444/'Série - IPCA'!$C$411","v":38673.090985794428},{"$f":"G568*'Série - IPCA'!$C$444/'Série - IPCA'!$C$424","v":35336.38430768613},{"$f":"H568*'Série - IPCA'!$C$444/'Série - IPCA'!$C$437","v":28156.430238983576},30453.395396674103,"Despesas Gerais e Administratias","N","SIM","NÃO","ENCARGOS DE GESTÃO","FIXO","SERVIÇOS",4100,"GERÊNCIA DE SERVIÇOS CORPORATIVOS","Despesas Gerais e Administratias26867,686"]
[null,null,null,12097.77,13063.68,16180.93,15640.15,13038.15,14004.136000000002,{"$f":"D569*'Série - IPCA'!$C$444/'Série - IPCA'!$C$385","v":15746.666863244602},{"$f":"E569*'Série - IPCA'!$C$444/'Série - IPCA'!$C$398","v":16268.968406999184},{"$f":"F569*'Série - IPCA'!$C$444/'Série - IPCA'!$C$411","v":18308.997902596977},{"$f":"G569*'Série - IPCA'!$C$444/'Série - IPCA'!$C$424","v":16729.291089221475},{"$f":"H569*'Série - IPCA'!$C$444/'Série - IPCA'!$C$437","v":13330.085702193215},16076.801992851091,"Despesas Gerais e Administratias","N","SIM","NÃO","ENCARGOS DE GESTÃO","FIXO","SERVIÇOS",4200,"GERÊNCIA FINANCEIRA","Despesas Gerais e Administratias14004,136"]
[null,null,null,13657.43,13484.43,14392.25,13911.23,11596.88,13408.444,{"$f":"D570*'Série - IPCA'!$C$444/'Série - IPCA'!$C$385","v":17776.74731938884},{"$f":"E570*'Série - IPCA'!$C$444/'Série - IPCA'!$C$398","v":16792.95310788323},{"$f":"F570*'Série - IPCA'!$C$444/'Série - IPCA'!$C$411","v":16285.076016251927},{"$f":"G570*'Série - IPCA'!$C$444/'Série - IPCA'!$C$424","v":14879.973406847792},{"$f":"H570*'Série - IPCA'!$C$444/'Série - IPCA'!$C$437","v":11856.54439303509},15518.258848681377,"Despesas Gerais e Administratias","N","SIM","NÃO","ENCARGOS DE GESTÃO","FIXO","SERVIÇOS",4300,"GERÊNCIA DE TECNOLOGIA E SISTEMAS DE INFORMAÇÃO","Despesas Gerais e Administratias13408,444"]
[null,null,null,8788.82,9174.91,10787.29,10426.790000000001,8692.11,9573.9840000000004,{"$f":"D571*'Série - IPCA'!$C$444/'Série - IPCA'!$C$385","v":11439.68026016542},{"$f":"E571*'Série - IPCA'!$C$444/'Série - IPCA'!$C$398","v":11426.054597713728},{"$f":"F571*'Série - IPCA'!$C$444/'Série - IPCA'!$C$411","v":12206.002373454759},{"$f":"G571*'Série - IPCA'!$C$444/'Série - IPCA'!$C$424","v":11152.885684356199},{"$f":"H571*'Série - IPCA'!$C$444/'Série - IPCA'!$C$437","v":8886.7340253709826},11022.271388212219,"Despesas Gerais e Administratias","N","SIM","NÃO","ENCARGOS DE GESTÃO","FIXO","SERVIÇOS",4500,"GERÊNCIA CONTÁBIL","Despesas Gerais e Administratias9573,984"]
[null,null,null,21982.57,0,0,0,0,4396.5140000000001,{"$f":"D572*'Série - IPCA'!$C$444/'Série - IPCA'!$C$385","v":28612.893664531137},{"$f":"E572*'Série - IPCA'!$C$444/'Série - IPCA'!$C$398","v":0},{"$f":"F572*'Série - IPCA'!$C$444/'Série - IPCA'!$C$411","v":0},{"$f":"G572*'Série - IPCA'!$C$444/'Série - IPCA'!$C$424","v":0},{"$f":"H572*'Série - IPCA'!$C$444/'Série - IPCA'!$C$437","v":0},5722.5787329062277,"Despesas com Vendas","N","SIM","NÃO","ENCARGOS DE COMERCIALIZAÇÃO","FIXO","DESPESAS_GERAIS",5400,"GERÊNCIA COMERCIAL (inativo)","Despesas com Vendas4396,514"]
[null,null,null,11001.78,0,0,0,0,2200.3560000000002,{"$f":"D573*'Série - IPCA'!$C$444/'Série - IPCA'!$C$385","v":14320.107305950369},{"$f":"E573*'Série - IPCA'!$C$444/'Série - IPCA'!$C$398","v":0},{"$f":"F573*'Série - IPCA'!$C$444/'Série - IPCA'!$C$411","v":0},{"$f":"G573*'Série - IPCA'!$C$444/'Série - IPCA'!$C$424","v":0},{"$f":"H573*'Série - IPCA'!$C$444/'Série - IPCA'!$C$437","v":0},2864.0214611900738,"Despesas com Vendas","N","SIM","NÃO","ENCARGOS DE COMERCIALIZAÇÃO","FIXO","DESPESAS_GERAIS",5500,"GERÊNCIA COMERCIAL (inativo)","Despesas com Vendas2200,356"]
[null,null,null,3856.96,0,0,0,0,771.39200000000005,{"$f":"D574*'Série - IPCA'!$C$444/'Série - IPCA'!$C$385","v":5020.2859059859711},{"$f":"E574*'Série - IPCA'!$C$444/'Série - IPCA'!$C$398","v":0},{"$f":"F574*'Série - IPCA'!$C$444/'Série - IPCA'!$C$411","v":0},{"$f":"G574*'Série - IPCA'!$C$444/'Série - IPCA'!$C$424","v":0},{"$f":"H574*'Série - IPCA'!$C$444/'Série - IPCA'!$C$437","v":0},1004.0571811971943,"Despesas Gerais e Administratias","N","SIM","NÃO","ENCARGOS DE GESTÃO","FIXO","DESPESAS_GERAIS",2100,"SECRETARIA","Despesas Gerais e Administratias771,392"]
[null,null,null,9336.7800000000007,0,0,0,0,1867.3560000000002,{"$f":"D575*'Série - IPCA'!$C$444/'Série - IPCA'!$C$385","v":12152.914482206632},{"$f":"E575*'Série - IPCA'!$C$444/'Série - IPCA'!$C$398","v":0},{"$f":"F575*'Série - IPCA'!$C$444/'Série - IPCA'!$C$411","v":0},{"$f":"G575*'Série - IPCA'!$C$444/'Série - IPCA'!$C$424","v":0},{"$f":"H575*'Série - IPCA'!$C$444/'Série - IPCA'!$C$437","v":0},2430.5828964413263,"Despesas Gerais e Administratias","N","SIM","NÃO","ENCARGOS DE GESTÃO","FIXO","DESPESAS_GERAIS",3100,"SMS","Despesas Gerais e Administratias1867,356"]
[null,null,null,7692.84,0,0,0,0,1538.568,{"$f":"D576*'Série - IPCA'!$C$444/'Série - IPCA'!$C$385","v":10013.133719044305},{"$f":"E576*'Série - IPCA'!$C$444/'Série - IPCA'!$C$398","v":0},{"$f":"F576*'Série - IPCA'!$C$444/'Série - IPCA'!$C$411","v":0},{"$f":"G576*'Série - IPCA'!$C$444/'Série - IPCA'!$C$424","v":0},{"$f":"H576*'Série - IPCA'!$C$444/'Série - IPCA'!$C$437","v":0},2002.626743808861,"Despesas Gerais e Administratias","N","SIM","NÃO","ENCARGOS DE GESTÃO","FIXO","DESPESAS_GERAIS",3400,"MARKETING","Despesas Gerais e Administratias1538,568"]
[null,null,null,7692.85,0,0,0,0,1538.5700000000002,{"$f":"D577*'Série - IPCA'!$C$444/'Série - IPCA'!$C$385","v":10013.14673521742},{"$f":"E577*'Série - IPCA'!$C$444/'Série - IPCA'!$C$398","v":0},{"$f":"F577*'Série - IPCA'!$C$444/'Série - IPCA'!$C$411","v":0},{"$f":"G577*'Série - IPCA'!$C$444/'Série - IPCA'!$C$424","v":0},{"$f":"H577*'Série - IPCA'!$C$444/'Série - IPCA'!$C$437","v":0},2002.6293470434841,"Despesas Gerais e Administratias","N","SIM","NÃO","ENCARGOS DE GESTÃO","FIXO","DESPESAS_GERAIS",4600,"GERÊNCIA DE PESSOAS E CULTURA","Despesas Gerais e Administratias1538,57"]
[null,null,null,0,0,0,28953.599999999999,50050.01,15800.722,{"$f":"D578*'Série - IPCA'!$C$444/'Série - IPCA'!$C$385","v":0},{"$f":"E578*'Série - IPCA'!$C$444/'Série - IPCA'!$C$398","v":0},{"$f":"F578*'Série - IPCA'!$C$444/'Série - IPCA'!$C$411","v":0},{"$f":"G578*'Série - IPCA'!$C$444/'Série - IPCA'!$C$424","v":30969.856585830887},{"$f":"H578*'Série - IPCA'!$C$444/'Série - IPCA'!$C$437","v":51170.673960310887},16428.106109228356,"Despesas com Vendas","N","SIM","NÃO","ENCARGOS DE COMERCIALIZAÇÃO","FIXO","DESPESAS_GERAIS",5300,"GERÊNCIA COMERCIAL","Despesas com Vendas15800,722"]
[null,null,null,0,0,0,0,4166.67,833.33400000000006,{"$f":"D579*'Série - IPCA'!$C$444/'Série - IPCA'!$C$385","v":0},{"$f":"E579*'Série - IPCA'!$C$444/'Série - IPCA'!$C$398","v":0},{"$f":"F579*'Série - IPCA'!$C$444/'Série - IPCA'!$C$411","v":0},{"$f":"G579*'Série - IPCA'!$C$444/'Série - IPCA'!$C$424","v":0},{"$f":"H579*'Série - IPCA'!$C$444/'Série - IPCA'!$C$437","v":4259.9654239870997},851.9930847974199,"Despesas Gerais e Administratias","N","SIM","NÃO","ENCARGOS DE GESTÃO","FIXO","DESPESAS_GERAIS",3200,"GERÊNCIA DE PLANEJAMENTO E MEIO AMBIENTE","Despesas Gerais e Administratias833,334"]
[null,null,null,0,194.78,392.36,0,0,117.428,{"$f":"D580*'Série - IPCA'!$C$444/'Série - IPCA'!$C$385","v":0},{"$f":"E580*'Série - IPCA'!$C$444/'Série - IPCA'!$C$398","v":242.57098048293443},{"$f":"F580*'Série - IPCA'!$C$444/'Série - IPCA'!$C$411","v":443.96202301492866},{"$f":"G580*'Série - IPCA'!$C$444/'Série - IPCA'!$C$424","v":0},{"$f":"H580*'Série - IPCA'!$C$444/'Série - IPCA'!$C$437","v":0},137.30660069957261,"Custos","N","SIM","NÃO","OPEX","FUNCIONÁRIOS","PESSOAL",5100,"GERÊNCIA DE ENGENHARIA","Custos117,428"]
[null,null,null,0,1822.32,177.24,0,0,{"$f":"AVERAGE(D581:H581)","v":399.91199999999998},{"$f":"D581*'Série - IPCA'!$C$444/'Série - IPCA'!$C$385","v":0},{"$f":"E581*'Série - IPCA'!$C$444/'Série - IPCA'!$C$398","v":2269.4421868449585},{"$f":"F581*'Série - IPCA'!$C$444/'Série - IPCA'!$C$411","v":200.55007890500039},{"$f":"G581*'Série - IPCA'!$C$444/'Série - IPCA'!$C$424","v":0},{"$f":"H581*'Série - IPCA'!$C$444/'Série - IPCA'!$C$437","v":0},{"$f":"AVERAGE(J581:N581)","v":493.99845314999175},"Custos","N","SIM","NÃO","OPEX","FUNCIONÁRIOS","PESSOAL",5200,"GERÊNCIA DE OPERAÇÕES",{"$f":"B581&C581&P581&I581","v":"Custos399,912"}]
[null,null,null,0,0,0,0,0,0,{"$f":"D582*'Série - IPCA'!$C$444/'Série - IPCA'!$C$385","v":0},{"$f":"E582*'Série - IPCA'!$C$444/'Série - IPCA'!$C$398","v":0},{"$f":"F582*'Série - IPCA'!$C$444/'Série - IPCA'!$C$411","v":0},{"$f":"G582*'Série - IPCA'!$C$444/'Série - IPCA'!$C$424","v":0},{"$f":"H582*'Série - IPCA'!$C$444/'Série - IPCA'!$C$437","v":0},0,"Despesas Gerais e Administratias","N","SIM","NÃO","ENCARGOS DE GESTÃO","FUNCIONÁRIOS","PESSOAL",2120,"ASSESSORIA DA PRESIDÊNCIA","Despesas Gerais e Administratias0"]
[null,null,null,0,104.74,0,0,0,20.948,{"$f":"D583*'Série - IPCA'!$C$444/'Série - IPCA'!$C$385","v":0},{"$f":"E583*'Série - IPCA'!$C$444/'Série - IPCA'!$C$398","v":130.43887717313149},{"$f":"F583*'Série - IPCA'!$C$444/'Série - IPCA'!$C$411","v":0},{"$f":"G583*'Série - IPCA'!$C$444/'Série - IPCA'!$C$424","v":0},{"$f":"H583*'Série - IPCA'!$C$444/'Série - IPCA'!$C$437","v":0},26.087775434626298,"Despesas Gerais e Administratias","N","SIM","NÃO","ENCARGOS DE GESTÃO","FUNCIONÁRIOS","PESSOAL",2410,"ASSESSORIA DE SEGURANÇA DO TRABALHO","Despesas Gerais e Administratias20,948"]
[null,null,null,0,157.11000000000001,0,0,0,31.422000000000004,{"$f":"D584*'Série - IPCA'!$C$444/'Série - IPCA'!$C$385","v":0},{"$f":"E584*'Série - IPCA'!$C$444/'Série - IPCA'!$C$398","v":195.65831575969725},{"$f":"F584*'Série - IPCA'!$C$444/'Série - IPCA'!$C$411","v":0},{"$f":"G584*'Série - IPCA'!$C$444/'Série - IPCA'!$C$424","v":0},{"$f":"H584*'Série - IPCA'!$C$444/'Série - IPCA'!$C$437","v":0},39.131663151939449,"Despesas Gerais e Administratias","N","SIM","NÃO","ENCARGOS DE GESTÃO","FUNCIONÁRIOS","PESSOAL",3200,"GERÊNCIA DE PLANEJAMENTO E MEIO AMBIENTE","Despesas Gerais e Administratias31,422"]
[null,null,null,0,1127.75,316.93,0,0,288.93600000000004,{"$f":"D585*'Série - IPCA'!$C$444/'Série - IPCA'!$C$385","v":0},{"$f":"E585*'Série - IPCA'!$C$444/'Série - IPCA'!$C$398","v":1404.4533485965155},{"$f":"F585*'Série - IPCA'!$C$444/'Série - IPCA'!$C$411","v":358.61169322591837},{"$f":"G585*'Série - IPCA'!$C$444/'Série - IPCA'!$C$424","v":0},{"$f":"H585*'Série - IPCA'!$C$444/'Série - IPCA'!$C$437","v":0},352.61300836448675,"Despesas Gerais e Administratias","N","SIM","NÃO","ENCARGOS DE GESTÃO","FUNCIONÁRIOS","PESSOAL",4100,"GERÊNCIA DE SERVIÇOS CORPORATIVOS","Despesas Gerais e Administratias288,936"]
[null,null,null,387669.97,200677.67,99456.92,267917.48,230165.49,237177.50599999999,{"$f":"D586*'Série - IPCA'!$C$444/'Série - IPCA'!$C$385","v":504597.94412309275},{"$f":"E586*'Série - IPCA'!$C$444/'Série - IPCA'!$C$398","v":249915.69551766486},{"$f":"F586*'Série - IPCA'!$C$444/'Série - IPCA'!$C$411","v":112537.19901629603},{"$f":"G586*'Série - IPCA'!$C$444/'Série - IPCA'!$C$424","v":286574.58597332332},{"$f":"H586*'Série - IPCA'!$C$444/'Série - IPCA'!$C$437","v":235319.09875153261},277788.90467638191,"Custos","N","SIM","NÃO","OPEX","FUNCIONÁRIOS","PESSOAL",5100,"GERÊNCIA DE ENGENHARIA","Custos237177,506"]
[null,null,null,679858.93,637183.69999999995,737693.7,718673.17,763083.46,707298.59199999995,{"$f":"D587*'Série - IPCA'!$C$444/'Série - IPCA'!$C$385","v":884916.1527051623},{"$f":"E587*'Série - IPCA'!$C$444/'Série - IPCA'!$C$398","v":793522.30648292392},{"$f":"F587*'Série - IPCA'!$C$444/'Série - IPCA'!$C$411","v":834712.98658723582},{"$f":"G587*'Série - IPCA'!$C$444/'Série - IPCA'!$C$424","v":768719.77947420918},{"$f":"H587*'Série - IPCA'!$C$444/'Série - IPCA'!$C$437","v":780169.57311628782},812408.1596731639,"Custos","N","SIM","NÃO","OPEX","FUNCIONÁRIOS","PESSOAL",5200,"GERÊNCIA DE OPERAÇÕES","Custos707298,592"]
[null,null,null,477608.71,327488.76,613063.92000000004,467342.35,531034.09,483307.56599999999,{"$f":"D588*'Série - IPCA'!$C$444/'Série - IPCA'!$C$385","v":621663.7650867888},{"$f":"E588*'Série - IPCA'!$C$444/'Série - IPCA'!$C$398","v":407840.99810216855},{"$f":"F588*'Série - IPCA'!$C$444/'Série - IPCA'!$C$411","v":693692.26771501277},{"$f":"G588*'Série - IPCA'!$C$444/'Série - IPCA'!$C$424","v":499886.90718892234},{"$f":"H588*'Série - IPCA'!$C$444/'Série - IPCA'!$C$437","v":542924.41262649873},553201.67014387832,"Despesas com Vendas","N","SIM","NÃO","ENCARGOS DE COMERCIALIZAÇÃO","FUNCIONÁRIOS","PESSOAL",5300,"GERÊNCIA COMERCIAL","Despesas com Vendas483307,566"]
[null,null,null,0,106799.02,45473.15,47084.959999999999,39060.620000000003,47683.55,{"$f":"D589*'Série - IPCA'!$C$444/'Série - IPCA'!$C$385","v":0},{"$f":"E589*'Série - IPCA'!$C$444/'Série - IPCA'!$C$398","v":133003.09577993903},{"$f":"F589*'Série - IPCA'!$C$444/'Série - IPCA'!$C$411","v":51453.643763027074},{"$f":"G589*'Série - IPCA'!$C$444/'Série - IPCA'!$C$424","v":50363.839334299839},{"$f":"H589*'Série - IPCA'!$C$444/'Série - IPCA'!$C$437","v":39935.221805302317},54951.160136513659,"Despesas Gerais e Administratias","N","SIM","NÃO","ENCARGOS DE GESTÃO","FUNCIONÁRIOS","PESSOAL",1005,"AUDITORIA INTERNA","Despesas Gerais e Administratias47683,55"]
[null,null,null,0,0,128809.28,56531.89,30387.47,43145.727999999996,{"$f":"D590*'Série - IPCA'!$C$444/'Série - IPCA'!$C$385","v":0},{"$f":"E590*'Série - IPCA'!$C$444/'Série - IPCA'!$C$398","v":0},{"$f":"F590*'Série - IPCA'!$C$444/'Série - IPCA'!$C$411","v":145749.89431108264},{"$f":"G590*'Série - IPCA'!$C$444/'Série - IPCA'!$C$424","v":60468.630008909677},{"$f":"H590*'Série - IPCA'!$C$444/'Série - IPCA'!$C$437","v":31067.872311089017},47457.279326216267,"Despesas Gerais e Administratias","N","SIM","NÃO","ENCARGOS DE GESTÃO","FUNCIONÁRIOS","PESSOAL",1010,"GOVERNANÇA SOCIETÁRIA","Despesas Gerais e Administratias43145,728"]
[null,null,null,65604.84,30403.119999999999,15516.39,6737.62,7889.76,25230.345999999998,{"$f":"D591*'Série - IPCA'!$C$444/'Série - IPCA'!$C$385","v":85392.395465979585},{"$f":"E591*'Série - IPCA'!$C$444/'Série - IPCA'!$C$398","v":37862.792012220518},{"$f":"F591*'Série - IPCA'!$C$444/'Série - IPCA'!$C$411","v":17557.05957357684},{"$f":"G591*'Série - IPCA'!$C$444/'Série - IPCA'!$C$424","v":7206.8110746099246},{"$f":"H591*'Série - IPCA'!$C$444/'Série - IPCA'!$C$437","v":8066.4186997185907},31217.095365221096,"Despesas Gerais e Administratias","N","SIM","NÃO","ENCARGOS DE GESTÃO","FUNCIONÁRIOS","PESSOAL",2110,"ASSESSORIA DA DIRETORIA EXECUTIVA","Despesas Gerais e Administratias25230,346"]
[null,null,null,57173.98,65806.509999999995,62804.73,96705.81,22374.84,60973.174000000014,{"$f":"D592*'Série - IPCA'!$C$444/'Série - IPCA'!$C$385","v":74418.642138659401},{"$f":"E592*'Série - IPCA'!$C$444/'Série - IPCA'!$C$398","v":81952.714102372047},{"$f":"F592*'Série - IPCA'!$C$444/'Série - IPCA'!$C$411","v":71064.621739490205},{"$f":"G592*'Série - IPCA'!$C$444/'Série - IPCA'!$C$424","v":103440.16173175738},{"$f":"H592*'Série - IPCA'!$C$444/'Série - IPCA'!$C$437","v":22875.832443472489},70750.3944311503,"Despesas Gerais e Administratias","N","SIM","NÃO","ENCARGOS DE GESTÃO","FUNCIONÁRIOS","PESSOAL",2120,"ASSESSORIA DA PRESIDÊNCIA","Despesas Gerais e Administratias60973,174"]
[null,null,null,0,17387.61,35819.4,25375.69,18392.060000000001,19394.951999999997,{"$f":"D593*'Série - IPCA'!$C$444/'Série - IPCA'!$C$385","v":0},{"$f":"E593*'Série - IPCA'!$C$444/'Série - IPCA'!$C$398","v":21653.812536989812},{"$f":"F593*'Série - IPCA'!$C$444/'Série - IPCA'!$C$411","v":40530.261207006159},{"$f":"G593*'Série - IPCA'!$C$444/'Série - IPCA'!$C$424","v":27142.789845356117},{"$f":"H593*'Série - IPCA'!$C$444/'Série - IPCA'!$C$437","v":18803.8744791155},21626.147613693516,"Despesas Gerais e Administratias","N","SIM","NÃO","ENCARGOS DE GESTÃO","FUNCIONÁRIOS","PESSOAL",2130,"ASSESSORIA DE RELAÇÕES INSTITUCIONAIS E NOVOS NEGÓCIOS","Despesas Gerais e Administratias19394,952"]
[null,null,null,0,0,0,0,33764.839999999997,6752.9679999999989,{"$f":"D594*'Série - IPCA'!$C$444/'Série - IPCA'!$C$385","v":0},{"$f":"E594*'Série - IPCA'!$C$444/'Série - IPCA'!$C$398","v":0},{"$f":"F594*'Série - IPCA'!$C$444/'Série - IPCA'!$C$411","v":0},{"$f":"G594*'Série - IPCA'!$C$444/'Série - IPCA'!$C$424","v":0},{"$f":"H594*'Série - IPCA'!$C$444/'Série - IPCA'!$C$437","v":34520.864610457887},6904.1729220915777,"Despesas Gerais e Administratias","N","SIM","NÃO","ENCARGOS DE GESTÃO","FUNCIONÁRIOS","PESSOAL",2140,"ASSESSORIA DTC","Despesas Gerais e Administratias6752,968"]
[null,null,null,0,26734.89,30127.73,0,0,11372.523999999999,{"$f":"D595*'Série - IPCA'!$C$444/'Série - IPCA'!$C$385","v":0},{"$f":"E595*'Série - IPCA'!$C$444/'Série - IPCA'!$C$398","v":33294.529625235642},{"$f":"F595*'Série - IPCA'!$C$444/'Série - IPCA'!$C$411","v":34090.039656559173},{"$f":"G595*'Série - IPCA'!$C$444/'Série - IPCA'!$C$424","v":0},{"$f":"H595*'Série - IPCA'!$C$444/'Série - IPCA'!$C$437","v":0},13476.913856358962,"Despesas Gerais e Administratias","N","SIM","NÃO","ENCARGOS DE GESTÃO","FUNCIONÁRIOS","PESSOAL",2300,"DIRETORIA COLEGIADA - DAF","Despesas Gerais e Administratias11372,524"]
[null,null,null,107987.76,121882.13,107871.36,146729.22,82906.13,113475.31999999999,{"$f":"D596*'Série - IPCA'!$C$444/'Série - IPCA'!$C$385","v":140558.73785234889},{"$f":"E596*'Série - IPCA'!$C$444/'Série - IPCA'!$C$398","v":151786.97904019139},{"$f":"F596*'Série - IPCA'!$C$444/'Série - IPCA'!$C$411","v":122058.28119831698},{"$f":"G596*'Série - IPCA'!$C$444/'Série - IPCA'!$C$424","v":156947.07740491093},{"$f":"H596*'Série - IPCA'!$C$444/'Série - IPCA'!$C$437","v":84762.471526801877},131222.70940451403,"Despesas Gerais e Administratias","N","SIM","NÃO","ENCARGOS DE GESTÃO","FUNCIONÁRIOS","PESSOAL",2410,"ASSESSORIA DE SEGURANÇA DO TRABALHO","Despesas Gerais e Administratias113475,32"]
[null,null,null,139137.04999999999,114870.55,128592.98,124531.3,74230.45,116272.46599999999,{"$f":"D597*'Série - IPCA'!$C$444/'Série - IPCA'!$C$385","v":181103.19295908313},{"$f":"E597*'Série - IPCA'!$C$444/'Série - IPCA'!$C$398","v":143055.04642218884},{"$f":"F597*'Série - IPCA'!$C$444/'Série - IPCA'!$C$411","v":145505.14717687393},{"$f":"G597*'Série - IPCA'!$C$444/'Série - IPCA'!$C$424","v":133203.34954710578},{"$f":"H597*'Série - IPCA'!$C$444/'Série - IPCA'!$C$437","v":75892.535383652459},135751.85429778084,"Despesas Gerais e Administratias","N","SIM","NÃO","ENCARGOS DE GESTÃO","FUNCIONÁRIOS","PESSOAL",3200,"GERÊNCIA DE PLANEJAMENTO E MEIO AMBIENTE","Despesas Gerais e Administratias116272,466"]
[null,null,null,68208.87,67880.38,92214.38,106060.45,77630.31,82398.877999999997,{"$f":"D598*'Série - IPCA'!$C$444/'Série - IPCA'!$C$385","v":88781.845993795447},{"$f":"E598*'Série - IPCA'!$C$444/'Série - IPCA'!$C$398","v":84535.426286857852},{"$f":"F598*'Série - IPCA'!$C$444/'Série - IPCA'!$C$411","v":104342.14164508965},{"$f":"G598*'Série - IPCA'!$C$444/'Série - IPCA'!$C$424","v":113446.23556064487},{"$f":"H598*'Série - IPCA'!$C$444/'Série - IPCA'!$C$437","v":79368.521253998988},94094.834148077367,"Despesas Gerais e Administratias","N","SIM","NÃO","ENCARGOS DE GESTÃO","FUNCIONÁRIOS","PESSOAL",3300,"GERÊNCIA JURÍDICA","Despesas Gerais e Administratias82398,878"]
[null,null,null,98360.3,55523.66,67063.210000000006,71411.08,48930.13,68257.676000000007,{"$f":"D599*'Série - IPCA'!$C$444/'Série - IPCA'!$C$385","v":128027.46925001865},{"$f":"E599*'Série - IPCA'!$C$444/'Série - IPCA'!$C$398","v":69146.876713220496},{"$f":"F599*'Série - IPCA'!$C$444/'Série - IPCA'!$C$411","v":75883.164393605359},{"$f":"G599*'Série - IPCA'!$C$444/'Série - IPCA'!$C$424","v":76383.969739144566},{"$f":"H599*'Série - IPCA'!$C$444/'Série - IPCA'!$C$437","v":50025.718857311447},79893.439790660108,"Despesas Gerais e Administratias","N","SIM","NÃO","ENCARGOS DE GESTÃO","FUNCIONÁRIOS","PESSOAL",3500,"ASSESSORIA DE COMUNICAÇÃO INSTITUCIONAL","Despesas Gerais e Administratias68257,676"]
[null,null,null,152761.78,107034.47,118753.4,237580.99,108070.12,144840.152,{"$f":"D600*'Série - IPCA'!$C$444/'Série - IPCA'!$C$385","v":198837.37739238405},{"$f":"E600*'Série - IPCA'!$C$444/'Série - IPCA'!$C$398","v":133296.31550144384},{"$f":"F600*'Série - IPCA'!$C$444/'Série - IPCA'!$C$411","v":134371.49481063569},{"$f":"G600*'Série - IPCA'!$C$444/'Série - IPCA'!$C$424","v":254125.53837242076},{"$f":"H600*'Série - IPCA'!$C$444/'Série - IPCA'!$C$437","v":110489.90550394841},166224.12631616657,"Despesas Gerais e Administratias","N","SIM","NÃO","ENCARGOS DE GESTÃO","FUNCIONÁRIOS","PESSOAL",3600,"GERÊNCIA DE GOVERNANÇA, RISCO E COMPLIANCE","Despesas Gerais e Administratias144840,152"]
[null,null,null,0,48872.13,14491.97,62725.21,34931.06,32204.074000000001,{"$f":"D601*'Série - IPCA'!$C$444/'Série - IPCA'!$C$385","v":0},{"$f":"E601*'Série - IPCA'!$C$444/'Série - IPCA'!$C$398","v":60863.335518992884},{"$f":"F601*'Série - IPCA'!$C$444/'Série - IPCA'!$C$411","v":16397.910894769229},{"$f":"G601*'Série - IPCA'!$C$444/'Série - IPCA'!$C$424","v":67093.237387272238},{"$f":"H601*'Série - IPCA'!$C$444/'Série - IPCA'!$C$437","v":35713.197307014671},36013.5362216098,"Despesas Gerais e Administratias","N","SIM","NÃO","ENCARGOS DE GESTÃO","FUNCIONÁRIOS","PESSOAL",3700,"GERÊNCIA DE REGULAÇÃO","Despesas Gerais e Administratias32204,074"]
[null,null,null,410022.69,255693.43,318896.96999999997,361560.54,54003.72,280035.46999999997,{"$f":"D602*'Série - IPCA'!$C$444/'Série - IPCA'!$C$385","v":533692.63143549708},{"$f":"E602*'Série - IPCA'!$C$444/'Série - IPCA'!$C$398","v":318430.0545135258},{"$f":"F602*'Série - IPCA'!$C$444/'Série - IPCA'!$C$411","v":360837.35328405286},{"$f":"G602*'Série - IPCA'!$C$444/'Série - IPCA'!$C$424","v":386738.71542383573},{"$f":"H602*'Série - IPCA'!$C$444/'Série - IPCA'!$C$437","v":55212.911021674532},330982.3331357172,"Despesas Gerais e Administratias","N","SIM","NÃO","ENCARGOS DE GESTÃO","FUNCIONÁRIOS","PESSOAL",4100,"GERÊNCIA DE SERVIÇOS CORPORATIVOS","Despesas Gerais e Administratias280035,47"]
[null,null,null,154287.82,99188.68,131578.06,135922.07,151765.85,134548.49599999998,{"$f":"D603*'Série - IPCA'!$C$444/'Série - IPCA'!$C$385","v":200823.6974745137},{"$f":"E603*'Série - IPCA'!$C$444/'Série - IPCA'!$C$398","v":123525.4921470789},{"$f":"F603*'Série - IPCA'!$C$444/'Série - IPCA'!$C$411","v":148882.81604133872},{"$f":"G603*'Série - IPCA'!$C$444/'Série - IPCA'!$C$424","v":145387.34439756256},{"$f":"H603*'Série - IPCA'!$C$444/'Série - IPCA'!$C$437","v":155164.0215188658},154756.67431587196,"Despesas Gerais e Administratias","N","SIM","NÃO","ENCARGOS DE GESTÃO","FUNCIONÁRIOS","PESSOAL",4200,"GERÊNCIA FINANCEIRA","Despesas Gerais e Administratias134548,496"]
[null,null,null,155317.16,150759.99,164576.38,148308.93,151449.06,154082.304,{"$f":"D604*'Série - IPCA'!$C$444/'Série - IPCA'!$C$385","v":202163.5042379926},{"$f":"E604*'Série - IPCA'!$C$444/'Série - IPCA'!$C$398","v":187750.27514065811},{"$f":"F604*'Série - IPCA'!$C$444/'Série - IPCA'!$C$411","v":186220.97717726996},{"$f":"G604*'Série - IPCA'!$C$444/'Série - IPCA'!$C$424","v":158636.79447453967},{"$f":"H604*'Série - IPCA'!$C$444/'Série - IPCA'!$C$437","v":154840.1383107728},177922.33786824666,"Despesas Gerais e Administratias","N","SIM","NÃO","ENCARGOS DE GESTÃO","FUNCIONÁRIOS","PESSOAL",4300,"GERÊNCIA DE TECNOLOGIA E SISTEMAS DE INFORMAÇÃO","Despesas Gerais e Administratias154082,304"]
[null,null,null,78758.95,116353.99,98722.240000000005,138918.48000000001,118375.22,110225.776,{"$f":"D605*'Série - IPCA'!$C$444/'Série - IPCA'!$C$385","v":102514.01276011516},{"$f":"E605*'Série - IPCA'!$C$444/'Série - IPCA'!$C$398","v":144902.46143033961},{"$f":"F605*'Série - IPCA'!$C$444/'Série - IPCA'!$C$411","v":111705.89608259077},{"$f":"G605*'Série - IPCA'!$C$444/'Série - IPCA'!$C$424","v":148592.41692644841},{"$f":"H605*'Série - IPCA'!$C$444/'Série - IPCA'!$C$437","v":121025.74580105125},125748.10660010902,"Despesas Gerais e Administratias","N","SIM","NÃO","ENCARGOS DE GESTÃO","FUNCIONÁRIOS","PESSOAL",4500,"GERÊNCIA CONTÁBIL","Despesas Gerais e Administratias110225,776"]
[null,null,null,-13509.39,0,0,0,128807.7,23059.662,{"$f":"D606*'Série - IPCA'!$C$444/'Série - IPCA'!$C$385","v":-17584.055892585824},{"$f":"E606*'Série - IPCA'!$C$444/'Série - IPCA'!$C$398","v":0},{"$f":"F606*'Série - IPCA'!$C$444/'Série - IPCA'!$C$411","v":0},{"$f":"G606*'Série - IPCA'!$C$444/'Série - IPCA'!$C$424","v":0},{"$f":"H606*'Série - IPCA'!$C$444/'Série - IPCA'!$C$437","v":131691.81824893816},22821.552471270468,"Despesas Gerais e Administratias","N","SIM","NÃO","ENCARGOS DE GESTÃO","FUNCIONÁRIOS","PESSOAL",4600,"GERÊNCIA DE PESSOAS E CULTURA","Despesas Gerais e Administratias23059,662"]
[null,null,null,189801.5,169411.99,99729,106344.81,121915.76,137440.61200000002,{"$f":"D607*'Série - IPCA'!$C$444/'Série - IPCA'!$C$385","v":247048.91815963772},{"$f":"E607*'Série - IPCA'!$C$444/'Série - IPCA'!$C$398","v":210978.70684805975},{"$f":"F607*'Série - IPCA'!$C$444/'Série - IPCA'!$C$411","v":112845.06217059796},{"$f":"G607*'Série - IPCA'!$C$444/'Série - IPCA'!$C$424","v":113750.39768275565},{"$f":"H607*'Série - IPCA'!$C$444/'Série - IPCA'!$C$437","v":124645.56162093698},161853.72929639759,"Custos","N","SIM","NÃO","OPEX","FUNCIONÁRIOS","PESSOAL",5100,"GERÊNCIA DE ENGENHARIA","Custos137440,612"]
[null,null,null,325845.38,319407.7,370577.28,378928.9,376478.12,354247.47600000008,{"$f":"D608*'Série - IPCA'!$C$444/'Série - IPCA'!$C$385","v":424125.98749912961},{"$f":"E608*'Série - IPCA'!$C$444/'Série - IPCA'!$C$398","v":397777.17919087678},{"$f":"F608*'Série - IPCA'!$C$444/'Série - IPCA'!$C$411","v":419314.50431279861},{"$f":"G608*'Série - IPCA'!$C$444/'Série - IPCA'!$C$424","v":405316.56475279946},{"$f":"H608*'Série - IPCA'!$C$444/'Série - IPCA'!$C$437","v":384907.79785480158},406288.40672208124,"Custos","N","SIM","NÃO","OPEX","FUNCIONÁRIOS","PESSOAL",5200,"GERÊNCIA DE OPERAÇÕES","Custos354247,476"]
[null,null,null,104918.67,172319.75,269196.75,279889.25,310125.42,227289.96799999996,{"$f":"D609*'Série - IPCA'!$C$444/'Série - IPCA'!$C$385","v":136563.95717761997},{"$f":"E609*'Série - IPCA'!$C$444/'Série - IPCA'!$C$398","v":214599.91125410277},{"$f":"F609*'Série - IPCA'!$C$444/'Série - IPCA'!$C$411","v":304600.70781691303},{"$f":"G609*'Série - IPCA'!$C$444/'Série - IPCA'!$C$424","v":299380.04021661443},{"$f":"H609*'Série - IPCA'!$C$444/'Série - IPCA'!$C$437","v":317069.40225635271},254442.80374432058,"Despesas com Vendas","N","SIM","NÃO","ENCARGOS DE COMERCIALIZAÇÃO","FUNCIONÁRIOS","PESSOAL",5300,"GERÊNCIA COMERCIAL","Despesas com Vendas227289,968"]
[null,null,null,53044.68,0,0,0,0,10608.936,{"$f":"D610*'Série - IPCA'!$C$444/'Série - IPCA'!$C$385","v":69043.873774043779},{"$f":"E610*'Série - IPCA'!$C$444/'Série - IPCA'!$C$398","v":0},{"$f":"F610*'Série - IPCA'!$C$444/'Série - IPCA'!$C$411","v":0},{"$f":"G610*'Série - IPCA'!$C$444/'Série - IPCA'!$C$424","v":0},{"$f":"H610*'Série - IPCA'!$C$444/'Série - IPCA'!$C$437","v":0},13808.774754808755,"Despesas com Vendas","N","SIM","NÃO","ENCARGOS DE COMERCIALIZAÇÃO","FUNCIONÁRIOS","PESSOAL",5400,"GERÊNCIA COMERCIAL (inativo)","Despesas com Vendas10608,936"]
[null,null,null,32185.21,0,0,0,0,6437.0419999999995,{"$f":"D611*'Série - IPCA'!$C$444/'Série - IPCA'!$C$385","v":41892.826512123203},{"$f":"E611*'Série - IPCA'!$C$444/'Série - IPCA'!$C$398","v":0},{"$f":"F611*'Série - IPCA'!$C$444/'Série - IPCA'!$C$411","v":0},{"$f":"G611*'Série - IPCA'!$C$444/'Série - IPCA'!$C$424","v":0},{"$f":"H611*'Série - IPCA'!$C$444/'Série - IPCA'!$C$437","v":0},8378.5653024246403,"Despesas com Vendas","N","SIM","NÃO","ENCARGOS DE COMERCIALIZAÇÃO","FUNCIONÁRIOS","PESSOAL",5500,"GERÊNCIA COMERCIAL (inativo)","Despesas com Vendas6437,042"]
[null,null,null,0,22250.63,27455.34,30555.89,32401.46,22532.664000000001,{"$f":"D612*'Série - IPCA'!$C$444/'Série - IPCA'!$C$385","v":0},{"$f":"E612*'Série - IPCA'!$C$444/'Série - IPCA'!$C$398","v":27710.017124258116},{"$f":"F612*'Série - IPCA'!$C$444/'Série - IPCA'!$C$411","v":31066.184853100956},{"$f":"G612*'Série - IPCA'!$C$444/'Série - IPCA'!$C$424","v":32683.726070416946},{"$f":"H612*'Série - IPCA'!$C$444/'Série - IPCA'!$C$437","v":33126.957327242388},24917.377075003682,"Despesas Gerais e Administratias","N","SIM","NÃO","ENCARGOS DE GESTÃO","FUNCIONÁRIOS","PESSOAL",1005,"AUDITORIA INTERNA","Despesas Gerais e Administratias22532,664"]
[null,null,null,0,0,31122.97,28672.19,24536.58,16866.348000000002,{"$f":"D613*'Série - IPCA'!$C$444/'Série - IPCA'!$C$385","v":0},{"$f":"E613*'Série - IPCA'!$C$444/'Série - IPCA'!$C$398","v":0},{"$f":"F613*'Série - IPCA'!$C$444/'Série - IPCA'!$C$411","v":35216.170668347775},{"$f":"G613*'Série - IPCA'!$C$444/'Série - IPCA'!$C$424","v":30668.849894372182},{"$f":"H613*'Série - IPCA'!$C$444/'Série - IPCA'!$C$437","v":25085.975712713844},18194.199255086762,"Despesas Gerais e Administratias","N","SIM","NÃO","ENCARGOS DE GESTÃO","FUNCIONÁRIOS","PESSOAL",1010,"GOVERNANÇA SOCIETÁRIA","Despesas Gerais e Administratias16866,348"]
[null,null,null,17934.05,0,0,0,0,3586.81,{"$f":"D614*'Série - IPCA'!$C$444/'Série - IPCA'!$C$385","v":23343.269946343156},{"$f":"E614*'Série - IPCA'!$C$444/'Série - IPCA'!$C$398","v":0},{"$f":"F614*'Série - IPCA'!$C$444/'Série - IPCA'!$C$411","v":0},{"$f":"G614*'Série - IPCA'!$C$444/'Série - IPCA'!$C$424","v":0},{"$f":"H614*'Série - IPCA'!$C$444/'Série - IPCA'!$C$437","v":0},4668.6539892686314,"Despesas Gerais e Administratias","N","SIM","NÃO","ENCARGOS DE GESTÃO","FUNCIONÁRIOS","PESSOAL",2100,"SECRETARIA","Despesas Gerais e Administratias3586,81"]
[null,null,null,7646.03,24105.06,16189.2,12146.86,7735.37,13564.504000000001,{"$f":"D615*'Série - IPCA'!$C$444/'Série - IPCA'!$C$385","v":9952.2050126902832},{"$f":"E615*'Série - IPCA'!$C$444/'Série - IPCA'!$C$398","v":30019.447781086168},{"$f":"F615*'Série - IPCA'!$C$444/'Série - IPCA'!$C$411","v":18318.35554845877},{"$f":"G615*'Série - IPCA'!$C$444/'Série - IPCA'!$C$424","v":12992.73707477363},{"$f":"H615*'Série - IPCA'!$C$444/'Série - IPCA'!$C$437","v":7908.5717711618845},15838.263437634145,"Despesas Gerais e Administratias","N","SIM","NÃO","ENCARGOS DE GESTÃO","FUNCIONÁRIOS","PESSOAL",2110,"ASSESSORIA DA DIRETORIA EXECUTIVA","Despesas Gerais e Administratias13564,504"]
[null,null,null,13347.44,38224.51,43458.36,47693.8,50294.7,38603.762000000002,{"$f":"D616*'Série - IPCA'!$C$444/'Série - IPCA'!$C$385","v":17373.258968979037},{"$f":"E616*'Série - IPCA'!$C$444/'Série - IPCA'!$C$398","v":47603.228612689869},{"$f":"F616*'Série - IPCA'!$C$444/'Série - IPCA'!$C$411","v":49173.874560380915},{"$f":"G616*'Série - IPCA'!$C$444/'Série - IPCA'!$C$424","v":51015.077435389772},{"$f":"H616*'Série - IPCA'!$C$444/'Série - IPCA'!$C$437","v":51420.842785678724},43317.25647262366,"Despesas Gerais e Administratias","N","SIM","NÃO","ENCARGOS DE GESTÃO","FUNCIONÁRIOS","PESSOAL",2120,"ASSESSORIA DA PRESIDÊNCIA","Despesas Gerais e Administratias38603,762"]
[null,null,null,0,2597.7800000000002,20092.68,22311.5,23620.03,13724.397999999997,{"$f":"D617*'Série - IPCA'!$C$444/'Série - IPCA'!$C$385","v":0},{"$f":"E617*'Série - IPCA'!$C$444/'Série - IPCA'!$C$398","v":3235.1680956923574},{"$f":"F617*'Série - IPCA'!$C$444/'Série - IPCA'!$C$411","v":22735.209655906809},{"$f":"G617*'Série - IPCA'!$C$444/'Série - IPCA'!$C$424","v":23865.217286097959},{"$f":"H617*'Série - IPCA'!$C$444/'Série - IPCA'!$C$437","v":24148.903348126445},14796.899677164716,"Despesas Gerais e Administratias","N","SIM","NÃO","ENCARGOS DE GESTÃO","FUNCIONÁRIOS","PESSOAL",2130,"ASSESSORIA DE RELAÇÕES INSTITUCIONAIS E NOVOS NEGÓCIOS","Despesas Gerais e Administratias13724,398"]
[null,null,null,0,0,0,0,21484.91,4296.982,{"$f":"D618*'Série - IPCA'!$C$444/'Série - IPCA'!$C$385","v":0},{"$f":"E618*'Série - IPCA'!$C$444/'Série - IPCA'!$C$398","v":0},{"$f":"F618*'Série - IPCA'!$C$444/'Série - IPCA'!$C$411","v":0},{"$f":"G618*'Série - IPCA'!$C$444/'Série - IPCA'!$C$424","v":0},{"$f":"H618*'Série - IPCA'!$C$444/'Série - IPCA'!$C$437","v":21965.976124213023},4393.1952248426041,"Despesas Gerais e Administratias","N","SIM","NÃO","ENCARGOS DE GESTÃO","FUNCIONÁRIOS","PESSOAL",2140,"ASSESSORIA DTC","Despesas Gerais e Administratias4296,982"]
[null,null,null,83879.679999999993,47701.16,49700.95,50300.9,52595.4,56835.617999999995,{"$f":"D619*'Série - IPCA'!$C$444/'Série - IPCA'!$C$385","v":109179.24357592851},{"$f":"E619*'Série - IPCA'!$C$444/'Série - IPCA'!$C$398","v":59405.057764520658},{"$f":"F619*'Série - IPCA'!$C$444/'Série - IPCA'!$C$411","v":56237.471474573904},{"$f":"G619*'Série - IPCA'!$C$444/'Série - IPCA'!$C$424","v":53803.729385576262},{"$f":"H619*'Série - IPCA'!$C$444/'Série - IPCA'!$C$437","v":53773.057492139073},66479.711938547684,"Despesas Gerais e Administratias","N","SIM","NÃO","ENCARGOS DE GESTÃO","FUNCIONÁRIOS","PESSOAL",2200,"DIRETORIA COLEGIADA - PRESIDÊNCIA","Despesas Gerais e Administratias56835,618"]
[null,null,null,0,16357.17,14622.67,0,0,6195.9679999999998,{"$f":"D620*'Série - IPCA'!$C$444/'Série - IPCA'!$C$385","v":0},{"$f":"E620*'Série - IPCA'!$C$444/'Série - IPCA'!$C$398","v":20370.545049933466},{"$f":"F620*'Série - IPCA'!$C$444/'Série - IPCA'!$C$411","v":16545.800170964692},{"$f":"G620*'Série - IPCA'!$C$444/'Série - IPCA'!$C$424","v":0},{"$f":"H620*'Série - IPCA'!$C$444/'Série - IPCA'!$C$437","v":0},7383.2690441796321,"Despesas Gerais e Administratias","N","SIM","NÃO","ENCARGOS DE GESTÃO","FUNCIONÁRIOS","PESSOAL",2300,"DIRETORIA COLEGIADA - DAF","Despesas Gerais e Administratias6195,968"]
[null,null,null,11618.56,0,0,0,0,2323.712,{"$f":"D621*'Série - IPCA'!$C$444/'Série - IPCA'!$C$385","v":15122.918831372988},{"$f":"E621*'Série - IPCA'!$C$444/'Série - IPCA'!$C$398","v":0},{"$f":"F621*'Série - IPCA'!$C$444/'Série - IPCA'!$C$411","v":0},{"$f":"G621*'Série - IPCA'!$C$444/'Série - IPCA'!$C$424","v":0},{"$f":"H621*'Série - IPCA'!$C$444/'Série - IPCA'!$C$437","v":0},3024.5837662745976,"Despesas Gerais e Administratias","N","SIM","NÃO","ENCARGOS DE GESTÃO","FUNCIONÁRIOS","PESSOAL",2400,"DIRETORIA COLEGIADA - DTC","Despesas Gerais e Administratias2323,712"]
[null,null,null,14033.7,48218.8,62878.34,70846.880000000005,81287.53,55453.05,{"$f":"D622*'Série - IPCA'!$C$444/'Série - IPCA'!$C$385","v":18266.506865208692},{"$f":"E622*'Série - IPCA'!$C$444/'Série - IPCA'!$C$398","v":60049.70527626307},{"$f":"F622*'Série - IPCA'!$C$444/'Série - IPCA'!$C$411","v":71147.9127082794},{"$f":"G622*'Série - IPCA'!$C$444/'Série - IPCA'!$C$424","v":75780.480256464507},{"$f":"H622*'Série - IPCA'!$C$444/'Série - IPCA'!$C$437","v":83107.629642211657},61670.446949685473,"Despesas Gerais e Administratias","N","SIM","NÃO","ENCARGOS DE GESTÃO","FUNCIONÁRIOS","PESSOAL",2410,"ASSESSORIA DE SEGURANÇA DO TRABALHO","Despesas Gerais e Administratias55453,05"]
[null,null,null,31177.49,0,0,0,0,6235.4980000000005,{"$f":"D623*'Série - IPCA'!$C$444/'Série - IPCA'!$C$385","v":40581.160714920181},{"$f":"E623*'Série - IPCA'!$C$444/'Série - IPCA'!$C$398","v":0},{"$f":"F623*'Série - IPCA'!$C$444/'Série - IPCA'!$C$411","v":0},{"$f":"G623*'Série - IPCA'!$C$444/'Série - IPCA'!$C$424","v":0},{"$f":"H623*'Série - IPCA'!$C$444/'Série - IPCA'!$C$437","v":0},8116.2321429840358,"Despesas Gerais e Administratias","N","SIM","NÃO","ENCARGOS DE GESTÃO","FUNCIONÁRIOS","PESSOAL",3100,"SMS","Despesas Gerais e Administratias6235,498"]
[null,null,null,45117.24,60037.78,67523.81,73126.039999999994,76601.210000000006,64481.216,{"$f":"D624*'Série - IPCA'!$C$444/'Série - IPCA'!$C$385","v":58725.38063370801},{"$f":"E624*'Série - IPCA'!$C$444/'Série - IPCA'!$C$398","v":74768.575626957128},{"$f":"F624*'Série - IPCA'!$C$444/'Série - IPCA'!$C$411","v":76404.341138942982},{"$f":"G624*'Série - IPCA'!$C$444/'Série - IPCA'!$C$424","v":78218.355281890079},{"$f":"H624*'Série - IPCA'!$C$444/'Série - IPCA'!$C$437","v":78316.378795434939},73286.606295386635,"Despesas Gerais e Administratias","N","SIM","NÃO","ENCARGOS DE GESTÃO","FUNCIONÁRIOS","PESSOAL",3200,"GERÊNCIA DE PLANEJAMENTO E MEIO AMBIENTE","Despesas Gerais e Administratias64481,216"]
[null,null,null,43034.71,40601.199999999997,46509.19,50961.98,53578.41,46937.098000000005,{"$f":"D625*'Série - IPCA'!$C$444/'Série - IPCA'!$C$385","v":56014.723533869554},{"$f":"E625*'Série - IPCA'!$C$444/'Série - IPCA'!$C$398","v":50563.060338760224},{"$f":"F625*'Série - IPCA'!$C$444/'Série - IPCA'!$C$411","v":52625.940669756572},{"$f":"G625*'Série - IPCA'!$C$444/'Série - IPCA'!$C$424","v":54510.845350145821},{"$f":"H625*'Série - IPCA'!$C$444/'Série - IPCA'!$C$437","v":54778.077954866756},53698.52956947979,"Despesas Gerais e Administratias","N","SIM","NÃO","ENCARGOS DE GESTÃO","FUNCIONÁRIOS","PESSOAL",3300,"GERÊNCIA JURÍDICA","Despesas Gerais e Administratias46937,098"]
[null,null,null,32147.49,0,0,0,0,6429.4980000000005,{"$f":"D626*'Série - IPCA'!$C$444/'Série - IPCA'!$C$385","v":41843.729507131247},{"$f":"E626*'Série - IPCA'!$C$444/'Série - IPCA'!$C$398","v":0},{"$f":"F626*'Série - IPCA'!$C$444/'Série - IPCA'!$C$411","v":0},{"$f":"G626*'Série - IPCA'!$C$444/'Série - IPCA'!$C$424","v":0},{"$f":"H626*'Série - IPCA'!$C$444/'Série - IPCA'!$C$437","v":0},8368.7459014262495,"Despesas Gerais e Administratias","N","SIM","NÃO","ENCARGOS DE GESTÃO","FUNCIONÁRIOS","PESSOAL",3400,"MARKETING","Despesas Gerais e Administratias6429,498"]
[null,null,null,15048.93,36224.42,48474.44,46059.21,40875.67,37336.534,{"$f":"D627*'Série - IPCA'!$C$444/'Série - IPCA'!$C$385","v":19587.947808421519},{"$f":"E627*'Série - IPCA'!$C$444/'Série - IPCA'!$C$398","v":45112.398997975251},{"$f":"F627*'Série - IPCA'!$C$444/'Série - IPCA'!$C$411","v":54849.654518594602},{"$f":"G627*'Série - IPCA'!$C$444/'Série - IPCA'!$C$424","v":49266.658659257148},{"$f":"H627*'Série - IPCA'!$C$444/'Série - IPCA'!$C$437","v":41790.912379023721},42121.514472654453,"Despesas Gerais e Administratias","N","SIM","NÃO","ENCARGOS DE GESTÃO","FUNCIONÁRIOS","PESSOAL",3500,"ASSESSORIA DE COMUNICAÇÃO INSTITUCIONAL","Despesas Gerais e Administratias37336,534"]
[null,null,null,44001.67,76018.710000000006,73162.789999999994,94807.22,89362.4,75470.558000000005,{"$f":"D628*'Série - IPCA'!$C$444/'Série - IPCA'!$C$385","v":57273.335409453488},{"$f":"E628*'Série - IPCA'!$C$444/'Série - IPCA'!$C$398","v":94670.566894690695},{"$f":"F628*'Série - IPCA'!$C$444/'Série - IPCA'!$C$411","v":82784.943056928299},{"$f":"G628*'Série - IPCA'!$C$444/'Série - IPCA'!$C$424","v":101409.35865320091},{"$f":"H628*'Série - IPCA'!$C$444/'Série - IPCA'!$C$437","v":91363.303118438649},85500.301426542399,"Despesas Gerais e Administratias","N","SIM","NÃO","ENCARGOS DE GESTÃO","FUNCIONÁRIOS","PESSOAL",3600,"GERÊNCIA DE GOVERNANÇA, RISCO E COMPLIANCE","Despesas Gerais e Administratias75470,558"]
[null,null,null,0,2523.23,23659.63,26356.13,27826.04,16073.005999999999,{"$f":"D629*'Série - IPCA'!$C$444/'Série - IPCA'!$C$385","v":0},{"$f":"E629*'Série - IPCA'!$C$444/'Série - IPCA'!$C$398","v":3142.3265996711916},{"$f":"F629*'Série - IPCA'!$C$444/'Série - IPCA'!$C$411","v":26771.27433628478},{"$f":"G629*'Série - IPCA'!$C$444/'Série - IPCA'!$C$424","v":28191.505244857806},{"$f":"H629*'Série - IPCA'!$C$444/'Série - IPCA'!$C$437","v":28449.089629483977},17310.83916205955,"Despesas Gerais e Administratias","N","SIM","NÃO","ENCARGOS DE GESTÃO","FUNCIONÁRIOS","PESSOAL",3700,"GERÊNCIA DE REGULAÇÃO","Despesas Gerais e Administratias16073,006"]
[null,null,null,89075.21,148559.71,155588.64000000001,174349.05,173665.3,148247.58199999999,{"$f":"D630*'Série - IPCA'!$C$444/'Série - IPCA'!$C$385","v":115941.83536664644},{"$f":"E630*'Série - IPCA'!$C$444/'Série - IPCA'!$C$398","v":185010.13715453536},{"$f":"F630*'Série - IPCA'!$C$444/'Série - IPCA'!$C$411","v":176051.19628030749},{"$f":"G630*'Série - IPCA'!$C$444/'Série - IPCA'!$C$424","v":186490.2835701211},{"$f":"H630*'Série - IPCA'!$C$444/'Série - IPCA'!$C$437","v":177553.81956006758},168209.45438633559,"Despesas Gerais e Administratias","N","SIM","NÃO","ENCARGOS DE GESTÃO","FUNCIONÁRIOS","PESSOAL",4100,"GERÊNCIA DE SERVIÇOS CORPORATIVOS","Despesas Gerais e Administratias148247,582"]
[null,null,null,58827.03,60731.8,71019.600000000006,73266.61,77037.11,68176.429999999993,{"$f":"D631*'Série - IPCA'!$C$444/'Série - IPCA'!$C$385","v":76570.280635530027},{"$f":"E631*'Série - IPCA'!$C$444/'Série - IPCA'!$C$398","v":75632.879517884154},{"$f":"F631*'Série - IPCA'!$C$444/'Série - IPCA'!$C$411","v":80359.887067262272},{"$f":"G631*'Série - IPCA'!$C$444/'Série - IPCA'!$C$424","v":78368.71422655569},{"$f":"H631*'Série - IPCA'!$C$444/'Série - IPCA'!$C$437","v":78762.038981702615},77938.760085786955,"Despesas Gerais e Administratias","N","SIM","NÃO","ENCARGOS DE GESTÃO","FUNCIONÁRIOS","PESSOAL",4200,"GERÊNCIA FINANCEIRA","Despesas Gerais e Administratias68176,43"]
[null,null,null,76135.64,82048.77,77822.14,75196.98,77528.539999999994,77746.41399999999,{"$f":"D632*'Série - IPCA'!$C$444/'Série - IPCA'!$C$385","v":99099.467050532476},{"$f":"E632*'Série - IPCA'!$C$444/'Série - IPCA'!$C$398","v":102180.15497648001},{"$f":"F632*'Série - IPCA'!$C$444/'Série - IPCA'!$C$411","v":88057.076944008048},{"$f":"G632*'Série - IPCA'!$C$444/'Série - IPCA'!$C$424","v":80433.510385153946},{"$f":"H632*'Série - IPCA'!$C$444/'Série - IPCA'!$C$437","v":79264.472533750173},89806.936377984923,"Despesas Gerais e Administratias","N","SIM","NÃO","ENCARGOS DE GESTÃO","FUNCIONÁRIOS","PESSOAL",4300,"GERÊNCIA DE TECNOLOGIA E SISTEMAS DE INFORMAÇÃO","Despesas Gerais e Administratias77746,414"]
[null,null,null,53096.05,54621.88,62293.09,68321.990000000005,72442.820000000007,62155.166000000005,{"$f":"D633*'Série - IPCA'!$C$444/'Série - IPCA'!$C$385","v":69110.737855338506},{"$f":"E633*'Série - IPCA'!$C$444/'Série - IPCA'!$C$398","v":68023.837085025079},{"$f":"F633*'Série - IPCA'!$C$444/'Série - IPCA'!$C$411","v":70485.692364795133},{"$f":"G633*'Série - IPCA'!$C$444/'Série - IPCA'!$C$424","v":73079.763205907802},{"$f":"H633*'Série - IPCA'!$C$444/'Série - IPCA'!$C$437","v":74064.87876796606},70952.981855806516,"Despesas Gerais e Administratias","N","SIM","NÃO","ENCARGOS DE GESTÃO","FUNCIONÁRIOS","PESSOAL",4500,"GERÊNCIA CONTÁBIL","Despesas Gerais e Administratias62155,166"]
[null,null,null,31934.12,0,0,0,9036.5499999999993,8194.134,{"$f":"D634*'Série - IPCA'!$C$444/'Série - IPCA'!$C$385","v":41566.003421364156},{"$f":"E634*'Série - IPCA'!$C$444/'Série - IPCA'!$C$398","v":0},{"$f":"F634*'Série - IPCA'!$C$444/'Série - IPCA'!$C$411","v":0},{"$f":"G634*'Série - IPCA'!$C$444/'Série - IPCA'!$C$424","v":0},{"$f":"H634*'Série - IPCA'!$C$444/'Série - IPCA'!$C$437","v":9238.8863414022762},10160.977952553287,"Despesas Gerais e Administratias","N","SIM","NÃO","ENCARGOS DE GESTÃO","FUNCIONÁRIOS","PESSOAL",4600,"GERÊNCIA DE PESSOAS E CULTURA","Despesas Gerais e Administratias8194,134"]
[null,null,null,0,0,0,0,0,0,{"$f":"D635*'Série - IPCA'!$C$444/'Série - IPCA'!$C$385","v":0},{"$f":"E635*'Série - IPCA'!$C$444/'Série - IPCA'!$C$398","v":0},{"$f":"F635*'Série - IPCA'!$C$444/'Série - IPCA'!$C$411","v":0},{"$f":"G635*'Série - IPCA'!$C$444/'Série - IPCA'!$C$424","v":0},{"$f":"H635*'Série - IPCA'!$C$444/'Série - IPCA'!$C$437","v":0},0,"Despesas com Vendas","N","SIM","NÃO","ENCARGOS DE COMERCIALIZAÇÃO","FUNCIONÁRIOS","PESSOAL",5300,"GERÊNCIA COMERCIAL","Despesas com Vendas0"]
[null,null,null,0,0,0,0,0,0,{"$f":"D636*'Série - IPCA'!$C$444/'Série - IPCA'!$C$385","v":0},{"$f":"E636*'Série - IPCA'!$C$444/'Série - IPCA'!$C$398","v":0},{"$f":"F636*'Série - IPCA'!$C$444/'Série - IPCA'!$C$411","v":0},{"$f":"G636*'Série - IPCA'!$C$444/'Série - IPCA'!$C$424","v":0},{"$f":"H636*'Série - IPCA'!$C$444/'Série - IPCA'!$C$437","v":0},0,"Despesas Gerais e Administratias","N","SIM","NÃO","ENCARGOS DE GESTÃO","FUNCIONÁRIOS","PESSOAL",1005,"AUDITORIA INTERNA","Despesas Gerais e Administratias0"]
[null,null,null,0,0,0,0,0,0,{"$f":"D637*'Série - IPCA'!$C$444/'Série - IPCA'!$C$385","v":0},{"$f":"E637*'Série - IPCA'!$C$444/'Série - IPCA'!$C$398","v":0},{"$f":"F637*'Série - IPCA'!$C$444/'Série - IPCA'!$C$411","v":0},{"$f":"G637*'Série - IPCA'!$C$444/'Série - IPCA'!$C$424","v":0},{"$f":"H637*'Série - IPCA'!$C$444/'Série - IPCA'!$C$437","v":0},0,"Despesas Gerais e Administratias","N","SIM","NÃO","ENCARGOS DE GESTÃO","FUNCIONÁRIOS","PESSOAL",1010,"GOVERNANÇA SOCIETÁRIA","Despesas Gerais e Administratias0"]
[null,null,null,0,0,0,0,0,0,{"$f":"D638*'Série - IPCA'!$C$444/'Série - IPCA'!$C$385","v":0},{"$f":"E638*'Série - IPCA'!$C$444/'Série - IPCA'!$C$398","v":0},{"$f":"F638*'Série - IPCA'!$C$444/'Série - IPCA'!$C$411","v":0},{"$f":"G638*'Série - IPCA'!$C$444/'Série - IPCA'!$C$424","v":0},{"$f":"H638*'Série - IPCA'!$C$444/'Série - IPCA'!$C$437","v":0},0,"Despesas Gerais e Administratias","N","SIM","NÃO","ENCARGOS DE GESTÃO","FUNCIONÁRIOS","PESSOAL",2110,"ASSESSORIA DA DIRETORIA EXECUTIVA","Despesas Gerais e Administratias0"]
[null,null,null,0,0,0,0,0,0,{"$f":"D639*'Série - IPCA'!$C$444/'Série - IPCA'!$C$385","v":0},{"$f":"E639*'Série - IPCA'!$C$444/'Série - IPCA'!$C$398","v":0},{"$f":"F639*'Série - IPCA'!$C$444/'Série - IPCA'!$C$411","v":0},{"$f":"G639*'Série - IPCA'!$C$444/'Série - IPCA'!$C$424","v":0},{"$f":"H639*'Série - IPCA'!$C$444/'Série - IPCA'!$C$437","v":0},0,"Despesas Gerais e Administratias","N","SIM","NÃO","ENCARGOS DE GESTÃO","FUNCIONÁRIOS","PESSOAL",2120,"ASSESSORIA DA PRESIDÊNCIA","Despesas Gerais e Administratias0"]
[null,null,null,0,0,0,0,0,0,{"$f":"D640*'Série - IPCA'!$C$444/'Série - IPCA'!$C$385","v":0},{"$f":"E640*'Série - IPCA'!$C$444/'Série - IPCA'!$C$398","v":0},{"$f":"F640*'Série - IPCA'!$C$444/'Série - IPCA'!$C$411","v":0},{"$f":"G640*'Série - IPCA'!$C$444/'Série - IPCA'!$C$424","v":0},{"$f":"H640*'Série - IPCA'!$C$444/'Série - IPCA'!$C$437","v":0},0,"Despesas Gerais e Administratias","N","SIM","NÃO","ENCARGOS DE GESTÃO","FUNCIONÁRIOS","PESSOAL",2130,"ASSESSORIA DE RELAÇÕES INSTITUCIONAIS E NOVOS NEGÓCIOS","Despesas Gerais e Administratias0"]
[null,null,null,0,0,0,0,0,0,{"$f":"D641*'Série - IPCA'!$C$444/'Série - IPCA'!$C$385","v":0},{"$f":"E641*'Série - IPCA'!$C$444/'Série - IPCA'!$C$398","v":0},{"$f":"F641*'Série - IPCA'!$C$444/'Série - IPCA'!$C$411","v":0},{"$f":"G641*'Série - IPCA'!$C$444/'Série - IPCA'!$C$424","v":0},{"$f":"H641*'Série - IPCA'!$C$444/'Série - IPCA'!$C$437","v":0},0,"Despesas Gerais e Administratias","N","SIM","NÃO","ENCARGOS DE GESTÃO","FUNCIONÁRIOS","PESSOAL",2140,"ASSESSORIA DTC","Despesas Gerais e Administratias0"]
[null,null,null,0,0,0,0,0,0,{"$f":"D642*'Série - IPCA'!$C$444/'Série - IPCA'!$C$385","v":0},{"$f":"E642*'Série - IPCA'!$C$444/'Série - IPCA'!$C$398","v":0},{"$f":"F642*'Série - IPCA'!$C$444/'Série - IPCA'!$C$411","v":0},{"$f":"G642*'Série - IPCA'!$C$444/'Série - IPCA'!$C$424","v":0},{"$f":"H642*'Série - IPCA'!$C$444/'Série - IPCA'!$C$437","v":0},0,"Despesas Gerais e Administratias","N","SIM","NÃO","ENCARGOS DE GESTÃO","FUNCIONÁRIOS","PESSOAL",2300,"DIRETORIA COLEGIADA - DAF","Despesas Gerais e Administratias0"]
[null,null,null,0,0,0,0,0,0,{"$f":"D643*'Série - IPCA'!$C$444/'Série - IPCA'!$C$385","v":0},{"$f":"E643*'Série - IPCA'!$C$444/'Série - IPCA'!$C$398","v":0},{"$f":"F643*'Série - IPCA'!$C$444/'Série - IPCA'!$C$411","v":0},{"$f":"G643*'Série - IPCA'!$C$444/'Série - IPCA'!$C$424","v":0},{"$f":"H643*'Série - IPCA'!$C$444/'Série - IPCA'!$C$437","v":0},0,"Despesas Gerais e Administratias","N","SIM","NÃO","ENCARGOS DE GESTÃO","FUNCIONÁRIOS","PESSOAL",2410,"ASSESSORIA DE SEGURANÇA DO TRABALHO","Despesas Gerais e Administratias0"]
[null,null,null,0,0,0,0,0,0,{"$f":"D644*'Série - IPCA'!$C$444/'Série - IPCA'!$C$385","v":0},{"$f":"E644*'Série - IPCA'!$C$444/'Série - IPCA'!$C$398","v":0},{"$f":"F644*'Série - IPCA'!$C$444/'Série - IPCA'!$C$411","v":0},{"$f":"G644*'Série - IPCA'!$C$444/'Série - IPCA'!$C$424","v":0},{"$f":"H644*'Série - IPCA'!$C$444/'Série - IPCA'!$C$437","v":0},0,"Despesas Gerais e Administratias","N","SIM","NÃO","ENCARGOS DE GESTÃO","FUNCIONÁRIOS","PESSOAL",3200,"GERÊNCIA DE PLANEJAMENTO E MEIO AMBIENTE","Despesas Gerais e Administratias0"]
[null,null,null,0,0,0,0,0,{"$f":"AVERAGE(D645:H645)","v":0},{"$f":"D645*'Série - IPCA'!$C$444/'Série - IPCA'!$C$385","v":0},{"$f":"E645*'Série - IPCA'!$C$444/'Série - IPCA'!$C$398","v":0},{"$f":"F645*'Série - IPCA'!$C$444/'Série - IPCA'!$C$411","v":0},{"$f":"G645*'Série - IPCA'!$C$444/'Série - IPCA'!$C$424","v":0},{"$f":"H645*'Série - IPCA'!$C$444/'Série - IPCA'!$C$437","v":0},{"$f":"AVERAGE(J645:N645)","v":0},"Despesas Gerais e Administratias","N","SIM","NÃO","ENCARGOS DE GESTÃO","FUNCIONÁRIOS","PESSOAL",3300,"GERÊNCIA JURÍDICA",{"$f":"B645&C645&P645&I645","v":"Despesas Gerais e Administratias0"}]
[null,null,null,0,0,0,0,0,0,{"$f":"D646*'Série - IPCA'!$C$444/'Série - IPCA'!$C$385","v":0},{"$f":"E646*'Série - IPCA'!$C$444/'Série - IPCA'!$C$398","v":0},{"$f":"F646*'Série - IPCA'!$C$444/'Série - IPCA'!$C$411","v":0},{"$f":"G646*'Série - IPCA'!$C$444/'Série - IPCA'!$C$424","v":0},{"$f":"H646*'Série - IPCA'!$C$444/'Série - IPCA'!$C$437","v":0},0,"Despesas Gerais e Administratias","N","SIM","NÃO","ENCARGOS DE GESTÃO","FUNCIONÁRIOS","PESSOAL",3500,"ASSESSORIA DE COMUNICAÇÃO INSTITUCIONAL","Despesas Gerais e Administratias0"]
[null,null,null,0,0,0,0,0,0,{"$f":"D647*'Série - IPCA'!$C$444/'Série - IPCA'!$C$385","v":0},{"$f":"E647*'Série - IPCA'!$C$444/'Série - IPCA'!$C$398","v":0},{"$f":"F647*'Série - IPCA'!$C$444/'Série - IPCA'!$C$411","v":0},{"$f":"G647*'Série - IPCA'!$C$444/'Série - IPCA'!$C$424","v":0},{"$f":"H647*'Série - IPCA'!$C$444/'Série - IPCA'!$C$437","v":0},0,"Despesas Gerais e Administratias","N","SIM","NÃO","ENCARGOS DE GESTÃO","FUNCIONÁRIOS","PESSOAL",3600,"GERÊNCIA DE GOVERNANÇA, RISCO E COMPLIANCE","Despesas Gerais e Administratias0"]
[null,null,null,0,0,0,0,0,0,{"$f":"D648*'Série - IPCA'!$C$444/'Série - IPCA'!$C$385","v":0},{"$f":"E648*'Série - IPCA'!$C$444/'Série - IPCA'!$C$398","v":0},{"$f":"F648*'Série - IPCA'!$C$444/'Série - IPCA'!$C$411","v":0},{"$f":"G648*'Série - IPCA'!$C$444/'Série - IPCA'!$C$424","v":0},{"$f":"H648*'Série - IPCA'!$C$444/'Série - IPCA'!$C$437","v":0},0,"Despesas Gerais e Administratias","N","SIM","NÃO","ENCARGOS DE GESTÃO","FUNCIONÁRIOS","PESSOAL",3700,"GERÊNCIA DE REGULAÇÃO","Despesas Gerais e Administratias0"]
[null,null,null,0,0,0,0,0,0,{"$f":"D649*'Série - IPCA'!$C$444/'Série - IPCA'!$C$385","v":0},{"$f":"E649*'Série - IPCA'!$C$444/'Série - IPCA'!$C$398","v":0},{"$f":"F649*'Série - IPCA'!$C$444/'Série - IPCA'!$C$411","v":0},{"$f":"G649*'Série - IPCA'!$C$444/'Série - IPCA'!$C$424","v":0},{"$f":"H649*'Série - IPCA'!$C$444/'Série - IPCA'!$C$437","v":0},0,"Despesas Gerais e Administratias","N","SIM","NÃO","ENCARGOS DE GESTÃO","FUNCIONÁRIOS","PESSOAL",4100,"GERÊNCIA DE SERVIÇOS CORPORATIVOS","Despesas Gerais e Administratias0"]
[null,null,null,0,0,0,0,0,0,{"$f":"D650*'Série - IPCA'!$C$444/'Série - IPCA'!$C$385","v":0},{"$f":"E650*'Série - IPCA'!$C$444/'Série - IPCA'!$C$398","v":0},{"$f":"F650*'Série - IPCA'!$C$444/'Série - IPCA'!$C$411","v":0},{"$f":"G650*'Série - IPCA'!$C$444/'Série - IPCA'!$C$424","v":0},{"$f":"H650*'Série - IPCA'!$C$444/'Série - IPCA'!$C$437","v":0},0,"Despesas Gerais e Administratias","N","SIM","NÃO","ENCARGOS DE GESTÃO","FUNCIONÁRIOS","PESSOAL",4200,"GERÊNCIA FINANCEIRA","Despesas Gerais e Administratias0"]
[null,null,null,0,0,0,0,0,0,{"$f":"D651*'Série - IPCA'!$C$444/'Série - IPCA'!$C$385","v":0},{"$f":"E651*'Série - IPCA'!$C$444/'Série - IPCA'!$C$398","v":0},{"$f":"F651*'Série - IPCA'!$C$444/'Série - IPCA'!$C$411","v":0},{"$f":"G651*'Série - IPCA'!$C$444/'Série - IPCA'!$C$424","v":0},{"$f":"H651*'Série - IPCA'!$C$444/'Série - IPCA'!$C$437","v":0},0,"Despesas Gerais e Administratias","N","SIM","NÃO","ENCARGOS DE GESTÃO","FUNCIONÁRIOS","PESSOAL",4300,"GERÊNCIA DE TECNOLOGIA E SISTEMAS DE INFORMAÇÃO","Despesas Gerais e Administratias0"]
[null,null,null,0,0,0,0,0,0,{"$f":"D652*'Série - IPCA'!$C$444/'Série - IPCA'!$C$385","v":0},{"$f":"E652*'Série - IPCA'!$C$444/'Série - IPCA'!$C$398","v":0},{"$f":"F652*'Série - IPCA'!$C$444/'Série - IPCA'!$C$411","v":0},{"$f":"G652*'Série - IPCA'!$C$444/'Série - IPCA'!$C$424","v":0},{"$f":"H652*'Série - IPCA'!$C$444/'Série - IPCA'!$C$437","v":0},0,"Despesas Gerais e Administratias","N","SIM","NÃO","ENCARGOS DE GESTÃO","FUNCIONÁRIOS","PESSOAL",4500,"GERÊNCIA CONTÁBIL","Despesas Gerais e Administratias0"]
[null,null,null,30368.68,17817.41,9527.4599999999991,19724.919999999998,18259.25,19139.544000000002,{"$f":"D653*'Série - IPCA'!$C$444/'Série - IPCA'!$C$385","v":39528.399617159113},{"$f":"E653*'Série - IPCA'!$C$444/'Série - IPCA'!$C$398","v":22189.067734708085},{"$f":"F653*'Série - IPCA'!$C$444/'Série - IPCA'!$C$411","v":10780.483269940391},{"$f":"G653*'Série - IPCA'!$C$444/'Série - IPCA'!$C$424","v":21098.514297599861},{"$f":"H653*'Série - IPCA'!$C$444/'Série - IPCA'!$C$437","v":18668.090745832153},22452.911133047921,"Custos","N","SIM","NÃO","OPEX","FUNCIONÁRIOS","PESSOAL",5100,"GERÊNCIA DE ENGENHARIA","Custos19139,544"]
[null,null,null,53232.76,47903.32,57243.6,55490.21,60826.84,54939.345999999998,{"$f":"D654*'Série - IPCA'!$C$444/'Série - IPCA'!$C$385","v":69288.681958001587},{"$f":"E654*'Série - IPCA'!$C$444/'Série - IPCA'!$C$398","v":59656.81949269824},{"$f":"F654*'Série - IPCA'!$C$444/'Série - IPCA'!$C$411","v":64772.108422513433},{"$f":"G654*'Série - IPCA'!$C$444/'Série - IPCA'!$C$424","v":59354.410008345723},{"$f":"H654*'Série - IPCA'!$C$444/'Série - IPCA'!$C$437","v":62188.806709049539},63052.165318121704,"Custos","N","SIM","NÃO","OPEX","FUNCIONÁRIOS","PESSOAL",5200,"GERÊNCIA DE OPERAÇÕES","Custos54939,346"]
[null,null,null,0,25166.1,45901.1,37979.42,42045.05,30218.333999999995,{"$f":"D655*'Série - IPCA'!$C$444/'Série - IPCA'!$C$385","v":0},{"$f":"E655*'Série - IPCA'!$C$444/'Série - IPCA'!$C$398","v":31340.82324638862},{"$f":"F655*'Série - IPCA'!$C$444/'Série - IPCA'!$C$411","v":51937.876477241669},{"$f":"G655*'Série - IPCA'!$C$444/'Série - IPCA'!$C$424","v":40624.212208949393},{"$f":"H655*'Série - IPCA'!$C$444/'Série - IPCA'!$C$437","v":42986.475830773445},33377.877552670623,"Despesas com Vendas","N","SIM","NÃO","ENCARGOS DE COMERCIALIZAÇÃO","FUNCIONÁRIOS","PESSOAL",5300,"GERÊNCIA COMERCIAL","Despesas com Vendas30218,334"]
[null,null,null,0,5091.1400000000003,303.14999999999998,-501.47,-450.6,888.44399999999985,{"$f":"D656*'Série - IPCA'!$C$444/'Série - IPCA'!$C$385","v":0},{"$f":"E656*'Série - IPCA'!$C$444/'Série - IPCA'!$C$398","v":6340.2958290167717},{"$f":"F656*'Série - IPCA'!$C$444/'Série - IPCA'!$C$411","v":343.01938851303811},{"$f":"G656*'Série - IPCA'!$C$444/'Série - IPCA'!$C$424","v":-536.39112172913258},{"$f":"H656*'Série - IPCA'!$C$444/'Série - IPCA'!$C$437","v":-460.6893322601951},1137.2469527080964,"Despesas Gerais e Administratias","N","SIM","NÃO","ENCARGOS DE GESTÃO","FUNCIONÁRIOS","PESSOAL",1005,"AUDITORIA INTERNA","Despesas Gerais e Administratias888,444"]
[null,null,null,0,0,2808.22,735.01,-2823.01,144.04399999999987,{"$f":"D657*'Série - IPCA'!$C$444/'Série - IPCA'!$C$385","v":0},{"$f":"E657*'Série - IPCA'!$C$444/'Série - IPCA'!$C$398","v":0},{"$f":"F657*'Série - IPCA'!$C$444/'Série - IPCA'!$C$411","v":3177.5487620322733},{"$f":"G657*'Série - IPCA'!$C$444/'Série - IPCA'!$C$424","v":786.19426562332694},{"$f":"H657*'Série - IPCA'!$C$444/'Série - IPCA'!$C$437","v":-2886.2196890010059},215.50466773091884,"Despesas Gerais e Administratias","N","SIM","NÃO","ENCARGOS DE GESTÃO","FUNCIONÁRIOS","PESSOAL",1010,"GOVERNANÇA SOCIETÁRIA","Despesas Gerais e Administratias144,044"]
[null,null,null,2338.33,-397.23,-58.53,-1092.22,-206.6,116.74999999999997,{"$f":"D658*'Série - IPCA'!$C$444/'Série - IPCA'!$C$385","v":3043.6108081349494},{"$f":"E658*'Série - IPCA'!$C$444/'Série - IPCA'!$C$398","v":-494.69386270272128},{"$f":"F658*'Série - IPCA'!$C$444/'Série - IPCA'!$C$411","v":-66.227691933591018},{"$f":"G658*'Série - IPCA'!$C$444/'Série - IPCA'!$C$424","v":-1168.2794802779692},{"$f":"H658*'Série - IPCA'!$C$444/'Série - IPCA'!$C$437","v":-211.22595660221106},220.63676332369141,"Despesas Gerais e Administratias","N","SIM","NÃO","ENCARGOS DE GESTÃO","FUNCIONÁRIOS","PESSOAL",2110,"ASSESSORIA DA DIRETORIA EXECUTIVA","Despesas Gerais e Administratias116,75"]
[null,null,null,3659.12,105.14,312.94,-971.21,567.61,734.72,{"$f":"D659*'Série - IPCA'!$C$444/'Série - IPCA'!$C$385","v":4762.7739370673762},{"$f":"E659*'Série - IPCA'!$C$444/'Série - IPCA'!$C$398","v":130.93702067961661},{"$f":"F659*'Série - IPCA'!$C$444/'Série - IPCA'!$C$411","v":354.09694026478684},{"$f":"G659*'Série - IPCA'!$C$444/'Série - IPCA'!$C$424","v":-1038.8426452919437},{"$f":"H659*'Série - IPCA'!$C$444/'Série - IPCA'!$C$437","v":580.31928957880461},957.85690845972806,"Despesas Gerais e Administratias","N","SIM","NÃO","ENCARGOS DE GESTÃO","FUNCIONÁRIOS","PESSOAL",2120,"ASSESSORIA DA PRESIDÊNCIA","Despesas Gerais e Administratias734,72"]
[null,null,null,0,477.57,380.18,-51.05,134.33000000000001,188.20600000000002,{"$f":"D660*'Série - IPCA'!$C$444/'Série - IPCA'!$C$385","v":0},{"$f":"E660*'Série - IPCA'!$C$444/'Série - IPCA'!$C$398","v":594.74598598025966},{"$f":"F660*'Série - IPCA'!$C$444/'Série - IPCA'!$C$411","v":430.18014555463242},{"$f":"G660*'Série - IPCA'!$C$444/'Série - IPCA'!$C$424","v":-54.604994843703949},{"$f":"H660*'Série - IPCA'!$C$444/'Série - IPCA'!$C$437","v":137.33776742679098},221.53178082359585,"Despesas Gerais e Administratias","N","SIM","NÃO","ENCARGOS DE GESTÃO","FUNCIONÁRIOS","PESSOAL",2130,"ASSESSORIA DE RELAÇÕES INSTITUCIONAIS E NOVOS NEGÓCIOS","Despesas Gerais e Administratias188,206"]
[null,null,null,0,0,0,0,2160.94,432.18799999999999,{"$f":"D661*'Série - IPCA'!$C$444/'Série - IPCA'!$C$385","v":0},{"$f":"E661*'Série - IPCA'!$C$444/'Série - IPCA'!$C$398","v":0},{"$f":"F661*'Série - IPCA'!$C$444/'Série - IPCA'!$C$411","v":0},{"$f":"G661*'Série - IPCA'!$C$444/'Série - IPCA'!$C$424","v":0},{"$f":"H661*'Série - IPCA'!$C$444/'Série - IPCA'!$C$437","v":2209.3253565342789},441.86507130685578,"Despesas Gerais e Administratias","N","SIM","NÃO","ENCARGOS DE GESTÃO","FUNCIONÁRIOS","PESSOAL",2140,"ASSESSORIA DTC","Despesas Gerais e Administratias432,188"]
[null,null,null,0,1711.03,2170.79,0,0,776.36399999999992,{"$f":"D662*'Série - IPCA'!$C$444/'Série - IPCA'!$C$385","v":0},{"$f":"E662*'Série - IPCA'!$C$444/'Série - IPCA'!$C$398","v":2130.8462097531333},{"$f":"F662*'Série - IPCA'!$C$444/'Série - IPCA'!$C$411","v":2456.2858597731088},{"$f":"G662*'Série - IPCA'!$C$444/'Série - IPCA'!$C$424","v":0},{"$f":"H662*'Série - IPCA'!$C$444/'Série - IPCA'!$C$437","v":0},917.42641390524841,"Despesas Gerais e Administratias","N","SIM","NÃO","ENCARGOS DE GESTÃO","FUNCIONÁRIOS","PESSOAL",2300,"DIRETORIA COLEGIADA - DAF","Despesas Gerais e Administratias776,364"]
[null,null,null,5861.75,2494.5300000000002,-556.13,3334.09,-3261.85,1574.4780000000003,{"$f":"D663*'Série - IPCA'!$C$444/'Série - IPCA'!$C$385","v":7629.7552760239314},{"$f":"E663*'Série - IPCA'!$C$444/'Série - IPCA'!$C$398","v":3106.5848030808834},{"$f":"F663*'Série - IPCA'!$C$444/'Série - IPCA'!$C$411","v":-629.2705674872368},{"$f":"G663*'Série - IPCA'!$C$444/'Série - IPCA'!$C$424","v":3566.2677229861883},{"$f":"H663*'Série - IPCA'!$C$444/'Série - IPCA'!$C$437","v":-3334.8857044671936},2067.6903060273144,"Despesas Gerais e Administratias","N","SIM","NÃO","ENCARGOS DE GESTÃO","FUNCIONÁRIOS","PESSOAL",2410,"ASSESSORIA DE SEGURANÇA DO TRABALHO","Despesas Gerais e Administratias1574,478"]
[null,null,null,9903.94,9010.66,10325.209999999999,10057.379999999999,6753.49,9210.1359999999986,{"$f":"D664*'Série - IPCA'!$C$444/'Série - IPCA'!$C$385","v":12891.139756629756},{"$f":"E664*'Série - IPCA'!$C$444/'Série - IPCA'!$C$398","v":11221.504420363271},{"$f":"F664*'Série - IPCA'!$C$444/'Série - IPCA'!$C$411","v":11683.150982908479},{"$f":"G664*'Série - IPCA'!$C$444/'Série - IPCA'!$C$424","v":10757.750892089543},{"$f":"H664*'Série - IPCA'!$C$444/'Série - IPCA'!$C$437","v":6904.7066101329447},10691.650532424799,"Despesas Gerais e Administratias","N","SIM","NÃO","ENCARGOS DE GESTÃO","FUNCIONÁRIOS","PESSOAL",3200,"GERÊNCIA DE PLANEJAMENTO E MEIO AMBIENTE","Despesas Gerais e Administratias9210,136"]
[null,null,null,5888.99,5285.25,6994.99,8224.6,6778.24,6634.4139999999998,{"$f":"D665*'Série - IPCA'!$C$444/'Série - IPCA'!$C$385","v":7665.2113315907654},{"$f":"E665*'Série - IPCA'!$C$444/'Série - IPCA'!$C$398","v":6582.0324191263435},{"$f":"F665*'Série - IPCA'!$C$444/'Série - IPCA'!$C$411","v":7914.9503297206529},{"$f":"G665*'Série - IPCA'!$C$444/'Série - IPCA'!$C$424","v":8797.3406580122919},{"$f":"H665*'Série - IPCA'!$C$444/'Série - IPCA'!$C$437","v":6930.0107845080884},7577.9091045916284,"Despesas Gerais e Administratias","N","SIM","NÃO","ENCARGOS DE GESTÃO","FUNCIONÁRIOS","PESSOAL",3300,"GERÊNCIA JURÍDICA","Despesas Gerais e Administratias6634,414"]
[null,null,null,4991.9399999999996,-401.04,-76.72,217.19,-1786.06,589.06199999999978,{"$f":"D666*'Série - IPCA'!$C$444/'Série - IPCA'!$C$385","v":6497.5955222578423},{"$f":"E666*'Série - IPCA'!$C$444/'Série - IPCA'!$C$398","v":-499.43867960199219},{"$f":"F666*'Série - IPCA'!$C$444/'Série - IPCA'!$C$411","v":-86.809986761406179},{"$f":"G666*'Série - IPCA'!$C$444/'Série - IPCA'!$C$424","v":232.31457061908051},{"$f":"H666*'Série - IPCA'!$C$444/'Série - IPCA'!$C$437","v":-1826.0514619987662},863.52199290295152,"Despesas Gerais e Administratias","N","SIM","NÃO","ENCARGOS DE GESTÃO","FUNCIONÁRIOS","PESSOAL",3500,"ASSESSORIA DE COMUNICAÇÃO INSTITUCIONAL","Despesas Gerais e Administratias589,062"]
[null,null,null,10728.07,8621.9500000000007,9158.9599999999991,17737.689999999999,9559.75,11161.284,{"$f":"D667*'Série - IPCA'!$C$444/'Série - IPCA'!$C$385","v":13963.841631603882},{"$f":"E667*'Série - IPCA'!$C$444/'Série - IPCA'!$C$398","v":10737.421014348683},{"$f":"F667*'Série - IPCA'!$C$444/'Série - IPCA'!$C$411","v":10363.519243329622},{"$f":"G667*'Série - IPCA'!$C$444/'Série - IPCA'!$C$424","v":18972.898550229562},{"$f":"H667*'Série - IPCA'!$C$444/'Série - IPCA'!$C$437","v":9773.8012518295618},12762.296338268261,"Despesas Gerais e Administratias","N","SIM","NÃO","ENCARGOS DE GESTÃO","FUNCIONÁRIOS","PESSOAL",3600,"GERÊNCIA DE GOVERNANÇA, RISCO E COMPLIANCE","Despesas Gerais e Administratias11161,284"]
[null,null,null,0,3127.81,-1083.78,-78.36,-166.77,359.78000000000003,{"$f":"D668*'Série - IPCA'!$C$444/'Série - IPCA'!$C$385","v":0},{"$f":"E668*'Série - IPCA'!$C$444/'Série - IPCA'!$C$398","v":3895.245602548142},{"$f":"F668*'Série - IPCA'!$C$444/'Série - IPCA'!$C$411","v":-1226.3155298784773},{"$f":"G668*'Série - IPCA'!$C$444/'Série - IPCA'!$C$424","v":-83.816795219444487},{"$f":"H668*'Série - IPCA'!$C$444/'Série - IPCA'!$C$437","v":-170.50412769869669},482.9218299503047,"Despesas Gerais e Administratias","N","SIM","NÃO","ENCARGOS DE GESTÃO","FUNCIONÁRIOS","PESSOAL",3700,"GERÊNCIA DE REGULAÇÃO","Despesas Gerais e Administratias359,78"]
[null,null,null,29534.73,19948.189999999999,25071.16,27578.73,11700.84,22766.73,{"$f":"D669*'Série - IPCA'!$C$444/'Série - IPCA'!$C$385","v":38442.915860185494},{"$f":"E669*'Série - IPCA'!$C$444/'Série - IPCA'!$C$398","v":24842.65328657905},{"$f":"F669*'Série - IPCA'!$C$444/'Série - IPCA'!$C$411","v":28368.444573684774},{"$f":"G669*'Série - IPCA'!$C$444/'Série - IPCA'!$C$424","v":29499.244063582832},{"$f":"H669*'Série - IPCA'!$C$444/'Série - IPCA'!$C$437","v":11962.832149319531},26623.217986670334,"Despesas Gerais e Administratias","N","SIM","NÃO","ENCARGOS DE GESTÃO","FUNCIONÁRIOS","PESSOAL",4100,"GERÊNCIA DE SERVIÇOS CORPORATIVOS","Despesas Gerais e Administratias22766,73"]
[null,null,null,11747.04,8095.37,10178.82,10910.27,12338.33,10653.966,{"$f":"D670*'Série - IPCA'!$C$444/'Série - IPCA'!$C$385","v":15290.150623561934},{"$f":"E670*'Série - IPCA'!$C$444/'Série - IPCA'!$C$398","v":10081.639995236334},{"$f":"F670*'Série - IPCA'!$C$444/'Série - IPCA'!$C$411","v":11517.508204467367},{"$f":"G670*'Série - IPCA'!$C$444/'Série - IPCA'!$C$424","v":11670.03402729516},{"$f":"H670*'Série - IPCA'!$C$444/'Série - IPCA'!$C$437","v":12614.596113861369},12234.785792884433,"Despesas Gerais e Administratias","N","SIM","NÃO","ENCARGOS DE GESTÃO","FUNCIONÁRIOS","PESSOAL",4200,"GERÊNCIA FINANCEIRA","Despesas Gerais e Administratias10653,966"]
[null,null,null,12214.4,11744.48,12710.65,11279.52,11700.73,11929.956,{"$f":"D671*'Série - IPCA'!$C$444/'Série - IPCA'!$C$385","v":15898.474490291588},{"$f":"E671*'Série - IPCA'!$C$444/'Série - IPCA'!$C$398","v":14626.091122611222},{"$f":"F671*'Série - IPCA'!$C$444/'Série - IPCA'!$C$411","v":14382.316973786072},{"$f":"G671*'Série - IPCA'!$C$444/'Série - IPCA'!$C$424","v":12064.997677560346},{"$f":"H671*'Série - IPCA'!$C$444/'Série - IPCA'!$C$437","v":11962.719686322309},13786.919990114306,"Despesas Gerais e Administratias","N","SIM","NÃO","ENCARGOS DE GESTÃO","FUNCIONÁRIOS","PESSOAL",4300,"GERÊNCIA DE TECNOLOGIA E SISTEMAS DE INFORMAÇÃO","Despesas Gerais e Administratias11929,956"]
[null,null,null,7018.35,8961.44,7887.93,10828.15,9833.89,8905.9520000000011,{"$f":"D672*'Série - IPCA'!$C$444/'Série - IPCA'!$C$385","v":9135.2058585716841},{"$f":"E672*'Série - IPCA'!$C$444/'Série - IPCA'!$C$398","v":11160.207861890276},{"$f":"F672*'Série - IPCA'!$C$444/'Série - IPCA'!$C$411","v":8925.327149047167},{"$f":"G672*'Série - IPCA'!$C$444/'Série - IPCA'!$C$424","v":11582.195395041193},{"$f":"H672*'Série - IPCA'!$C$444/'Série - IPCA'!$C$437","v":10054.079488726609},10171.403150655386,"Despesas Gerais e Administratias","N","SIM","NÃO","ENCARGOS DE GESTÃO","FUNCIONÁRIOS","PESSOAL",4500,"GERÊNCIA CONTÁBIL","Despesas Gerais e Administratias8905,952"]
[null,null,null,242.99,0,0,0,8610.2800000000007,1770.654,{"$f":"D673*'Série - IPCA'!$C$444/'Série - IPCA'!$C$385","v":316.27999053542976},{"$f":"E673*'Série - IPCA'!$C$444/'Série - IPCA'!$C$398","v":0},{"$f":"F673*'Série - IPCA'!$C$444/'Série - IPCA'!$C$411","v":0},{"$f":"G673*'Série - IPCA'!$C$444/'Série - IPCA'!$C$424","v":0},{"$f":"H673*'Série - IPCA'!$C$444/'Série - IPCA'!$C$437","v":8803.0717793460117},1823.8703539762882,"Despesas Gerais e Administratias","N","SIM","NÃO","ENCARGOS DE GESTÃO","FUNCIONÁRIOS","PESSOAL",4600,"GERÊNCIA DE PESSOAS E CULTURA","Despesas Gerais e Administratias1770,654"]
[null,null,null,0,0,0,0,0,0,{"$f":"D674*'Série - IPCA'!$C$444/'Série - IPCA'!$C$385","v":0},{"$f":"E674*'Série - IPCA'!$C$444/'Série - IPCA'!$C$398","v":0},{"$f":"F674*'Série - IPCA'!$C$444/'Série - IPCA'!$C$411","v":0},{"$f":"G674*'Série - IPCA'!$C$444/'Série - IPCA'!$C$424","v":0},{"$f":"H674*'Série - IPCA'!$C$444/'Série - IPCA'!$C$437","v":0},0,"Custos","N","SIM","NÃO","OPEX","FUNCIONÁRIOS","PESSOAL",5100,"GERÊNCIA DE ENGENHARIA","Custos0"]
[null,null,null,0,0,0,0,0,0,{"$f":"D675*'Série - IPCA'!$C$444/'Série - IPCA'!$C$385","v":0},{"$f":"E675*'Série - IPCA'!$C$444/'Série - IPCA'!$C$398","v":0},{"$f":"F675*'Série - IPCA'!$C$444/'Série - IPCA'!$C$411","v":0},{"$f":"G675*'Série - IPCA'!$C$444/'Série - IPCA'!$C$424","v":0},{"$f":"H675*'Série - IPCA'!$C$444/'Série - IPCA'!$C$437","v":0},0,"Custos","N","SIM","NÃO","OPEX","FUNCIONÁRIOS","PESSOAL",5200,"GERÊNCIA DE OPERAÇÕES","Custos0"]
[null,null,null,1604.29,0,0,0,0,320.858,{"$f":"D676*'Série - IPCA'!$C$444/'Série - IPCA'!$C$385","v":2088.1716367590625},{"$f":"E676*'Série - IPCA'!$C$444/'Série - IPCA'!$C$398","v":0},{"$f":"F676*'Série - IPCA'!$C$444/'Série - IPCA'!$C$411","v":0},{"$f":"G676*'Série - IPCA'!$C$444/'Série - IPCA'!$C$424","v":0},{"$f":"H676*'Série - IPCA'!$C$444/'Série - IPCA'!$C$437","v":0},417.63432735181249,"Custos","N","SIM","NÃO","OPEX","FIXO","SERVIÇOS",5200,"GERÊNCIA DE OPERAÇÕES","Custos320,858"]
[null,null,null,396.34,0,0,0,0,79.268000000000001,{"$f":"D677*'Série - IPCA'!$C$444/'Série - IPCA'!$C$385","v":515.8830052628183},{"$f":"E677*'Série - IPCA'!$C$444/'Série - IPCA'!$C$398","v":0},{"$f":"F677*'Série - IPCA'!$C$444/'Série - IPCA'!$C$411","v":0},{"$f":"G677*'Série - IPCA'!$C$444/'Série - IPCA'!$C$424","v":0},{"$f":"H677*'Série - IPCA'!$C$444/'Série - IPCA'!$C$437","v":0},103.17660105256365,"Despesas com Vendas","N","SIM","NÃO","ENCARGOS DE COMERCIALIZAÇÃO","FIXO","SERVIÇOS",5400,"GERÊNCIA COMERCIAL (inativo)","Despesas com Vendas79,268"]
[null,null,null,198.36,0,0,0,0,39.672000000000004,{"$f":"D678*'Série - IPCA'!$C$444/'Série - IPCA'!$C$385","v":258.18880992060514},{"$f":"E678*'Série - IPCA'!$C$444/'Série - IPCA'!$C$398","v":0},{"$f":"F678*'Série - IPCA'!$C$444/'Série - IPCA'!$C$411","v":0},{"$f":"G678*'Série - IPCA'!$C$444/'Série - IPCA'!$C$424","v":0},{"$f":"H678*'Série - IPCA'!$C$444/'Série - IPCA'!$C$437","v":0},51.637761984121028,"Despesas com Vendas","N","SIM","NÃO","ENCARGOS DE COMERCIALIZAÇÃO","FIXO","SERVIÇOS",5500,"GERÊNCIA COMERCIAL (inativo)","Despesas com Vendas39,672"]
[null,null,null,69.540000000000006,0,0,0,0,13.908000000000001,{"$f":"D679*'Série - IPCA'!$C$444/'Série - IPCA'!$C$385","v":90.514467845729385},{"$f":"E679*'Série - IPCA'!$C$444/'Série - IPCA'!$C$398","v":0},{"$f":"F679*'Série - IPCA'!$C$444/'Série - IPCA'!$C$411","v":0},{"$f":"G679*'Série - IPCA'!$C$444/'Série - IPCA'!$C$424","v":0},{"$f":"H679*'Série - IPCA'!$C$444/'Série - IPCA'!$C$437","v":0},18.102893569145877,"Despesas Gerais e Administratias","N","SIM","NÃO","ENCARGOS DE GESTÃO","FIXO","SERVIÇOS",2100,"SECRETARIA","Despesas Gerais e Administratias13,908"]
[null,null,null,158.46,0,0,0,0,31.692,{"$f":"D680*'Série - IPCA'!$C$444/'Série - IPCA'!$C$385","v":206.25427918944894},{"$f":"E680*'Série - IPCA'!$C$444/'Série - IPCA'!$C$398","v":0},{"$f":"F680*'Série - IPCA'!$C$444/'Série - IPCA'!$C$411","v":0},{"$f":"G680*'Série - IPCA'!$C$444/'Série - IPCA'!$C$424","v":0},{"$f":"H680*'Série - IPCA'!$C$444/'Série - IPCA'!$C$437","v":0},41.250855837889787,"Despesas Gerais e Administratias","N","SIM","NÃO","ENCARGOS DE GESTÃO","FIXO","SERVIÇOS",2200,"DIRETORIA COLEGIADA - PRESIDÊNCIA","Despesas Gerais e Administratias31,692"]
[null,null,null,39.520000000000003,0,0,0,0,7.9040000000000008,{"$f":"D681*'Série - IPCA'!$C$444/'Série - IPCA'!$C$385","v":51.439916152764241},{"$f":"E681*'Série - IPCA'!$C$444/'Série - IPCA'!$C$398","v":0},{"$f":"F681*'Série - IPCA'!$C$444/'Série - IPCA'!$C$411","v":0},{"$f":"G681*'Série - IPCA'!$C$444/'Série - IPCA'!$C$424","v":0},{"$f":"H681*'Série - IPCA'!$C$444/'Série - IPCA'!$C$437","v":0},10.287983230552848,"Despesas Gerais e Administratias","N","SIM","NÃO","ENCARGOS DE GESTÃO","FIXO","SERVIÇOS",2300,"DIRETORIA COLEGIADA - DAF","Despesas Gerais e Administratias7,904"]
[null,null,null,39.520000000000003,0,0,0,0,7.9040000000000008,{"$f":"D682*'Série - IPCA'!$C$444/'Série - IPCA'!$C$385","v":51.439916152764241},{"$f":"E682*'Série - IPCA'!$C$444/'Série - IPCA'!$C$398","v":0},{"$f":"F682*'Série - IPCA'!$C$444/'Série - IPCA'!$C$411","v":0},{"$f":"G682*'Série - IPCA'!$C$444/'Série - IPCA'!$C$424","v":0},{"$f":"H682*'Série - IPCA'!$C$444/'Série - IPCA'!$C$437","v":0},10.287983230552848,"Despesas Gerais e Administratias","N","SIM","NÃO","ENCARGOS DE GESTÃO","FIXO","SERVIÇOS",2400,"DIRETORIA COLEGIADA - DTC","Despesas Gerais e Administratias7,904"]
[null,null,null,99.18,0,0,0,0,19.836000000000002,{"$f":"D683*'Série - IPCA'!$C$444/'Série - IPCA'!$C$385","v":129.09440496030257},{"$f":"E683*'Série - IPCA'!$C$444/'Série - IPCA'!$C$398","v":0},{"$f":"F683*'Série - IPCA'!$C$444/'Série - IPCA'!$C$411","v":0},{"$f":"G683*'Série - IPCA'!$C$444/'Série - IPCA'!$C$424","v":0},{"$f":"H683*'Série - IPCA'!$C$444/'Série - IPCA'!$C$437","v":0},25.818880992060514,"Despesas Gerais e Administratias","N","SIM","NÃO","ENCARGOS DE GESTÃO","FIXO","SERVIÇOS",3200,"GERÊNCIA DE PLANEJAMENTO E MEIO AMBIENTE","Despesas Gerais e Administratias19,836"]
[null,null,null,138.69999999999999,0,0,0,0,27.74,{"$f":"D684*'Série - IPCA'!$C$444/'Série - IPCA'!$C$385","v":180.5343211130668},{"$f":"E684*'Série - IPCA'!$C$444/'Série - IPCA'!$C$398","v":0},{"$f":"F684*'Série - IPCA'!$C$444/'Série - IPCA'!$C$411","v":0},{"$f":"G684*'Série - IPCA'!$C$444/'Série - IPCA'!$C$424","v":0},{"$f":"H684*'Série - IPCA'!$C$444/'Série - IPCA'!$C$437","v":0},36.10686422261336,"Despesas Gerais e Administratias","N","SIM","NÃO","ENCARGOS DE GESTÃO","FIXO","SERVIÇOS",3400,"MARKETING","Despesas Gerais e Administratias27,74"]
[null,null,null,59.66,0,0,0,0,11.931999999999999,{"$f":"D685*'Série - IPCA'!$C$444/'Série - IPCA'!$C$385","v":77.654488807538328},{"$f":"E685*'Série - IPCA'!$C$444/'Série - IPCA'!$C$398","v":0},{"$f":"F685*'Série - IPCA'!$C$444/'Série - IPCA'!$C$411","v":0},{"$f":"G685*'Série - IPCA'!$C$444/'Série - IPCA'!$C$424","v":0},{"$f":"H685*'Série - IPCA'!$C$444/'Série - IPCA'!$C$437","v":0},15.530897761507665,"Despesas Gerais e Administratias","N","SIM","NÃO","ENCARGOS DE GESTÃO","FIXO","SERVIÇOS",3600,"GERÊNCIA DE GOVERNANÇA, RISCO E COMPLIANCE","Despesas Gerais e Administratias11,932"]
[null,null,null,129146.39,0,0,0,0,25829.277999999998,{"$f":"D686*'Série - IPCA'!$C$444/'Série - IPCA'!$C$385","v":168099.1769491951},{"$f":"E686*'Série - IPCA'!$C$444/'Série - IPCA'!$C$398","v":0},{"$f":"F686*'Série - IPCA'!$C$444/'Série - IPCA'!$C$411","v":0},{"$f":"G686*'Série - IPCA'!$C$444/'Série - IPCA'!$C$424","v":0},{"$f":"H686*'Série - IPCA'!$C$444/'Série - IPCA'!$C$437","v":0},33619.83538983902,"Despesas Gerais e Administratias","N","SIM","NÃO","ENCARGOS DE GESTÃO","FIXO","SERVIÇOS",4100,"GERÊNCIA DE SERVIÇOS CORPORATIVOS","Despesas Gerais e Administratias25829,278"]
[null,null,null,218.12,0,0,0,0,43.624000000000002,{"$f":"D687*'Série - IPCA'!$C$444/'Série - IPCA'!$C$385","v":283.90876799698725},{"$f":"E687*'Série - IPCA'!$C$444/'Série - IPCA'!$C$398","v":0},{"$f":"F687*'Série - IPCA'!$C$444/'Série - IPCA'!$C$411","v":0},{"$f":"G687*'Série - IPCA'!$C$444/'Série - IPCA'!$C$424","v":0},{"$f":"H687*'Série - IPCA'!$C$444/'Série - IPCA'!$C$437","v":0},56.781753599397447,"Despesas Gerais e Administratias","N","SIM","NÃO","ENCARGOS DE GESTÃO","FIXO","SERVIÇOS",4200,"GERÊNCIA FINANCEIRA","Despesas Gerais e Administratias43,624"]
[null,null,null,158.46,0,0,0,0,31.692,{"$f":"D688*'Série - IPCA'!$C$444/'Série - IPCA'!$C$385","v":206.25427918944894},{"$f":"E688*'Série - IPCA'!$C$444/'Série - IPCA'!$C$398","v":0},{"$f":"F688*'Série - IPCA'!$C$444/'Série - IPCA'!$C$411","v":0},{"$f":"G688*'Série - IPCA'!$C$444/'Série - IPCA'!$C$424","v":0},{"$f":"H688*'Série - IPCA'!$C$444/'Série - IPCA'!$C$437","v":0},41.250855837889787,"Despesas Gerais e Administratias","N","SIM","NÃO","ENCARGOS DE GESTÃO","FIXO","SERVIÇOS",4500,"GERÊNCIA CONTÁBIL","Despesas Gerais e Administratias31,692"]
[null,null,null,138.69999999999999,0,0,0,0,27.74,{"$f":"D689*'Série - IPCA'!$C$444/'Série - IPCA'!$C$385","v":180.5343211130668},{"$f":"E689*'Série - IPCA'!$C$444/'Série - IPCA'!$C$398","v":0},{"$f":"F689*'Série - IPCA'!$C$444/'Série - IPCA'!$C$411","v":0},{"$f":"G689*'Série - IPCA'!$C$444/'Série - IPCA'!$C$424","v":0},{"$f":"H689*'Série - IPCA'!$C$444/'Série - IPCA'!$C$437","v":0},36.10686422261336,"Despesas Gerais e Administratias","N","SIM","NÃO","ENCARGOS DE GESTÃO","FIXO","SERVIÇOS",4600,"GERÊNCIA DE PESSOAS E CULTURA","Despesas Gerais e Administratias27,74"]
[null,null,null,699414.99,0,0,0,0,139882.99799999999,{"$f":"D690*'Série - IPCA'!$C$444/'Série - IPCA'!$C$385","v":910370.65894702543},{"$f":"E690*'Série - IPCA'!$C$444/'Série - IPCA'!$C$398","v":0},{"$f":"F690*'Série - IPCA'!$C$444/'Série - IPCA'!$C$411","v":0},{"$f":"G690*'Série - IPCA'!$C$444/'Série - IPCA'!$C$424","v":0},{"$f":"H690*'Série - IPCA'!$C$444/'Série - IPCA'!$C$437","v":0},182074.13178940507,"Despesas Gerais e Administratias","N","NÃO","SIM","ENCARGOS DE GESTÃO","FIXO","DESPESAS_INSTITUCIONAIS",3400,"MARKETING","Despesas Gerais e Administratias139882,998"]
[null,null,null,188616.41,176217.55,134758.63,142168.19,139763.25,156304.80600000001,{"$f":"D691*'Série - IPCA'!$C$444/'Série - IPCA'!$C$385","v":245506.38449988369},{"$f":"E691*'Série - IPCA'!$C$444/'Série - IPCA'!$C$398","v":219454.07065304712},{"$f":"F691*'Série - IPCA'!$C$444/'Série - IPCA'!$C$411","v":152481.68517055831},{"$f":"G691*'Série - IPCA'!$C$444/'Série - IPCA'!$C$424","v":152068.42863640987},{"$f":"H691*'Série - IPCA'!$C$444/'Série - IPCA'!$C$437","v":142892.67269643745},182480.64833126729,"Custos","N","NÃO","NÃO","OPEX","FUNCIONÁRIOS","PESSOAL",5100,"GERÊNCIA DE ENGENHARIA","Custos156304,806"]
[null,null,null,265832.03999999998,244395.53,271216.45,301065.71999999997,323656.94,281233.33600000001,{"$f":"D692*'Série - IPCA'!$C$444/'Série - IPCA'!$C$385","v":346011.58523072541},{"$f":"E692*'Série - IPCA'!$C$444/'Série - IPCA'!$C$398","v":304360.11570872995},{"$f":"F692*'Série - IPCA'!$C$444/'Série - IPCA'!$C$411","v":306886.03276819055},{"$f":"G692*'Série - IPCA'!$C$444/'Série - IPCA'!$C$424","v":322031.18684066634},{"$f":"H692*'Série - IPCA'!$C$444/'Série - IPCA'!$C$437","v":330903.9049489082},322038.56509944412,"Custos","N","NÃO","NÃO","OPEX","FUNCIONÁRIOS","PESSOAL",5200,"GERÊNCIA DE OPERAÇÕES","Custos281233,336"]
[null,null,null,147625.42000000001,212992.86,369351.86,408916.24,431614.4,314100.15599999996,{"$f":"D693*'Série - IPCA'!$C$444/'Série - IPCA'!$C$385","v":192151.80229799106},{"$f":"E693*'Série - IPCA'!$C$444/'Série - IPCA'!$C$398","v":265252.52534174139},{"$f":"F693*'Série - IPCA'!$C$444/'Série - IPCA'!$C$411","v":417927.92071038508},{"$f":"G693*'Série - IPCA'!$C$444/'Série - IPCA'!$C$424","v":437392.14841737138},{"$f":"H693*'Série - IPCA'!$C$444/'Série - IPCA'!$C$437","v":441278.6278958827},350800.60493267432,"Despesas com Vendas","N","NÃO","NÃO","ENCARGOS DE COMERCIALIZAÇÃO","FUNCIONÁRIOS","PESSOAL",5300,"GERÊNCIA COMERCIAL","Despesas com Vendas314100,156"]
[null,null,null,50117.69,0,0,0,0,10023.538,{"$f":"D694*'Série - IPCA'!$C$444/'Série - IPCA'!$C$385","v":65234.05291928722},{"$f":"E694*'Série - IPCA'!$C$444/'Série - IPCA'!$C$398","v":0},{"$f":"F694*'Série - IPCA'!$C$444/'Série - IPCA'!$C$411","v":0},{"$f":"G694*'Série - IPCA'!$C$444/'Série - IPCA'!$C$424","v":0},{"$f":"H694*'Série - IPCA'!$C$444/'Série - IPCA'!$C$437","v":0},13046.810583857445,"Despesas com Vendas","N","NÃO","NÃO","ENCARGOS DE COMERCIALIZAÇÃO","FUNCIONÁRIOS","PESSOAL",5400,"GERÊNCIA COMERCIAL (inativo)","Despesas com Vendas10023,538"]
[null,null,null,53089.79,0,0,0,0,10617.958000000001,{"$f":"D695*'Série - IPCA'!$C$444/'Série - IPCA'!$C$385","v":69102.589730968146},{"$f":"E695*'Série - IPCA'!$C$444/'Série - IPCA'!$C$398","v":0},{"$f":"F695*'Série - IPCA'!$C$444/'Série - IPCA'!$C$411","v":0},{"$f":"G695*'Série - IPCA'!$C$444/'Série - IPCA'!$C$424","v":0},{"$f":"H695*'Série - IPCA'!$C$444/'Série - IPCA'!$C$437","v":0},13820.51794619363,"Despesas com Vendas","N","NÃO","NÃO","ENCARGOS DE COMERCIALIZAÇÃO","FUNCIONÁRIOS","PESSOAL",5500,"GERÊNCIA COMERCIAL (inativo)","Despesas com Vendas10617,958"]
[null,null,null,0,79073.64,96635.54,104426.33,115727.82,79172.665999999997,{"$f":"D696*'Série - IPCA'!$C$444/'Série - IPCA'!$C$385","v":0},{"$f":"E696*'Série - IPCA'!$C$444/'Série - IPCA'!$C$398","v":98475.050750357244},{"$f":"F696*'Série - IPCA'!$C$444/'Série - IPCA'!$C$411","v":109344.75949011126},{"$f":"G696*'Série - IPCA'!$C$444/'Série - IPCA'!$C$424","v":111698.31951414158},{"$f":"H696*'Série - IPCA'!$C$444/'Série - IPCA'!$C$437","v":118319.06817516213},87567.439585954446,"Despesas Gerais e Administratias","N","NÃO","NÃO","ENCARGOS DE GESTÃO","FUNCIONÁRIOS","PESSOAL",1005,"AUDITORIA INTERNA","Despesas Gerais e Administratias79172,666"]
[null,null,null,0,0,56041.4,97020.03,72157.55,45043.795999999995,{"$f":"D697*'Série - IPCA'!$C$444/'Série - IPCA'!$C$385","v":0},{"$f":"E697*'Série - IPCA'!$C$444/'Série - IPCA'!$C$398","v":0},{"$f":"F697*'Série - IPCA'!$C$444/'Série - IPCA'!$C$411","v":63411.79864560307},{"$f":"G697*'Série - IPCA'!$C$444/'Série - IPCA'!$C$424","v":103776.26322989231},{"$f":"H697*'Série - IPCA'!$C$444/'Série - IPCA'!$C$437","v":73773.221320531826},48192.256639205443,"Despesas Gerais e Administratias","N","NÃO","NÃO","ENCARGOS DE GESTÃO","FUNCIONÁRIOS","PESSOAL",1010,"GOVERNANÇA SOCIETÁRIA","Despesas Gerais e Administratias45043,796"]
[null,null,null,3014.92,0,0,0,0,602.98400000000004,{"$f":"D698*'Série - IPCA'!$C$444/'Série - IPCA'!$C$385","v":3924.2720649618414},{"$f":"E698*'Série - IPCA'!$C$444/'Série - IPCA'!$C$398","v":0},{"$f":"F698*'Série - IPCA'!$C$444/'Série - IPCA'!$C$411","v":0},{"$f":"G698*'Série - IPCA'!$C$444/'Série - IPCA'!$C$424","v":0},{"$f":"H698*'Série - IPCA'!$C$444/'Série - IPCA'!$C$437","v":0},784.85441299236822,"Despesas Gerais e Administratias","N","NÃO","NÃO","ENCARGOS DE GESTÃO","FUNCIONÁRIOS","PESSOAL",2100,"SECRETARIA","Despesas Gerais e Administratias602,984"]
[null,null,null,20855.55,84660.02,0,0,0,21103.114000000001,{"$f":"D699*'Série - IPCA'!$C$444/'Série - IPCA'!$C$385","v":27145.944922059265},{"$f":"E699*'Série - IPCA'!$C$444/'Série - IPCA'!$C$398","v":105432.09805475327},{"$f":"F699*'Série - IPCA'!$C$444/'Série - IPCA'!$C$411","v":0},{"$f":"G699*'Série - IPCA'!$C$444/'Série - IPCA'!$C$424","v":0},{"$f":"H699*'Série - IPCA'!$C$444/'Série - IPCA'!$C$437","v":0},26515.608595362504,"Despesas Gerais e Administratias","N","NÃO","NÃO","ENCARGOS DE GESTÃO","FUNCIONÁRIOS","PESSOAL",2110,"ASSESSORIA DA DIRETORIA EXECUTIVA","Despesas Gerais e Administratias21103,114"]
[null,null,null,69746.63,0,0,0,0,13949.326000000001,{"$f":"D700*'Série - IPCA'!$C$444/'Série - IPCA'!$C$385","v":90783.421030816578},{"$f":"E700*'Série - IPCA'!$C$444/'Série - IPCA'!$C$398","v":0},{"$f":"F700*'Série - IPCA'!$C$444/'Série - IPCA'!$C$411","v":0},{"$f":"G700*'Série - IPCA'!$C$444/'Série - IPCA'!$C$424","v":0},{"$f":"H700*'Série - IPCA'!$C$444/'Série - IPCA'!$C$437","v":0},18156.684206163314,"Despesas Gerais e Administratias","N","NÃO","NÃO","ENCARGOS DE GESTÃO","FUNCIONÁRIOS","PESSOAL",2200,"DIRETORIA COLEGIADA - PRESIDÊNCIA","Despesas Gerais e Administratias13949,326"]
[null,null,null,27807.4,55523.74,0,0,0,16666.227999999999,{"$f":"D701*'Série - IPCA'!$C$444/'Série - IPCA'!$C$385","v":36194.593229412363},{"$f":"E701*'Série - IPCA'!$C$444/'Série - IPCA'!$C$398","v":69146.976341921792},{"$f":"F701*'Série - IPCA'!$C$444/'Série - IPCA'!$C$411","v":0},{"$f":"G701*'Série - IPCA'!$C$444/'Série - IPCA'!$C$424","v":0},{"$f":"H701*'Série - IPCA'!$C$444/'Série - IPCA'!$C$437","v":0},21068.31391426683,"Despesas Gerais e Administratias","N","NÃO","NÃO","ENCARGOS DE GESTÃO","FUNCIONÁRIOS","PESSOAL",2120,"ASSESSORIA DA PRESIDÊNCIA","Despesas Gerais e Administratias16666,228"]
[null,null,null,0,4744.41,83281.8,90748.69,100994.05,55953.79,{"$f":"D702*'Série - IPCA'!$C$444/'Série - IPCA'!$C$385","v":0},{"$f":"E702*'Série - IPCA'!$C$444/'Série - IPCA'!$C$398","v":5908.4925840077985},{"$f":"F702*'Série - IPCA'!$C$444/'Série - IPCA'!$C$411","v":94234.775227660022},{"$f":"G702*'Série - IPCA'!$C$444/'Série - IPCA'!$C$424","v":97068.20273306343},{"$f":"H702*'Série - IPCA'!$C$444/'Série - IPCA'!$C$437","v":103255.396042505},60093.373317447244,"Despesas Gerais e Administratias","N","NÃO","NÃO","ENCARGOS DE GESTÃO","FUNCIONÁRIOS","PESSOAL",2130,"ASSESSORIA DE RELAÇÕES INSTITUCIONAIS E NOVOS NEGÓCIOS","Despesas Gerais e Administratias55953,79"]
[null,null,null,48838.07,0,0,0,0,9767.6139999999996,{"$f":"D703*'Série - IPCA'!$C$444/'Série - IPCA'!$C$385","v":63568.477375071619},{"$f":"E703*'Série - IPCA'!$C$444/'Série - IPCA'!$C$398","v":0},{"$f":"F703*'Série - IPCA'!$C$444/'Série - IPCA'!$C$411","v":0},{"$f":"G703*'Série - IPCA'!$C$444/'Série - IPCA'!$C$424","v":0},{"$f":"H703*'Série - IPCA'!$C$444/'Série - IPCA'!$C$437","v":0},12713.695475014323,"Despesas Gerais e Administratias","N","NÃO","NÃO","ENCARGOS DE GESTÃO","FUNCIONÁRIOS","PESSOAL",2400,"DIRETORIA COLEGIADA - DTC","Despesas Gerais e Administratias9767,614"]
[null,null,null,25721.85,65428.7,87996.96,96989.88,104788.69,76185.216,{"$f":"D704*'Série - IPCA'!$C$444/'Série - IPCA'!$C$385","v":33480.005245292981},{"$f":"E704*'Série - IPCA'!$C$444/'Série - IPCA'!$C$398","v":81482.205106909183},{"$f":"F704*'Série - IPCA'!$C$444/'Série - IPCA'!$C$411","v":99570.059080343955},{"$f":"G704*'Série - IPCA'!$C$444/'Série - IPCA'!$C$424","v":103744.0136589905},{"$f":"H704*'Série - IPCA'!$C$444/'Série - IPCA'!$C$437","v":107135.00138597554},85082.256895502418,"Despesas Gerais e Administratias","N","NÃO","NÃO","ENCARGOS DE GESTÃO","FUNCIONÁRIOS","PESSOAL",2410,"ASSESSORIA DE SEGURANÇA DO TRABALHO","Despesas Gerais e Administratias76185,216"]
[null,null,null,47488.28,0,0,0,0,9497.655999999999,{"$f":"D705*'Série - IPCA'!$C$444/'Série - IPCA'!$C$385","v":61811.567344104027},{"$f":"E705*'Série - IPCA'!$C$444/'Série - IPCA'!$C$398","v":0},{"$f":"F705*'Série - IPCA'!$C$444/'Série - IPCA'!$C$411","v":0},{"$f":"G705*'Série - IPCA'!$C$444/'Série - IPCA'!$C$424","v":0},{"$f":"H705*'Série - IPCA'!$C$444/'Série - IPCA'!$C$437","v":0},12362.313468820805,"Despesas Gerais e Administratias","N","NÃO","NÃO","ENCARGOS DE GESTÃO","FUNCIONÁRIOS","PESSOAL",3100,"SMS","Despesas Gerais e Administratias9497,656"]
[null,null,null,96340.3,100989.83,106874.67,123179.71,123625.82,110202.06600000002,{"$f":"D706*'Série - IPCA'!$C$444/'Série - IPCA'!$C$385","v":125398.20228067187},{"$f":"E706*'Série - IPCA'!$C$444/'Série - IPCA'!$C$398","v":125768.57008884315},{"$f":"F706*'Série - IPCA'!$C$444/'Série - IPCA'!$C$411","v":120930.50948683072},{"$f":"G706*'Série - IPCA'!$C$444/'Série - IPCA'!$C$424","v":131757.63818607148},{"$f":"H706*'Série - IPCA'!$C$444/'Série - IPCA'!$C$437","v":126393.91137576359},126049.76628363617,"Despesas Gerais e Administratias","N","NÃO","NÃO","ENCARGOS DE GESTÃO","FUNCIONÁRIOS","PESSOAL",3200,"GERÊNCIA DE PLANEJAMENTO E MEIO AMBIENTE","Despesas Gerais e Administratias110202,066"]
[null,null,null,116148.12,100669.42,123924.29,172274.15,193409.38,141285.07199999999,{"$f":"D707*'Série - IPCA'!$C$444/'Série - IPCA'!$C$385","v":151180.4036968927},{"$f":"E707*'Série - IPCA'!$C$444/'Série - IPCA'!$C$398","v":125369.54468656087},{"$f":"F707*'Série - IPCA'!$C$444/'Série - IPCA'!$C$411","v":140222.44492070723},{"$f":"G707*'Série - IPCA'!$C$444/'Série - IPCA'!$C$424","v":184270.89270232088},{"$f":"H707*'Série - IPCA'!$C$444/'Série - IPCA'!$C$437","v":197739.98696195811},159756.65459368794,"Despesas Gerais e Administratias","N","NÃO","NÃO","ENCARGOS DE GESTÃO","FUNCIONÁRIOS","PESSOAL",3300,"GERÊNCIA JURÍDICA","Despesas Gerais e Administratias141285,072"]
[null,null,null,60276.2,0,0,0,0,12055.24,{"$f":"D708*'Série - IPCA'!$C$444/'Série - IPCA'!$C$385","v":78456.545394920235},{"$f":"E708*'Série - IPCA'!$C$444/'Série - IPCA'!$C$398","v":0},{"$f":"F708*'Série - IPCA'!$C$444/'Série - IPCA'!$C$411","v":0},{"$f":"G708*'Série - IPCA'!$C$444/'Série - IPCA'!$C$424","v":0},{"$f":"H708*'Série - IPCA'!$C$444/'Série - IPCA'!$C$437","v":0},15691.309078984046,"Despesas Gerais e Administratias","N","NÃO","NÃO","ENCARGOS DE GESTÃO","FUNCIONÁRIOS","PESSOAL",3400,"MARKETING","Despesas Gerais e Administratias12055,24"]
[null,null,null,34990.980000000003,89991.91,87209.46,99332.5,103640.37,{"$f":"AVERAGE(D709:H709)","v":83033.044000000009},{"$f":"D709*'Série - IPCA'!$C$444/'Série - IPCA'!$C$385","v":45544.865316372743},{"$f":"E709*'Série - IPCA'!$C$444/'Série - IPCA'!$C$398","v":112072.21400673575},{"$f":"F709*'Série - IPCA'!$C$444/'Série - IPCA'!$C$411","v":98678.989416962737},{"$f":"G709*'Série - IPCA'!$C$444/'Série - IPCA'!$C$424","v":106249.76788074874},{"$f":"H709*'Série - IPCA'!$C$444/'Série - IPCA'!$C$437","v":105960.96948623957},{"$f":"AVERAGE(J709:N709)","v":93701.361221411891},"Despesas Gerais e Administratias","N","NÃO","NÃO","ENCARGOS DE GESTÃO","FUNCIONÁRIOS","PESSOAL",3500,"ASSESSORIA DE COMUNICAÇÃO INSTITUCIONAL",{"$f":"B709&C709&P709&I709","v":"Despesas Gerais e Administratias83033,044"}]
[null,null,null,78906.14,94691.05,154295.6,173518.99,181162.96,136514.948,{"$f":"D710*'Série - IPCA'!$C$444/'Série - IPCA'!$C$385","v":102705.59781220336},{"$f":"E710*'Série - IPCA'!$C$444/'Série - IPCA'!$C$398","v":117924.32919939711},{"$f":"F710*'Série - IPCA'!$C$444/'Série - IPCA'!$C$411","v":174588.09949613168},{"$f":"G710*'Série - IPCA'!$C$444/'Série - IPCA'!$C$424","v":185602.4202592501},{"$f":"H710*'Série - IPCA'!$C$444/'Série - IPCA'!$C$437","v":185219.35879423088},153207.9611122426,"Despesas Gerais e Administratias","N","NÃO","NÃO","ENCARGOS DE GESTÃO","FUNCIONÁRIOS","PESSOAL",3600,"GERÊNCIA DE GOVERNANÇA, RISCO E COMPLIANCE","Despesas Gerais e Administratias136514,948"]
[null,null,null,0,8512.5300000000007,97565.72,106596.65,119758.68,66486.715999999986,{"$f":"D711*'Série - IPCA'!$C$444/'Série - IPCA'!$C$385","v":0},{"$f":"E711*'Série - IPCA'!$C$444/'Série - IPCA'!$C$398","v":10601.153858149677},{"$f":"F711*'Série - IPCA'!$C$444/'Série - IPCA'!$C$411","v":110397.27400374168},{"$f":"G711*'Série - IPCA'!$C$444/'Série - IPCA'!$C$424","v":114019.77519306786},{"$f":"H711*'Série - IPCA'!$C$444/'Série - IPCA'!$C$437","v":122440.18269321433},71491.677149634721,"Despesas Gerais e Administratias","N","NÃO","NÃO","ENCARGOS DE GESTÃO","FUNCIONÁRIOS","PESSOAL",3700,"GERÊNCIA DE REGULAÇÃO","Despesas Gerais e Administratias66486,716"]
[null,null,null,169305.79,232021.61,256238.42,287129.5,308411.5,250621.364,{"$f":"D712*'Série - IPCA'!$C$444/'Série - IPCA'!$C$385","v":220371.34721096943},{"$f":"E712*'Série - IPCA'!$C$444/'Série - IPCA'!$C$398","v":288950.14596431371},{"$f":"F712*'Série - IPCA'!$C$444/'Série - IPCA'!$C$411","v":289938.13670442696},{"$f":"G712*'Série - IPCA'!$C$444/'Série - IPCA'!$C$424","v":307124.48319246416},{"$f":"H712*'Série - IPCA'!$C$444/'Série - IPCA'!$C$437","v":315317.10607271449},284340.24382897775,"Despesas Gerais e Administratias","N","NÃO","NÃO","ENCARGOS DE GESTÃO","FUNCIONÁRIOS","PESSOAL",4100,"GERÊNCIA DE SERVIÇOS CORPORATIVOS","Despesas Gerais e Administratias250621,364"]
[null,null,null,99479.45,97479.55,108651.89,119021.22,125290.86,109984.594,{"$f":"D713*'Série - IPCA'!$C$444/'Série - IPCA'!$C$385","v":129484.17426424855},{"$f":"E713*'Série - IPCA'!$C$444/'Série - IPCA'!$C$398","v":121397.01211898157},{"$f":"F713*'Série - IPCA'!$C$444/'Série - IPCA'!$C$411","v":122941.46418797915},{"$f":"G713*'Série - IPCA'!$C$444/'Série - IPCA'!$C$424","v":127309.56130051623},{"$f":"H713*'Série - IPCA'!$C$444/'Série - IPCA'!$C$437","v":128096.23309299952},125845.68899294501,"Despesas Gerais e Administratias","N","NÃO","NÃO","ENCARGOS DE GESTÃO","FUNCIONÁRIOS","PESSOAL",4200,"GERÊNCIA FINANCEIRA","Despesas Gerais e Administratias109984,594"]
[null,null,null,96782.81,94846.92,96635.53,111440.18,118549.81,103651.05,{"$f":"D714*'Série - IPCA'!$C$444/'Série - IPCA'!$C$385","v":125974.18095720933},{"$f":"E714*'Série - IPCA'!$C$444/'Série - IPCA'!$C$398","v":118118.44327028669},{"$f":"F714*'Série - IPCA'!$C$444/'Série - IPCA'!$C$411","v":109344.74817494093},{"$f":"G714*'Série - IPCA'!$C$444/'Série - IPCA'!$C$424","v":119200.59655791262},{"$f":"H714*'Série - IPCA'!$C$444/'Série - IPCA'!$C$437","v":121204.24502546161},118768.44279716225,"Despesas Gerais e Administratias","N","NÃO","NÃO","ENCARGOS DE GESTÃO","FUNCIONÁRIOS","PESSOAL",4300,"GERÊNCIA DE TECNOLOGIA E SISTEMAS DE INFORMAÇÃO","Despesas Gerais e Administratias103651,05"]
[null,null,null,95647.96,99534.42,96990.93,113627.62,118698.56,104899.898,{"$f":"D715*'Série - IPCA'!$C$444/'Série - IPCA'!$C$385","v":124497.04055118797},{"$f":"E715*'Série - IPCA'!$C$444/'Série - IPCA'!$C$398","v":123956.06248690933},{"$f":"F715*'Série - IPCA'!$C$444/'Série - IPCA'!$C$411","v":109746.88932842117},{"$f":"G715*'Série - IPCA'!$C$444/'Série - IPCA'!$C$424","v":121540.36443099612},{"$f":"H715*'Série - IPCA'!$C$444/'Série - IPCA'!$C$437","v":121356.32566943341},120219.33649338961,"Despesas Gerais e Administratias","N","NÃO","NÃO","ENCARGOS DE GESTÃO","FUNCIONÁRIOS","PESSOAL",4500,"GERÊNCIA CONTÁBIL","Despesas Gerais e Administratias104899,898"]
[null,null,null,52076.69,0,0,0,4739.09,11363.155999999999,{"$f":"D716*'Série - IPCA'!$C$444/'Série - IPCA'!$C$385","v":67783.921232628942},{"$f":"E716*'Série - IPCA'!$C$444/'Série - IPCA'!$C$398","v":0},{"$f":"F716*'Série - IPCA'!$C$444/'Série - IPCA'!$C$411","v":0},{"$f":"G716*'Série - IPCA'!$C$444/'Série - IPCA'!$C$424","v":0},{"$f":"H716*'Série - IPCA'!$C$444/'Série - IPCA'!$C$437","v":4845.2024137171948},14525.824729269229,"Despesas Gerais e Administratias","N","NÃO","NÃO","ENCARGOS DE GESTÃO","FUNCIONÁRIOS","PESSOAL",4600,"GERÊNCIA DE PESSOAS E CULTURA","Despesas Gerais e Administratias11363,156"]
[null,null,null,0,917.33,0,0,3656.87,914.83999999999992,{"$f":"D717*'Série - IPCA'!$C$444/'Série - IPCA'!$C$385","v":0},{"$f":"E717*'Série - IPCA'!$C$444/'Série - IPCA'!$C$398","v":1142.4049570100126},{"$f":"F717*'Série - IPCA'!$C$444/'Série - IPCA'!$C$411","v":0},{"$f":"G717*'Série - IPCA'!$C$444/'Série - IPCA'!$C$424","v":0},{"$f":"H717*'Série - IPCA'!$C$444/'Série - IPCA'!$C$437","v":3738.7505514033278},976.23110168266817,"Despesas Gerais e Administratias","N","NÃO","NÃO","ENCARGOS DE GESTÃO","FIXO","PESSOAL",1001,"CONSELHO DE ADMINISTRAÇÃO","Despesas Gerais e Administratias914,84"]
[null,null,null,0,0,0,0,1795.15,359.03000000000003,{"$f":"D718*'Série - IPCA'!$C$444/'Série - IPCA'!$C$385","v":0},{"$f":"E718*'Série - IPCA'!$C$444/'Série - IPCA'!$C$398","v":0},{"$f":"F718*'Série - IPCA'!$C$444/'Série - IPCA'!$C$411","v":0},{"$f":"G718*'Série - IPCA'!$C$444/'Série - IPCA'!$C$424","v":0},{"$f":"H718*'Série - IPCA'!$C$444/'Série - IPCA'!$C$437","v":1835.3449951329101},367.06899902658199,"Despesas Gerais e Administratias","N","NÃO","NÃO","ENCARGOS DE GESTÃO","FIXO","PESSOAL",1002,"CONSELHO FISCAL","Despesas Gerais e Administratias359,03"]
[null,null,null,0,65665.710000000006,0,806.1,717,13437.762000000002,{"$f":"D719*'Série - IPCA'!$C$444/'Série - IPCA'!$C$385","v":0},{"$f":"E719*'Série - IPCA'!$C$444/'Série - IPCA'!$C$398","v":81777.367588089299},{"$f":"F719*'Série - IPCA'!$C$444/'Série - IPCA'!$C$411","v":0},{"$f":"G719*'Série - IPCA'!$C$444/'Série - IPCA'!$C$424","v":862.2347961510236},{"$f":"H719*'Série - IPCA'!$C$444/'Série - IPCA'!$C$437","v":733.05426371628914},16674.531329591322,"Despesas Gerais e Administratias","N","NÃO","SIM","ENCARGOS DE GESTÃO","FIXO","PESSOAL",1003,"COMITÊ DE INDICAÇÃO E AVALIAÇÃO","Despesas Gerais e Administratias13437,762"]
[null,null,null,0,127356.02,0,0,860.43,25643.29,{"$f":"D720*'Série - IPCA'!$C$444/'Série - IPCA'!$C$385","v":0},{"$f":"E720*'Série - IPCA'!$C$444/'Série - IPCA'!$C$398","v":158603.93593697611},{"$f":"F720*'Série - IPCA'!$C$444/'Série - IPCA'!$C$411","v":0},{"$f":"G720*'Série - IPCA'!$C$444/'Série - IPCA'!$C$424","v":0},{"$f":"H720*'Série - IPCA'!$C$444/'Série - IPCA'!$C$437","v":879.69578818606226},31896.726345032435,"Despesas Gerais e Administratias","N","NÃO","SIM","ENCARGOS DE GESTÃO","FIXO","PESSOAL",1004,"COMITÊ DE AUDITORIA ESTATUTÁRIA","Despesas Gerais e Administratias25643,29"]
[null,null,null,597793.64,598689.89,621262.06000000006,628761.25,644862.36,618273.84,{"$f":"D721*'Série - IPCA'!$C$444/'Série - IPCA'!$C$385","v":778098.55056315113},{"$f":"E721*'Série - IPCA'!$C$444/'Série - IPCA'!$C$398","v":745583.7027544931},{"$f":"F721*'Série - IPCA'!$C$444/'Série - IPCA'!$C$411","v":702968.60276282497},{"$f":"G721*'Série - IPCA'!$C$444/'Série - IPCA'!$C$424","v":672546.61731970333},{"$f":"H721*'Série - IPCA'!$C$444/'Série - IPCA'!$C$437","v":659301.39819825464},711699.77431968541,"Despesas Gerais e Administratias","N","NÃO","NÃO","ENCARGOS DE GESTÃO","FIXO","PESSOAL",2200,"DIRETORIA COLEGIADA - PRESIDÊNCIA","Despesas Gerais e Administratias618273,84"]
[null,null,null,131415.98000000001,42002.43,26285.72,29651.11,39597.53,53790.554000000004,{"$f":"D722*'Série - IPCA'!$C$444/'Série - IPCA'!$C$385","v":171053.31458333359},{"$f":"E722*'Série - IPCA'!$C$444/'Série - IPCA'!$C$398","v":52308.094402740629},{"$f":"F722*'Série - IPCA'!$C$444/'Série - IPCA'!$C$411","v":29742.739901121346},{"$f":"G722*'Série - IPCA'!$C$444/'Série - IPCA'!$C$424","v":31715.939444859916},{"$f":"H722*'Série - IPCA'!$C$444/'Série - IPCA'!$C$437","v":40484.153694747103},65060.848405360521,"Custos","N","SIM","NÃO","OPEX","FUNCIONÁRIOS","PESSOAL",5100,"GERÊNCIA DE ENGENHARIA","Custos53790,554"]
[null,null,null,470336.72,331274.57,344553.89,315192.87,392912.74,370854.15800000005,{"$f":"D723*'Série - IPCA'!$C$444/'Série - IPCA'!$C$385","v":612198.4170133135},{"$f":"E723*'Série - IPCA'!$C$444/'Série - IPCA'!$C$398","v":412555.68977288477},{"$f":"F723*'Série - IPCA'!$C$444/'Série - IPCA'!$C$411","v":389868.59527490876},{"$f":"G723*'Série - IPCA'!$C$444/'Série - IPCA'!$C$424","v":337142.11637849652},{"$f":"H723*'Série - IPCA'!$C$444/'Série - IPCA'!$C$437","v":401710.40352224506},430695.04439236969,"Custos","N","SIM","NÃO","OPEX","FUNCIONÁRIOS","PESSOAL",5200,"GERÊNCIA DE OPERAÇÕES","Custos370854,158"]
[null,null,null,17737.71,3579.39,45918.28,93171.32,127446.05,57570.55,{"$f":"D724*'Série - IPCA'!$C$444/'Série - IPCA'!$C$385","v":23087.710403391899},{"$f":"E724*'Série - IPCA'!$C$444/'Série - IPCA'!$C$398","v":4457.6247141945305},{"$f":"F724*'Série - IPCA'!$C$444/'Série - IPCA'!$C$411","v":51957.31593986629},{"$f":"G724*'Série - IPCA'!$C$444/'Série - IPCA'!$C$424","v":99659.538651931274},{"$f":"H724*'Série - IPCA'!$C$444/'Série - IPCA'!$C$437","v":130299.6797019517},61892.373882267137,"Despesas com Vendas","N","SIM","NÃO","ENCARGOS DE COMERCIALIZAÇÃO","FUNCIONÁRIOS","PESSOAL",5300,"GERÊNCIA COMERCIAL","Despesas com Vendas57570,55"]
[null,null,null,12529.62,0,0,0,0,2505.924,{"$f":"D725*'Série - IPCA'!$C$444/'Série - IPCA'!$C$385","v":16308.770299240838},{"$f":"E725*'Série - IPCA'!$C$444/'Série - IPCA'!$C$398","v":0},{"$f":"F725*'Série - IPCA'!$C$444/'Série - IPCA'!$C$411","v":0},{"$f":"G725*'Série - IPCA'!$C$444/'Série - IPCA'!$C$424","v":0},{"$f":"H725*'Série - IPCA'!$C$444/'Série - IPCA'!$C$437","v":0},3261.7540598481673,"Despesas com Vendas","N","SIM","NÃO","ENCARGOS DE COMERCIALIZAÇÃO","FUNCIONÁRIOS","PESSOAL",5400,"GERÊNCIA COMERCIAL (inativo)","Despesas com Vendas2505,924"]
[null,null,null,6696.14,0,0,0,0,1339.2280000000001,{"$f":"D726*'Série - IPCA'!$C$444/'Série - IPCA'!$C$385","v":8715.8117446146443},{"$f":"E726*'Série - IPCA'!$C$444/'Série - IPCA'!$C$398","v":0},{"$f":"F726*'Série - IPCA'!$C$444/'Série - IPCA'!$C$411","v":0},{"$f":"G726*'Série - IPCA'!$C$444/'Série - IPCA'!$C$424","v":0},{"$f":"H726*'Série - IPCA'!$C$444/'Série - IPCA'!$C$437","v":0},1743.1623489229289,"Despesas com Vendas","N","SIM","NÃO","ENCARGOS DE COMERCIALIZAÇÃO","FUNCIONÁRIOS","PESSOAL",5500,"GERÊNCIA COMERCIAL (inativo)","Despesas com Vendas1339,228"]
[null,null,null,0,0,8139.38,107.24,4721.75,2593.674,{"$f":"D727*'Série - IPCA'!$C$444/'Série - IPCA'!$C$385","v":0},{"$f":"E727*'Série - IPCA'!$C$444/'Série - IPCA'!$C$398","v":0},{"$f":"F727*'Série - IPCA'!$C$444/'Série - IPCA'!$C$411","v":9209.8471069610823},{"$f":"G727*'Série - IPCA'!$C$444/'Série - IPCA'!$C$424","v":114.70792648459964},{"$f":"H727*'Série - IPCA'!$C$444/'Série - IPCA'!$C$437","v":4827.4741557913367},2830.4058378474037,"Despesas Gerais e Administratias","N","SIM","NÃO","ENCARGOS DE GESTÃO","FUNCIONÁRIOS","PESSOAL",1010,"GOVERNANÇA SOCIETÁRIA","Despesas Gerais e Administratias2593,674"]
[null,null,null,15080.2,0,0,0,0,3016.04,{"$f":"D728*'Série - IPCA'!$C$444/'Série - IPCA'!$C$385","v":19628.64938175393},{"$f":"E728*'Série - IPCA'!$C$444/'Série - IPCA'!$C$398","v":0},{"$f":"F728*'Série - IPCA'!$C$444/'Série - IPCA'!$C$411","v":0},{"$f":"G728*'Série - IPCA'!$C$444/'Série - IPCA'!$C$424","v":0},{"$f":"H728*'Série - IPCA'!$C$444/'Série - IPCA'!$C$437","v":0},3925.7298763507861,"Despesas Gerais e Administratias","N","SIM","NÃO","ENCARGOS DE GESTÃO","FUNCIONÁRIOS","PESSOAL",2100,"SECRETARIA","Despesas Gerais e Administratias3016,04"]
[null,null,null,890.16,2445.25,13565.83,9357.99,9522.8700000000008,7156.42,{"$f":"D729*'Série - IPCA'!$C$444/'Série - IPCA'!$C$385","v":1158.6476660562907},{"$f":"E729*'Série - IPCA'!$C$444/'Série - IPCA'!$C$398","v":3045.2135230819154},{"$f":"F729*'Série - IPCA'!$C$444/'Série - IPCA'!$C$411","v":15349.967709951599},{"$f":"G729*'Série - IPCA'!$C$444/'Série - IPCA'!$C$424","v":10009.657114543255},{"$f":"H729*'Série - IPCA'!$C$444/'Série - IPCA'!$C$437","v":9736.095476033388},7859.9162979332905,"Despesas Gerais e Administratias","N","SIM","NÃO","ENCARGOS DE GESTÃO","FUNCIONÁRIOS","PESSOAL",2110,"ASSESSORIA DA DIRETORIA EXECUTIVA","Despesas Gerais e Administratias7156,42"]
[null,null,null,19050.7,27582.65,32258.14,25371.49,30490.46,26950.688000000002,{"$f":"D730*'Série - IPCA'!$C$444/'Série - IPCA'!$C$385","v":24796.720917294173},{"$f":"E730*'Série - IPCA'!$C$444/'Série - IPCA'!$C$398","v":34350.294972880234},{"$f":"F730*'Série - IPCA'!$C$444/'Série - IPCA'!$C$411","v":36500.634858545185},{"$f":"G730*'Série - IPCA'!$C$444/'Série - IPCA'!$C$424","v":27138.297367817559},{"$f":"H730*'Série - IPCA'!$C$444/'Série - IPCA'!$C$437","v":31173.168348216128},30791.823292950656,"Despesas Gerais e Administratias","N","SIM","NÃO","ENCARGOS DE GESTÃO","FUNCIONÁRIOS","PESSOAL",2410,"ASSESSORIA DE SEGURANÇA DO TRABALHO","Despesas Gerais e Administratias26950,688"]
[null,null,null,16984.43,0,0,0,0,3396.886,{"$f":"D731*'Série - IPCA'!$C$444/'Série - IPCA'!$C$385","v":22107.228114941638},{"$f":"E731*'Série - IPCA'!$C$444/'Série - IPCA'!$C$398","v":0},{"$f":"F731*'Série - IPCA'!$C$444/'Série - IPCA'!$C$411","v":0},{"$f":"G731*'Série - IPCA'!$C$444/'Série - IPCA'!$C$424","v":0},{"$f":"H731*'Série - IPCA'!$C$444/'Série - IPCA'!$C$437","v":0},4421.4456229883272,"Despesas Gerais e Administratias","N","SIM","NÃO","ENCARGOS DE GESTÃO","FUNCIONÁRIOS","PESSOAL",3100,"SMS","Despesas Gerais e Administratias3396,886"]
[null,null,null,188.38,62.99,110.18,68.680000000000007,183.94,122.83400000000002,{"$f":"D732*'Série - IPCA'!$C$444/'Série - IPCA'!$C$385","v":245.19866915125829},{"$f":"E732*'Série - IPCA'!$C$444/'Série - IPCA'!$C$398","v":78.44514868374597},{"$f":"F732*'Série - IPCA'!$C$444/'Série - IPCA'!$C$411","v":124.67054668107055},{"$f":"G732*'Série - IPCA'!$C$444/'Série - IPCA'!$C$424","v":73.46270413056979},{"$f":"H732*'Série - IPCA'!$C$444/'Série - IPCA'!$C$437","v":188.05857917430154},141.96712956418924,"Despesas Gerais e Administratias","N","SIM","NÃO","ENCARGOS DE GESTÃO","FUNCIONÁRIOS","PESSOAL",3200,"GERÊNCIA DE PLANEJAMENTO E MEIO AMBIENTE","Despesas Gerais e Administratias122,834"]
[null,null,null,1182.78,21.31,1813.31,2637.4,2003.99,1531.7579999999998,{"$f":"D733*'Série - IPCA'!$C$444/'Série - IPCA'!$C$385","v":1539.5269237643342},{"$f":"E733*'Série - IPCA'!$C$444/'Série - IPCA'!$C$398","v":26.538595307995344},{"$f":"F733*'Série - IPCA'!$C$444/'Série - IPCA'!$C$411","v":2051.7911508645125},{"$f":"G733*'Série - IPCA'!$C$444/'Série - IPCA'!$C$424","v":2821.061966714688},{"$f":"H733*'Série - IPCA'!$C$444/'Série - IPCA'!$C$437","v":2048.8611073149323},1697.5559487932921,"Despesas Gerais e Administratias","N","SIM","NÃO","ENCARGOS DE GESTÃO","FUNCIONÁRIOS","PESSOAL",3300,"GERÊNCIA JURÍDICA","Despesas Gerais e Administratias1531,758"]
[null,null,null,4352.05,0,0,0,0,870.41000000000008,{"$f":"D734*'Série - IPCA'!$C$444/'Série - IPCA'!$C$385","v":5664.7036207651217},{"$f":"E734*'Série - IPCA'!$C$444/'Série - IPCA'!$C$398","v":0},{"$f":"F734*'Série - IPCA'!$C$444/'Série - IPCA'!$C$411","v":0},{"$f":"G734*'Série - IPCA'!$C$444/'Série - IPCA'!$C$424","v":0},{"$f":"H734*'Série - IPCA'!$C$444/'Série - IPCA'!$C$437","v":0},1132.9407241530243,"Despesas Gerais e Administratias","N","SIM","NÃO","ENCARGOS DE GESTÃO","FUNCIONÁRIOS","PESSOAL",3400,"MARKETING","Despesas Gerais e Administratias870,41"]
[null,null,null,2087.48,1904.94,859.66,830.54,7050.85,2546.6940000000004,{"$f":"D735*'Série - IPCA'!$C$444/'Série - IPCA'!$C$385","v":2717.1001055306756},{"$f":"E735*'Série - IPCA'!$C$444/'Série - IPCA'!$C$398","v":2372.3337281094623},{"$f":"F735*'Série - IPCA'!$C$444/'Série - IPCA'!$C$411","v":972.71993247276362},{"$f":"G735*'Série - IPCA'!$C$444/'Série - IPCA'!$C$424","v":888.37673687541394},{"$f":"H735*'Série - IPCA'!$C$444/'Série - IPCA'!$C$437","v":7208.724763352855},2831.851053268234,"Despesas Gerais e Administratias","N","SIM","NÃO","ENCARGOS DE GESTÃO","FUNCIONÁRIOS","PESSOAL",3500,"ASSESSORIA DE COMUNICAÇÃO INSTITUCIONAL","Despesas Gerais e Administratias2546,694"]
[null,null,null,5153.88,8048.88,2492.27,1581.25,2738.26,4002.9080000000004,{"$f":"D736*'Série - IPCA'!$C$444/'Série - IPCA'!$C$385","v":6708.3794296915121},{"$f":"E736*'Série - IPCA'!$C$444/'Série - IPCA'!$C$398","v":10023.743266195099},{"$f":"F736*'Série - IPCA'!$C$444/'Série - IPCA'!$C$411","v":2820.0459554985632},{"$f":"G736*'Série - IPCA'!$C$444/'Série - IPCA'!$C$424","v":1691.3643113928867},{"$f":"H736*'Série - IPCA'!$C$444/'Série - IPCA'!$C$437","v":2799.5720615952109},4808.6210048746552,"Despesas Gerais e Administratias","N","SIM","NÃO","ENCARGOS DE GESTÃO","FUNCIONÁRIOS","PESSOAL",3600,"GERÊNCIA DE GOVERNANÇA, RISCO E COMPLIANCE","Despesas Gerais e Administratias4002,908"]
[null,null,null,4309.7299999999996,3552.7,6214.05,5511.02,8936.52,5704.8040000000001,{"$f":"D737*'Série - IPCA'!$C$444/'Série - IPCA'!$C$385","v":5609.619176139995},{"$f":"E737*'Série - IPCA'!$C$444/'Série - IPCA'!$C$398","v":4424.38608872431},{"$f":"F737*'Série - IPCA'!$C$444/'Série - IPCA'!$C$411","v":7031.3034180750265},{"$f":"G737*'Série - IPCA'!$C$444/'Série - IPCA'!$C$424","v":5894.7937058481757},{"$f":"H737*'Série - IPCA'!$C$444/'Série - IPCA'!$C$437","v":9136.6165812913423},6419.3437940157701,"Despesas Gerais e Administratias","N","SIM","NÃO","ENCARGOS DE GESTÃO","FUNCIONÁRIOS","PESSOAL",4100,"GERÊNCIA DE SERVIÇOS CORPORATIVOS","Despesas Gerais e Administratias5704,804"]
[null,null,null,20120.310000000001,3661.01,68974.09,29384.6,31852.59,30798.52,{"$f":"D738*'Série - IPCA'!$C$444/'Série - IPCA'!$C$385","v":26188.943809909513},{"$f":"E738*'Série - IPCA'!$C$444/'Série - IPCA'!$C$398","v":4559.2708966928221},{"$f":"F738*'Série - IPCA'!$C$444/'Série - IPCA'!$C$411","v":78045.357661366492},{"$f":"G738*'Série - IPCA'!$C$444/'Série - IPCA'!$C$424","v":31430.870352288013},{"$f":"H738*'Série - IPCA'!$C$444/'Série - IPCA'!$C$437","v":32565.797642826827},34558.04807261673,"Despesas Gerais e Administratias","N","SIM","NÃO","ENCARGOS DE GESTÃO","FUNCIONÁRIOS","PESSOAL",4200,"GERÊNCIA FINANCEIRA","Despesas Gerais e Administratias30798,52"]
[null,null,null,22657.34,30615.53,39057.769999999997,24411.45,50003.22,33349.061999999998,{"$f":"D739*'Série - IPCA'!$C$444/'Série - IPCA'!$C$385","v":29491.185977850997},{"$f":"E739*'Série - IPCA'!$C$444/'Série - IPCA'!$C$398","v":38127.318667751788},{"$f":"F739*'Série - IPCA'!$C$444/'Série - IPCA'!$C$411","v":44194.532020725324},{"$f":"G739*'Série - IPCA'!$C$444/'Série - IPCA'!$C$424","v":26111.402573503168},{"$f":"H739*'Série - IPCA'!$C$444/'Série - IPCA'!$C$437","v":51122.836290855819},37809.455106137415,"Despesas Gerais e Administratias","N","SIM","NÃO","ENCARGOS DE GESTÃO","FUNCIONÁRIOS","PESSOAL",4300,"GERÊNCIA DE TECNOLOGIA E SISTEMAS DE INFORMAÇÃO","Despesas Gerais e Administratias33349,062"]
[null,null,null,7483.16,11847.55,6976.4,2841.49,2510.7399999999998,6331.8679999999995,{"$f":"D740*'Série - IPCA'!$C$444/'Série - IPCA'!$C$385","v":9740.2106011568649},{"$f":"E740*'Série - IPCA'!$C$444/'Série - IPCA'!$C$398","v":14754.450250644777},{"$f":"F740*'Série - IPCA'!$C$444/'Série - IPCA'!$C$411","v":7893.9154280796929},{"$f":"G740*'Série - IPCA'!$C$444/'Série - IPCA'!$C$424","v":3039.3642859634933},{"$f":"H740*'Série - IPCA'!$C$444/'Série - IPCA'!$C$437","v":2566.9576877029785},7598.9796507095616,"Despesas Gerais e Administratias","N","SIM","NÃO","ENCARGOS DE GESTÃO","FUNCIONÁRIOS","PESSOAL",4500,"GERÊNCIA CONTÁBIL","Despesas Gerais e Administratias6331,868"]
[null,null,null,2323.71,0,0,0,666.81,598.10400000000004,{"$f":"D741*'Série - IPCA'!$C$444/'Série - IPCA'!$C$385","v":3024.5811630399749},{"$f":"E741*'Série - IPCA'!$C$444/'Série - IPCA'!$C$398","v":0},{"$f":"F741*'Série - IPCA'!$C$444/'Série - IPCA'!$C$411","v":0},{"$f":"G741*'Série - IPCA'!$C$444/'Série - IPCA'!$C$424","v":0},{"$f":"H741*'Série - IPCA'!$C$444/'Série - IPCA'!$C$437","v":681.74046525614881},741.26432565922482,"Despesas Gerais e Administratias","N","SIM","NÃO","ENCARGOS DE GESTÃO","FUNCIONÁRIOS","PESSOAL",4600,"GERÊNCIA DE PESSOAS E CULTURA","Despesas Gerais e Administratias598,104"]
[null,null,null,8683.31,7666.95,11632,15078.5,15613.34,11734.819999999998,{"$f":"D742*'Série - IPCA'!$C$444/'Série - IPCA'!$C$385","v":11302.346617622956},{"$f":"E742*'Série - IPCA'!$C$444/'Série - IPCA'!$C$398","v":9548.1033926154323},{"$f":"F742*'Série - IPCA'!$C$444/'Série - IPCA'!$C$411","v":13161.806126286192},{"$f":"G742*'Série - IPCA'!$C$444/'Série - IPCA'!$C$424","v":16128.529182189815},{"$f":"H742*'Série - IPCA'!$C$444/'Série - IPCA'!$C$437","v":15962.936482359954},13220.744360214867,"Custos","N","SIM","NÃO","OPEX","FUNCIONÁRIOS","VIAGENS_REPRESENTAÇÕES",5100,"GERÊNCIA DE ENGENHARIA","Custos11734,82"]
[null,null,null,16873.72,27159.81,7586.15,9549.24,20607.29,16355.241999999998,{"$f":"D743*'Série - IPCA'!$C$444/'Série - IPCA'!$C$385","v":21963.126062379077},{"$f":"E743*'Série - IPCA'!$C$444/'Série - IPCA'!$C$398","v":33823.707472174799},{"$f":"F743*'Série - IPCA'!$C$444/'Série - IPCA'!$C$411","v":8583.8579388691523},{"$f":"G743*'Série - IPCA'!$C$444/'Série - IPCA'!$C$424","v":10214.225288174172},{"$f":"H743*'Série - IPCA'!$C$444/'Série - IPCA'!$C$437","v":21068.705436733679},19130.724439666177,"Custos","N","SIM","NÃO","OPEX","FUNCIONÁRIOS","VIAGENS_REPRESENTAÇÕES",5200,"GERÊNCIA DE OPERAÇÕES","Custos16355,242"]
[null,null,null,1352,1146.3900000000001,1118.25,917.7,1798.72,1266.6120000000001,{"$f":"D744*'Série - IPCA'!$C$444/'Série - IPCA'!$C$385","v":1759.7866052261452},{"$f":"E744*'Série - IPCA'!$C$444/'Série - IPCA'!$C$398","v":1427.6668359987227},{"$f":"F744*'Série - IPCA'!$C$444/'Série - IPCA'!$C$411","v":1265.3189220013355},{"$f":"G744*'Série - IPCA'!$C$444/'Série - IPCA'!$C$424","v":981.60634217565359},{"$f":"H744*'Série - IPCA'!$C$444/'Série - IPCA'!$C$437","v":1838.9949305882337},1454.674727198018,"Despesas com Vendas","N","SIM","NÃO","ENCARGOS DE COMERCIALIZAÇÃO","FUNCIONÁRIOS","VIAGENS_REPRESENTAÇÕES",5300,"GERÊNCIA COMERCIAL","Despesas com Vendas1266,612"]
[null,null,null,236.25,380,0,0,0,123.25,{"$f":"D745*'Série - IPCA'!$C$444/'Série - IPCA'!$C$385","v":307.50708985553018},{"$f":"E745*'Série - IPCA'!$C$444/'Série - IPCA'!$C$398","v":473.23633116087422},{"$f":"F745*'Série - IPCA'!$C$444/'Série - IPCA'!$C$411","v":0},{"$f":"G745*'Série - IPCA'!$C$444/'Série - IPCA'!$C$424","v":0},{"$f":"H745*'Série - IPCA'!$C$444/'Série - IPCA'!$C$437","v":0},156.14868420328088,"Despesas com Vendas","N","SIM","NÃO","ENCARGOS DE COMERCIALIZAÇÃO","FUNCIONÁRIOS","VIAGENS_REPRESENTAÇÕES",5400,"GERÊNCIA COMERCIAL (inativo)","Despesas com Vendas123,25"]
[null,null,null,927.68,924.22,1114,294.52,571.20000000000005,766.32399999999996,{"$f":"D746*'Série - IPCA'!$C$444/'Série - IPCA'!$C$385","v":1207.4843475859395},{"$f":"E746*'Série - IPCA'!$C$444/'Série - IPCA'!$C$398","v":1150.985478909219},{"$f":"F746*'Série - IPCA'!$C$444/'Série - IPCA'!$C$411","v":1260.5099746116591},{"$f":"G746*'Série - IPCA'!$C$444/'Série - IPCA'!$C$424","v":315.0296392040683},{"$f":"H746*'Série - IPCA'!$C$444/'Série - IPCA'!$C$437","v":583.98967285180527},903.59982263253823,"Despesas Gerais e Administratias","N","SIM","NÃO","ENCARGOS DE GESTÃO","FUNCIONÁRIOS","VIAGENS_REPRESENTAÇÕES",1001,"CONSELHO DE ADMINISTRAÇÃO","Despesas Gerais e Administratias766,324"]
[null,null,null,0,0,0,0,892.5,178.5,{"$f":"D747*'Série - IPCA'!$C$444/'Série - IPCA'!$C$385","v":0},{"$f":"E747*'Série - IPCA'!$C$444/'Série - IPCA'!$C$398","v":0},{"$f":"F747*'Série - IPCA'!$C$444/'Série - IPCA'!$C$411","v":0},{"$f":"G747*'Série - IPCA'!$C$444/'Série - IPCA'!$C$424","v":0},{"$f":"H747*'Série - IPCA'!$C$444/'Série - IPCA'!$C$437","v":912.48386383094567},182.49677276618914,"Despesas Gerais e Administratias","N","SIM","SIM","ENCARGOS DE GESTÃO","FUNCIONÁRIOS","VIAGENS_REPRESENTAÇÕES",1004,"COMITÊ DE AUDITORIA ESTATUTÁRIA","Despesas Gerais e Administratias178,5"]
[null,null,null,0,196.35,0,0,1026.9000000000001,244.65,{"$f":"D748*'Série - IPCA'!$C$444/'Série - IPCA'!$C$385","v":0},{"$f":"E748*'Série - IPCA'!$C$444/'Série - IPCA'!$C$398","v":244.52619374588855},{"$f":"F748*'Série - IPCA'!$C$444/'Série - IPCA'!$C$411","v":0},{"$f":"G748*'Série - IPCA'!$C$444/'Série - IPCA'!$C$424","v":0},{"$f":"H748*'Série - IPCA'!$C$444/'Série - IPCA'!$C$437","v":1049.8931986196058},258.88387847309889,"Despesas Gerais e Administratias","N","SIM","NÃO","ENCARGOS DE GESTÃO","FUNCIONÁRIOS","VIAGENS_REPRESENTAÇÕES",1005,"AUDITORIA INTERNA","Despesas Gerais e Administratias244,65"]
[null,null,null,0,0,0,1870,0,374,{"$f":"D749*'Série - IPCA'!$C$444/'Série - IPCA'!$C$385","v":0},{"$f":"E749*'Série - IPCA'!$C$444/'Série - IPCA'!$C$398","v":0},{"$f":"F749*'Série - IPCA'!$C$444/'Série - IPCA'!$C$411","v":0},{"$f":"G749*'Série - IPCA'!$C$444/'Série - IPCA'!$C$424","v":2000.2221421689792},{"$f":"H749*'Série - IPCA'!$C$444/'Série - IPCA'!$C$437","v":0},400.04442843379582,"Despesas Gerais e Administratias","N","SIM","NÃO","ENCARGOS DE GESTÃO","FUNCIONÁRIOS","VIAGENS_REPRESENTAÇÕES",2100,"SECRETARIA","Despesas Gerais e Administratias374"]
[null,null,null,0,0,745.5,7429.3,4357.74,2506.5080000000003,{"$f":"D750*'Série - IPCA'!$C$444/'Série - IPCA'!$C$385","v":0},{"$f":"E750*'Série - IPCA'!$C$444/'Série - IPCA'!$C$398","v":0},{"$f":"F750*'Série - IPCA'!$C$444/'Série - IPCA'!$C$411","v":843.54594800089023},{"$f":"G750*'Série - IPCA'!$C$444/'Série - IPCA'!$C$424","v":7946.6579469604267},{"$f":"H750*'Série - IPCA'!$C$444/'Série - IPCA'!$C$437","v":4455.3136501632098},2649.1035090249052,"Despesas Gerais e Administratias","N","SIM","NÃO","ENCARGOS DE GESTÃO","FUNCIONÁRIOS","VIAGENS_REPRESENTAÇÕES",2120,"ASSESSORIA DA PRESIDÊNCIA","Despesas Gerais e Administratias2506,508"]
[null,null,null,0,0,0,0,2935.23,587.04600000000005,{"$f":"D751*'Série - IPCA'!$C$444/'Série - IPCA'!$C$385","v":0},{"$f":"E751*'Série - IPCA'!$C$444/'Série - IPCA'!$C$398","v":0},{"$f":"F751*'Série - IPCA'!$C$444/'Série - IPCA'!$C$411","v":0},{"$f":"G751*'Série - IPCA'!$C$444/'Série - IPCA'!$C$424","v":0},{"$f":"H751*'Série - IPCA'!$C$444/'Série - IPCA'!$C$437","v":3000.9523939860019},600.1904787972004,"Despesas Gerais e Administratias","N","SIM","NÃO","ENCARGOS DE GESTÃO","FUNCIONÁRIOS","VIAGENS_REPRESENTAÇÕES",2130,"ASSESSORIA DE RELAÇÕES INSTITUCIONAIS E NOVOS NEGÓCIOS","Despesas Gerais e Administratias587,046"]
[null,null,null,0,0,0,0,1670.61,334.12199999999996,{"$f":"D752*'Série - IPCA'!$C$444/'Série - IPCA'!$C$385","v":0},{"$f":"E752*'Série - IPCA'!$C$444/'Série - IPCA'!$C$398","v":0},{"$f":"F752*'Série - IPCA'!$C$444/'Série - IPCA'!$C$411","v":0},{"$f":"G752*'Série - IPCA'!$C$444/'Série - IPCA'!$C$424","v":0},{"$f":"H752*'Série - IPCA'!$C$444/'Série - IPCA'!$C$437","v":1708.0164344589537},341.60328689179073,"Despesas Gerais e Administratias","N","SIM","NÃO","ENCARGOS DE GESTÃO","FUNCIONÁRIOS","VIAGENS_REPRESENTAÇÕES",2140,"ASSESSORIA DTC","Despesas Gerais e Administratias334,122"]
[null,null,null,1993.06,0,0,0,4119.99,1222.6099999999999,{"$f":"D753*'Série - IPCA'!$C$444/'Série - IPCA'!$C$385","v":2594.2013989733882},{"$f":"E753*'Série - IPCA'!$C$444/'Série - IPCA'!$C$398","v":0},{"$f":"F753*'Série - IPCA'!$C$444/'Série - IPCA'!$C$411","v":0},{"$f":"G753*'Série - IPCA'!$C$444/'Série - IPCA'!$C$424","v":0},{"$f":"H753*'Série - IPCA'!$C$444/'Série - IPCA'!$C$437","v":4212.2402175292527},1361.2883233005282,"Despesas Gerais e Administratias","N","SIM","NÃO","ENCARGOS DE GESTÃO","FUNCIONÁRIOS","VIAGENS_REPRESENTAÇÕES",2300,"DIRETORIA COLEGIADA - DAF","Despesas Gerais e Administratias1222,61"]
[null,null,null,13426.89,25579.9,7247.98,13237.72,30986.57,18095.811999999998,{"$f":"D754*'Série - IPCA'!$C$444/'Série - IPCA'!$C$385","v":17476.672464382304},{"$f":"E754*'Série - IPCA'!$C$444/'Série - IPCA'!$C$398","v":31856.152703847496},{"$f":"F754*'Série - IPCA'!$C$444/'Série - IPCA'!$C$411","v":8201.2128238651803},{"$f":"G754*'Série - IPCA'!$C$444/'Série - IPCA'!$C$424","v":14159.561848039111},{"$f":"H754*'Série - IPCA'!$C$444/'Série - IPCA'!$C$437","v":31680.386689600073},20674.797305946831,"Despesas Gerais e Administratias","N","SIM","NÃO","ENCARGOS DE GESTÃO","FUNCIONÁRIOS","VIAGENS_REPRESENTAÇÕES",2200,"DIRETORIA COLEGIADA - PRESIDÊNCIA","Despesas Gerais e Administratias18095,812"]
[null,null,null,0,0,1118.25,500.58,0,323.76599999999996,{"$f":"D755*'Série - IPCA'!$C$444/'Série - IPCA'!$C$385","v":0},{"$f":"E755*'Série - IPCA'!$C$444/'Série - IPCA'!$C$398","v":0},{"$f":"F755*'Série - IPCA'!$C$444/'Série - IPCA'!$C$411","v":1265.3189220013355},{"$f":"G755*'Série - IPCA'!$C$444/'Série - IPCA'!$C$424","v":535.43914434596127},{"$f":"H755*'Série - IPCA'!$C$444/'Série - IPCA'!$C$437","v":0},360.15161326945935,"Despesas Gerais e Administratias","N","SIM","NÃO","ENCARGOS DE GESTÃO","FUNCIONÁRIOS","VIAGENS_REPRESENTAÇÕES",2310,"ASSESSORIA DAF","Despesas Gerais e Administratias323,766"]
[null,null,null,1630.65,1567.65,0,4135.74,10787.88,3624.3839999999996,{"$f":"D756*'Série - IPCA'!$C$444/'Série - IPCA'!$C$385","v":2122.4822690917258},{"$f":"E756*'Série - IPCA'!$C$444/'Série - IPCA'!$C$398","v":1952.2866698535381},{"$f":"F756*'Série - IPCA'!$C$444/'Série - IPCA'!$C$411","v":0},{"$f":"G756*'Série - IPCA'!$C$444/'Série - IPCA'!$C$424","v":4423.7426322213551},{"$f":"H756*'Série - IPCA'!$C$444/'Série - IPCA'!$C$437","v":11029.430168005132},3905.5883478343503,"Despesas Gerais e Administratias","N","SIM","NÃO","ENCARGOS DE GESTÃO","FUNCIONÁRIOS","VIAGENS_REPRESENTAÇÕES",2400,"DIRETORIA COLEGIADA - DTC","Despesas Gerais e Administratias3624,384"]
[null,null,null,0,1431,330,199,5943.27,1580.654,{"$f":"D757*'Série - IPCA'!$C$444/'Série - IPCA'!$C$385","v":0},{"$f":"E757*'Série - IPCA'!$C$444/'Série - IPCA'!$C$398","v":1782.1083944505554},{"$f":"F757*'Série - IPCA'!$C$444/'Série - IPCA'!$C$411","v":373.40062084546446},{"$f":"G757*'Série - IPCA'!$C$444/'Série - IPCA'!$C$424","v":212.85786432707317},{"$f":"H757*'Série - IPCA'!$C$444/'Série - IPCA'!$C$437","v":6076.3450682247003},1688.9423895695586,"Despesas Gerais e Administratias","N","SIM","NÃO","ENCARGOS DE GESTÃO","FUNCIONÁRIOS","VIAGENS_REPRESENTAÇÕES",2410,"ASSESSORIA DE SEGURANÇA DO TRABALHO","Despesas Gerais e Administratias1580,654"]
[null,null,null,2694.6,0,268.64999999999998,0,0,592.65,{"$f":"D758*'Série - IPCA'!$C$444/'Série - IPCA'!$C$385","v":3507.338007723647},{"$f":"E758*'Série - IPCA'!$C$444/'Série - IPCA'!$C$398","v":0},{"$f":"F758*'Série - IPCA'!$C$444/'Série - IPCA'!$C$411","v":303.98205087919405},{"$f":"G758*'Série - IPCA'!$C$444/'Série - IPCA'!$C$424","v":0},{"$f":"H758*'Série - IPCA'!$C$444/'Série - IPCA'!$C$437","v":0},762.26401172056819,"Despesas Gerais e Administratias","N","SIM","NÃO","ENCARGOS DE GESTÃO","FUNCIONÁRIOS","VIAGENS_REPRESENTAÇÕES",3100,"SMS","Despesas Gerais e Administratias592,65"]
[null,null,null,4352.38,3289.61,373.75,1321.16,487.11,1964.8020000000001,{"$f":"D759*'Série - IPCA'!$C$444/'Série - IPCA'!$C$385","v":5665.1331544779359},{"$f":"E759*'Série - IPCA'!$C$444/'Série - IPCA'!$C$398","v":4096.7446509213778},{"$f":"F759*'Série - IPCA'!$C$444/'Série - IPCA'!$C$411","v":422.90449103331014},{"$f":"G759*'Série - IPCA'!$C$444/'Série - IPCA'!$C$424","v":1413.1622916299298},{"$f":"H759*'Série - IPCA'!$C$444/'Série - IPCA'!$C$437","v":498.01682342934669},2419.1922822983802,"Despesas Gerais e Administratias","N","SIM","NÃO","ENCARGOS DE GESTÃO","FUNCIONÁRIOS","VIAGENS_REPRESENTAÇÕES",3200,"GERÊNCIA DE PLANEJAMENTO E MEIO AMBIENTE","Despesas Gerais e Administratias1964,802"]
[null,null,null,4085.61,803.86,0,344.34,869.4,1220.6420000000001,{"$f":"D760*'Série - IPCA'!$C$444/'Série - IPCA'!$C$385","v":5317.9007042736612},{"$f":"E760*'Série - IPCA'!$C$444/'Série - IPCA'!$C$398","v":1001.0940978078431},{"$f":"F760*'Série - IPCA'!$C$444/'Série - IPCA'!$C$411","v":0},{"$f":"G760*'Série - IPCA'!$C$444/'Série - IPCA'!$C$424","v":368.31897991147929},{"$f":"H760*'Série - IPCA'!$C$444/'Série - IPCA'!$C$437","v":888.86663441414476},1515.2360832814256,"Despesas Gerais e Administratias","N","SIM","NÃO","ENCARGOS DE GESTÃO","FUNCIONÁRIOS","VIAGENS_REPRESENTAÇÕES",3300,"GERÊNCIA JURÍDICA","Despesas Gerais e Administratias1220,642"]
[null,null,null,0,0,0,2319.4499999999998,3871.89,1238.268,{"$f":"D761*'Série - IPCA'!$C$444/'Série - IPCA'!$C$385","v":0},{"$f":"E761*'Série - IPCA'!$C$444/'Série - IPCA'!$C$398","v":0},{"$f":"F761*'Série - IPCA'!$C$444/'Série - IPCA'!$C$411","v":0},{"$f":"G761*'Série - IPCA'!$C$444/'Série - IPCA'!$C$424","v":2480.970720670502},{"$f":"H761*'Série - IPCA'!$C$444/'Série - IPCA'!$C$437","v":3958.5850392475072},1287.9111519836019,"Despesas Gerais e Administratias","N","SIM","NÃO","ENCARGOS DE GESTÃO","FUNCIONÁRIOS","VIAGENS_REPRESENTAÇÕES",3500,"ASSESSORIA DE COMUNICAÇÃO INSTITUCIONAL","Despesas Gerais e Administratias1238,268"]
[null,null,null,0,357.01,0,0,2278.31,527.06399999999996,{"$f":"D762*'Série - IPCA'!$C$444/'Série - IPCA'!$C$385","v":0},{"$f":"E762*'Série - IPCA'!$C$444/'Série - IPCA'!$C$398","v":444.60553312564133},{"$f":"F762*'Série - IPCA'!$C$444/'Série - IPCA'!$C$411","v":0},{"$f":"G762*'Série - IPCA'!$C$444/'Série - IPCA'!$C$424","v":0},{"$f":"H762*'Série - IPCA'!$C$444/'Série - IPCA'!$C$437","v":2329.3233745710718},554.78578153934257,"Despesas Gerais e Administratias","N","SIM","NÃO","ENCARGOS DE GESTÃO","FUNCIONÁRIOS","VIAGENS_REPRESENTAÇÕES",3600,"GERÊNCIA DE GOVERNANÇA, RISCO E COMPLIANCE","Despesas Gerais e Administratias527,064"]
[null,null,null,0,0,1118.25,325.92,4642.34,1217.3020000000001,{"$f":"D763*'Série - IPCA'!$C$444/'Série - IPCA'!$C$385","v":0},{"$f":"E763*'Série - IPCA'!$C$444/'Série - IPCA'!$C$398","v":0},{"$f":"F763*'Série - IPCA'!$C$444/'Série - IPCA'!$C$411","v":1265.3189220013355},{"$f":"G763*'Série - IPCA'!$C$444/'Série - IPCA'!$C$424","v":348.61625699236026},{"$f":"H763*'Série - IPCA'!$C$444/'Série - IPCA'!$C$437","v":4746.286095705269},1272.0442549397928,"Despesas Gerais e Administratias","N","SIM","NÃO","ENCARGOS DE GESTÃO","FUNCIONÁRIOS","VIAGENS_REPRESENTAÇÕES",3700,"GERÊNCIA DE REGULAÇÃO","Despesas Gerais e Administratias1217,302"]
[null,null,null,1263.29,584.42999999999995,0,900.9,787.94,707.31200000000001,{"$f":"D764*'Série - IPCA'!$C$444/'Série - IPCA'!$C$385","v":1644.3201335178526},{"$f":"E764*'Série - IPCA'!$C$444/'Série - IPCA'!$C$398","v":727.82502373776242},{"$f":"F764*'Série - IPCA'!$C$444/'Série - IPCA'!$C$411","v":0},{"$f":"G764*'Série - IPCA'!$C$444/'Série - IPCA'!$C$424","v":963.63643202140815},{"$f":"H764*'Série - IPCA'!$C$444/'Série - IPCA'!$C$437","v":805.58267301619651},828.27285245864391,"Despesas Gerais e Administratias","N","SIM","NÃO","ENCARGOS DE GESTÃO","FUNCIONÁRIOS","VIAGENS_REPRESENTAÇÕES",4100,"GERÊNCIA DE SERVIÇOS CORPORATIVOS","Despesas Gerais e Administratias707,312"]
[null,null,null,1290.1400000000001,714.02,0,0,19088.57,4218.5460000000003,{"$f":"D765*'Série - IPCA'!$C$444/'Série - IPCA'!$C$385","v":1679.2685583331797},{"$f":"E765*'Série - IPCA'!$C$444/'Série - IPCA'!$C$398","v":889.21106625128266},{"$f":"F765*'Série - IPCA'!$C$444/'Série - IPCA'!$C$411","v":0},{"$f":"G765*'Série - IPCA'!$C$444/'Série - IPCA'!$C$424","v":0},{"$f":"H765*'Série - IPCA'!$C$444/'Série - IPCA'!$C$437","v":19515.97995362182},4416.8919156412567,"Despesas Gerais e Administratias","N","SIM","NÃO","ENCARGOS DE GESTÃO","FUNCIONÁRIOS","VIAGENS_REPRESENTAÇÕES",4200,"GERÊNCIA FINANCEIRA","Despesas Gerais e Administratias4218,546"]
[null,null,null,4520.6000000000004,1996.4,0,0,0,1303.4000000000001,{"$f":"D766*'Série - IPCA'!$C$444/'Série - IPCA'!$C$385","v":5884.0912186281894},{"$f":"E766*'Série - IPCA'!$C$444/'Série - IPCA'!$C$398","v":2486.2342408672876},{"$f":"F766*'Série - IPCA'!$C$444/'Série - IPCA'!$C$411","v":0},{"$f":"G766*'Série - IPCA'!$C$444/'Série - IPCA'!$C$424","v":0},{"$f":"H766*'Série - IPCA'!$C$444/'Série - IPCA'!$C$437","v":0},1674.0650918990955,"Despesas Gerais e Administratias","N","SIM","NÃO","ENCARGOS DE GESTÃO","FUNCIONÁRIOS","VIAGENS_REPRESENTAÇÕES",4300,"GERÊNCIA DE TECNOLOGIA E SISTEMAS DE INFORMAÇÃO","Despesas Gerais e Administratias1303,4"]
[null,null,null,1972.25,0,0,0,985.3,591.51,{"$f":"D767*'Série - IPCA'!$C$444/'Série - IPCA'!$C$385","v":2567.1147427198703},{"$f":"E767*'Série - IPCA'!$C$444/'Série - IPCA'!$C$398","v":0},{"$f":"F767*'Série - IPCA'!$C$444/'Série - IPCA'!$C$411","v":0},{"$f":"G767*'Série - IPCA'!$C$444/'Série - IPCA'!$C$424","v":0},{"$f":"H767*'Série - IPCA'!$C$444/'Série - IPCA'!$C$437","v":1007.3617378516871},714.89529611431146,"Despesas Gerais e Administratias","N","SIM","NÃO","ENCARGOS DE GESTÃO","FUNCIONÁRIOS","VIAGENS_REPRESENTAÇÕES",4500,"GERÊNCIA CONTÁBIL","Despesas Gerais e Administratias591,51"]
[null,null,null,0,0,8935.92,0,0,1787.184,{"$f":"D768*'Série - IPCA'!$C$444/'Série - IPCA'!$C$385","v":0},{"$f":"E768*'Série - IPCA'!$C$444/'Série - IPCA'!$C$398","v":0},{"$f":"F768*'Série - IPCA'!$C$444/'Série - IPCA'!$C$411","v":10111.145684319403},{"$f":"G768*'Série - IPCA'!$C$444/'Série - IPCA'!$C$424","v":0},{"$f":"H768*'Série - IPCA'!$C$444/'Série - IPCA'!$C$437","v":0},2022.2291368638805,"Outras Receitas e Despesas","N","NÃO","SIM","OPEX","FIXO","DESPESAS_GERAIS",3300,"GERÊNCIA JURÍDICA","Outras Receitas e Despesas1787,184"]
[null,null,null,0,0,2869.76,0,0,573.952,{"$f":"D769*'Série - IPCA'!$C$444/'Série - IPCA'!$C$385","v":0},{"$f":"E769*'Série - IPCA'!$C$444/'Série - IPCA'!$C$398","v":0},{"$f":"F769*'Série - IPCA'!$C$444/'Série - IPCA'!$C$411","v":3247.1823202347887},{"$f":"G769*'Série - IPCA'!$C$444/'Série - IPCA'!$C$424","v":0},{"$f":"H769*'Série - IPCA'!$C$444/'Série - IPCA'!$C$437","v":0},649.43646404695778,"Custos","N","NÃO","SIM","OPEX","FIXO","PESSOAL",5100,"GERÊNCIA DE ENGENHARIA","Custos573,952"]
[null,null,null,0,0,-812.12,0,0,-162.42400000000001,{"$f":"D770*'Série - IPCA'!$C$444/'Série - IPCA'!$C$385","v":0},{"$f":"E770*'Série - IPCA'!$C$444/'Série - IPCA'!$C$398","v":0},{"$f":"F770*'Série - IPCA'!$C$444/'Série - IPCA'!$C$411","v":-918.92761273035944},{"$f":"G770*'Série - IPCA'!$C$444/'Série - IPCA'!$C$424","v":0},{"$f":"H770*'Série - IPCA'!$C$444/'Série - IPCA'!$C$437","v":0},-183.78552254607189,"Despesas com Vendas","N","SIM","NÃO","ENCARGOS DE COMERCIALIZAÇÃO","VOLUME S/ TERMOELÉTRICA","MATERIAIS_MANUTENÇÃO",5300,"GERÊNCIA COMERCIAL","Despesas com Vendas-162,424"]
[null,null,null,0,0,1016453.67,0,0,203290.734,{"$f":"D771*'Série - IPCA'!$C$444/'Série - IPCA'!$C$385","v":0},{"$f":"E771*'Série - IPCA'!$C$444/'Série - IPCA'!$C$398","v":0},{"$f":"F771*'Série - IPCA'!$C$444/'Série - IPCA'!$C$411","v":1150134.6407231847},{"$f":"G771*'Série - IPCA'!$C$444/'Série - IPCA'!$C$424","v":0},{"$f":"H771*'Série - IPCA'!$C$444/'Série - IPCA'!$C$437","v":0},230026.92814463694,"Despesas com Vendas","N","SIM","NÃO","ENCARGOS DE COMERCIALIZAÇÃO","VOLUME S/ TERMOELÉTRICA","MATERIAIS_MANUTENÇÃO",5300,"GERÊNCIA COMERCIAL","Despesas com Vendas203290,734"]
[null,null,null,693673.72,580015.04,335210.94,379652.94,435045.99,484719.72599999997,{"$f":"D772*'Série - IPCA'!$C$444/'Série - IPCA'!$C$385","v":902897.72252469789},{"$f":"E772*'Série - IPCA'!$C$444/'Série - IPCA'!$C$398","v":722326.81459928351},{"$f":"F772*'Série - IPCA'!$C$444/'Série - IPCA'!$C$411","v":379296.8882127023},{"$f":"G772*'Série - IPCA'!$C$444/'Série - IPCA'!$C$424","v":406091.02509494702},{"$f":"H772*'Série - IPCA'!$C$444/'Série - IPCA'!$C$437","v":444787.05422897357},571079.90093212086,"Custos","N","SIM","NÃO","OPEX","FUNCIONÁRIOS","PESSOAL",5100,"GERÊNCIA DE ENGENHARIA","Custos484719,726"]
[null,null,null,1193490.71,1096345.23,1241377.3400000001,1339091.3899999999,1382048.76,{"$f":"AVERAGE(D773:H773)","v":1250470.686},{"$f":"D773*'Série - IPCA'!$C$444/'Série - IPCA'!$C$385","v":1553468.1693194094},{"$f":"E773*'Série - IPCA'!$C$444/'Série - IPCA'!$C$398","v":1365343.142976118},{"$f":"F773*'Série - IPCA'!$C$444/'Série - IPCA'!$C$411","v":1404639.6044227008},{"$f":"G773*'Série - IPCA'!$C$444/'Série - IPCA'!$C$424","v":1432342.3789656875},{"$f":"H773*'Série - IPCA'!$C$444/'Série - IPCA'!$C$437","v":1412994.0532521764},{"$f":"AVERAGE(J773:N773)","v":1433757.4697872181},"Custos","N","SIM","NÃO","OPEX","FUNCIONÁRIOS","PESSOAL",5200,"GERÊNCIA DE OPERAÇÕES",{"$f":"B773&C773&P773&I773","v":"Custos1250470,686"}]
[null,null,null,398996.37,586859.51,900520.26,934374.85,1042556.37,772661.47200000007,{"$f":"D774*'Série - IPCA'!$C$444/'Série - IPCA'!$C$385","v":519340.5824407211},{"$f":"E774*'Série - IPCA'!$C$444/'Série - IPCA'!$C$398","v":730850.63531386422},{"$f":"F774*'Série - IPCA'!$C$444/'Série - IPCA'!$C$411","v":1018954.012630058},{"$f":"G774*'Série - IPCA'!$C$444/'Série - IPCA'!$C$424","v":999442.38719562488},{"$f":"H774*'Série - IPCA'!$C$444/'Série - IPCA'!$C$437","v":1065900.1285816974},866897.54923239315,"Despesas com Vendas","N","SIM","NÃO","ENCARGOS DE COMERCIALIZAÇÃO","FUNCIONÁRIOS","PESSOAL",5300,"GERÊNCIA COMERCIAL","Despesas com Vendas772661,472"]
[null,null,null,177701.22,0,0,0,0,35540.243999999999,{"$f":"D775*'Série - IPCA'!$C$444/'Série - IPCA'!$C$385","v":231298.98423694112},{"$f":"E775*'Série - IPCA'!$C$444/'Série - IPCA'!$C$398","v":0},{"$f":"F775*'Série - IPCA'!$C$444/'Série - IPCA'!$C$411","v":0},{"$f":"G775*'Série - IPCA'!$C$444/'Série - IPCA'!$C$424","v":0},{"$f":"H775*'Série - IPCA'!$C$444/'Série - IPCA'!$C$437","v":0},46259.796847388221,"Despesas com Vendas","N","SIM","NÃO","ENCARGOS DE COMERCIALIZAÇÃO","FUNCIONÁRIOS","PESSOAL",5400,"GERÊNCIA COMERCIAL (inativo)","Despesas com Vendas35540,244"]
[null,null,null,107821.05,0,0,0,0,21564.21,{"$f":"D776*'Série - IPCA'!$C$444/'Série - IPCA'!$C$385","v":140341.74523033909},{"$f":"E776*'Série - IPCA'!$C$444/'Série - IPCA'!$C$398","v":0},{"$f":"F776*'Série - IPCA'!$C$444/'Série - IPCA'!$C$411","v":0},{"$f":"G776*'Série - IPCA'!$C$444/'Série - IPCA'!$C$424","v":0},{"$f":"H776*'Série - IPCA'!$C$444/'Série - IPCA'!$C$437","v":0},28068.349046067819,"Despesas com Vendas","N","SIM","NÃO","ENCARGOS DE COMERCIALIZAÇÃO","FUNCIONÁRIOS","PESSOAL",5500,"GERÊNCIA COMERCIAL (inativo)","Despesas com Vendas21564,21"]
[null,null,null,0,57768.91,146136.87,146743.26999999999,154634.38,101056.686,{"$f":"D777*'Série - IPCA'!$C$444/'Série - IPCA'!$C$385","v":0},{"$f":"E777*'Série - IPCA'!$C$444/'Série - IPCA'!$C$398","v":71943.018483059845},{"$f":"F777*'Série - IPCA'!$C$444/'Série - IPCA'!$C$411","v":165356.35753458465},{"$f":"G777*'Série - IPCA'!$C$444/'Série - IPCA'!$C$424","v":156962.10581191492},{"$f":"H777*'Série - IPCA'!$C$444/'Série - IPCA'!$C$437","v":158096.7804408994},110471.65245409177,"Despesas Gerais e Administratias","N","SIM","NÃO","ENCARGOS DE GESTÃO","FUNCIONÁRIOS","PESSOAL",1001,"CONSELHO DE ADMINISTRAÇÃO","Despesas Gerais e Administratias101056,686"]
[null,null,null,0,13759.95,34438.28,33662.959999999999,38984.26,24169.090000000004,{"$f":"D778*'Série - IPCA'!$C$444/'Série - IPCA'!$C$385","v":0},{"$f":"E778*'Série - IPCA'!$C$444/'Série - IPCA'!$C$398","v":17136.074355150191},{"$f":"F778*'Série - IPCA'!$C$444/'Série - IPCA'!$C$411","v":38967.500402575584},{"$f":"G778*'Série - IPCA'!$C$444/'Série - IPCA'!$C$424","v":36007.164686068805},{"$f":"H778*'Série - IPCA'!$C$444/'Série - IPCA'!$C$437","v":39857.152037411972},26393.57829624131,"Despesas Gerais e Administratias","N","SIM","NÃO","ENCARGOS DE GESTÃO","FUNCIONÁRIOS","PESSOAL",1002,"CONSELHO FISCAL","Despesas Gerais e Administratias24169,09"]
[null,null,null,0,8684.07,25930.720000000001,28729.64,30310.44,18730.973999999998,{"$f":"D779*'Série - IPCA'!$C$444/'Série - IPCA'!$C$385","v":0},{"$f":"E779*'Série - IPCA'!$C$444/'Série - IPCA'!$C$398","v":10814.782700905824},{"$f":"F779*'Série - IPCA'!$C$444/'Série - IPCA'!$C$411","v":29341.051354454252},{"$f":"G779*'Série - IPCA'!$C$444/'Série - IPCA'!$C$424","v":30730.300569274645},{"$f":"H779*'Série - IPCA'!$C$444/'Série - IPCA'!$C$437","v":30989.117541306496},20375.050433188244,"Despesas Gerais e Administratias","N","SIM","SIM","ENCARGOS DE GESTÃO","FUNCIONÁRIOS","PESSOAL",1003,"COMITÊ DE INDICAÇÃO E AVALIAÇÃO","Despesas Gerais e Administratias18730,974"]
[null,null,null,0,13759.95,34373.79,31986.26,36372.49,23298.498,{"$f":"D780*'Série - IPCA'!$C$444/'Série - IPCA'!$C$385","v":0},{"$f":"E780*'Série - IPCA'!$C$444/'Série - IPCA'!$C$398","v":17136.074355150191},{"$f":"F780*'Série - IPCA'!$C$444/'Série - IPCA'!$C$411","v":38894.528869126123},{"$f":"G780*'Série - IPCA'!$C$444/'Série - IPCA'!$C$424","v":34213.703474424561},{"$f":"H780*'Série - IPCA'!$C$444/'Série - IPCA'!$C$437","v":37186.902198714211},25486.241779483018,"Despesas Gerais e Administratias","N","SIM","SIM","ENCARGOS DE GESTÃO","FUNCIONÁRIOS","PESSOAL",1004,"COMITÊ DE AUDITORIA ESTATUTÁRIA","Despesas Gerais e Administratias23298,498"]
[null,null,null,0,76662.97,91975.89,102362.5,108545.18,75909.30799999999,{"$f":"D781*'Série - IPCA'!$C$444/'Série - IPCA'!$C$385","v":0},{"$f":"E781*'Série - IPCA'!$C$444/'Série - IPCA'!$C$398","v":95472.901733410967},{"$f":"F781*'Série - IPCA'!$C$444/'Série - IPCA'!$C$411","v":104072.28614792167},{"$f":"G781*'Série - IPCA'!$C$444/'Série - IPCA'!$C$424","v":109490.76953356799},{"$f":"H781*'Série - IPCA'!$C$444/'Série - IPCA'!$C$437","v":110975.60251722742},84002.311986425615,"Despesas Gerais e Administratias","N","SIM","NÃO","ENCARGOS DE GESTÃO","FUNCIONÁRIOS","PESSOAL",1005,"AUDITORIA INTERNA","Despesas Gerais e Administratias75909,308"]
[null,null,null,0,0,106296.73,96436.72,82197.56,56986.202000000005,{"$f":"D782*'Série - IPCA'!$C$444/'Série - IPCA'!$C$385","v":0},{"$f":"E782*'Série - IPCA'!$C$444/'Série - IPCA'!$C$398","v":0},{"$f":"F782*'Série - IPCA'!$C$444/'Série - IPCA'!$C$411","v":120276.56053285669},{"$f":"G782*'Série - IPCA'!$C$444/'Série - IPCA'!$C$424","v":103152.33297441179},{"$f":"H782*'Série - IPCA'!$C$444/'Série - IPCA'!$C$437","v":84038.036018236395},61493.385905100979,"Despesas Gerais e Administratias","N","SIM","NÃO","ENCARGOS DE GESTÃO","FUNCIONÁRIOS","PESSOAL",1010,"GOVERNANÇA SOCIETÁRIA","Despesas Gerais e Administratias56986,202"]
[null,null,null,58223.3,0,0,0,0,11644.66,{"$f":"D783*'Série - IPCA'!$C$444/'Série - IPCA'!$C$385","v":75784.455216023242},{"$f":"E783*'Série - IPCA'!$C$444/'Série - IPCA'!$C$398","v":0},{"$f":"F783*'Série - IPCA'!$C$444/'Série - IPCA'!$C$411","v":0},{"$f":"G783*'Série - IPCA'!$C$444/'Série - IPCA'!$C$424","v":0},{"$f":"H783*'Série - IPCA'!$C$444/'Série - IPCA'!$C$437","v":0},15156.891043204649,"Despesas Gerais e Administratias","N","SIM","NÃO","ENCARGOS DE GESTÃO","FUNCIONÁRIOS","PESSOAL",2100,"SECRETARIA","Despesas Gerais e Administratias11644,66"]
[null,null,null,0,41498.839999999997,54235.07,39462.160000000003,25913.3,32221.874,{"$f":"D784*'Série - IPCA'!$C$444/'Série - IPCA'!$C$385","v":0},{"$f":"E784*'Série - IPCA'!$C$444/'Série - IPCA'!$C$398","v":51680.944181663508},{"$f":"F784*'Série - IPCA'!$C$444/'Série - IPCA'!$C$411","v":61367.905483627954},{"$f":"G784*'Série - IPCA'!$C$444/'Série - IPCA'!$C$424","v":42210.20652931284},{"$f":"H784*'Série - IPCA'!$C$444/'Série - IPCA'!$C$437","v":26493.521690319823},36350.515576984828,"Despesas Gerais e Administratias","N","SIM","NÃO","ENCARGOS DE GESTÃO","FUNCIONÁRIOS","PESSOAL",2110,"ASSESSORIA DA DIRETORIA EXECUTIVA","Despesas Gerais e Administratias32221,874"]
[null,null,null,0,43562.94,145587,159774.35999999999,168487.69,103482.398,{"$f":"D785*'Série - IPCA'!$C$444/'Série - IPCA'!$C$385","v":0},{"$f":"E785*'Série - IPCA'!$C$444/'Série - IPCA'!$C$398","v":54251.489211003412},{"$f":"F785*'Série - IPCA'!$C$444/'Série - IPCA'!$C$411","v":164734.17026372315},{"$f":"G785*'Série - IPCA'!$C$444/'Série - IPCA'!$C$424","v":170900.64846143191},{"$f":"H785*'Série - IPCA'!$C$444/'Série - IPCA'!$C$437","v":172260.27829596706},112429.31724642511,"Despesas Gerais e Administratias","N","SIM","NÃO","ENCARGOS DE GESTÃO","FUNCIONÁRIOS","PESSOAL",2120,"ASSESSORIA DA PRESIDÊNCIA","Despesas Gerais e Administratias103482,398"]
[null,null,null,0,10086.83,67310.97,74743.75,79127.41,46253.792000000001,{"$f":"D786*'Série - IPCA'!$C$444/'Série - IPCA'!$C$385","v":0},{"$f":"E786*'Série - IPCA'!$C$444/'Série - IPCA'!$C$398","v":12561.722163798529},{"$f":"F786*'Série - IPCA'!$C$444/'Série - IPCA'!$C$411","v":76163.509053667993},{"$f":"G786*'Série - IPCA'!$C$444/'Série - IPCA'!$C$424","v":79948.718576867715},{"$f":"H786*'Série - IPCA'!$C$444/'Série - IPCA'!$C$437","v":80899.142646202148},49914.618488107277,"Despesas Gerais e Administratias","N","SIM","NÃO","ENCARGOS DE GESTÃO","FUNCIONÁRIOS","PESSOAL",2130,"ASSESSORIA DE RELAÇÕES INSTITUCIONAIS E NOVOS NEGÓCIOS","Despesas Gerais e Administratias46253,792"]
[null,null,null,0,0,0,0,71974.399999999994,14394.88,{"$f":"D787*'Série - IPCA'!$C$444/'Série - IPCA'!$C$385","v":0},{"$f":"E787*'Série - IPCA'!$C$444/'Série - IPCA'!$C$398","v":0},{"$f":"F787*'Série - IPCA'!$C$444/'Série - IPCA'!$C$411","v":0},{"$f":"G787*'Série - IPCA'!$C$444/'Série - IPCA'!$C$424","v":0},{"$f":"H787*'Série - IPCA'!$C$444/'Série - IPCA'!$C$437","v":73585.97043015575},14717.19408603115,"Despesas Gerais e Administratias","N","SIM","NÃO","ENCARGOS DE GESTÃO","FUNCIONÁRIOS","PESSOAL",2140,"ASSESSORIA DTC","Despesas Gerais e Administratias14394,88"]
[null,null,null,0,55039.81,124252.4,125752.25,131488.47,87306.585999999981,{"$f":"D788*'Série - IPCA'!$C$444/'Série - IPCA'!$C$385","v":0},{"$f":"E788*'Série - IPCA'!$C$444/'Série - IPCA'!$C$398","v":68544.309874188402},{"$f":"F788*'Série - IPCA'!$C$444/'Série - IPCA'!$C$411","v":140593.70697436057},{"$f":"G788*'Série - IPCA'!$C$444/'Série - IPCA'!$C$424","v":134509.32346394064},{"$f":"H788*'Série - IPCA'!$C$444/'Série - IPCA'!$C$437","v":134432.61305862115},95615.99067422215,"Despesas Gerais e Administratias","N","SIM","NÃO","ENCARGOS DE GESTÃO","FUNCIONÁRIOS","PESSOAL",2200,"DIRETORIA COLEGIADA - PRESIDÊNCIA","Despesas Gerais e Administratias87306,586"]
[null,null,null,0,54095.06,48986.59,0,0,20616.329999999998,{"$f":"D789*'Série - IPCA'!$C$444/'Série - IPCA'!$C$385","v":0},{"$f":"E789*'Série - IPCA'!$C$444/'Série - IPCA'!$C$398","v":67367.757179808847},{"$f":"F789*'Série - IPCA'!$C$444/'Série - IPCA'!$C$411","v":55429.160966976429},{"$f":"G789*'Série - IPCA'!$C$444/'Série - IPCA'!$C$424","v":0},{"$f":"H789*'Série - IPCA'!$C$444/'Série - IPCA'!$C$437","v":0},24559.383629357057,"Despesas Gerais e Administratias","N","SIM","NÃO","ENCARGOS DE GESTÃO","FUNCIONÁRIOS","PESSOAL",2300,"DIRETORIA COLEGIADA - DAF","Despesas Gerais e Administratias20616,33"]
[null,null,null,38922.35,0,0,0,0,7784.4699999999993,{"$f":"D790*'Série - IPCA'!$C$444/'Série - IPCA'!$C$385","v":50662.004566511721},{"$f":"E790*'Série - IPCA'!$C$444/'Série - IPCA'!$C$398","v":0},{"$f":"F790*'Série - IPCA'!$C$444/'Série - IPCA'!$C$411","v":0},{"$f":"G790*'Série - IPCA'!$C$444/'Série - IPCA'!$C$424","v":0},{"$f":"H790*'Série - IPCA'!$C$444/'Série - IPCA'!$C$437","v":0},10132.400913302345,"Despesas Gerais e Administratias","N","SIM","NÃO","ENCARGOS DE GESTÃO","FUNCIONÁRIOS","PESSOAL",2400,"DIRETORIA COLEGIADA - DTC","Despesas Gerais e Administratias7784,47"]
[null,null,null,58034.66,165985.62,210701.33,238356.42,272394.62,189094.53,{"$f":"D791*'Série - IPCA'!$C$444/'Série - IPCA'!$C$385","v":75538.918126370976},{"$f":"E791*'Série - IPCA'!$C$444/'Série - IPCA'!$C$398","v":206711.64693227113},{"$f":"F791*'Série - IPCA'!$C$444/'Série - IPCA'!$C$411","v":238412.14374231844},{"$f":"G791*'Série - IPCA'!$C$444/'Série - IPCA'!$C$424","v":254954.9673861652},{"$f":"H791*'Série - IPCA'!$C$444/'Série - IPCA'!$C$437","v":278493.77629620413},210822.29049666598,"Despesas Gerais e Administratias","N","SIM","NÃO","ENCARGOS DE GESTÃO","FUNCIONÁRIOS","PESSOAL",2410,"ASSESSORIA DE SEGURANÇA DO TRABALHO","Despesas Gerais e Administratias189094,53"]
[null,null,null,108868.99,0,0,0,0,21773.798000000003,{"$f":"D792*'Série - IPCA'!$C$444/'Série - IPCA'!$C$385","v":141705.76207581296},{"$f":"E792*'Série - IPCA'!$C$444/'Série - IPCA'!$C$398","v":0},{"$f":"F792*'Série - IPCA'!$C$444/'Série - IPCA'!$C$411","v":0},{"$f":"G792*'Série - IPCA'!$C$444/'Série - IPCA'!$C$424","v":0},{"$f":"H792*'Série - IPCA'!$C$444/'Série - IPCA'!$C$437","v":0},28341.152415162593,"Despesas Gerais e Administratias","N","SIM","NÃO","ENCARGOS DE GESTÃO","FUNCIONÁRIOS","PESSOAL",3100,"SMS","Despesas Gerais e Administratias21773,798"]
[null,null,null,168772.49,207484.6,224226.17,236832.17,256615.87,218786.26,{"$f":"D793*'Série - IPCA'!$C$444/'Série - IPCA'!$C$385","v":219677.19469871558},{"$f":"E793*'Série - IPCA'!$C$444/'Série - IPCA'!$C$398","v":258392.76546416193},{"$f":"F793*'Série - IPCA'!$C$444/'Série - IPCA'!$C$411","v":253715.73056909296},{"$f":"G793*'Série - IPCA'!$C$444/'Série - IPCA'!$C$424","v":253324.57241279565},{"$f":"H793*'Série - IPCA'!$C$444/'Série - IPCA'!$C$437","v":262361.72613774752},249494.39785650271,"Despesas Gerais e Administratias","N","SIM","NÃO","ENCARGOS DE GESTÃO","FUNCIONÁRIOS","PESSOAL",3200,"GERÊNCIA DE PLANEJAMENTO E MEIO AMBIENTE","Despesas Gerais e Administratias218786,26"]
[null,null,null,155828.4,139691.71,155145.29,170722.78,179490.6,160175.75599999999,{"$f":"D794*'Série - IPCA'!$C$444/'Série - IPCA'!$C$385","v":202828.9430723534},{"$f":"E794*'Série - IPCA'!$C$444/'Série - IPCA'!$C$398","v":173966.29561576003},{"$f":"F794*'Série - IPCA'!$C$444/'Série - IPCA'!$C$411","v":175549.53820378677},{"$f":"G794*'Série - IPCA'!$C$444/'Série - IPCA'!$C$424","v":182611.48915970235},{"$f":"H794*'Série - IPCA'!$C$444/'Série - IPCA'!$C$437","v":183509.55317572519},183693.16384546555,"Despesas Gerais e Administratias","N","SIM","NÃO","ENCARGOS DE GESTÃO","FUNCIONÁRIOS","PESSOAL",3300,"GERÊNCIA JURÍDICA","Despesas Gerais e Administratias160175,756"]
[null,null,null,107694.73,0,0,0,0,21538.946,{"$f":"D795*'Série - IPCA'!$C$444/'Série - IPCA'!$C$385","v":140177.32493154312},{"$f":"E795*'Série - IPCA'!$C$444/'Série - IPCA'!$C$398","v":0},{"$f":"F795*'Série - IPCA'!$C$444/'Série - IPCA'!$C$411","v":0},{"$f":"G795*'Série - IPCA'!$C$444/'Série - IPCA'!$C$424","v":0},{"$f":"H795*'Série - IPCA'!$C$444/'Série - IPCA'!$C$437","v":0},28035.464986308623,"Despesas Gerais e Administratias","N","SIM","NÃO","ENCARGOS DE GESTÃO","FUNCIONÁRIOS","PESSOAL",3400,"MARKETING","Despesas Gerais e Administratias21538,946"]
[null,null,null,61773.48,125762.78,162393.71,152353.35999999999,136933.79,127843.424,{"$f":"D796*'Série - IPCA'!$C$444/'Série - IPCA'!$C$385","v":80405.430963169507},{"$f":"E796*'Série - IPCA'!$C$444/'Série - IPCA'!$C$398","v":156619.78053629521},{"$f":"F796*'Série - IPCA'!$C$444/'Série - IPCA'!$C$411","v":183751.24889514642},{"$f":"G796*'Série - IPCA'!$C$444/'Série - IPCA'!$C$424","v":162962.86850579767},{"$f":"H796*'Série - IPCA'!$C$444/'Série - IPCA'!$C$437","v":139999.85858623567},144747.8374973289,"Despesas Gerais e Administratias","N","SIM","NÃO","ENCARGOS DE GESTÃO","FUNCIONÁRIOS","PESSOAL",3500,"ASSESSORIA DE COMUNICAÇÃO INSTITUCIONAL","Despesas Gerais e Administratias127843,424"]
[null,null,null,166038.15,260009.52,245098.68,320738.71999999997,294116.65999999997,257200.34599999999,{"$f":"D797*'Série - IPCA'!$C$444/'Série - IPCA'!$C$385","v":216118.13041903067},{"$f":"E797*'Série - IPCA'!$C$444/'Série - IPCA'!$C$398","v":323805.1350307893},{"$f":"F797*'Série - IPCA'!$C$444/'Série - IPCA'!$C$411","v":277333.33115273889},{"$f":"G797*'Série - IPCA'!$C$444/'Série - IPCA'!$C$424","v":343074.16555878945},{"$f":"H797*'Série - IPCA'!$C$444/'Série - IPCA'!$C$437","v":300702.19197070313},292206.59082641028,"Despesas Gerais e Administratias","N","SIM","NÃO","ENCARGOS DE GESTÃO","FUNCIONÁRIOS","PESSOAL",3600,"GERÊNCIA DE GOVERNANÇA, RISCO E COMPLIANCE","Despesas Gerais e Administratias257200,346"]
[null,null,null,0,11156.2,79260.45,88293.28,93217.29,54385.443999999996,{"$f":"D798*'Série - IPCA'!$C$444/'Série - IPCA'!$C$385","v":0},{"$f":"E798*'Série - IPCA'!$C$444/'Série - IPCA'!$C$398","v":13893.47146762354},{"$f":"F798*'Série - IPCA'!$C$444/'Série - IPCA'!$C$411","v":89684.549207548174},{"$f":"G798*'Série - IPCA'!$C$444/'Série - IPCA'!$C$424","v":94441.804096644642},{"$f":"H798*'Série - IPCA'!$C$444/'Série - IPCA'!$C$437","v":95304.507512660799},58664.866456895441,"Despesas Gerais e Administratias","N","SIM","NÃO","ENCARGOS DE GESTÃO","FUNCIONÁRIOS","PESSOAL",3700,"GERÊNCIA DE REGULAÇÃO","Despesas Gerais e Administratias54385,444"]
[null,null,null,348367.9,515812.34,523075.37,577035.18000000005,572686,507395.35800000001,{"$f":"D799*'Série - IPCA'!$C$444/'Série - IPCA'!$C$385","v":453441.68943103636},{"$f":"E799*'Série - IPCA'!$C$444/'Série - IPCA'!$C$398","v":642371.41933975124},{"$f":"F799*'Série - IPCA'!$C$444/'Série - IPCA'!$C$411","v":591868.69062718505},{"$f":"G799*'Série - IPCA'!$C$444/'Série - IPCA'!$C$424","v":617218.47264516714},{"$f":"H799*'Série - IPCA'!$C$444/'Série - IPCA'!$C$437","v":585508.94570519775},578081.84354966762,"Despesas Gerais e Administratias","N","SIM","NÃO","ENCARGOS DE GESTÃO","FUNCIONÁRIOS","PESSOAL",4100,"GERÊNCIA DE SERVIÇOS CORPORATIVOS","Despesas Gerais e Administratias507395,358"]
[null,null,null,216982.1,209140.72,239488.14,246708.99,260987.03,234661.39600000001,{"$f":"D800*'Série - IPCA'!$C$444/'Série - IPCA'!$C$385","v":282427.65765816561},{"$f":"E800*'Série - IPCA'!$C$444/'Série - IPCA'!$C$398","v":260455.22902406231},{"$f":"F800*'Série - IPCA'!$C$444/'Série - IPCA'!$C$411","v":270984.90957916825},{"$f":"G800*'Série - IPCA'!$C$444/'Série - IPCA'!$C$424","v":263889.18955622741},{"$f":"H800*'Série - IPCA'!$C$444/'Série - IPCA'!$C$437","v":266830.76027357188},268917.54921823915,"Despesas Gerais e Administratias","N","SIM","NÃO","ENCARGOS DE GESTÃO","FUNCIONÁRIOS","PESSOAL",4200,"GERÊNCIA FINANCEIRA","Despesas Gerais e Administratias234661,396"]
[null,null,null,279810.88,283128.90000000002,282511.08,252568.32000000001,259363.57,271476.55000000005,{"$f":"D801*'Série - IPCA'!$C$444/'Série - IPCA'!$C$385","v":364206.68537022208},{"$f":"E801*'Série - IPCA'!$C$444/'Série - IPCA'!$C$398","v":352597.05758319487},{"$f":"F801*'Série - IPCA'!$C$444/'Série - IPCA'!$C$411","v":319666.09899309912},{"$f":"G801*'Série - IPCA'!$C$444/'Série - IPCA'!$C$424","v":270156.54870289855},{"$f":"H801*'Série - IPCA'!$C$444/'Série - IPCA'!$C$437","v":265170.94956928625},314359.4680437402,"Despesas Gerais e Administratias","N","SIM","NÃO","ENCARGOS DE GESTÃO","FUNCIONÁRIOS","PESSOAL",4300,"GERÊNCIA DE TECNOLOGIA E SISTEMAS DE INFORMAÇÃO","Despesas Gerais e Administratias271476,55"]
[null,null,null,193978.77,189508.71,208685.33,230077.31,242685.58,212987.13999999998,{"$f":"D802*'Série - IPCA'!$C$444/'Série - IPCA'!$C$385","v":252486.12510668873},{"$f":"E802*'Série - IPCA'!$C$444/'Série - IPCA'!$C$398","v":236006.33327218442},{"$f":"F802*'Série - IPCA'!$C$444/'Série - IPCA'!$C$411","v":236131.00540406254},{"$f":"G802*'Série - IPCA'!$C$444/'Série - IPCA'!$C$424","v":246099.32078752742},{"$f":"H802*'Série - IPCA'!$C$444/'Série - IPCA'!$C$437","v":248119.52463244152},243768.46184058097,"Despesas Gerais e Administratias","N","SIM","NÃO","ENCARGOS DE GESTÃO","FUNCIONÁRIOS","PESSOAL",4500,"GERÊNCIA CONTÁBIL","Despesas Gerais e Administratias212987,14"]
[null,null,null,110158.81,0,0,0,40483.11,30128.383999999998,{"$f":"D803*'Série - IPCA'!$C$444/'Série - IPCA'!$C$385","v":143384.61411660645},{"$f":"E803*'Série - IPCA'!$C$444/'Série - IPCA'!$C$398","v":0},{"$f":"F803*'Série - IPCA'!$C$444/'Série - IPCA'!$C$411","v":0},{"$f":"G803*'Série - IPCA'!$C$444/'Série - IPCA'!$C$424","v":0},{"$f":"H803*'Série - IPCA'!$C$444/'Série - IPCA'!$C$437","v":41389.562613661838},36954.83534605366,"Despesas Gerais e Administratias","N","SIM","NÃO","ENCARGOS DE GESTÃO","FUNCIONÁRIOS","PESSOAL",4600,"GERÊNCIA DE PESSOAS E CULTURA","Despesas Gerais e Administratias30128,384"]
[null,null,null,136796.98000000001,81963.520000000004,0,0,0,43752.1,{"$f":"D804*'Série - IPCA'!$C$444/'Série - IPCA'!$C$385","v":178057.31733682609},{"$f":"E804*'Série - IPCA'!$C$444/'Série - IPCA'!$C$398","v":102073.98814166037},{"$f":"F804*'Série - IPCA'!$C$444/'Série - IPCA'!$C$411","v":0},{"$f":"G804*'Série - IPCA'!$C$444/'Série - IPCA'!$C$424","v":0},{"$f":"H804*'Série - IPCA'!$C$444/'Série - IPCA'!$C$437","v":0},56026.261095697293,"Despesas Gerais e Administratias","N","SIM","NÃO","ENCARGOS DE GESTÃO","FUNCIONÁRIOS","PESSOAL",1001,"CONSELHO DE ADMINISTRAÇÃO","Despesas Gerais e Administratias43752,1"]
[null,null,null,33054.46,19263.93,0,0,0,10463.678,{"$f":"D805*'Série - IPCA'!$C$444/'Série - IPCA'!$C$385","v":43024.257360194824},{"$f":"E805*'Série - IPCA'!$C$444/'Série - IPCA'!$C$398","v":23990.504097210265},{"$f":"F805*'Série - IPCA'!$C$444/'Série - IPCA'!$C$411","v":0},{"$f":"G805*'Série - IPCA'!$C$444/'Série - IPCA'!$C$424","v":0},{"$f":"H805*'Série - IPCA'!$C$444/'Série - IPCA'!$C$437","v":0},13402.952291481017,"Despesas Gerais e Administratias","N","SIM","NÃO","ENCARGOS DE GESTÃO","FUNCIONÁRIOS","PESSOAL",1002,"CONSELHO FISCAL","Despesas Gerais e Administratias10463,678"]
[null,null,null,0,4449.0600000000004,0,0,0,889.81200000000013,{"$f":"D806*'Série - IPCA'!$C$444/'Série - IPCA'!$C$385","v":0},{"$f":"E806*'Série - IPCA'!$C$444/'Série - IPCA'!$C$398","v":5540.6758724068404},{"$f":"F806*'Série - IPCA'!$C$444/'Série - IPCA'!$C$411","v":0},{"$f":"G806*'Série - IPCA'!$C$444/'Série - IPCA'!$C$424","v":0},{"$f":"H806*'Série - IPCA'!$C$444/'Série - IPCA'!$C$437","v":0},1108.135174481368,"Despesas Gerais e Administratias","N","SIM","SIM","ENCARGOS DE GESTÃO","FUNCIONÁRIOS","PESSOAL",1003,"COMITÊ DE INDICAÇÃO E AVALIAÇÃO","Despesas Gerais e Administratias889,812"]
[null,null,null,0,11711.26,0,0,0,2342.252,{"$f":"D807*'Série - IPCA'!$C$444/'Série - IPCA'!$C$385","v":0},{"$f":"E807*'Série - IPCA'!$C$444/'Série - IPCA'!$C$398","v":14584.720304397631},{"$f":"F807*'Série - IPCA'!$C$444/'Série - IPCA'!$C$411","v":0},{"$f":"G807*'Série - IPCA'!$C$444/'Série - IPCA'!$C$424","v":0},{"$f":"H807*'Série - IPCA'!$C$444/'Série - IPCA'!$C$437","v":0},2916.9440608795262,"Despesas Gerais e Administratias","N","SIM","SIM","ENCARGOS DE GESTÃO","FUNCIONÁRIOS","PESSOAL",1004,"COMITÊ DE AUDITORIA ESTATUTÁRIA","Despesas Gerais e Administratias2342,252"]
[null,null,null,31599.83,41377.53,0,0,0,14595.472,{"$f":"D808*'Série - IPCA'!$C$444/'Série - IPCA'!$C$385","v":41130.885770283508},{"$f":"E808*'Série - IPCA'!$C$444/'Série - IPCA'!$C$398","v":51529.869709734223},{"$f":"F808*'Série - IPCA'!$C$444/'Série - IPCA'!$C$411","v":0},{"$f":"G808*'Série - IPCA'!$C$444/'Série - IPCA'!$C$424","v":0},{"$f":"H808*'Série - IPCA'!$C$444/'Série - IPCA'!$C$437","v":0},18532.151096003545,"Despesas Gerais e Administratias","N","SIM","NÃO","ENCARGOS DE GESTÃO","FUNCIONÁRIOS","PESSOAL",2110,"ASSESSORIA DA DIRETORIA EXECUTIVA","Despesas Gerais e Administratias14595,472"]
[null,null,null,49310.82,68802.080000000002,0,0,0,23622.579999999998,{"$f":"D809*'Série - IPCA'!$C$444/'Série - IPCA'!$C$385","v":64183.816959110576},{"$f":"E809*'Série - IPCA'!$C$444/'Série - IPCA'!$C$398","v":85683.273461676217},{"$f":"F809*'Série - IPCA'!$C$444/'Série - IPCA'!$C$411","v":0},{"$f":"G809*'Série - IPCA'!$C$444/'Série - IPCA'!$C$424","v":0},{"$f":"H809*'Série - IPCA'!$C$444/'Série - IPCA'!$C$437","v":0},29973.418084157358,"Despesas Gerais e Administratias","N","SIM","NÃO","ENCARGOS DE GESTÃO","FUNCIONÁRIOS","PESSOAL",2120,"ASSESSORIA DA PRESIDÊNCIA","Despesas Gerais e Administratias23622,58"]
[null,null,null,240347.38,64213.1,0,0,0,60912.095999999998,{"$f":"D810*'Série - IPCA'!$C$444/'Série - IPCA'!$C$385","v":312840.31059556088},{"$f":"E810*'Série - IPCA'!$C$444/'Série - IPCA'!$C$398","v":79968.346990700869},{"$f":"F810*'Série - IPCA'!$C$444/'Série - IPCA'!$C$411","v":0},{"$f":"G810*'Série - IPCA'!$C$444/'Série - IPCA'!$C$424","v":0},{"$f":"H810*'Série - IPCA'!$C$444/'Série - IPCA'!$C$437","v":0},78561.731517252352,"Despesas Gerais e Administratias","N","SIM","NÃO","ENCARGOS DE GESTÃO","FUNCIONÁRIOS","PESSOAL",2200,"DIRETORIA COLEGIADA - PRESIDÊNCIA","Despesas Gerais e Administratias60912,096"]
[null,null,null,3240,114,0,0,0,670.8,{"$f":"D811*'Série - IPCA'!$C$444/'Série - IPCA'!$C$385","v":4217.2400894472712},{"$f":"E811*'Série - IPCA'!$C$444/'Série - IPCA'!$C$398","v":141.97089934826226},{"$f":"F811*'Série - IPCA'!$C$444/'Série - IPCA'!$C$411","v":0},{"$f":"G811*'Série - IPCA'!$C$444/'Série - IPCA'!$C$424","v":0},{"$f":"H811*'Série - IPCA'!$C$444/'Série - IPCA'!$C$437","v":0},871.84219775910674,"Despesas Gerais e Administratias","N","SIM","NÃO","ENCARGOS DE GESTÃO","FUNCIONÁRIOS","PESSOAL",4100,"GERÊNCIA DE SERVIÇOS CORPORATIVOS","Despesas Gerais e Administratias670,8"]
[null,null,null,100,0,0,0,0,20,{"$f":"D812*'Série - IPCA'!$C$444/'Série - IPCA'!$C$385","v":130.16173115577996},{"$f":"E812*'Série - IPCA'!$C$444/'Série - IPCA'!$C$398","v":0},{"$f":"F812*'Série - IPCA'!$C$444/'Série - IPCA'!$C$411","v":0},{"$f":"G812*'Série - IPCA'!$C$444/'Série - IPCA'!$C$424","v":0},{"$f":"H812*'Série - IPCA'!$C$444/'Série - IPCA'!$C$437","v":0},26.032346231155991,"Despesas Gerais e Administratias","N","SIM","NÃO","ENCARGOS DE GESTÃO","FUNCIONÁRIOS","TRIBUTOS_E_TAXAS_FISCAIS",3300,"GERÊNCIA JURÍDICA","Despesas Gerais e Administratias20"]
[null,null,null,0,0,0,0,0,0,{"$f":"D813*'Série - IPCA'!$C$444/'Série - IPCA'!$C$385","v":0},{"$f":"E813*'Série - IPCA'!$C$444/'Série - IPCA'!$C$398","v":0},{"$f":"F813*'Série - IPCA'!$C$444/'Série - IPCA'!$C$411","v":0},{"$f":"G813*'Série - IPCA'!$C$444/'Série - IPCA'!$C$424","v":0},{"$f":"H813*'Série - IPCA'!$C$444/'Série - IPCA'!$C$437","v":0},0,"Despesas com Vendas","N","SIM","NÃO","ENCARGOS DE COMERCIALIZAÇÃO","FUNCIONÁRIOS","PESSOAL",5300,"GERÊNCIA COMERCIAL","Despesas com Vendas0"]
[null,null,null,0,0,0,0,0,0,{"$f":"D814*'Série - IPCA'!$C$444/'Série - IPCA'!$C$385","v":0},{"$f":"E814*'Série - IPCA'!$C$444/'Série - IPCA'!$C$398","v":0},{"$f":"F814*'Série - IPCA'!$C$444/'Série - IPCA'!$C$411","v":0},{"$f":"G814*'Série - IPCA'!$C$444/'Série - IPCA'!$C$424","v":0},{"$f":"H814*'Série - IPCA'!$C$444/'Série - IPCA'!$C$437","v":0},0,"Despesas Gerais e Administratias","N","SIM","NÃO","ENCARGOS DE GESTÃO","FUNCIONÁRIOS","PESSOAL",1005,"AUDITORIA INTERNA","Despesas Gerais e Administratias0"]
[null,null,null,0,0,0,0,0,0,{"$f":"D815*'Série - IPCA'!$C$444/'Série - IPCA'!$C$385","v":0},{"$f":"E815*'Série - IPCA'!$C$444/'Série - IPCA'!$C$398","v":0},{"$f":"F815*'Série - IPCA'!$C$444/'Série - IPCA'!$C$411","v":0},{"$f":"G815*'Série - IPCA'!$C$444/'Série - IPCA'!$C$424","v":0},{"$f":"H815*'Série - IPCA'!$C$444/'Série - IPCA'!$C$437","v":0},0,"Despesas Gerais e Administratias","N","SIM","NÃO","ENCARGOS DE GESTÃO","FUNCIONÁRIOS","PESSOAL",1010,"GOVERNANÇA SOCIETÁRIA","Despesas Gerais e Administratias0"]
[null,null,null,0,0,0,0,0,0,{"$f":"D816*'Série - IPCA'!$C$444/'Série - IPCA'!$C$385","v":0},{"$f":"E816*'Série - IPCA'!$C$444/'Série - IPCA'!$C$398","v":0},{"$f":"F816*'Série - IPCA'!$C$444/'Série - IPCA'!$C$411","v":0},{"$f":"G816*'Série - IPCA'!$C$444/'Série - IPCA'!$C$424","v":0},{"$f":"H816*'Série - IPCA'!$C$444/'Série - IPCA'!$C$437","v":0},0,"Despesas Gerais e Administratias","N","SIM","NÃO","ENCARGOS DE GESTÃO","FUNCIONÁRIOS","PESSOAL",2110,"ASSESSORIA DA DIRETORIA EXECUTIVA","Despesas Gerais e Administratias0"]
[null,null,null,0,0,0,0,0,0,{"$f":"D817*'Série - IPCA'!$C$444/'Série - IPCA'!$C$385","v":0},{"$f":"E817*'Série - IPCA'!$C$444/'Série - IPCA'!$C$398","v":0},{"$f":"F817*'Série - IPCA'!$C$444/'Série - IPCA'!$C$411","v":0},{"$f":"G817*'Série - IPCA'!$C$444/'Série - IPCA'!$C$424","v":0},{"$f":"H817*'Série - IPCA'!$C$444/'Série - IPCA'!$C$437","v":0},0,"Despesas Gerais e Administratias","N","SIM","NÃO","ENCARGOS DE GESTÃO","FUNCIONÁRIOS","PESSOAL",2120,"ASSESSORIA DA PRESIDÊNCIA","Despesas Gerais e Administratias0"]
[null,null,null,0,0,0,0,0,0,{"$f":"D818*'Série - IPCA'!$C$444/'Série - IPCA'!$C$385","v":0},{"$f":"E818*'Série - IPCA'!$C$444/'Série - IPCA'!$C$398","v":0},{"$f":"F818*'Série - IPCA'!$C$444/'Série - IPCA'!$C$411","v":0},{"$f":"G818*'Série - IPCA'!$C$444/'Série - IPCA'!$C$424","v":0},{"$f":"H818*'Série - IPCA'!$C$444/'Série - IPCA'!$C$437","v":0},0,"Despesas Gerais e Administratias","N","SIM","NÃO","ENCARGOS DE GESTÃO","FUNCIONÁRIOS","PESSOAL",2130,"ASSESSORIA DE RELAÇÕES INSTITUCIONAIS E NOVOS NEGÓCIOS","Despesas Gerais e Administratias0"]
[null,null,null,0,0,0,0,0,0,{"$f":"D819*'Série - IPCA'!$C$444/'Série - IPCA'!$C$385","v":0},{"$f":"E819*'Série - IPCA'!$C$444/'Série - IPCA'!$C$398","v":0},{"$f":"F819*'Série - IPCA'!$C$444/'Série - IPCA'!$C$411","v":0},{"$f":"G819*'Série - IPCA'!$C$444/'Série - IPCA'!$C$424","v":0},{"$f":"H819*'Série - IPCA'!$C$444/'Série - IPCA'!$C$437","v":0},0,"Despesas Gerais e Administratias","N","SIM","NÃO","ENCARGOS DE GESTÃO","FUNCIONÁRIOS","PESSOAL",2140,"ASSESSORIA DTC","Despesas Gerais e Administratias0"]
[null,null,null,0,0,0,0,0,0,{"$f":"D820*'Série - IPCA'!$C$444/'Série - IPCA'!$C$385","v":0},{"$f":"E820*'Série - IPCA'!$C$444/'Série - IPCA'!$C$398","v":0},{"$f":"F820*'Série - IPCA'!$C$444/'Série - IPCA'!$C$411","v":0},{"$f":"G820*'Série - IPCA'!$C$444/'Série - IPCA'!$C$424","v":0},{"$f":"H820*'Série - IPCA'!$C$444/'Série - IPCA'!$C$437","v":0},0,"Despesas Gerais e Administratias","N","SIM","NÃO","ENCARGOS DE GESTÃO","FUNCIONÁRIOS","PESSOAL",2300,"DIRETORIA COLEGIADA - DAF","Despesas Gerais e Administratias0"]
[null,null,null,0,0,0,0,0,0,{"$f":"D821*'Série - IPCA'!$C$444/'Série - IPCA'!$C$385","v":0},{"$f":"E821*'Série - IPCA'!$C$444/'Série - IPCA'!$C$398","v":0},{"$f":"F821*'Série - IPCA'!$C$444/'Série - IPCA'!$C$411","v":0},{"$f":"G821*'Série - IPCA'!$C$444/'Série - IPCA'!$C$424","v":0},{"$f":"H821*'Série - IPCA'!$C$444/'Série - IPCA'!$C$437","v":0},0,"Despesas Gerais e Administratias","N","SIM","NÃO","ENCARGOS DE GESTÃO","FUNCIONÁRIOS","PESSOAL",2410,"ASSESSORIA DE SEGURANÇA DO TRABALHO","Despesas Gerais e Administratias0"]
[null,null,null,0,0,0,0,0,0,{"$f":"D822*'Série - IPCA'!$C$444/'Série - IPCA'!$C$385","v":0},{"$f":"E822*'Série - IPCA'!$C$444/'Série - IPCA'!$C$398","v":0},{"$f":"F822*'Série - IPCA'!$C$444/'Série - IPCA'!$C$411","v":0},{"$f":"G822*'Série - IPCA'!$C$444/'Série - IPCA'!$C$424","v":0},{"$f":"H822*'Série - IPCA'!$C$444/'Série - IPCA'!$C$437","v":0},0,"Despesas Gerais e Administratias","N","SIM","NÃO","ENCARGOS DE GESTÃO","FUNCIONÁRIOS","PESSOAL",3200,"GERÊNCIA DE PLANEJAMENTO E MEIO AMBIENTE","Despesas Gerais e Administratias0"]
[null,null,null,0,0,0,0,0,0,{"$f":"D823*'Série - IPCA'!$C$444/'Série - IPCA'!$C$385","v":0},{"$f":"E823*'Série - IPCA'!$C$444/'Série - IPCA'!$C$398","v":0},{"$f":"F823*'Série - IPCA'!$C$444/'Série - IPCA'!$C$411","v":0},{"$f":"G823*'Série - IPCA'!$C$444/'Série - IPCA'!$C$424","v":0},{"$f":"H823*'Série - IPCA'!$C$444/'Série - IPCA'!$C$437","v":0},0,"Despesas Gerais e Administratias","N","SIM","NÃO","ENCARGOS DE GESTÃO","FUNCIONÁRIOS","PESSOAL",3300,"GERÊNCIA JURÍDICA","Despesas Gerais e Administratias0"]
[null,null,null,0,0,0,0,0,0,{"$f":"D824*'Série - IPCA'!$C$444/'Série - IPCA'!$C$385","v":0},{"$f":"E824*'Série - IPCA'!$C$444/'Série - IPCA'!$C$398","v":0},{"$f":"F824*'Série - IPCA'!$C$444/'Série - IPCA'!$C$411","v":0},{"$f":"G824*'Série - IPCA'!$C$444/'Série - IPCA'!$C$424","v":0},{"$f":"H824*'Série - IPCA'!$C$444/'Série - IPCA'!$C$437","v":0},0,"Despesas Gerais e Administratias","N","SIM","NÃO","ENCARGOS DE GESTÃO","FUNCIONÁRIOS","PESSOAL",3500,"ASSESSORIA DE COMUNICAÇÃO INSTITUCIONAL","Despesas Gerais e Administratias0"]
[null,null,null,0,0,0,0,0,0,{"$f":"D825*'Série - IPCA'!$C$444/'Série - IPCA'!$C$385","v":0},{"$f":"E825*'Série - IPCA'!$C$444/'Série - IPCA'!$C$398","v":0},{"$f":"F825*'Série - IPCA'!$C$444/'Série - IPCA'!$C$411","v":0},{"$f":"G825*'Série - IPCA'!$C$444/'Série - IPCA'!$C$424","v":0},{"$f":"H825*'Série - IPCA'!$C$444/'Série - IPCA'!$C$437","v":0},0,"Despesas Gerais e Administratias","N","SIM","NÃO","ENCARGOS DE GESTÃO","FUNCIONÁRIOS","PESSOAL",3600,"GERÊNCIA DE GOVERNANÇA, RISCO E COMPLIANCE","Despesas Gerais e Administratias0"]
[null,null,null,0,0,0,0,0,0,{"$f":"D826*'Série - IPCA'!$C$444/'Série - IPCA'!$C$385","v":0},{"$f":"E826*'Série - IPCA'!$C$444/'Série - IPCA'!$C$398","v":0},{"$f":"F826*'Série - IPCA'!$C$444/'Série - IPCA'!$C$411","v":0},{"$f":"G826*'Série - IPCA'!$C$444/'Série - IPCA'!$C$424","v":0},{"$f":"H826*'Série - IPCA'!$C$444/'Série - IPCA'!$C$437","v":0},0,"Despesas Gerais e Administratias","N","SIM","NÃO","ENCARGOS DE GESTÃO","FUNCIONÁRIOS","PESSOAL",3700,"GERÊNCIA DE REGULAÇÃO","Despesas Gerais e Administratias0"]
[null,null,null,0,0,0,0,0,0,{"$f":"D827*'Série - IPCA'!$C$444/'Série - IPCA'!$C$385","v":0},{"$f":"E827*'Série - IPCA'!$C$444/'Série - IPCA'!$C$398","v":0},{"$f":"F827*'Série - IPCA'!$C$444/'Série - IPCA'!$C$411","v":0},{"$f":"G827*'Série - IPCA'!$C$444/'Série - IPCA'!$C$424","v":0},{"$f":"H827*'Série - IPCA'!$C$444/'Série - IPCA'!$C$437","v":0},0,"Despesas Gerais e Administratias","N","SIM","NÃO","ENCARGOS DE GESTÃO","FUNCIONÁRIOS","PESSOAL",4100,"GERÊNCIA DE SERVIÇOS CORPORATIVOS","Despesas Gerais e Administratias0"]
[null,null,null,0,0,0,0,0,0,{"$f":"D828*'Série - IPCA'!$C$444/'Série - IPCA'!$C$385","v":0},{"$f":"E828*'Série - IPCA'!$C$444/'Série - IPCA'!$C$398","v":0},{"$f":"F828*'Série - IPCA'!$C$444/'Série - IPCA'!$C$411","v":0},{"$f":"G828*'Série - IPCA'!$C$444/'Série - IPCA'!$C$424","v":0},{"$f":"H828*'Série - IPCA'!$C$444/'Série - IPCA'!$C$437","v":0},0,"Despesas Gerais e Administratias","N","SIM","NÃO","ENCARGOS DE GESTÃO","FUNCIONÁRIOS","PESSOAL",4200,"GERÊNCIA FINANCEIRA","Despesas Gerais e Administratias0"]
[null,null,null,0,0,0,0,0,0,{"$f":"D829*'Série - IPCA'!$C$444/'Série - IPCA'!$C$385","v":0},{"$f":"E829*'Série - IPCA'!$C$444/'Série - IPCA'!$C$398","v":0},{"$f":"F829*'Série - IPCA'!$C$444/'Série - IPCA'!$C$411","v":0},{"$f":"G829*'Série - IPCA'!$C$444/'Série - IPCA'!$C$424","v":0},{"$f":"H829*'Série - IPCA'!$C$444/'Série - IPCA'!$C$437","v":0},0,"Despesas Gerais e Administratias","N","SIM","NÃO","ENCARGOS DE GESTÃO","FUNCIONÁRIOS","PESSOAL",4300,"GERÊNCIA DE TECNOLOGIA E SISTEMAS DE INFORMAÇÃO","Despesas Gerais e Administratias0"]
[null,null,null,0,0,0,0,0,0,{"$f":"D830*'Série - IPCA'!$C$444/'Série - IPCA'!$C$385","v":0},{"$f":"E830*'Série - IPCA'!$C$444/'Série - IPCA'!$C$398","v":0},{"$f":"F830*'Série - IPCA'!$C$444/'Série - IPCA'!$C$411","v":0},{"$f":"G830*'Série - IPCA'!$C$444/'Série - IPCA'!$C$424","v":0},{"$f":"H830*'Série - IPCA'!$C$444/'Série - IPCA'!$C$437","v":0},0,"Despesas Gerais e Administratias","N","SIM","NÃO","ENCARGOS DE GESTÃO","FUNCIONÁRIOS","PESSOAL",4500,"GERÊNCIA CONTÁBIL","Despesas Gerais e Administratias0"]
[null,null,null,101735.11,59688.52,31916.720000000001,66078.55,61168.67,64117.514000000003,{"$f":"D831*'Série - IPCA'!$C$444/'Série - IPCA'!$C$385","v":132420.18036923703},{"$f":"E831*'Série - IPCA'!$C$444/'Série - IPCA'!$C$398","v":74333.621624269639},{"$f":"F831*'Série - IPCA'!$C$444/'Série - IPCA'!$C$411","v":36114.312313184404},{"$f":"G831*'Série - IPCA'!$C$444/'Série - IPCA'!$C$424","v":70680.095632310171},{"$f":"H831*'Série - IPCA'!$C$444/'Série - IPCA'!$C$437","v":62538.290584874005},75217.300104775044,"Custos","N","SIM","NÃO","OPEX","FUNCIONÁRIOS","PESSOAL",5100,"GERÊNCIA DE ENGENHARIA","Custos64117,514"]
[null,null,null,178329.69,160476.12,191765.97,185892.29,203769.9,184046.79400000002,{"$f":"D832*'Série - IPCA'!$C$444/'Série - IPCA'!$C$385","v":232117.01166873579},{"$f":"E832*'Série - IPCA'!$C$444/'Série - IPCA'!$C$398","v":199850.34280982157},{"$f":"F832*'Série - IPCA'!$C$444/'Série - IPCA'!$C$411","v":216986.46137888703},{"$f":"G832*'Série - IPCA'!$C$444/'Série - IPCA'!$C$424","v":198837.36605160273},{"$f":"H832*'Série - IPCA'!$C$444/'Série - IPCA'!$C$437","v":208332.48816184359},211224.73401417816,"Custos","N","SIM","NÃO","OPEX","FUNCIONÁRIOS","PESSOAL",5200,"GERÊNCIA DE OPERAÇÕES","Custos184046,794"]
[null,null,null,115685.17,84306.46,153768.47,127230.96,140850.81,124368.374,{"$f":"D833*'Série - IPCA'!$C$444/'Série - IPCA'!$C$385","v":150577.81996250703},{"$f":"E833*'Série - IPCA'!$C$444/'Série - IPCA'!$C$398","v":104991.78900937106},{"$f":"F833*'Série - IPCA'!$C$444/'Série - IPCA'!$C$411","v":173991.64292259753},{"$f":"G833*'Série - IPCA'!$C$444/'Série - IPCA'!$C$424","v":136091.0071451421},{"$f":"H833*'Série - IPCA'!$C$444/'Série - IPCA'!$C$437","v":144004.58412607104},141931.36863313775,"Despesas com Vendas","N","SIM","NÃO","ENCARGOS DE COMERCIALIZAÇÃO","FUNCIONÁRIOS","PESSOAL",5300,"GERÊNCIA COMERCIAL","Despesas com Vendas124368,374"]
[null,null,null,0,17055.310000000001,1015.58,-1679.95,-1509.5,2976.2880000000005,{"$f":"D834*'Série - IPCA'!$C$444/'Série - IPCA'!$C$385","v":0},{"$f":"E834*'Série - IPCA'!$C$444/'Série - IPCA'!$C$398","v":21239.979818977292},{"$f":"F834*'Série - IPCA'!$C$444/'Série - IPCA'!$C$411","v":1149.1460682370814},{"$f":"G834*'Série - IPCA'!$C$444/'Série - IPCA'!$C$424","v":-1796.9375335490786},{"$f":"H834*'Série - IPCA'!$C$444/'Série - IPCA'!$C$437","v":-1543.299039162815},3809.7778629004961,"Despesas Gerais e Administratias","N","SIM","NÃO","ENCARGOS DE GESTÃO","FUNCIONÁRIOS","PESSOAL",1005,"AUDITORIA INTERNA","Despesas Gerais e Administratias2976,288"]
[null,null,null,0,0,9407.57,2462.27,-9457.08,482.55200000000002,{"$f":"D835*'Série - IPCA'!$C$444/'Série - IPCA'!$C$385","v":0},{"$f":"E835*'Série - IPCA'!$C$444/'Série - IPCA'!$C$398","v":0},{"$f":"F835*'Série - IPCA'!$C$444/'Série - IPCA'!$C$411","v":10644.825692870201},{"$f":"G835*'Série - IPCA'!$C$444/'Série - IPCA'!$C$424","v":2633.7363497317715},{"$f":"H835*'Série - IPCA'!$C$444/'Série - IPCA'!$C$437","v":-9668.8323797852772},721.94593256333906,"Despesas Gerais e Administratias","N","SIM","NÃO","ENCARGOS DE GESTÃO","FUNCIONÁRIOS","PESSOAL",1010,"GOVERNANÇA SOCIETÁRIA","Despesas Gerais e Administratias482,552"]
[null,null,null,7833.43,-1330.75,-196.05,-3658.95,-692.11,391.11400000000003,{"$f":"D836*'Série - IPCA'!$C$444/'Série - IPCA'!$C$385","v":10196.128096876215},{"$f":"E836*'Série - IPCA'!$C$444/'Série - IPCA'!$C$398","v":-1657.2611781377193},{"$f":"F836*'Série - IPCA'!$C$444/'Série - IPCA'!$C$411","v":-221.8339142931919},{"$f":"G836*'Série - IPCA'!$C$444/'Série - IPCA'!$C$424","v":-3913.7501642188163},{"$f":"H836*'Série - IPCA'!$C$444/'Série - IPCA'!$C$437","v":-707.60695461740704},739.13517712181579,"Despesas Gerais e Administratias","N","SIM","NÃO","ENCARGOS DE GESTÃO","FUNCIONÁRIOS","PESSOAL",2110,"ASSESSORIA DA DIRETORIA EXECUTIVA","Despesas Gerais e Administratias391,114"]
[null,null,null,12258.1,352.2,1048.3599999999999,-3253.56,1901.49,{"$f":"AVERAGE(D837:H837)","v":2461.3180000000002},{"$f":"D837*'Série - IPCA'!$C$444/'Série - IPCA'!$C$385","v":15955.355166806663},{"$f":"E837*'Série - IPCA'!$C$444/'Série - IPCA'!$C$398","v":438.61535746015767},{"$f":"F837*'Série - IPCA'!$C$444/'Série - IPCA'!$C$411","v":1186.2371965743973},{"$f":"G837*'Série - IPCA'!$C$444/'Série - IPCA'!$C$424","v":-3480.1298143718204},{"$f":"H837*'Série - IPCA'!$C$444/'Série - IPCA'!$C$437","v":1944.0660417209017},{"$f":"AVERAGE(J837:N837)","v":3208.8287896380602},"Despesas Gerais e Administratias","N","SIM","NÃO","ENCARGOS DE GESTÃO","FUNCIONÁRIOS","PESSOAL",2120,"ASSESSORIA DA PRESIDÊNCIA",{"$f":"B837&C837&P837&I837","v":"Despesas Gerais e Administratias2461,318"}]
[null,null,null,0,1599.88,1273.6099999999999,-171.03,449.99,630.49,{"$f":"D838*'Série - IPCA'!$C$444/'Série - IPCA'!$C$385","v":0},{"$f":"E838*'Série - IPCA'!$C$444/'Série - IPCA'!$C$398","v":1992.4245828885776},{"$f":"F838*'Série - IPCA'!$C$444/'Série - IPCA'!$C$411","v":1441.1114082272484},{"$f":"G838*'Série - IPCA'!$C$444/'Série - IPCA'!$C$424","v":-182.940103195273},{"$f":"H838*'Série - IPCA'!$C$444/'Série - IPCA'!$C$437","v":460.06567382105015},742.13231234832051,"Despesas Gerais e Administratias","N","SIM","NÃO","ENCARGOS DE GESTÃO","FUNCIONÁRIOS","PESSOAL",2130,"ASSESSORIA DE RELAÇÕES INSTITUCIONAIS E NOVOS NEGÓCIOS","Despesas Gerais e Administratias630,49"]
[null,null,null,0,0,0,0,7239.18,1447.836,{"$f":"D839*'Série - IPCA'!$C$444/'Série - IPCA'!$C$385","v":0},{"$f":"E839*'Série - IPCA'!$C$444/'Série - IPCA'!$C$398","v":0},{"$f":"F839*'Série - IPCA'!$C$444/'Série - IPCA'!$C$411","v":0},{"$f":"G839*'Série - IPCA'!$C$444/'Série - IPCA'!$C$424","v":0},{"$f":"H839*'Série - IPCA'!$C$444/'Série - IPCA'!$C$437","v":7401.2716385072335},1480.2543277014468,"Despesas Gerais e Administratias","N","SIM","NÃO","ENCARGOS DE GESTÃO","FUNCIONÁRIOS","PESSOAL",2140,"ASSESSORIA DTC","Despesas Gerais e Administratias1447,836"]
[null,null,null,0,5731.95,7272.17,0,0,2600.8239999999996,{"$f":"D840*'Série - IPCA'!$C$444/'Série - IPCA'!$C$385","v":0},{"$f":"E840*'Série - IPCA'!$C$444/'Série - IPCA'!$C$398","v":7138.3341799936134},{"$f":"F840*'Série - IPCA'!$C$444/'Série - IPCA'!$C$411","v":8228.5842208901868},{"$f":"G840*'Série - IPCA'!$C$444/'Série - IPCA'!$C$424","v":0},{"$f":"H840*'Série - IPCA'!$C$444/'Série - IPCA'!$C$437","v":0},3073.3836801767602,"Despesas Gerais e Administratias","N","SIM","NÃO","ENCARGOS DE GESTÃO","FUNCIONÁRIOS","PESSOAL",2300,"DIRETORIA COLEGIADA - DAF","Despesas Gerais e Administratias2600,824"]
[null,null,null,19636.89,8356.73,-1863.11,11169.27,-10927.2,5274.5159999999996,{"$f":"D841*'Série - IPCA'!$C$444/'Série - IPCA'!$C$385","v":25559.715969156241},{"$f":"E841*'Série - IPCA'!$C$444/'Série - IPCA'!$C$398","v":10407.126962373717},{"$f":"F841*'Série - IPCA'!$C$444/'Série - IPCA'!$C$411","v":-2108.1406991011918},{"$f":"G841*'Série - IPCA'!$C$444/'Série - IPCA'!$C$424","v":11947.07014217311},{"$f":"H841*'Série - IPCA'!$C$444/'Série - IPCA'!$C$437","v":-11171.869665942308},6926.7805417319132,"Despesas Gerais e Administratias","N","SIM","NÃO","ENCARGOS DE GESTÃO","FUNCIONÁRIOS","PESSOAL",2410,"ASSESSORIA DE SEGURANÇA DO TRABALHO","Despesas Gerais e Administratias5274,516"]
[null,null,null,33178.300000000003,30185.7,34589.56,33692.089999999997,22624.18,30853.965999999997,{"$f":"D842*'Série - IPCA'!$C$444/'Série - IPCA'!$C$385","v":43185.449648058151},{"$f":"E842*'Série - IPCA'!$C$444/'Série - IPCA'!$C$398","v":37592.026109270533},{"$f":"F842*'Série - IPCA'!$C$444/'Série - IPCA'!$C$411","v":39138.676299307408},{"$f":"G842*'Série - IPCA'!$C$444/'Série - IPCA'!$C$424","v":36038.323226711247},{"$f":"H842*'Série - IPCA'!$C$444/'Série - IPCA'!$C$437","v":23130.755386450201},35817.046133959506,"Despesas Gerais e Administratias","N","SIM","NÃO","ENCARGOS DE GESTÃO","FUNCIONÁRIOS","PESSOAL",3200,"GERÊNCIA DE PLANEJAMENTO E MEIO AMBIENTE","Despesas Gerais e Administratias30853,966"]
[null,null,null,19727.849999999999,17705.64,23433.19,27552.34,22707.11,22225.225999999999,{"$f":"D843*'Série - IPCA'!$C$444/'Série - IPCA'!$C$385","v":25678.111079815535},{"$f":"E843*'Série - IPCA'!$C$444/'Série - IPCA'!$C$398","v":22049.873985408474},{"$f":"F843*'Série - IPCA'!$C$444/'Série - IPCA'!$C$411","v":26515.053619362818},{"$f":"G843*'Série - IPCA'!$C$444/'Série - IPCA'!$C$424","v":29471.016329715534},{"$f":"H843*'Série - IPCA'!$C$444/'Série - IPCA'!$C$437","v":23215.542262447401},25385.919455349955,"Despesas Gerais e Administratias","N","SIM","NÃO","ENCARGOS DE GESTÃO","FUNCIONÁRIOS","PESSOAL",3300,"GERÊNCIA JURÍDICA","Despesas Gerais e Administratias22225,226"]
[null,null,null,16723.080000000002,-1343.51,-257.02999999999997,727.57,-5983.29,1973.364,{"$f":"D844*'Série - IPCA'!$C$444/'Série - IPCA'!$C$385","v":21767.050430566011},{"$f":"E844*'Série - IPCA'!$C$444/'Série - IPCA'!$C$398","v":-1673.151955994595},{"$f":"F844*'Série - IPCA'!$C$444/'Série - IPCA'!$C$411","v":-290.83382295730223},{"$f":"G844*'Série - IPCA'!$C$444/'Série - IPCA'!$C$424","v":778.23616255501838},{"$f":"H844*'Série - IPCA'!$C$444/'Série - IPCA'!$C$437","v":-6117.2611513961447},2892.8079325545973,"Despesas Gerais e Administratias","N","SIM","NÃO","ENCARGOS DE GESTÃO","FUNCIONÁRIOS","PESSOAL",3500,"ASSESSORIA DE COMUNICAÇÃO INSTITUCIONAL","Despesas Gerais e Administratias1973,364"]
[null,null,null,35939.15,28883.5,30682.59,59421.13,32025.09,37390.292000000001,{"$f":"D845*'Série - IPCA'!$C$444/'Série - IPCA'!$C$385","v":46779.019802672497},{"$f":"E845*'Série - IPCA'!$C$444/'Série - IPCA'!$C$398","v":35970.319923908188},{"$f":"F845*'Série - IPCA'!$C$444/'Série - IPCA'!$C$411","v":34717.873197414672},{"$f":"G845*'Série - IPCA'!$C$444/'Série - IPCA'!$C$424","v":63559.069485936569},{"$f":"H845*'Série - IPCA'!$C$444/'Série - IPCA'!$C$437","v":32742.160070289949},42753.688496044379,"Despesas Gerais e Administratias","N","SIM","NÃO","ENCARGOS DE GESTÃO","FUNCIONÁRIOS","PESSOAL",3600,"GERÊNCIA DE GOVERNANÇA, RISCO E COMPLIANCE","Despesas Gerais e Administratias37390,292"]
[null,null,null,0,10478.18,-3630.66,-262.5,-558.71,1205.2620000000002,{"$f":"D846*'Série - IPCA'!$C$444/'Série - IPCA'!$C$385","v":0},{"$f":"E846*'Série - IPCA'!$C$444/'Série - IPCA'!$C$398","v":13049.093316955919},{"$f":"F846*'Série - IPCA'!$C$444/'Série - IPCA'!$C$411","v":-4108.1536305418003},{"$f":"G846*'Série - IPCA'!$C$444/'Série - IPCA'!$C$424","v":-280.77984616008399},{"$f":"H846*'Série - IPCA'!$C$444/'Série - IPCA'!$C$437","v":-571.22001071259126},1617.7879659082892,"Despesas Gerais e Administratias","N","SIM","NÃO","ENCARGOS DE GESTÃO","FUNCIONÁRIOS","PESSOAL",3700,"GERÊNCIA DE REGULAÇÃO","Despesas Gerais e Administratias1205,262"]
[null,null,null,99268.69,66650.13,84364.13,92249.73,35777.29,75661.993999999992,{"$f":"D847*'Série - IPCA'!$C$444/'Série - IPCA'!$C$385","v":129209.84539966463},{"$f":"E847*'Série - IPCA'!$C$444/'Série - IPCA'!$C$398","v":83003.323664724536},{"$f":"F847*'Série - IPCA'!$C$444/'Série - IPCA'!$C$411","v":95459.450057840848},{"$f":"G847*'Série - IPCA'!$C$444/'Série - IPCA'!$C$424","v":98673.771419844896},{"$f":"H847*'Série - IPCA'!$C$444/'Série - IPCA'!$C$437","v":36578.375144650148},88584.953137345001,"Despesas Gerais e Administratias","N","SIM","NÃO","ENCARGOS DE GESTÃO","FUNCIONÁRIOS","PESSOAL",4100,"GERÊNCIA DE SERVIÇOS CORPORATIVOS","Despesas Gerais e Administratias75661,994"]
[null,null,null,39352.589999999997,27119.4,34098.92,36549.35,41333.19,35690.689999999995,{"$f":"D848*'Série - IPCA'!$C$444/'Série - IPCA'!$C$385","v":51222.012398636347},{"$f":"E848*'Série - IPCA'!$C$444/'Série - IPCA'!$C$398","v":33773.382524432142},{"$f":"F848*'Série - IPCA'!$C$444/'Série - IPCA'!$C$411","v":38583.508782302502},{"$f":"G848*'Série - IPCA'!$C$444/'Série - IPCA'!$C$424","v":39094.555696194533},{"$f":"H848*'Série - IPCA'!$C$444/'Série - IPCA'!$C$437","v":42258.676656200114},40986.427211553128,"Despesas Gerais e Administratias","N","SIM","NÃO","ENCARGOS DE GESTÃO","FUNCIONÁRIOS","PESSOAL",4200,"GERÊNCIA FINANCEIRA","Despesas Gerais e Administratias35690,69"]
[null,null,null,40918.26,39344.019999999997,42580.61,37786.519999999997,39197.32,39965.346000000005,{"$f":"D849*'Série - IPCA'!$C$444/'Série - IPCA'!$C$385","v":53259.915574823048},{"$f":"E849*'Série - IPCA'!$C$444/'Série - IPCA'!$C$398","v":48997.420205052782},{"$f":"F849*'Série - IPCA'!$C$444/'Série - IPCA'!$C$411","v":48180.685484783622},{"$f":"G849*'Série - IPCA'!$C$444/'Série - IPCA'!$C$424","v":40417.879133428331},{"$f":"H849*'Série - IPCA'!$C$444/'Série - IPCA'!$C$437","v":40074.982639123809},46186.176607442321,"Despesas Gerais e Administratias","N","SIM","NÃO","ENCARGOS DE GESTÃO","FUNCIONÁRIOS","PESSOAL",4300,"GERÊNCIA DE TECNOLOGIA E SISTEMAS DE INFORMAÇÃO","Despesas Gerais e Administratias39965,346"]
[null,null,null,23511.4,30020.68,26424.48,36274.11,32943.54,29834.841999999997,{"$f":"D850*'Série - IPCA'!$C$444/'Série - IPCA'!$C$385","v":30602.845258960053},{"$f":"E850*'Série - IPCA'!$C$444/'Série - IPCA'!$C$398","v":37386.517005670088},{"$f":"F850*'Série - IPCA'!$C$444/'Série - IPCA'!$C$411","v":29899.749204601696},{"$f":"G850*'Série - IPCA'!$C$444/'Série - IPCA'!$C$424","v":38800.148668167487},{"$f":"H850*'Série - IPCA'!$C$444/'Série - IPCA'!$C$437","v":33681.17497755665},34074.087022991196,"Despesas Gerais e Administratias","N","SIM","NÃO","ENCARGOS DE GESTÃO","FUNCIONÁRIOS","PESSOAL",4500,"GERÊNCIA CONTÁBIL","Despesas Gerais e Administratias29834,842"]
[null,null,null,813.92,0,0,0,29035.040000000001,5969.7919999999995,{"$f":"D851*'Série - IPCA'!$C$444/'Série - IPCA'!$C$385","v":1059.4123622231243},{"$f":"E851*'Série - IPCA'!$C$444/'Série - IPCA'!$C$398","v":0},{"$f":"F851*'Série - IPCA'!$C$444/'Série - IPCA'!$C$411","v":0},{"$f":"G851*'Série - IPCA'!$C$444/'Série - IPCA'!$C$424","v":0},{"$f":"H851*'Série - IPCA'!$C$444/'Série - IPCA'!$C$437","v":29685.16020805161},6148.9145140549463,"Despesas Gerais e Administratias","N","SIM","NÃO","ENCARGOS DE GESTÃO","FUNCIONÁRIOS","PESSOAL",4600,"GERÊNCIA DE PESSOAS E CULTURA","Despesas Gerais e Administratias5969,792"]
[null,null,null,0,0,0,0,0,0,{"$f":"D852*'Série - IPCA'!$C$444/'Série - IPCA'!$C$385","v":0},{"$f":"E852*'Série - IPCA'!$C$444/'Série - IPCA'!$C$398","v":0},{"$f":"F852*'Série - IPCA'!$C$444/'Série - IPCA'!$C$411","v":0},{"$f":"G852*'Série - IPCA'!$C$444/'Série - IPCA'!$C$424","v":0},{"$f":"H852*'Série - IPCA'!$C$444/'Série - IPCA'!$C$437","v":0},0,"Custos","N","SIM","NÃO","OPEX","FUNCIONÁRIOS","PESSOAL",5100,"GERÊNCIA DE ENGENHARIA","Custos0"]
[null,null,null,0,0,0,0,0,0,{"$f":"D853*'Série - IPCA'!$C$444/'Série - IPCA'!$C$385","v":0},{"$f":"E853*'Série - IPCA'!$C$444/'Série - IPCA'!$C$398","v":0},{"$f":"F853*'Série - IPCA'!$C$444/'Série - IPCA'!$C$411","v":0},{"$f":"G853*'Série - IPCA'!$C$444/'Série - IPCA'!$C$424","v":0},{"$f":"H853*'Série - IPCA'!$C$444/'Série - IPCA'!$C$437","v":0},0,"Custos","N","SIM","NÃO","OPEX","FUNCIONÁRIOS","PESSOAL",5200,"GERÊNCIA DE OPERAÇÕES","Custos0"]
[null,null,null,0,0,0,142952.76999999999,134060.32999999999,55402.619999999995,{"$f":"D854*'Série - IPCA'!$C$444/'Série - IPCA'!$C$385","v":0},{"$f":"E854*'Série - IPCA'!$C$444/'Série - IPCA'!$C$398","v":0},{"$f":"F854*'Série - IPCA'!$C$444/'Série - IPCA'!$C$411","v":0},{"$f":"G854*'Série - IPCA'!$C$444/'Série - IPCA'!$C$424","v":152907.6448333633},{"$f":"H854*'Série - IPCA'!$C$444/'Série - IPCA'!$C$437","v":137062.0592771447},57993.940822101591,"Despesas Gerais e Administratias","N","SIM","NÃO","ENCARGOS DE GESTÃO","FIXO","TRIBUTOS_E_TAXAS_FISCAIS",9999,"RATEIO","Despesas Gerais e Administratias55402,62"]
[null,null,null,0,436.28,986.33,0,0,284.52200000000005,{"$f":"D855*'Série - IPCA'!$C$444/'Série - IPCA'!$C$385","v":0},{"$f":"E855*'Série - IPCA'!$C$444/'Série - IPCA'!$C$398","v":543.32512252333208},{"$f":"F855*'Série - IPCA'!$C$444/'Série - IPCA'!$C$411","v":1116.0491950257788},{"$f":"G855*'Série - IPCA'!$C$444/'Série - IPCA'!$C$424","v":0},{"$f":"H855*'Série - IPCA'!$C$444/'Série - IPCA'!$C$437","v":0},331.87486350982215,"Despesas Gerais e Administratias","N","SIM","NÃO","ENCARGOS DE GESTÃO","FIXO","TRIBUTOS_E_TAXAS_FISCAIS",2200,"DIRETORIA COLEGIADA - PRESIDÊNCIA","Despesas Gerais e Administratias284,522"]
[null,null,null,82.04,0,0,0,0,16.408000000000001,{"$f":"D856*'Série - IPCA'!$C$444/'Série - IPCA'!$C$385","v":106.78468424020188},{"$f":"E856*'Série - IPCA'!$C$444/'Série - IPCA'!$C$398","v":0},{"$f":"F856*'Série - IPCA'!$C$444/'Série - IPCA'!$C$411","v":0},{"$f":"G856*'Série - IPCA'!$C$444/'Série - IPCA'!$C$424","v":0},{"$f":"H856*'Série - IPCA'!$C$444/'Série - IPCA'!$C$437","v":0},21.356936848040377,"Despesas Gerais e Administratias","N","SIM","NÃO","ENCARGOS DE GESTÃO","FIXO","TRIBUTOS_E_TAXAS_FISCAIS",4200,"GERÊNCIA FINANCEIRA","Despesas Gerais e Administratias16,408"]
[null,null,null,0,0,1063.51,0,0,212.702,{"$f":"D857*'Série - IPCA'!$C$444/'Série - IPCA'!$C$385","v":0},{"$f":"E857*'Série - IPCA'!$C$444/'Série - IPCA'!$C$398","v":0},{"$f":"F857*'Série - IPCA'!$C$444/'Série - IPCA'!$C$411","v":1203.379679622303},{"$f":"G857*'Série - IPCA'!$C$444/'Série - IPCA'!$C$424","v":0},{"$f":"H857*'Série - IPCA'!$C$444/'Série - IPCA'!$C$437","v":0},240.67593592446059,"Despesas Gerais e Administratias","N","SIM","NÃO","ENCARGOS DE GESTÃO","FIXO","TRIBUTOS_E_TAXAS_FISCAIS",5100,"GERÊNCIA DE ENGENHARIA","Despesas Gerais e Administratias212,702"]
[null,null,null,0,0,0,0,10509.49,2101.8980000000001,{"$f":"D858*'Série - IPCA'!$C$444/'Série - IPCA'!$C$385","v":0},{"$f":"E858*'Série - IPCA'!$C$444/'Série - IPCA'!$C$398","v":0},{"$f":"F858*'Série - IPCA'!$C$444/'Série - IPCA'!$C$411","v":0},{"$f":"G858*'Série - IPCA'!$C$444/'Série - IPCA'!$C$424","v":0},{"$f":"H858*'Série - IPCA'!$C$444/'Série - IPCA'!$C$437","v":10744.80676985175},2148.96135397035,"Despesas Gerais e Administratias","N","SIM","NÃO","ENCARGOS DE GESTÃO","FIXO","TRIBUTOS_E_TAXAS_FISCAIS",4100,"GERÊNCIA DE SERVIÇOS CORPORATIVOS","Despesas Gerais e Administratias2101,898"]
[null,null,null,850,0,0,0,0,170,{"$f":"D859*'Série - IPCA'!$C$444/'Série - IPCA'!$C$385","v":1106.3747148241298},{"$f":"E859*'Série - IPCA'!$C$444/'Série - IPCA'!$C$398","v":0},{"$f":"F859*'Série - IPCA'!$C$444/'Série - IPCA'!$C$411","v":0},{"$f":"G859*'Série - IPCA'!$C$444/'Série - IPCA'!$C$424","v":0},{"$f":"H859*'Série - IPCA'!$C$444/'Série - IPCA'!$C$437","v":0},221.27494296482595,"Despesas Gerais e Administratias","N","SIM","NÃO","ENCARGOS DE GESTÃO","FIXO","DESPESAS_GERAIS",3400,"MARKETING","Despesas Gerais e Administratias170"]
[null,null,null,146.65,0,0,0,0,29.330000000000002,{"$f":"D860*'Série - IPCA'!$C$444/'Série - IPCA'!$C$385","v":190.88217873995131},{"$f":"E860*'Série - IPCA'!$C$444/'Série - IPCA'!$C$398","v":0},{"$f":"F860*'Série - IPCA'!$C$444/'Série - IPCA'!$C$411","v":0},{"$f":"G860*'Série - IPCA'!$C$444/'Série - IPCA'!$C$424","v":0},{"$f":"H860*'Série - IPCA'!$C$444/'Série - IPCA'!$C$437","v":0},38.176435747990261,"Custos","N","SIM","NÃO","OPEX","FUNCIONÁRIOS","DESPESAS_GERAIS",5100,"GERÊNCIA DE ENGENHARIA","Custos29,33"]
[null,null,null,5196.7,0,0,0,0,1039.3399999999999,{"$f":"D861*'Série - IPCA'!$C$444/'Série - IPCA'!$C$385","v":6764.1146829724175},{"$f":"E861*'Série - IPCA'!$C$444/'Série - IPCA'!$C$398","v":0},{"$f":"F861*'Série - IPCA'!$C$444/'Série - IPCA'!$C$411","v":0},{"$f":"G861*'Série - IPCA'!$C$444/'Série - IPCA'!$C$424","v":0},{"$f":"H861*'Série - IPCA'!$C$444/'Série - IPCA'!$C$437","v":0},1352.8229365944835,"Custos","N","SIM","NÃO","OPEX","FUNCIONÁRIOS","DESPESAS_GERAIS",5200,"GERÊNCIA DE OPERAÇÕES","Custos1039,34"]
[null,null,null,28.5,0,0,0,0,5.7,{"$f":"D862*'Série - IPCA'!$C$444/'Série - IPCA'!$C$385","v":37.096093379397288},{"$f":"E862*'Série - IPCA'!$C$444/'Série - IPCA'!$C$398","v":0},{"$f":"F862*'Série - IPCA'!$C$444/'Série - IPCA'!$C$411","v":0},{"$f":"G862*'Série - IPCA'!$C$444/'Série - IPCA'!$C$424","v":0},{"$f":"H862*'Série - IPCA'!$C$444/'Série - IPCA'!$C$437","v":0},7.419218675879458,"Despesas com Vendas","N","SIM","NÃO","ENCARGOS DE COMERCIALIZAÇÃO","FUNCIONÁRIOS","DESPESAS_GERAIS",5300,"GERÊNCIA COMERCIAL","Despesas com Vendas5,7"]
[null,null,null,281.2,0,0,0,0,56.239999999999995,{"$f":"D863*'Série - IPCA'!$C$444/'Série - IPCA'!$C$385","v":366.01478801005322},{"$f":"E863*'Série - IPCA'!$C$444/'Série - IPCA'!$C$398","v":0},{"$f":"F863*'Série - IPCA'!$C$444/'Série - IPCA'!$C$411","v":0},{"$f":"G863*'Série - IPCA'!$C$444/'Série - IPCA'!$C$424","v":0},{"$f":"H863*'Série - IPCA'!$C$444/'Série - IPCA'!$C$437","v":0},73.202957602010642,"Despesas Gerais e Administratias","N","SIM","NÃO","ENCARGOS DE GESTÃO","FUNCIONÁRIOS","DESPESAS_GERAIS",1002,"CONSELHO FISCAL","Despesas Gerais e Administratias56,24"]
[null,null,null,8715.52,0,0,0,0,1743.104,{"$f":"D864*'Série - IPCA'!$C$444/'Série - IPCA'!$C$385","v":11344.271711228235},{"$f":"E864*'Série - IPCA'!$C$444/'Série - IPCA'!$C$398","v":0},{"$f":"F864*'Série - IPCA'!$C$444/'Série - IPCA'!$C$411","v":0},{"$f":"G864*'Série - IPCA'!$C$444/'Série - IPCA'!$C$424","v":0},{"$f":"H864*'Série - IPCA'!$C$444/'Série - IPCA'!$C$437","v":0},2268.8543422456469,"Despesas Gerais e Administratias","N","SIM","NÃO","ENCARGOS DE GESTÃO","FUNCIONÁRIOS","DESPESAS_GERAIS",2200,"DIRETORIA COLEGIADA - PRESIDÊNCIA","Despesas Gerais e Administratias1743,104"]
[null,null,null,227.86,0,0,0,0,45.572000000000003,{"$f":"D865*'Série - IPCA'!$C$444/'Série - IPCA'!$C$385","v":296.58652061156022},{"$f":"E865*'Série - IPCA'!$C$444/'Série - IPCA'!$C$398","v":0},{"$f":"F865*'Série - IPCA'!$C$444/'Série - IPCA'!$C$411","v":0},{"$f":"G865*'Série - IPCA'!$C$444/'Série - IPCA'!$C$424","v":0},{"$f":"H865*'Série - IPCA'!$C$444/'Série - IPCA'!$C$437","v":0},59.317304122312045,"Despesas Gerais e Administratias","N","SIM","NÃO","ENCARGOS DE GESTÃO","FUNCIONÁRIOS","DESPESAS_GERAIS",2300,"DIRETORIA COLEGIADA - DAF","Despesas Gerais e Administratias45,572"]
[null,null,null,541.14,0,0,0,0,108.22799999999999,{"$f":"D866*'Série - IPCA'!$C$444/'Série - IPCA'!$C$385","v":704.35719197638764},{"$f":"E866*'Série - IPCA'!$C$444/'Série - IPCA'!$C$398","v":0},{"$f":"F866*'Série - IPCA'!$C$444/'Série - IPCA'!$C$411","v":0},{"$f":"G866*'Série - IPCA'!$C$444/'Série - IPCA'!$C$424","v":0},{"$f":"H866*'Série - IPCA'!$C$444/'Série - IPCA'!$C$437","v":0},140.87143839527752,"Despesas Gerais e Administratias","N","SIM","NÃO","ENCARGOS DE GESTÃO","FUNCIONÁRIOS","DESPESAS_GERAIS",3100,"SMS","Despesas Gerais e Administratias108,228"]
[null,null,null,151.77000000000001,0,0,0,0,30.354000000000003,{"$f":"D867*'Série - IPCA'!$C$444/'Série - IPCA'!$C$385","v":197.54645937512728},{"$f":"E867*'Série - IPCA'!$C$444/'Série - IPCA'!$C$398","v":0},{"$f":"F867*'Série - IPCA'!$C$444/'Série - IPCA'!$C$411","v":0},{"$f":"G867*'Série - IPCA'!$C$444/'Série - IPCA'!$C$424","v":0},{"$f":"H867*'Série - IPCA'!$C$444/'Série - IPCA'!$C$437","v":0},39.509291875025454,"Despesas Gerais e Administratias","N","SIM","NÃO","ENCARGOS DE GESTÃO","FUNCIONÁRIOS","DESPESAS_GERAIS",3200,"GERÊNCIA DE PLANEJAMENTO E MEIO AMBIENTE","Despesas Gerais e Administratias30,354"]
[null,null,null,9,0,0,0,0,1.8,{"$f":"D868*'Série - IPCA'!$C$444/'Série - IPCA'!$C$385","v":11.714555804020197},{"$f":"E868*'Série - IPCA'!$C$444/'Série - IPCA'!$C$398","v":0},{"$f":"F868*'Série - IPCA'!$C$444/'Série - IPCA'!$C$411","v":0},{"$f":"G868*'Série - IPCA'!$C$444/'Série - IPCA'!$C$424","v":0},{"$f":"H868*'Série - IPCA'!$C$444/'Série - IPCA'!$C$437","v":0},2.3429111608040394,"Despesas Gerais e Administratias","N","SIM","NÃO","ENCARGOS DE GESTÃO","FUNCIONÁRIOS","DESPESAS_GERAIS",3400,"MARKETING","Despesas Gerais e Administratias1,8"]
[null,null,null,34.28,0,0,0,0,6.8559999999999999,{"$f":"D869*'Série - IPCA'!$C$444/'Série - IPCA'!$C$385","v":44.619441440201378},{"$f":"E869*'Série - IPCA'!$C$444/'Série - IPCA'!$C$398","v":0},{"$f":"F869*'Série - IPCA'!$C$444/'Série - IPCA'!$C$411","v":0},{"$f":"G869*'Série - IPCA'!$C$444/'Série - IPCA'!$C$424","v":0},{"$f":"H869*'Série - IPCA'!$C$444/'Série - IPCA'!$C$437","v":0},8.9238882880402759,"Despesas Gerais e Administratias","N","SIM","NÃO","ENCARGOS DE GESTÃO","FUNCIONÁRIOS","DESPESAS_GERAIS",3600,"GERÊNCIA DE GOVERNANÇA, RISCO E COMPLIANCE","Despesas Gerais e Administratias6,856"]
[null,null,null,7547.15,0,0,0,0,1509.4299999999998,{"$f":"D870*'Série - IPCA'!$C$444/'Série - IPCA'!$C$385","v":9823.5010929234468},{"$f":"E870*'Série - IPCA'!$C$444/'Série - IPCA'!$C$398","v":0},{"$f":"F870*'Série - IPCA'!$C$444/'Série - IPCA'!$C$411","v":0},{"$f":"G870*'Série - IPCA'!$C$444/'Série - IPCA'!$C$424","v":0},{"$f":"H870*'Série - IPCA'!$C$444/'Série - IPCA'!$C$437","v":0},1964.7002185846893,"Despesas Gerais e Administratias","N","SIM","NÃO","ENCARGOS DE GESTÃO","FUNCIONÁRIOS","DESPESAS_GERAIS",4100,"GERÊNCIA DE SERVIÇOS CORPORATIVOS","Despesas Gerais e Administratias1509,43"]
[null,null,null,19.25,0,0,0,0,3.85,{"$f":"D871*'Série - IPCA'!$C$444/'Série - IPCA'!$C$385","v":25.05613324748764},{"$f":"E871*'Série - IPCA'!$C$444/'Série - IPCA'!$C$398","v":0},{"$f":"F871*'Série - IPCA'!$C$444/'Série - IPCA'!$C$411","v":0},{"$f":"G871*'Série - IPCA'!$C$444/'Série - IPCA'!$C$424","v":0},{"$f":"H871*'Série - IPCA'!$C$444/'Série - IPCA'!$C$437","v":0},5.0112266494975284,"Despesas Gerais e Administratias","N","SIM","NÃO","ENCARGOS DE GESTÃO","FUNCIONÁRIOS","DESPESAS_GERAIS",4200,"GERÊNCIA FINANCEIRA","Despesas Gerais e Administratias3,85"]
[null,null,null,222.27,0,0,0,0,44.454000000000001,{"$f":"D872*'Série - IPCA'!$C$444/'Série - IPCA'!$C$385","v":289.31047983995211},{"$f":"E872*'Série - IPCA'!$C$444/'Série - IPCA'!$C$398","v":0},{"$f":"F872*'Série - IPCA'!$C$444/'Série - IPCA'!$C$411","v":0},{"$f":"G872*'Série - IPCA'!$C$444/'Série - IPCA'!$C$424","v":0},{"$f":"H872*'Série - IPCA'!$C$444/'Série - IPCA'!$C$437","v":0},57.86209596799042,"Despesas Gerais e Administratias","N","SIM","NÃO","ENCARGOS DE GESTÃO","FUNCIONÁRIOS","DESPESAS_GERAIS",4300,"GERÊNCIA DE TECNOLOGIA E SISTEMAS DE INFORMAÇÃO","Despesas Gerais e Administratias44,454"]
[null,null,null,159.4,0,0,0,0,31.880000000000003,{"$f":"D873*'Série - IPCA'!$C$444/'Série - IPCA'!$C$385","v":207.47779946231327},{"$f":"E873*'Série - IPCA'!$C$444/'Série - IPCA'!$C$398","v":0},{"$f":"F873*'Série - IPCA'!$C$444/'Série - IPCA'!$C$411","v":0},{"$f":"G873*'Série - IPCA'!$C$444/'Série - IPCA'!$C$424","v":0},{"$f":"H873*'Série - IPCA'!$C$444/'Série - IPCA'!$C$437","v":0},41.495559892462651,"Despesas Gerais e Administratias","N","SIM","NÃO","ENCARGOS DE GESTÃO","FUNCIONÁRIOS","DESPESAS_GERAIS",4500,"GERÊNCIA CONTÁBIL","Despesas Gerais e Administratias31,88"]
[null,null,null,477.85,0,0,0,0,95.570000000000007,{"$f":"D874*'Série - IPCA'!$C$444/'Série - IPCA'!$C$385","v":621.97783232789459},{"$f":"E874*'Série - IPCA'!$C$444/'Série - IPCA'!$C$398","v":0},{"$f":"F874*'Série - IPCA'!$C$444/'Série - IPCA'!$C$411","v":0},{"$f":"G874*'Série - IPCA'!$C$444/'Série - IPCA'!$C$424","v":0},{"$f":"H874*'Série - IPCA'!$C$444/'Série - IPCA'!$C$437","v":0},124.39556646557892,"Despesas Gerais e Administratias","N","SIM","NÃO","ENCARGOS DE GESTÃO","FUNCIONÁRIOS","DESPESAS_GERAIS",4600,"GERÊNCIA DE PESSOAS E CULTURA","Despesas Gerais e Administratias95,57"]
[null,null,null,0,0,3323.52,12456.06,10228.5,5201.616,{"$f":"D875*'Série - IPCA'!$C$444/'Série - IPCA'!$C$385","v":0},{"$f":"E875*'Série - IPCA'!$C$444/'Série - IPCA'!$C$398","v":0},{"$f":"F875*'Série - IPCA'!$C$444/'Série - IPCA'!$C$411","v":3760.6194890676306},{"$f":"G875*'Série - IPCA'!$C$444/'Série - IPCA'!$C$424","v":13323.468992612477},{"$f":"H875*'Série - IPCA'!$C$444/'Série - IPCA'!$C$437","v":10457.525155400368},5508.3227274160945,"Despesas Gerais e Administratias","N","SIM","NÃO","ENCARGOS DE GESTÃO","FIXO","MATERIAIS_MANUTENÇÃO",4100,"GERÊNCIA DE SERVIÇOS CORPORATIVOS","Despesas Gerais e Administratias5201,616"]
[null,null,null,805.09,0,0,0,0,161.018,{"$f":"D876*'Série - IPCA'!$C$444/'Série - IPCA'!$C$385","v":1047.9190813620689},{"$f":"E876*'Série - IPCA'!$C$444/'Série - IPCA'!$C$398","v":0},{"$f":"F876*'Série - IPCA'!$C$444/'Série - IPCA'!$C$411","v":0},{"$f":"G876*'Série - IPCA'!$C$444/'Série - IPCA'!$C$424","v":0},{"$f":"H876*'Série - IPCA'!$C$444/'Série - IPCA'!$C$437","v":0},209.5838162724138,"Despesas Gerais e Administratias","N","SIM","NÃO","ENCARGOS DE GESTÃO","FUNCIONÁRIOS","PESSOAL",4100,"GERÊNCIA DE SERVIÇOS CORPORATIVOS","Despesas Gerais e Administratias161,018"]
[null,null,null,3596.19,1406.15,74009.89,0,0,15802.446,{"$f":"D877*'Série - IPCA'!$C$444/'Série - IPCA'!$C$385","v":4680.8631596510431},{"$f":"E877*'Série - IPCA'!$C$444/'Série - IPCA'!$C$398","v":1751.1612291101665},{"$f":"F877*'Série - IPCA'!$C$444/'Série - IPCA'!$C$411","v":83743.451135468291},{"$f":"G877*'Série - IPCA'!$C$444/'Série - IPCA'!$C$424","v":0},{"$f":"H877*'Série - IPCA'!$C$444/'Série - IPCA'!$C$437","v":0},18035.095104845903,"Custos","N","SIM","NÃO","OPEX","FIXO","DESPESAS_GERAIS",5100,"GERÊNCIA DE ENGENHARIA","Custos15802,446"]
[null,null,null,8854.82,64001.760000000002,0,0,0,14571.316000000001,{"$f":"D878*'Série - IPCA'!$C$444/'Série - IPCA'!$C$385","v":11525.587002728234},{"$f":"E878*'Série - IPCA'!$C$444/'Série - IPCA'!$C$398","v":79705.15286904946},{"$f":"F878*'Série - IPCA'!$C$444/'Série - IPCA'!$C$411","v":0},{"$f":"G878*'Série - IPCA'!$C$444/'Série - IPCA'!$C$424","v":0},{"$f":"H878*'Série - IPCA'!$C$444/'Série - IPCA'!$C$437","v":0},18246.147974355539,"Custos","N","SIM","NÃO","OPEX","FIXO","DESPESAS_GERAIS",5200,"GERÊNCIA DE OPERAÇÕES","Custos14571,316"]
[null,null,null,-309306.82,0,1266.82,406.12,874.97,-61351.782000000007,{"$f":"D879*'Série - IPCA'!$C$444/'Série - IPCA'!$C$385","v":-402599.11149489228},{"$f":"E879*'Série - IPCA'!$C$444/'Série - IPCA'!$C$398","v":0},{"$f":"F879*'Série - IPCA'!$C$444/'Série - IPCA'!$C$411","v":1433.428407574095},{"$f":"G879*'Série - IPCA'!$C$444/'Série - IPCA'!$C$424","v":434.4011852286983},{"$f":"H879*'Série - IPCA'!$C$444/'Série - IPCA'!$C$437","v":894.56135163715692},-79967.34411009046,"Custos","N","SIM","NÃO","OPEX","FIXO","DESPESAS_GERAIS",5200,"GERÊNCIA DE OPERAÇÕES","Custos-61351,782"]
[null,null,null,-8674.5,75322.77,0,0,13.82,13332.418000000001,{"$f":"D880*'Série - IPCA'!$C$444/'Série - IPCA'!$C$385","v":-11290.879369108132},{"$f":"E880*'Série - IPCA'!$C$444/'Série - IPCA'!$C$398","v":93803.871914932548},{"$f":"F880*'Série - IPCA'!$C$444/'Série - IPCA'!$C$411","v":0},{"$f":"G880*'Série - IPCA'!$C$444/'Série - IPCA'!$C$424","v":0},{"$f":"H880*'Série - IPCA'!$C$444/'Série - IPCA'!$C$437","v":14.1294420147268},16505.424397567829,"Despesas com Vendas","N","SIM","NÃO","ENCARGOS DE COMERCIALIZAÇÃO","FIXO","DESPESAS_GERAIS",5300,"GERÊNCIA COMERCIAL","Despesas com Vendas13332,418"]
[null,null,null,0,8.17,0,0,0,1.6339999999999999,{"$f":"D881*'Série - IPCA'!$C$444/'Série - IPCA'!$C$385","v":0},{"$f":"E881*'Série - IPCA'!$C$444/'Série - IPCA'!$C$398","v":10.174581119958795},{"$f":"F881*'Série - IPCA'!$C$444/'Série - IPCA'!$C$411","v":0},{"$f":"G881*'Série - IPCA'!$C$444/'Série - IPCA'!$C$424","v":0},{"$f":"H881*'Série - IPCA'!$C$444/'Série - IPCA'!$C$437","v":0},2.0349162239917589,"Despesas Gerais e Administratias","N","SIM","NÃO","ENCARGOS DE GESTÃO","FIXO","DESPESAS_GERAIS",1005,"AUDITORIA INTERNA","Despesas Gerais e Administratias1,634"]
[null,null,null,0,16.399999999999999,0,0,0,3.28,{"$f":"D882*'Série - IPCA'!$C$444/'Série - IPCA'!$C$385","v":0},{"$f":"E882*'Série - IPCA'!$C$444/'Série - IPCA'!$C$398","v":20.423883765890359},{"$f":"F882*'Série - IPCA'!$C$444/'Série - IPCA'!$C$411","v":0},{"$f":"G882*'Série - IPCA'!$C$444/'Série - IPCA'!$C$424","v":0},{"$f":"H882*'Série - IPCA'!$C$444/'Série - IPCA'!$C$437","v":0},4.0847767531780717,"Despesas Gerais e Administratias","N","SIM","NÃO","ENCARGOS DE GESTÃO","FIXO","DESPESAS_GERAIS",2110,"ASSESSORIA DA DIRETORIA EXECUTIVA","Despesas Gerais e Administratias3,28"]
[null,null,null,0,24.53,0,0,0,4.9060000000000006,{"$f":"D883*'Série - IPCA'!$C$444/'Série - IPCA'!$C$385","v":0},{"$f":"E883*'Série - IPCA'!$C$444/'Série - IPCA'!$C$398","v":30.548650535200643},{"$f":"F883*'Série - IPCA'!$C$444/'Série - IPCA'!$C$411","v":0},{"$f":"G883*'Série - IPCA'!$C$444/'Série - IPCA'!$C$424","v":0},{"$f":"H883*'Série - IPCA'!$C$444/'Série - IPCA'!$C$437","v":0},6.1097301070401286,"Despesas Gerais e Administratias","N","SIM","NÃO","ENCARGOS DE GESTÃO","FIXO","DESPESAS_GERAIS",2120,"ASSESSORIA DA PRESIDÊNCIA","Despesas Gerais e Administratias4,906"]
[null,null,null,0,8.1300000000000008,0,0,0,1.6260000000000001,{"$f":"D884*'Série - IPCA'!$C$444/'Série - IPCA'!$C$385","v":0},{"$f":"E884*'Série - IPCA'!$C$444/'Série - IPCA'!$C$398","v":10.124766769310284},{"$f":"F884*'Série - IPCA'!$C$444/'Série - IPCA'!$C$411","v":0},{"$f":"G884*'Série - IPCA'!$C$444/'Série - IPCA'!$C$424","v":0},{"$f":"H884*'Série - IPCA'!$C$444/'Série - IPCA'!$C$437","v":0},2.024953353862057,"Despesas Gerais e Administratias","N","SIM","NÃO","ENCARGOS DE GESTÃO","FIXO","DESPESAS_GERAIS",2310,"ASSESSORIA DAF","Despesas Gerais e Administratias1,626"]
[null,null,null,0,14.81,0,0,0,2.9620000000000002,{"$f":"D885*'Série - IPCA'!$C$444/'Série - IPCA'!$C$385","v":0},{"$f":"E885*'Série - IPCA'!$C$444/'Série - IPCA'!$C$398","v":18.443763327611968},{"$f":"F885*'Série - IPCA'!$C$444/'Série - IPCA'!$C$411","v":0},{"$f":"G885*'Série - IPCA'!$C$444/'Série - IPCA'!$C$424","v":0},{"$f":"H885*'Série - IPCA'!$C$444/'Série - IPCA'!$C$437","v":0},3.6887526655223937,"Despesas Gerais e Administratias","N","SIM","NÃO","ENCARGOS DE GESTÃO","FIXO","DESPESAS_GERAIS",2410,"ASSESSORIA DE SEGURANÇA DO TRABALHO","Despesas Gerais e Administratias2,962"]
[null,null,null,0,0,166.1,0,0,33.22,{"$f":"D886*'Série - IPCA'!$C$444/'Série - IPCA'!$C$385","v":0},{"$f":"E886*'Série - IPCA'!$C$444/'Série - IPCA'!$C$398","v":0},{"$f":"F886*'Série - IPCA'!$C$444/'Série - IPCA'!$C$411","v":187.9449791588838},{"$f":"G886*'Série - IPCA'!$C$444/'Série - IPCA'!$C$424","v":0},{"$f":"H886*'Série - IPCA'!$C$444/'Série - IPCA'!$C$437","v":0},37.588995831776757,"Despesas Gerais e Administratias","N","SIM","NÃO","ENCARGOS DE GESTÃO","FIXO","DESPESAS_GERAIS",3100,"SMS","Despesas Gerais e Administratias33,22"]
[null,null,null,0,98.13,0,0,0,19.625999999999998,{"$f":"D887*'Série - IPCA'!$C$444/'Série - IPCA'!$C$385","v":0},{"$f":"E887*'Série - IPCA'!$C$444/'Série - IPCA'!$C$398","v":122.20705572846471},{"$f":"F887*'Série - IPCA'!$C$444/'Série - IPCA'!$C$411","v":0},{"$f":"G887*'Série - IPCA'!$C$444/'Série - IPCA'!$C$424","v":0},{"$f":"H887*'Série - IPCA'!$C$444/'Série - IPCA'!$C$437","v":0},24.441411145692943,"Despesas Gerais e Administratias","N","SIM","NÃO","ENCARGOS DE GESTÃO","FIXO","DESPESAS_GERAIS",3200,"GERÊNCIA DE PLANEJAMENTO E MEIO AMBIENTE","Despesas Gerais e Administratias19,626"]
[null,null,null,0,32.659999999999997,0,0,0,6.5319999999999991,{"$f":"D888*'Série - IPCA'!$C$444/'Série - IPCA'!$C$385","v":0},{"$f":"E888*'Série - IPCA'!$C$444/'Série - IPCA'!$C$398","v":40.67341730451092},{"$f":"F888*'Série - IPCA'!$C$444/'Série - IPCA'!$C$411","v":0},{"$f":"G888*'Série - IPCA'!$C$444/'Série - IPCA'!$C$424","v":0},{"$f":"H888*'Série - IPCA'!$C$444/'Série - IPCA'!$C$437","v":0},8.1346834609021847,"Despesas Gerais e Administratias","N","SIM","NÃO","ENCARGOS DE GESTÃO","FIXO","DESPESAS_GERAIS",3300,"GERÊNCIA JURÍDICA","Despesas Gerais e Administratias6,532"]
[null,null,null,0,32.659999999999997,0,0,0,6.5319999999999991,{"$f":"D889*'Série - IPCA'!$C$444/'Série - IPCA'!$C$385","v":0},{"$f":"E889*'Série - IPCA'!$C$444/'Série - IPCA'!$C$398","v":40.67341730451092},{"$f":"F889*'Série - IPCA'!$C$444/'Série - IPCA'!$C$411","v":0},{"$f":"G889*'Série - IPCA'!$C$444/'Série - IPCA'!$C$424","v":0},{"$f":"H889*'Série - IPCA'!$C$444/'Série - IPCA'!$C$437","v":0},8.1346834609021847,"Despesas Gerais e Administratias","N","SIM","NÃO","ENCARGOS DE GESTÃO","FIXO","DESPESAS_GERAIS",3500,"ASSESSORIA DE COMUNICAÇÃO INSTITUCIONAL","Despesas Gerais e Administratias6,532"]
[null,null,null,0,57.32,0,0,0,11.464,{"$f":"D890*'Série - IPCA'!$C$444/'Série - IPCA'!$C$385","v":0},{"$f":"E890*'Série - IPCA'!$C$444/'Série - IPCA'!$C$398","v":71.383964479319232},{"$f":"F890*'Série - IPCA'!$C$444/'Série - IPCA'!$C$411","v":0},{"$f":"G890*'Série - IPCA'!$C$444/'Série - IPCA'!$C$424","v":0},{"$f":"H890*'Série - IPCA'!$C$444/'Série - IPCA'!$C$437","v":0},14.276792895863846,"Despesas Gerais e Administratias","N","SIM","NÃO","ENCARGOS DE GESTÃO","FIXO","DESPESAS_GERAIS",3600,"GERÊNCIA DE GOVERNANÇA, RISCO E COMPLIANCE","Despesas Gerais e Administratias11,464"]
[null,null,null,0,0,18.82,0,0,3.7640000000000002,{"$f":"D891*'Série - IPCA'!$C$444/'Série - IPCA'!$C$385","v":0},{"$f":"E891*'Série - IPCA'!$C$444/'Série - IPCA'!$C$398","v":0},{"$f":"F891*'Série - IPCA'!$C$444/'Série - IPCA'!$C$411","v":21.295150558520128},{"$f":"G891*'Série - IPCA'!$C$444/'Série - IPCA'!$C$424","v":0},{"$f":"H891*'Série - IPCA'!$C$444/'Série - IPCA'!$C$437","v":0},4.2590301117040257,"Despesas Gerais e Administratias","N","SIM","NÃO","ENCARGOS DE GESTÃO","FIXO","DESPESAS_GERAIS",3700,"GERÊNCIA DE REGULAÇÃO","Despesas Gerais e Administratias3,764"]
[null,null,null,29914.080000000002,44829.27,14680.83,59907.68,61202.89,42106.95,{"$f":"D892*'Série - IPCA'!$C$444/'Série - IPCA'!$C$385","v":38936.684387324945},{"$f":"E892*'Série - IPCA'!$C$444/'Série - IPCA'!$C$398","v":55828.524377421687},{"$f":"F892*'Série - IPCA'!$C$444/'Série - IPCA'!$C$411","v":16611.609201596122},{"$f":"G892*'Série - IPCA'!$C$444/'Série - IPCA'!$C$424","v":64079.501616028727},{"$f":"H892*'Série - IPCA'!$C$444/'Série - IPCA'!$C$437","v":62573.276800919157},47605.919276658125,"Despesas Gerais e Administratias","N","SIM","NÃO","ENCARGOS DE GESTÃO","FIXO","DESPESAS_GERAIS",4100,"GERÊNCIA DE SERVIÇOS CORPORATIVOS","Despesas Gerais e Administratias42106,95"]
[null,null,null,0,73.59,0,0,0,14.718,{"$f":"D893*'Série - IPCA'!$C$444/'Série - IPCA'!$C$385","v":0},{"$f":"E893*'Série - IPCA'!$C$444/'Série - IPCA'!$C$398","v":91.645951605601937},{"$f":"F893*'Série - IPCA'!$C$444/'Série - IPCA'!$C$411","v":0},{"$f":"G893*'Série - IPCA'!$C$444/'Série - IPCA'!$C$424","v":0},{"$f":"H893*'Série - IPCA'!$C$444/'Série - IPCA'!$C$437","v":0},18.329190321120386,"Despesas Gerais e Administratias","N","SIM","NÃO","ENCARGOS DE GESTÃO","FIXO","DESPESAS_GERAIS",4200,"GERÊNCIA FINANCEIRA","Despesas Gerais e Administratias14,718"]
[null,null,null,198.8,1230.26,0,0,0,285.81200000000001,{"$f":"D894*'Série - IPCA'!$C$444/'Série - IPCA'!$C$385","v":258.76152153769056},{"$f":"E894*'Série - IPCA'!$C$444/'Série - IPCA'!$C$398","v":1532.1150757209923},{"$f":"F894*'Série - IPCA'!$C$444/'Série - IPCA'!$C$411","v":0},{"$f":"G894*'Série - IPCA'!$C$444/'Série - IPCA'!$C$424","v":0},{"$f":"H894*'Série - IPCA'!$C$444/'Série - IPCA'!$C$437","v":0},358.17531945173658,"Despesas Gerais e Administratias","N","SIM","NÃO","ENCARGOS DE GESTÃO","FIXO","DESPESAS_GERAIS",4300,"GERÊNCIA DE TECNOLOGIA E SISTEMAS DE INFORMAÇÃO","Despesas Gerais e Administratias285,812"]
[null,null,null,0,49.06,0,0,0,9.8120000000000012,{"$f":"D895*'Série - IPCA'!$C$444/'Série - IPCA'!$C$385","v":0},{"$f":"E895*'Série - IPCA'!$C$444/'Série - IPCA'!$C$398","v":61.097301070401286},{"$f":"F895*'Série - IPCA'!$C$444/'Série - IPCA'!$C$411","v":0},{"$f":"G895*'Série - IPCA'!$C$444/'Série - IPCA'!$C$424","v":0},{"$f":"H895*'Série - IPCA'!$C$444/'Série - IPCA'!$C$437","v":0},12.219460214080257,"Despesas Gerais e Administratias","N","SIM","NÃO","ENCARGOS DE GESTÃO","FIXO","DESPESAS_GERAIS",4500,"GERÊNCIA CONTÁBIL","Despesas Gerais e Administratias9,812"]
[null,null,null,3711.21,0,0,0,0,742.24199999999996,{"$f":"D896*'Série - IPCA'!$C$444/'Série - IPCA'!$C$385","v":4830.575182826421},{"$f":"E896*'Série - IPCA'!$C$444/'Série - IPCA'!$C$398","v":0},{"$f":"F896*'Série - IPCA'!$C$444/'Série - IPCA'!$C$411","v":0},{"$f":"G896*'Série - IPCA'!$C$444/'Série - IPCA'!$C$424","v":0},{"$f":"H896*'Série - IPCA'!$C$444/'Série - IPCA'!$C$437","v":0},966.11503656528419,"Despesas com Vendas","N","SIM","NÃO","ENCARGOS DE COMERCIALIZAÇÃO","FIXO","DESPESAS_GERAIS",5400,"GERÊNCIA COMERCIAL (inativo)","Despesas com Vendas742,242"]
[null,null,null,4423.17,0,0,0,0,884.63400000000001,{"$f":"D897*'Série - IPCA'!$C$444/'Série - IPCA'!$C$385","v":5757.2746439631128},{"$f":"E897*'Série - IPCA'!$C$444/'Série - IPCA'!$C$398","v":0},{"$f":"F897*'Série - IPCA'!$C$444/'Série - IPCA'!$C$411","v":0},{"$f":"G897*'Série - IPCA'!$C$444/'Série - IPCA'!$C$424","v":0},{"$f":"H897*'Série - IPCA'!$C$444/'Série - IPCA'!$C$437","v":0},1151.4549287926225,"Despesas com Vendas","N","SIM","NÃO","ENCARGOS DE COMERCIALIZAÇÃO","FIXO","DESPESAS_GERAIS",5400,"GERÊNCIA COMERCIAL (inativo)","Despesas com Vendas884,634"]
[null,null,null,2213.71,0,0,0,0,442.74200000000002,{"$f":"D898*'Série - IPCA'!$C$444/'Série - IPCA'!$C$385","v":2881.4032587686165},{"$f":"E898*'Série - IPCA'!$C$444/'Série - IPCA'!$C$398","v":0},{"$f":"F898*'Série - IPCA'!$C$444/'Série - IPCA'!$C$411","v":0},{"$f":"G898*'Série - IPCA'!$C$444/'Série - IPCA'!$C$424","v":0},{"$f":"H898*'Série - IPCA'!$C$444/'Série - IPCA'!$C$437","v":0},576.2806517537233,"Despesas com Vendas","N","SIM","NÃO","ENCARGOS DE COMERCIALIZAÇÃO","FIXO","DESPESAS_GERAIS",5500,"GERÊNCIA COMERCIAL (inativo)","Despesas com Vendas442,742"]
[null,null,null,776.08,0,0,0,0,155.21600000000001,{"$f":"D899*'Série - IPCA'!$C$444/'Série - IPCA'!$C$385","v":1010.1591631537772},{"$f":"E899*'Série - IPCA'!$C$444/'Série - IPCA'!$C$398","v":0},{"$f":"F899*'Série - IPCA'!$C$444/'Série - IPCA'!$C$411","v":0},{"$f":"G899*'Série - IPCA'!$C$444/'Série - IPCA'!$C$424","v":0},{"$f":"H899*'Série - IPCA'!$C$444/'Série - IPCA'!$C$437","v":0},202.03183263075545,"Despesas Gerais e Administratias","N","SIM","NÃO","ENCARGOS DE GESTÃO","FIXO","DESPESAS_GERAIS",9999,"RATEIO","Despesas Gerais e Administratias155,216"]
[null,null,null,1768.41,0,0,0,0,353.68200000000002,{"$f":"D900*'Série - IPCA'!$C$444/'Série - IPCA'!$C$385","v":2301.7930699319286},{"$f":"E900*'Série - IPCA'!$C$444/'Série - IPCA'!$C$398","v":0},{"$f":"F900*'Série - IPCA'!$C$444/'Série - IPCA'!$C$411","v":0},{"$f":"G900*'Série - IPCA'!$C$444/'Série - IPCA'!$C$424","v":0},{"$f":"H900*'Série - IPCA'!$C$444/'Série - IPCA'!$C$437","v":0},460.35861398638571,"Despesas Gerais e Administratias","N","SIM","NÃO","ENCARGOS DE GESTÃO","FIXO","DESPESAS_GERAIS",2200,"DIRETORIA COLEGIADA - PRESIDÊNCIA","Despesas Gerais e Administratias353,682"]
[null,null,null,1878.68,0,0,0,0,{"$f":"AVERAGE(D901:H901)","v":375.73599999999999},{"$f":"D901*'Série - IPCA'!$C$444/'Série - IPCA'!$C$385","v":2445.322410877407},{"$f":"E901*'Série - IPCA'!$C$444/'Série - IPCA'!$C$398","v":0},{"$f":"F901*'Série - IPCA'!$C$444/'Série - IPCA'!$C$411","v":0},{"$f":"G901*'Série - IPCA'!$C$444/'Série - IPCA'!$C$424","v":0},{"$f":"H901*'Série - IPCA'!$C$444/'Série - IPCA'!$C$437","v":0},{"$f":"AVERAGE(J901:N901)","v":489.06448217548143},"Despesas Gerais e Administratias","N","SIM","NÃO","ENCARGOS DE GESTÃO","FIXO","DESPESAS_GERAIS",3100,"SMS",{"$f":"B901&C901&P901&I901","v":"Despesas Gerais e Administratias375,736"}]
[null,null,null,1106.8399999999999,0,0,0,0,221.36799999999999,{"$f":"D902*'Série - IPCA'!$C$444/'Série - IPCA'!$C$385","v":1440.6821051246347},{"$f":"E902*'Série - IPCA'!$C$444/'Série - IPCA'!$C$398","v":0},{"$f":"F902*'Série - IPCA'!$C$444/'Série - IPCA'!$C$411","v":0},{"$f":"G902*'Série - IPCA'!$C$444/'Série - IPCA'!$C$424","v":0},{"$f":"H902*'Série - IPCA'!$C$444/'Série - IPCA'!$C$437","v":0},288.13642102492696,"Despesas Gerais e Administratias","N","SIM","NÃO","ENCARGOS DE GESTÃO","FIXO","DESPESAS_GERAIS",3200,"GERÊNCIA DE PLANEJAMENTO E MEIO AMBIENTE","Despesas Gerais e Administratias221,368"]
[null,null,null,1327.36,0,0,0,0,265.47199999999998,{"$f":"D903*'Série - IPCA'!$C$444/'Série - IPCA'!$C$385","v":1727.7147546693607},{"$f":"E903*'Série - IPCA'!$C$444/'Série - IPCA'!$C$398","v":0},{"$f":"F903*'Série - IPCA'!$C$444/'Série - IPCA'!$C$411","v":0},{"$f":"G903*'Série - IPCA'!$C$444/'Série - IPCA'!$C$424","v":0},{"$f":"H903*'Série - IPCA'!$C$444/'Série - IPCA'!$C$437","v":0},345.54295093387213,"Despesas Gerais e Administratias","N","SIM","NÃO","ENCARGOS DE GESTÃO","FIXO","DESPESAS_GERAIS",3300,"GERÊNCIA JURÍDICA","Despesas Gerais e Administratias265,472"]
[null,null,null,1547.89,0,0,0,0,309.57800000000003,{"$f":"D904*'Série - IPCA'!$C$444/'Série - IPCA'!$C$385","v":2014.7604203872027},{"$f":"E904*'Série - IPCA'!$C$444/'Série - IPCA'!$C$398","v":0},{"$f":"F904*'Série - IPCA'!$C$444/'Série - IPCA'!$C$411","v":0},{"$f":"G904*'Série - IPCA'!$C$444/'Série - IPCA'!$C$424","v":0},{"$f":"H904*'Série - IPCA'!$C$444/'Série - IPCA'!$C$437","v":0},402.95208407744053,"Despesas Gerais e Administratias","N","SIM","NÃO","ENCARGOS DE GESTÃO","FIXO","DESPESAS_GERAIS",3400,"MARKETING","Despesas Gerais e Administratias309,578"]
[null,null,null,665.87,0,0,0,0,133.17400000000001,{"$f":"D905*'Série - IPCA'!$C$444/'Série - IPCA'!$C$385","v":866.70791924699211},{"$f":"E905*'Série - IPCA'!$C$444/'Série - IPCA'!$C$398","v":0},{"$f":"F905*'Série - IPCA'!$C$444/'Série - IPCA'!$C$411","v":0},{"$f":"G905*'Série - IPCA'!$C$444/'Série - IPCA'!$C$424","v":0},{"$f":"H905*'Série - IPCA'!$C$444/'Série - IPCA'!$C$437","v":0},173.34158384939843,"Despesas Gerais e Administratias","N","SIM","NÃO","ENCARGOS DE GESTÃO","FIXO","DESPESAS_GERAIS",3600,"GERÊNCIA DE GOVERNANÇA, RISCO E COMPLIANCE","Despesas Gerais e Administratias133,174"]
[null,null,null,2875.26,0,0,0,0,575.05200000000002,{"$f":"D906*'Série - IPCA'!$C$444/'Série - IPCA'!$C$385","v":3742.4881912296792},{"$f":"E906*'Série - IPCA'!$C$444/'Série - IPCA'!$C$398","v":0},{"$f":"F906*'Série - IPCA'!$C$444/'Série - IPCA'!$C$411","v":0},{"$f":"G906*'Série - IPCA'!$C$444/'Série - IPCA'!$C$424","v":0},{"$f":"H906*'Série - IPCA'!$C$444/'Série - IPCA'!$C$437","v":0},748.49763824593583,"Despesas Gerais e Administratias","N","SIM","NÃO","ENCARGOS DE GESTÃO","FIXO","DESPESAS_GERAIS",4100,"GERÊNCIA DE SERVIÇOS CORPORATIVOS","Despesas Gerais e Administratias575,052"]
[null,null,null,2434.23,0,0,0,0,486.846,{"$f":"D907*'Série - IPCA'!$C$444/'Série - IPCA'!$C$385","v":3168.4359083133422},{"$f":"E907*'Série - IPCA'!$C$444/'Série - IPCA'!$C$398","v":0},{"$f":"F907*'Série - IPCA'!$C$444/'Série - IPCA'!$C$411","v":0},{"$f":"G907*'Série - IPCA'!$C$444/'Série - IPCA'!$C$424","v":0},{"$f":"H907*'Série - IPCA'!$C$444/'Série - IPCA'!$C$437","v":0},633.68718166266842,"Despesas Gerais e Administratias","N","SIM","NÃO","ENCARGOS DE GESTÃO","FIXO","DESPESAS_GERAIS",4200,"GERÊNCIA FINANCEIRA","Despesas Gerais e Administratias486,846"]
[null,null,null,2748.05,0,0,0,0,549.61,{"$f":"D908*'Série - IPCA'!$C$444/'Série - IPCA'!$C$385","v":3576.9094530264115},{"$f":"E908*'Série - IPCA'!$C$444/'Série - IPCA'!$C$398","v":0},{"$f":"F908*'Série - IPCA'!$C$444/'Série - IPCA'!$C$411","v":0},{"$f":"G908*'Série - IPCA'!$C$444/'Série - IPCA'!$C$424","v":0},{"$f":"H908*'Série - IPCA'!$C$444/'Série - IPCA'!$C$437","v":0},715.38189060528225,"Despesas Gerais e Administratias","N","SIM","NÃO","ENCARGOS DE GESTÃO","FIXO","DESPESAS_GERAIS",4300,"GERÊNCIA DE TECNOLOGIA E SISTEMAS DE INFORMAÇÃO","Despesas Gerais e Administratias549,61"]
[null,null,null,1768.41,0,0,0,0,353.68200000000002,{"$f":"D909*'Série - IPCA'!$C$444/'Série - IPCA'!$C$385","v":2301.7930699319286},{"$f":"E909*'Série - IPCA'!$C$444/'Série - IPCA'!$C$398","v":0},{"$f":"F909*'Série - IPCA'!$C$444/'Série - IPCA'!$C$411","v":0},{"$f":"G909*'Série - IPCA'!$C$444/'Série - IPCA'!$C$424","v":0},{"$f":"H909*'Série - IPCA'!$C$444/'Série - IPCA'!$C$437","v":0},460.35861398638571,"Despesas Gerais e Administratias","N","SIM","NÃO","ENCARGOS DE GESTÃO","FIXO","DESPESAS_GERAIS",4500,"GERÊNCIA CONTÁBIL","Despesas Gerais e Administratias353,682"]
[null,null,null,1547.89,0,0,0,0,309.57800000000003,{"$f":"D910*'Série - IPCA'!$C$444/'Série - IPCA'!$C$385","v":2014.7604203872027},{"$f":"E910*'Série - IPCA'!$C$444/'Série - IPCA'!$C$398","v":0},{"$f":"F910*'Série - IPCA'!$C$444/'Série - IPCA'!$C$411","v":0},{"$f":"G910*'Série - IPCA'!$C$444/'Série - IPCA'!$C$424","v":0},{"$f":"H910*'Série - IPCA'!$C$444/'Série - IPCA'!$C$437","v":0},402.95208407744053,"Despesas Gerais e Administratias","N","SIM","NÃO","ENCARGOS DE GESTÃO","FIXO","DESPESAS_GERAIS",4600,"GERÊNCIA DE PESSOAS E CULTURA","Despesas Gerais e Administratias309,578"]
[null,null,null,-121882.85,0,0,0,0,-24376.57,{"$f":"D911*'Série - IPCA'!$C$444/'Série - IPCA'!$C$385","v":-158644.82754200257},{"$f":"E911*'Série - IPCA'!$C$444/'Série - IPCA'!$C$398","v":0},{"$f":"F911*'Série - IPCA'!$C$444/'Série - IPCA'!$C$411","v":0},{"$f":"G911*'Série - IPCA'!$C$444/'Série - IPCA'!$C$424","v":0},{"$f":"H911*'Série - IPCA'!$C$444/'Série - IPCA'!$C$437","v":0},-31728.965508400513,"Custos","N","SIM","NÃO","OPEX","EXTENSÃO","MATERIAIS_MANUTENÇÃO",5100,"GERÊNCIA DE ENGENHARIA","Custos-24376,57"]
[null,null,null,1993.18,0,0,0,0,398.63600000000002,{"$f":"D912*'Série - IPCA'!$C$444/'Série - IPCA'!$C$385","v":2594.3575930507754},{"$f":"E912*'Série - IPCA'!$C$444/'Série - IPCA'!$C$398","v":0},{"$f":"F912*'Série - IPCA'!$C$444/'Série - IPCA'!$C$411","v":0},{"$f":"G912*'Série - IPCA'!$C$444/'Série - IPCA'!$C$424","v":0},{"$f":"H912*'Série - IPCA'!$C$444/'Série - IPCA'!$C$437","v":0},518.87151861015514,"Despesas com Vendas","N","SIM","NÃO","ENCARGOS DE COMERCIALIZAÇÃO","FIXO","MATERIAIS_MANUTENÇÃO",5300,"GERÊNCIA COMERCIAL","Despesas com Vendas398,636"]
[null,null,null,450,0,0,0,0,90,{"$f":"D913*'Série - IPCA'!$C$444/'Série - IPCA'!$C$385","v":585.72779020100984},{"$f":"E913*'Série - IPCA'!$C$444/'Série - IPCA'!$C$398","v":0},{"$f":"F913*'Série - IPCA'!$C$444/'Série - IPCA'!$C$411","v":0},{"$f":"G913*'Série - IPCA'!$C$444/'Série - IPCA'!$C$424","v":0},{"$f":"H913*'Série - IPCA'!$C$444/'Série - IPCA'!$C$437","v":0},117.14555804020196,"Despesas com Vendas","N","SIM","NÃO","ENCARGOS DE COMERCIALIZAÇÃO","FIXO","MATERIAIS_MANUTENÇÃO",5500,"GERÊNCIA COMERCIAL (inativo)","Despesas com Vendas90"]
[null,null,null,0,684.72,5.53,369.09,301.18,272.10399999999998,{"$f":"D914*'Série - IPCA'!$C$444/'Série - IPCA'!$C$385","v":0},{"$f":"E914*'Série - IPCA'!$C$444/'Série - IPCA'!$C$398","v":852.72205440124685},{"$f":"F914*'Série - IPCA'!$C$444/'Série - IPCA'!$C$411","v":6.257289191743693},{"$f":"G914*'Série - IPCA'!$C$444/'Série - IPCA'!$C$424","v":394.79250826371577},{"$f":"H914*'Série - IPCA'!$C$444/'Série - IPCA'!$C$437","v":307.92368639619519},312.33910765058027,"Custos","N","SIM","NÃO","OPEX","FIXO","MATERIAIS_MANUTENÇÃO",5100,"GERÊNCIA DE ENGENHARIA","Custos272,104"]
[null,null,null,15.41,2990.57,3221.03,3357.01,4484.3599999999997,2813.6760000000004,{"$f":"D915*'Série - IPCA'!$C$444/'Série - IPCA'!$C$385","v":20.057922771105691},{"$f":"E915*'Série - IPCA'!$C$444/'Série - IPCA'!$C$398","v":3724.3325654730938},{"$f":"F915*'Série - IPCA'!$C$444/'Série - IPCA'!$C$411","v":3644.6503083692928},{"$f":"G915*'Série - IPCA'!$C$444/'Série - IPCA'!$C$424","v":3590.7838146966233},{"$f":"H915*'Série - IPCA'!$C$444/'Série - IPCA'!$C$437","v":4584.7687838755619},3112.9186790371359,"Custos","N","SIM","NÃO","OPEX","FIXO","MATERIAIS_MANUTENÇÃO",5200,"GERÊNCIA DE OPERAÇÕES","Custos2813,676"]
[null,null,null,4189.26,10482.86,3103682.81,780891.64,27178.66,785285.04600000009,{"$f":"D916*'Série - IPCA'!$C$444/'Série - IPCA'!$C$385","v":5452.8133386166282},{"$f":"E916*'Série - IPCA'!$C$444/'Série - IPCA'!$C$398","v":13054.921595981794},{"$f":"F916*'Série - IPCA'!$C$444/'Série - IPCA'!$C$411","v":3511869.9641254419},{"$f":"G916*'Série - IPCA'!$C$444/'Série - IPCA'!$C$424","v":835270.98875007883},{"$f":"H916*'Série - IPCA'!$C$444/'Série - IPCA'!$C$437","v":27787.214219100915},878687.180405844,"Custos","N","SIM","NÃO","OPEX","FIXO","MATERIAIS_MANUTENÇÃO",5100,"GERÊNCIA DE ENGENHARIA","Custos785285,046"]
[null,null,null,6841.24,11844.16,11743.87,87779.7,174173.33,58476.46,{"$f":"D917*'Série - IPCA'!$C$444/'Série - IPCA'!$C$385","v":8904.6764165216809},{"$f":"E917*'Série - IPCA'!$C$444/'Série - IPCA'!$C$398","v":14750.228484427314},{"$f":"F917*'Série - IPCA'!$C$444/'Série - IPCA'!$C$411","v":13288.388936752806},{"$f":"G917*'Série - IPCA'!$C$444/'Série - IPCA'!$C$424","v":93892.459664679336},{"$f":"H917*'Série - IPCA'!$C$444/'Série - IPCA'!$C$437","v":178073.22480078693},61781.795660633616,"Custos","N","SIM","NÃO","OPEX","FIXO","MATERIAIS_MANUTENÇÃO",5200,"GERÊNCIA DE OPERAÇÕES","Custos58476,46"]
[null,null,null,5144.6000000000004,6384.16,10348.780000000001,4725.5200000000004,10427.719999999999,7406.1559999999999,{"$f":"D918*'Série - IPCA'!$C$444/'Série - IPCA'!$C$385","v":6696.3004210402569},{"$f":"E918*'Série - IPCA'!$C$444/'Série - IPCA'!$C$398","v":7950.5696209052803},{"$f":"F918*'Série - IPCA'!$C$444/'Série - IPCA'!$C$411","v":11709.820839373109},{"$f":"G918*'Série - IPCA'!$C$444/'Série - IPCA'!$C$424","v":5054.5934423862864},{"$f":"H918*'Série - IPCA'!$C$444/'Série - IPCA'!$C$437","v":10661.205867279807},8414.4980381969472,"Despesas com Vendas","N","NÃO","NÃO","ENCARGOS DE COMERCIALIZAÇÃO","FIXO","MATERIAIS_MANUTENÇÃO",5300,"GERÊNCIA COMERCIAL","Despesas com Vendas7406,156"]
[null,null,null,4763.32,679.45,0,0,0,1088.5539999999999,{"$f":"D919*'Série - IPCA'!$C$444/'Série - IPCA'!$C$385","v":6200.0197724894979},{"$f":"E919*'Série - IPCA'!$C$444/'Série - IPCA'!$C$398","v":846.15901370330528},{"$f":"F919*'Série - IPCA'!$C$444/'Série - IPCA'!$C$411","v":0},{"$f":"G919*'Série - IPCA'!$C$444/'Série - IPCA'!$C$424","v":0},{"$f":"H919*'Série - IPCA'!$C$444/'Série - IPCA'!$C$437","v":0},1409.2357572385606,"Despesas com Vendas","N","NÃO","NÃO","ENCARGOS DE COMERCIALIZAÇÃO","FIXO","MATERIAIS_MANUTENÇÃO",5500,"GERÊNCIA COMERCIAL (inativo)","Despesas com Vendas1088,554"]
[null,null,null,2909.78,1413.06,47,479.5,0,969.86800000000005,{"$f":"D920*'Série - IPCA'!$C$444/'Série - IPCA'!$C$385","v":3787.4200208246543},{"$f":"E920*'Série - IPCA'!$C$444/'Série - IPCA'!$C$398","v":1759.766658184697},{"$f":"F920*'Série - IPCA'!$C$444/'Série - IPCA'!$C$411","v":53.181300544657063},{"$f":"G920*'Série - IPCA'!$C$444/'Série - IPCA'!$C$424","v":512.89118565242006},{"$f":"H920*'Série - IPCA'!$C$444/'Série - IPCA'!$C$437","v":0},1222.651833041286,"Despesas Gerais e Administratias","N","NÃO","NÃO","ENCARGOS DE GESTÃO","FIXO","MATERIAIS_MANUTENÇÃO",2100,"SECRETARIA","Despesas Gerais e Administratias969,868"]
[null,null,null,0,3141.53,2983.85,2297.65,1431.73,1970.952,{"$f":"D921*'Série - IPCA'!$C$444/'Série - IPCA'!$C$385","v":0},{"$f":"E921*'Série - IPCA'!$C$444/'Série - IPCA'!$C$398","v":3912.3319248205821},{"$f":"F921*'Série - IPCA'!$C$444/'Série - IPCA'!$C$411","v":3376.2770985143611},{"$f":"G921*'Série - IPCA'!$C$444/'Série - IPCA'!$C$424","v":2457.6526229703504},{"$f":"H921*'Série - IPCA'!$C$444/'Série - IPCA'!$C$437","v":1463.7877001262518},2242.0098692863094,"Despesas Gerais e Administratias","N","NÃO","NÃO","ENCARGOS DE GESTÃO","FIXO","MATERIAIS_MANUTENÇÃO",2110,"ASSESSORIA DA DIRETORIA EXECUTIVA","Despesas Gerais e Administratias1970,952"]
[null,null,null,0,0,30,0,82,22.4,{"$f":"D922*'Série - IPCA'!$C$444/'Série - IPCA'!$C$385","v":0},{"$f":"E922*'Série - IPCA'!$C$444/'Série - IPCA'!$C$398","v":0},{"$f":"F922*'Série - IPCA'!$C$444/'Série - IPCA'!$C$411","v":33.945510985951323},{"$f":"G922*'Série - IPCA'!$C$444/'Série - IPCA'!$C$424","v":0},{"$f":"H922*'Série - IPCA'!$C$444/'Série - IPCA'!$C$437","v":83.83605247522415},23.556312692235092,"Despesas Gerais e Administratias","N","NÃO","NÃO","ENCARGOS DE GESTÃO","FIXO","MATERIAIS_MANUTENÇÃO",2120,"ASSESSORIA DA PRESIDÊNCIA","Despesas Gerais e Administratias22,4"]
[null,null,null,0,0,0,0,15,3,{"$f":"D923*'Série - IPCA'!$C$444/'Série - IPCA'!$C$385","v":0},{"$f":"E923*'Série - IPCA'!$C$444/'Série - IPCA'!$C$398","v":0},{"$f":"F923*'Série - IPCA'!$C$444/'Série - IPCA'!$C$411","v":0},{"$f":"G923*'Série - IPCA'!$C$444/'Série - IPCA'!$C$424","v":0},{"$f":"H923*'Série - IPCA'!$C$444/'Série - IPCA'!$C$437","v":15.335863257662952},3.0671726515325903,"Despesas Gerais e Administratias","N","NÃO","NÃO","ENCARGOS DE GESTÃO","FIXO","MATERIAIS_MANUTENÇÃO",2140,"ASSESSORIA DTC","Despesas Gerais e Administratias3"]
[null,null,null,3475.6,1995.67,0,837,289,1319.4540000000002,{"$f":"D924*'Série - IPCA'!$C$444/'Série - IPCA'!$C$385","v":4523.9011280502882},{"$f":"E924*'Série - IPCA'!$C$444/'Série - IPCA'!$C$398","v":2485.3251289679524},{"$f":"F924*'Série - IPCA'!$C$444/'Série - IPCA'!$C$411","v":0},{"$f":"G924*'Série - IPCA'!$C$444/'Série - IPCA'!$C$424","v":895.28659518472489},{"$f":"H924*'Série - IPCA'!$C$444/'Série - IPCA'!$C$437","v":295.47096543097285},1639.9967635267881,"Despesas Gerais e Administratias","N","NÃO","NÃO","ENCARGOS DE GESTÃO","FIXO","MATERIAIS_MANUTENÇÃO",2200,"DIRETORIA COLEGIADA - PRESIDÊNCIA","Despesas Gerais e Administratias1319,454"]
[null,null,null,441.04,228.39,0,0,59,145.68600000000001,{"$f":"D925*'Série - IPCA'!$C$444/'Série - IPCA'!$C$385","v":574.06529908945197},{"$f":"E925*'Série - IPCA'!$C$444/'Série - IPCA'!$C$398","v":284.42748861534756},{"$f":"F925*'Série - IPCA'!$C$444/'Série - IPCA'!$C$411","v":0},{"$f":"G925*'Série - IPCA'!$C$444/'Série - IPCA'!$C$424","v":0},{"$f":"H925*'Série - IPCA'!$C$444/'Série - IPCA'!$C$437","v":60.321062146807613},183.76276997032144,"Despesas Gerais e Administratias","N","NÃO","NÃO","ENCARGOS DE GESTÃO","FIXO","MATERIAIS_MANUTENÇÃO",2300,"DIRETORIA COLEGIADA - DAF","Despesas Gerais e Administratias145,686"]
[null,null,null,441.04,133.38999999999999,0,243,104,184.286,{"$f":"D926*'Série - IPCA'!$C$444/'Série - IPCA'!$C$385","v":574.06529908945197},{"$f":"E926*'Série - IPCA'!$C$444/'Série - IPCA'!$C$398","v":166.11840582512897},{"$f":"F926*'Série - IPCA'!$C$444/'Série - IPCA'!$C$411","v":0},{"$f":"G926*'Série - IPCA'!$C$444/'Série - IPCA'!$C$424","v":259.92191473104918},{"$f":"H926*'Série - IPCA'!$C$444/'Série - IPCA'!$C$437","v":106.32865191979647},221.28685431308531,"Despesas Gerais e Administratias","N","NÃO","NÃO","ENCARGOS DE GESTÃO","FIXO","MATERIAIS_MANUTENÇÃO",2400,"DIRETORIA COLEGIADA - DTC","Despesas Gerais e Administratias184,286"]
[null,null,null,0,0,7.26,0,70,15.452000000000002,{"$f":"D927*'Série - IPCA'!$C$444/'Série - IPCA'!$C$385","v":0},{"$f":"E927*'Série - IPCA'!$C$444/'Série - IPCA'!$C$398","v":0},{"$f":"F927*'Série - IPCA'!$C$444/'Série - IPCA'!$C$411","v":8.2148136586002192},{"$f":"G927*'Série - IPCA'!$C$444/'Série - IPCA'!$C$424","v":0},{"$f":"H927*'Série - IPCA'!$C$444/'Série - IPCA'!$C$437","v":71.567361869093773},15.956435105538798,"Despesas Gerais e Administratias","N","NÃO","NÃO","ENCARGOS DE GESTÃO","FIXO","MATERIAIS_MANUTENÇÃO",2410,"ASSESSORIA DE SEGURANÇA DO TRABALHO","Despesas Gerais e Administratias15,452"]
[null,null,null,874.27,0,352.13,120.86,481.24,365.7,{"$f":"D928*'Série - IPCA'!$C$444/'Série - IPCA'!$C$385","v":1137.9649669756375},{"$f":"E928*'Série - IPCA'!$C$444/'Série - IPCA'!$C$398","v":0},{"$f":"F928*'Série - IPCA'!$C$444/'Série - IPCA'!$C$411","v":398.44109278276795},{"$f":"G928*'Série - IPCA'!$C$444/'Série - IPCA'!$C$424","v":129.27638935964856},{"$f":"H928*'Série - IPCA'!$C$444/'Série - IPCA'!$C$437","v":492.01538894118124},431.53956761184708,"Despesas Gerais e Administratias","N","NÃO","NÃO","ENCARGOS DE GESTÃO","FIXO","MATERIAIS_MANUTENÇÃO",3100,"SMS","Despesas Gerais e Administratias365,7"]
[null,null,null,256.33999999999997,1633.71,532.45000000000005,258.43,557.74,647.73400000000004,{"$f":"D929*'Série - IPCA'!$C$444/'Série - IPCA'!$C$385","v":333.65658164472632},{"$f":"E929*'Série - IPCA'!$C$444/'Série - IPCA'!$C$398","v":2034.5550699495573},{"$f":"F929*'Série - IPCA'!$C$444/'Série - IPCA'!$C$411","v":602.47624414899269},{"$f":"G929*'Série - IPCA'!$C$444/'Série - IPCA'!$C$424","v":276.42642149771621},{"$f":"H929*'Série - IPCA'!$C$444/'Série - IPCA'!$C$437","v":570.22829155526233},763.46852175925096,"Despesas Gerais e Administratias","N","NÃO","NÃO","ENCARGOS DE GESTÃO","FIXO","MATERIAIS_MANUTENÇÃO",3200,"GERÊNCIA DE PLANEJAMENTO E MEIO AMBIENTE","Despesas Gerais e Administratias647,734"]
[null,null,null,970.26,1732.84,1814.09,492.58,440.11,1089.9759999999999,{"$f":"D930*'Série - IPCA'!$C$444/'Série - IPCA'!$C$385","v":1262.9072127120705},{"$f":"E930*'Série - IPCA'!$C$444/'Série - IPCA'!$C$398","v":2158.0074844442352},{"$f":"F930*'Série - IPCA'!$C$444/'Série - IPCA'!$C$411","v":2052.6737341501475},{"$f":"G930*'Série - IPCA'!$C$444/'Série - IPCA'!$C$424","v":526.88204427251105},{"$f":"H930*'Série - IPCA'!$C$444/'Série - IPCA'!$C$437","v":449.96445188866949},1290.0869854935268,"Despesas Gerais e Administratias","N","NÃO","NÃO","ENCARGOS DE GESTÃO","FIXO","MATERIAIS_MANUTENÇÃO",3300,"GERÊNCIA JURÍDICA","Despesas Gerais e Administratias1089,976"]
[null,null,null,1793.87,0,0,0,0,358.774,{"$f":"D931*'Série - IPCA'!$C$444/'Série - IPCA'!$C$385","v":2334.93224668419},{"$f":"E931*'Série - IPCA'!$C$444/'Série - IPCA'!$C$398","v":0},{"$f":"F931*'Série - IPCA'!$C$444/'Série - IPCA'!$C$411","v":0},{"$f":"G931*'Série - IPCA'!$C$444/'Série - IPCA'!$C$424","v":0},{"$f":"H931*'Série - IPCA'!$C$444/'Série - IPCA'!$C$437","v":0},466.98644933683801,"Despesas Gerais e Administratias","N","NÃO","NÃO","ENCARGOS DE GESTÃO","FIXO","MATERIAIS_MANUTENÇÃO",3400,"MARKETING","Despesas Gerais e Administratias358,774"]
[null,null,null,0,468.1,816.51,179.79,344.67,361.81400000000002,{"$f":"D932*'Série - IPCA'!$C$444/'Série - IPCA'!$C$385","v":0},{"$f":"E932*'Série - IPCA'!$C$444/'Série - IPCA'!$C$398","v":582.95243846422431},{"$f":"F932*'Série - IPCA'!$C$444/'Série - IPCA'!$C$411","v":923.89497250463694},{"$f":"G932*'Série - IPCA'!$C$444/'Série - IPCA'!$C$424","v":192.31012777570092},{"$f":"H932*'Série - IPCA'!$C$444/'Série - IPCA'!$C$437","v":352.38746593457932},410.30900093582829,"Despesas Gerais e Administratias","N","NÃO","NÃO","ENCARGOS DE GESTÃO","FIXO","MATERIAIS_MANUTENÇÃO",3500,"ASSESSORIA DE COMUNICAÇÃO INSTITUCIONAL","Despesas Gerais e Administratias361,814"]
[null,null,null,377.69,1044.27,654.21,71.87,84.47,446.50199999999995,{"$f":"D933*'Série - IPCA'!$C$444/'Série - IPCA'!$C$385","v":491.60784240226531},{"$f":"E933*'Série - IPCA'!$C$444/'Série - IPCA'!$C$398","v":1300.4907987930687},{"$f":"F933*'Série - IPCA'!$C$444/'Série - IPCA'!$C$411","v":740.24975807064038},{"$f":"G933*'Série - IPCA'!$C$444/'Série - IPCA'!$C$424","v":76.874847784858048},{"$f":"H933*'Série - IPCA'!$C$444/'Série - IPCA'!$C$437","v":86.361357958319303},539.11692100183041,"Despesas Gerais e Administratias","N","NÃO","NÃO","ENCARGOS DE GESTÃO","FIXO","MATERIAIS_MANUTENÇÃO",3600,"GERÊNCIA DE GOVERNANÇA, RISCO E COMPLIANCE","Despesas Gerais e Administratias446,502"]
[null,null,null,0,0,651.20000000000005,321.05,644.41,323.33199999999999,{"$f":"D934*'Série - IPCA'!$C$444/'Série - IPCA'!$C$385","v":0},{"$f":"E934*'Série - IPCA'!$C$444/'Série - IPCA'!$C$398","v":0},{"$f":"F934*'Série - IPCA'!$C$444/'Série - IPCA'!$C$411","v":736.84389180171672},{"$f":"G934*'Série - IPCA'!$C$444/'Série - IPCA'!$C$424","v":343.40712232264752},{"$f":"H934*'Série - IPCA'!$C$444/'Série - IPCA'!$C$437","v":658.83890945803876},347.81798471648062,"Despesas Gerais e Administratias","N","NÃO","NÃO","ENCARGOS DE GESTÃO","FIXO","MATERIAIS_MANUTENÇÃO",3700,"GERÊNCIA DE REGULAÇÃO","Despesas Gerais e Administratias323,332"]
[null,null,null,19782.97,33363.94,14821.74,43844.45,68911.929999999993,36145.006000000001,{"$f":"D935*'Série - IPCA'!$C$444/'Série - IPCA'!$C$385","v":25749.856226028605},{"$f":"E935*'Série - IPCA'!$C$444/'Série - IPCA'!$C$398","v":41550.075154398786},{"$f":"F935*'Série - IPCA'!$C$444/'Série - IPCA'!$C$411","v":16771.051266697134},{"$f":"G935*'Série - IPCA'!$C$444/'Série - IPCA'!$C$424","v":46897.668289422829},{"$f":"H935*'Série - IPCA'!$C$444/'Série - IPCA'!$C$437","v":70454.929020109412},40284.715991331352,"Despesas Gerais e Administratias","N","NÃO","NÃO","ENCARGOS DE GESTÃO","FIXO","MATERIAIS_MANUTENÇÃO",4100,"GERÊNCIA DE SERVIÇOS CORPORATIVOS","Despesas Gerais e Administratias36145,006"]
[null,null,null,4624.71,6244.52,2803.09,3670.77,1881.41,3844.9,{"$f":"D936*'Série - IPCA'!$C$444/'Série - IPCA'!$C$385","v":6019.6025969344719},{"$f":"E936*'Série - IPCA'!$C$444/'Série - IPCA'!$C$398","v":7776.6677227913224},{"$f":"F936*'Série - IPCA'!$C$444/'Série - IPCA'!$C$411","v":3171.7440796536762},{"$f":"G936*'Série - IPCA'!$C$444/'Série - IPCA'!$C$424","v":3926.3932795773389},{"$f":"H936*'Série - IPCA'!$C$444/'Série - IPCA'!$C$437","v":1923.5364327733105},4563.5888223460242,"Despesas Gerais e Administratias","N","NÃO","NÃO","ENCARGOS DE GESTÃO","FIXO","MATERIAIS_MANUTENÇÃO",4200,"GERÊNCIA FINANCEIRA","Despesas Gerais e Administratias3844,9"]
[null,null,null,700.99,1136.54,399.4,382.81,201.96,564.33999999999992,{"$f":"D937*'Série - IPCA'!$C$444/'Série - IPCA'!$C$385","v":912.42071922890193},{"$f":"E937*'Série - IPCA'!$C$444/'Série - IPCA'!$C$398","v":1415.4000521515263},{"$f":"F937*'Série - IPCA'!$C$444/'Série - IPCA'!$C$411","v":451.92790292629854},{"$f":"G937*'Série - IPCA'!$C$444/'Série - IPCA'!$C$424","v":409.46793488968285},{"$f":"H937*'Série - IPCA'!$C$444/'Série - IPCA'!$C$437","v":206.48206290117398},679.13973441951669,"Despesas Gerais e Administratias","N","NÃO","NÃO","ENCARGOS DE GESTÃO","FIXO","MATERIAIS_MANUTENÇÃO",4300,"GERÊNCIA DE TECNOLOGIA E SISTEMAS DE INFORMAÇÃO","Despesas Gerais e Administratias564,34"]
[null,null,null,1105.27,2251.08,991.71,1553.95,2608.0300000000002,1702.0079999999998,{"$f":"D938*'Série - IPCA'!$C$444/'Série - IPCA'!$C$385","v":1438.6385659454891},{"$f":"E938*'Série - IPCA'!$C$444/'Série - IPCA'!$C$398","v":2803.4022114463705},{"$f":"F938*'Série - IPCA'!$C$444/'Série - IPCA'!$C$411","v":1122.1367566625927},{"$f":"G938*'Série - IPCA'!$C$444/'Série - IPCA'!$C$424","v":1662.1632073922381},{"$f":"H938*'Série - IPCA'!$C$444/'Série - IPCA'!$C$437","v":2666.4260967921809},1938.5533676477742,"Despesas Gerais e Administratias","N","NÃO","NÃO","ENCARGOS DE GESTÃO","FIXO","MATERIAIS_MANUTENÇÃO",4500,"GERÊNCIA CONTÁBIL","Despesas Gerais e Administratias1702,008"]
[null,null,null,2530.27,329.59,0,0,174,606.77200000000005,{"$f":"D939*'Série - IPCA'!$C$444/'Série - IPCA'!$C$385","v":3293.443234915354},{"$f":"E939*'Série - IPCA'!$C$444/'Série - IPCA'!$C$398","v":410.45779575608555},{"$f":"F939*'Série - IPCA'!$C$444/'Série - IPCA'!$C$411","v":0},{"$f":"G939*'Série - IPCA'!$C$444/'Série - IPCA'!$C$424","v":0},{"$f":"H939*'Série - IPCA'!$C$444/'Série - IPCA'!$C$437","v":177.89601378889023},776.35940889206597,"Despesas Gerais e Administratias","N","NÃO","NÃO","ENCARGOS DE GESTÃO","FIXO","MATERIAIS_MANUTENÇÃO",4600,"GERÊNCIA DE PESSOAS E CULTURA","Despesas Gerais e Administratias606,772"]
[null,null,null,0,0,0,0,0,0,{"$f":"D940*'Série - IPCA'!$C$444/'Série - IPCA'!$C$385","v":0},{"$f":"E940*'Série - IPCA'!$C$444/'Série - IPCA'!$C$398","v":0},{"$f":"F940*'Série - IPCA'!$C$444/'Série - IPCA'!$C$411","v":0},{"$f":"G940*'Série - IPCA'!$C$444/'Série - IPCA'!$C$424","v":0},{"$f":"H940*'Série - IPCA'!$C$444/'Série - IPCA'!$C$437","v":0},0,"Despesas com Vendas","N","SIM","NÃO","ENCARGOS DE COMERCIALIZAÇÃO","FIXO","MATERIAIS_MANUTENÇÃO",5200,"GERÊNCIA DE OPERAÇÕES","Despesas com Vendas0"]
[null,null,null,0,0,489.27,704.94,1350.06,508.85399999999998,{"$f":"D941*'Série - IPCA'!$C$444/'Série - IPCA'!$C$385","v":0},{"$f":"E941*'Série - IPCA'!$C$444/'Série - IPCA'!$C$398","v":0},{"$f":"F941*'Série - IPCA'!$C$444/'Série - IPCA'!$C$411","v":553.61733866988004},{"$f":"G941*'Série - IPCA'!$C$444/'Série - IPCA'!$C$424","v":754.0302657222461},{"$f":"H941*'Série - IPCA'!$C$444/'Série - IPCA'!$C$437","v":1380.2890366426964},537.58732820696446,"Despesas com Vendas","N","SIM","NÃO","ENCARGOS DE COMERCIALIZAÇÃO","FIXO","MATERIAIS_MANUTENÇÃO",5300,"GERÊNCIA COMERCIAL","Despesas com Vendas508,854"]
[null,null,null,0,0,0,137.59,0,27.518000000000001,{"$f":"D942*'Série - IPCA'!$C$444/'Série - IPCA'!$C$385","v":0},{"$f":"E942*'Série - IPCA'!$C$444/'Série - IPCA'!$C$398","v":0},{"$f":"F942*'Série - IPCA'!$C$444/'Série - IPCA'!$C$411","v":0},{"$f":"G942*'Série - IPCA'!$C$444/'Série - IPCA'!$C$424","v":147.17142488825127},{"$f":"H942*'Série - IPCA'!$C$444/'Série - IPCA'!$C$437","v":0},29.434284977650254,"Despesas Gerais e Administratias","N","SIM","NÃO","ENCARGOS DE GESTÃO","FIXO","MATERIAIS_MANUTENÇÃO",2110,"ASSESSORIA DA DIRETORIA EXECUTIVA","Despesas Gerais e Administratias27,518"]
[null,null,null,0,0,0,47.79,0,9.5579999999999998,{"$f":"D943*'Série - IPCA'!$C$444/'Série - IPCA'!$C$385","v":0},{"$f":"E943*'Série - IPCA'!$C$444/'Série - IPCA'!$C$398","v":0},{"$f":"F943*'Série - IPCA'!$C$444/'Série - IPCA'!$C$411","v":0},{"$f":"G943*'Série - IPCA'!$C$444/'Série - IPCA'!$C$424","v":51.117976563772999},{"$f":"H943*'Série - IPCA'!$C$444/'Série - IPCA'!$C$437","v":0},10.2235953127546,"Despesas Gerais e Administratias","N","SIM","NÃO","ENCARGOS DE GESTÃO","FIXO","MATERIAIS_MANUTENÇÃO",2400,"DIRETORIA COLEGIADA - DTC","Despesas Gerais e Administratias9,558"]
[null,null,null,0,59839.43,43975.16,28079.09,418558.85,110090.50600000001,{"$f":"D944*'Série - IPCA'!$C$444/'Série - IPCA'!$C$385","v":0},{"$f":"E944*'Série - IPCA'!$C$444/'Série - IPCA'!$C$398","v":74521.558715678824},{"$f":"F944*'Série - IPCA'!$C$444/'Série - IPCA'!$C$411","v":49758.642562965571},{"$f":"G944*'Série - IPCA'!$C$444/'Série - IPCA'!$C$424","v":30034.447887676772},{"$f":"H944*'Série - IPCA'!$C$444/'Série - IPCA'!$C$437","v":427930.75259231054},116449.08035172634,"Despesas Gerais e Administratias","N","SIM","NÃO","ENCARGOS DE GESTÃO","FIXO","MATERIAIS_MANUTENÇÃO",2410,"ASSESSORIA DE SEGURANÇA DO TRABALHO","Despesas Gerais e Administratias110090,506"]
[null,null,null,41604.15,0,1174.0899999999999,669.54,3934.06,9476.3679999999986,{"$f":"D945*'Série - IPCA'!$C$444/'Série - IPCA'!$C$385","v":54152.68187264743},{"$f":"E945*'Série - IPCA'!$C$444/'Série - IPCA'!$C$398","v":0},{"$f":"F945*'Série - IPCA'!$C$444/'Série - IPCA'!$C$411","v":1328.5028331165192},{"$f":"G945*'Série - IPCA'!$C$444/'Série - IPCA'!$C$424","v":716.16509789722897},{"$f":"H945*'Série - IPCA'!$C$444/'Série - IPCA'!$C$437","v":4022.1470804961009},12043.899376831456,"Despesas Gerais e Administratias","N","SIM","NÃO","ENCARGOS DE GESTÃO","FIXO","MATERIAIS_MANUTENÇÃO",3100,"SMS","Despesas Gerais e Administratias9476,368"]
[null,null,null,0,14207.92,0,92.87,0,2860.1580000000004,{"$f":"D946*'Série - IPCA'!$C$444/'Série - IPCA'!$C$385","v":0},{"$f":"E946*'Série - IPCA'!$C$444/'Série - IPCA'!$C$398","v":17693.957721650546},{"$f":"F946*'Série - IPCA'!$C$444/'Série - IPCA'!$C$411","v":0},{"$f":"G946*'Série - IPCA'!$C$444/'Série - IPCA'!$C$424","v":99.337235477664763},{"$f":"H946*'Série - IPCA'!$C$444/'Série - IPCA'!$C$437","v":0},3558.6589914256424,"Despesas Gerais e Administratias","N","SIM","NÃO","ENCARGOS DE GESTÃO","FIXO","MATERIAIS_MANUTENÇÃO",3200,"GERÊNCIA DE PLANEJAMENTO E MEIO AMBIENTE","Despesas Gerais e Administratias2860,158"]
[null,null,null,0,0,0,137.94999999999999,0,27.589999999999996,{"$f":"D947*'Série - IPCA'!$C$444/'Série - IPCA'!$C$385","v":0},{"$f":"E947*'Série - IPCA'!$C$444/'Série - IPCA'!$C$398","v":0},{"$f":"F947*'Série - IPCA'!$C$444/'Série - IPCA'!$C$411","v":0},{"$f":"G947*'Série - IPCA'!$C$444/'Série - IPCA'!$C$424","v":147.5564943915565},{"$f":"H947*'Série - IPCA'!$C$444/'Série - IPCA'!$C$437","v":0},29.511298878311301,"Despesas Gerais e Administratias","N","SIM","NÃO","ENCARGOS DE GESTÃO","FIXO","MATERIAIS_MANUTENÇÃO",3600,"GERÊNCIA DE GOVERNANÇA, RISCO E COMPLIANCE","Despesas Gerais e Administratias27,59"]
[null,null,null,0,318.3,1442.14,653.1,956.77,674.06200000000001,{"$f":"D948*'Série - IPCA'!$C$444/'Série - IPCA'!$C$385","v":0},{"$f":"E948*'Série - IPCA'!$C$444/'Série - IPCA'!$C$398","v":396.3976952855428},{"$f":"F948*'Série - IPCA'!$C$444/'Série - IPCA'!$C$411","v":1631.8059737759947},{"$f":"G948*'Série - IPCA'!$C$444/'Série - IPCA'!$C$424","v":698.58025724628897},{"$f":"H948*'Série - IPCA'!$C$444/'Série - IPCA'!$C$437","v":978.19292593561215},740.99537044868771,"Despesas Gerais e Administratias","N","SIM","NÃO","ENCARGOS DE GESTÃO","FIXO","MATERIAIS_MANUTENÇÃO",4100,"GERÊNCIA DE SERVIÇOS CORPORATIVOS","Despesas Gerais e Administratias674,062"]
[null,null,null,124225.27,0,0,0,0,24845.054,{"$f":"D949*'Série - IPCA'!$C$444/'Série - IPCA'!$C$385","v":161693.76196494178},{"$f":"E949*'Série - IPCA'!$C$444/'Série - IPCA'!$C$398","v":0},{"$f":"F949*'Série - IPCA'!$C$444/'Série - IPCA'!$C$411","v":0},{"$f":"G949*'Série - IPCA'!$C$444/'Série - IPCA'!$C$424","v":0},{"$f":"H949*'Série - IPCA'!$C$444/'Série - IPCA'!$C$437","v":0},32338.752392988354,"Despesas Gerais e Administratias","N","SIM","NÃO","ENCARGOS DE GESTÃO","FIXO","MATERIAIS_MANUTENÇÃO",3100,"SMS","Despesas Gerais e Administratias24845,054"]
[null,null,null,0,9256.23,0,23738.21,21984.9,10995.868,{"$f":"D950*'Série - IPCA'!$C$444/'Série - IPCA'!$C$385","v":0},{"$f":"E950*'Série - IPCA'!$C$444/'Série - IPCA'!$C$398","v":11527.327172582154},{"$f":"F950*'Série - IPCA'!$C$444/'Série - IPCA'!$C$411","v":0},{"$f":"G950*'Série - IPCA'!$C$444/'Série - IPCA'!$C$424","v":25391.279816821971},{"$f":"H950*'Série - IPCA'!$C$444/'Série - IPCA'!$C$437","v":22477.161342226285},11879.153666326083,"Despesas Gerais e Administratias","N","SIM","NÃO","ENCARGOS DE GESTÃO","FIXO","MATERIAIS_MANUTENÇÃO",3200,"GERÊNCIA DE PLANEJAMENTO E MEIO AMBIENTE","Despesas Gerais e Administratias10995,868"]
[null,null,null,0,26584.52,0,0,0,5316.9040000000005,{"$f":"D951*'Série - IPCA'!$C$444/'Série - IPCA'!$C$385","v":0},{"$f":"E951*'Série - IPCA'!$C$444/'Série - IPCA'!$C$398","v":33107.265027560221},{"$f":"F951*'Série - IPCA'!$C$444/'Série - IPCA'!$C$411","v":0},{"$f":"G951*'Série - IPCA'!$C$444/'Série - IPCA'!$C$424","v":0},{"$f":"H951*'Série - IPCA'!$C$444/'Série - IPCA'!$C$437","v":0},6621.453005512044,"Despesas Gerais e Administratias","N","SIM","NÃO","ENCARGOS DE GESTÃO","FIXO","MATERIAIS_MANUTENÇÃO",4100,"GERÊNCIA DE SERVIÇOS CORPORATIVOS","Despesas Gerais e Administratias5316,904"]
[null,null,null,0,0,0,0,40000,8000,{"$f":"D952*'Série - IPCA'!$C$444/'Série - IPCA'!$C$385","v":0},{"$f":"E952*'Série - IPCA'!$C$444/'Série - IPCA'!$C$398","v":0},{"$f":"F952*'Série - IPCA'!$C$444/'Série - IPCA'!$C$411","v":0},{"$f":"G952*'Série - IPCA'!$C$444/'Série - IPCA'!$C$424","v":0},{"$f":"H952*'Série - IPCA'!$C$444/'Série - IPCA'!$C$437","v":40895.635353767873},8179.127070753575,"Despesas Gerais e Administratias","N","NÃO","SIM","ENCARGOS DE GESTÃO","FIXO","DESPESA GERAIS",3200,"GERÊNCIA DE PLANEJAMENTO E MEIO AMBIENTE","Despesas Gerais e Administratias8000"]
[null,null,null,0,0,0,0,-195.73,-39.146000000000001,{"$f":"D953*'Série - IPCA'!$C$444/'Série - IPCA'!$C$385","v":0},{"$f":"E953*'Série - IPCA'!$C$444/'Série - IPCA'!$C$398","v":0},{"$f":"F953*'Série - IPCA'!$C$444/'Série - IPCA'!$C$411","v":0},{"$f":"G953*'Série - IPCA'!$C$444/'Série - IPCA'!$C$424","v":0},{"$f":"H953*'Série - IPCA'!$C$444/'Série - IPCA'!$C$437","v":-200.11256769482463},-40.02251353896493,"Despesas Gerais e Administratias","N","NÃO","SIM","ENCARGOS DE GESTÃO","FIXO","DESPESA GERAIS",4100,"GERÊNCIA DE SERVIÇOS CORPORATIVOS","Despesas Gerais e Administratias-39,146"]
[null,null,null,0,0,0,0,229.9,45.980000000000004,{"$f":"D954*'Série - IPCA'!$C$444/'Série - IPCA'!$C$385","v":0},{"$f":"E954*'Série - IPCA'!$C$444/'Série - IPCA'!$C$398","v":0},{"$f":"F954*'Série - IPCA'!$C$444/'Série - IPCA'!$C$411","v":0},{"$f":"G954*'Série - IPCA'!$C$444/'Série - IPCA'!$C$424","v":0},{"$f":"H954*'Série - IPCA'!$C$444/'Série - IPCA'!$C$437","v":235.04766419578084},47.009532839156165,"Outras Receitas e Despesas","N","NÃO","NÃO","OPEX","FIXO","DESPESAS_GERAIS",9999,"RATEIO","Outras Receitas e Despesas45,98"]
[null,null,null,0,0,8,0,0,1.6,{"$f":"D955*'Série - IPCA'!$C$444/'Série - IPCA'!$C$385","v":0},{"$f":"E955*'Série - IPCA'!$C$444/'Série - IPCA'!$C$398","v":0},{"$f":"F955*'Série - IPCA'!$C$444/'Série - IPCA'!$C$411","v":9.0521362629203512},{"$f":"G955*'Série - IPCA'!$C$444/'Série - IPCA'!$C$424","v":0},{"$f":"H955*'Série - IPCA'!$C$444/'Série - IPCA'!$C$437","v":0},1.8104272525840703,"Outras Receitas e Despesas","N","NÃO","NÃO","OPEX","FIXO","DESPESAS_GERAIS",1001,"CONSELHO DE ADMINISTRAÇÃO","Outras Receitas e Despesas1,6"]
[null,null,null,0,0,439,0,0,87.8,{"$f":"D956*'Série - IPCA'!$C$444/'Série - IPCA'!$C$385","v":0},{"$f":"E956*'Série - IPCA'!$C$444/'Série - IPCA'!$C$398","v":0},{"$f":"F956*'Série - IPCA'!$C$444/'Série - IPCA'!$C$411","v":496.73597742775428},{"$f":"G956*'Série - IPCA'!$C$444/'Série - IPCA'!$C$424","v":0},{"$f":"H956*'Série - IPCA'!$C$444/'Série - IPCA'!$C$437","v":0},99.347195485550856,"Outras Receitas e Despesas","N","NÃO","NÃO","OPEX","FIXO","DESPESAS_GERAIS",1005,"AUDITORIA INTERNA","Outras Receitas e Despesas87,8"]
[null,null,null,0,0,144,8,0,30.4,{"$f":"D957*'Série - IPCA'!$C$444/'Série - IPCA'!$C$385","v":0},{"$f":"E957*'Série - IPCA'!$C$444/'Série - IPCA'!$C$398","v":0},{"$f":"F957*'Série - IPCA'!$C$444/'Série - IPCA'!$C$411","v":162.93845273256633},{"$f":"G957*'Série - IPCA'!$C$444/'Série - IPCA'!$C$424","v":8.5571000734501776},{"$f":"H957*'Série - IPCA'!$C$444/'Série - IPCA'!$C$437","v":0},34.299110561203307,"Outras Receitas e Despesas","N","NÃO","NÃO","OPEX","FIXO","DESPESAS_GERAIS",1010,"GOVERNANÇA SOCIETÁRIA","Outras Receitas e Despesas30,4"]
[null,null,null,0,0,395.01,0,374.9,153.982,{"$f":"D958*'Série - IPCA'!$C$444/'Série - IPCA'!$C$385","v":0},{"$f":"E958*'Série - IPCA'!$C$444/'Série - IPCA'!$C$398","v":0},{"$f":"F958*'Série - IPCA'!$C$444/'Série - IPCA'!$C$411","v":446.96054315202099},{"$f":"G958*'Série - IPCA'!$C$444/'Série - IPCA'!$C$424","v":0},{"$f":"H958*'Série - IPCA'!$C$444/'Série - IPCA'!$C$437","v":383.29434235318934},166.05097710104206,"Outras Receitas e Despesas","N","NÃO","NÃO","OPEX","FIXO","DESPESAS_GERAIS",2100,"SECRETARIA","Outras Receitas e Despesas153,982"]
[null,null,null,0,0,40,0,0,8,{"$f":"D959*'Série - IPCA'!$C$444/'Série - IPCA'!$C$385","v":0},{"$f":"E959*'Série - IPCA'!$C$444/'Série - IPCA'!$C$398","v":0},{"$f":"F959*'Série - IPCA'!$C$444/'Série - IPCA'!$C$411","v":45.260681314601754},{"$f":"G959*'Série - IPCA'!$C$444/'Série - IPCA'!$C$424","v":0},{"$f":"H959*'Série - IPCA'!$C$444/'Série - IPCA'!$C$437","v":0},9.0521362629203512,"Outras Receitas e Despesas","N","NÃO","NÃO","OPEX","FIXO","DESPESAS_GERAIS",2110,"ASSESSORIA DA DIRETORIA EXECUTIVA","Outras Receitas e Despesas8"]
[null,null,null,0,0,8,0,229.9,47.58,{"$f":"D960*'Série - IPCA'!$C$444/'Série - IPCA'!$C$385","v":0},{"$f":"E960*'Série - IPCA'!$C$444/'Série - IPCA'!$C$398","v":0},{"$f":"F960*'Série - IPCA'!$C$444/'Série - IPCA'!$C$411","v":9.0521362629203512},{"$f":"G960*'Série - IPCA'!$C$444/'Série - IPCA'!$C$424","v":0},{"$f":"H960*'Série - IPCA'!$C$444/'Série - IPCA'!$C$437","v":235.04766419578084},48.819960091740242,"Outras Receitas e Despesas","N","NÃO","NÃO","OPEX","FIXO","DESPESAS_GERAIS",2120,"ASSESSORIA DA PRESIDÊNCIA","Outras Receitas e Despesas47,58"]
[null,null,null,0,19.079999999999998,505.25,1076.44,286,377.35399999999998,{"$f":"D961*'Série - IPCA'!$C$444/'Série - IPCA'!$C$385","v":0},{"$f":"E961*'Série - IPCA'!$C$444/'Série - IPCA'!$C$398","v":23.761445259340736},{"$f":"F961*'Série - IPCA'!$C$444/'Série - IPCA'!$C$411","v":571.6989808550635},{"$f":"G961*'Série - IPCA'!$C$444/'Série - IPCA'!$C$424","v":1151.4006003830889},{"$f":"H961*'Série - IPCA'!$C$444/'Série - IPCA'!$C$437","v":292.40379277944027},407.85296385538669,"Outras Receitas e Despesas","N","NÃO","NÃO","OPEX","FIXO","DESPESAS_GERAIS",2200,"DIRETORIA COLEGIADA - PRESIDÊNCIA","Outras Receitas e Despesas377,354"]
[null,null,null,0,0,650.45000000000005,612.11,117,275.91199999999998,{"$f":"D962*'Série - IPCA'!$C$444/'Série - IPCA'!$C$385","v":0},{"$f":"E962*'Série - IPCA'!$C$444/'Série - IPCA'!$C$398","v":0},{"$f":"F962*'Série - IPCA'!$C$444/'Série - IPCA'!$C$411","v":735.99525402706786},{"$f":"G962*'Série - IPCA'!$C$444/'Série - IPCA'!$C$424","v":654.73581574494858},{"$f":"H962*'Série - IPCA'!$C$444/'Série - IPCA'!$C$437","v":119.61973340977103},302.07016063635746,"Outras Receitas e Despesas","N","NÃO","NÃO","OPEX","FIXO","DESPESAS_GERAIS",2300,"DIRETORIA COLEGIADA - DAF","Outras Receitas e Despesas275,912"]
[null,null,null,0,0,0,0,37.799999999999997,7.56,{"$f":"D963*'Série - IPCA'!$C$444/'Série - IPCA'!$C$385","v":0},{"$f":"E963*'Série - IPCA'!$C$444/'Série - IPCA'!$C$398","v":0},{"$f":"F963*'Série - IPCA'!$C$444/'Série - IPCA'!$C$411","v":0},{"$f":"G963*'Série - IPCA'!$C$444/'Série - IPCA'!$C$424","v":0},{"$f":"H963*'Série - IPCA'!$C$444/'Série - IPCA'!$C$437","v":38.646375409310636},7.7292750818621272,"Outras Receitas e Despesas","N","NÃO","NÃO","OPEX","FIXO","DESPESAS_GERAIS",2400,"DIRETORIA COLEGIADA - DTC","Outras Receitas e Despesas7,56"]
[null,null,null,0,0,24,77,335.88,87.376000000000005,{"$f":"D964*'Série - IPCA'!$C$444/'Série - IPCA'!$C$385","v":0},{"$f":"E964*'Série - IPCA'!$C$444/'Série - IPCA'!$C$398","v":0},{"$f":"F964*'Série - IPCA'!$C$444/'Série - IPCA'!$C$411","v":27.156408788761055},{"$f":"G964*'Série - IPCA'!$C$444/'Série - IPCA'!$C$424","v":82.362088206957964},{"$f":"H964*'Série - IPCA'!$C$444/'Série - IPCA'!$C$437","v":343.40065006558882},90.583829412261565,"Outras Receitas e Despesas","N","NÃO","NÃO","OPEX","FIXO","DESPESAS_GERAIS",3200,"GERÊNCIA DE PLANEJAMENTO E MEIO AMBIENTE","Outras Receitas e Despesas87,376"]
[null,null,null,0,1210,51,868.43,536.51,{"$f":"AVERAGE(D965:H965)","v":533.18799999999987},{"$f":"D965*'Série - IPCA'!$C$444/'Série - IPCA'!$C$385","v":0},{"$f":"E965*'Série - IPCA'!$C$444/'Série - IPCA'!$C$398","v":1506.8841071175207},{"$f":"F965*'Série - IPCA'!$C$444/'Série - IPCA'!$C$411","v":57.707368676117234},{"$f":"G965*'Série - IPCA'!$C$444/'Série - IPCA'!$C$424","v":928.90530209829217},{"$f":"H965*'Série - IPCA'!$C$444/'Série - IPCA'!$C$437","v":548.52293309125002},{"$f":"AVERAGE(J965:N965)","v":608.40394219663597},"Outras Receitas e Despesas","N","NÃO","NÃO","OPEX","FIXO","DESPESAS_GERAIS",3300,"GERÊNCIA JURÍDICA",{"$f":"B965&C965&P965&I965","v":"Outras Receitas e Despesas533,188"}]
[null,null,null,0,0,-19,0,0,-3.8,{"$f":"D966*'Série - IPCA'!$C$444/'Série - IPCA'!$C$385","v":0},{"$f":"E966*'Série - IPCA'!$C$444/'Série - IPCA'!$C$398","v":0},{"$f":"F966*'Série - IPCA'!$C$444/'Série - IPCA'!$C$411","v":-21.498823624435836},{"$f":"G966*'Série - IPCA'!$C$444/'Série - IPCA'!$C$424","v":0},{"$f":"H966*'Série - IPCA'!$C$444/'Série - IPCA'!$C$437","v":0},-4.2997647248871669,"Outras Receitas e Despesas","N","NÃO","NÃO","OPEX","FIXO","DESPESAS_GERAIS",3400,"MARKETING","Outras Receitas e Despesas-3,8"]
[null,null,null,0,6.9,124.97,14,444.7,118.11399999999999,{"$f":"D967*'Série - IPCA'!$C$444/'Série - IPCA'!$C$385","v":0},{"$f":"E967*'Série - IPCA'!$C$444/'Série - IPCA'!$C$398","v":8.5929754868685055},{"$f":"F967*'Série - IPCA'!$C$444/'Série - IPCA'!$C$411","v":141.40568359714453},{"$f":"G967*'Série - IPCA'!$C$444/'Série - IPCA'!$C$424","v":14.974925128537812},{"$f":"H967*'Série - IPCA'!$C$444/'Série - IPCA'!$C$437","v":454.65722604551434},123.92616205161303,"Outras Receitas e Despesas","N","NÃO","NÃO","OPEX","FIXO","DESPESAS_GERAIS",3600,"GERÊNCIA DE GOVERNANÇA, RISCO E COMPLIANCE","Outras Receitas e Despesas118,114"]
[null,null,null,0,308,79.8,0,0,77.56,{"$f":"D968*'Série - IPCA'!$C$444/'Série - IPCA'!$C$385","v":0},{"$f":"E968*'Série - IPCA'!$C$444/'Série - IPCA'!$C$398","v":383.5704999935507},{"$f":"F968*'Série - IPCA'!$C$444/'Série - IPCA'!$C$411","v":90.295059222630499},{"$f":"G968*'Série - IPCA'!$C$444/'Série - IPCA'!$C$424","v":0},{"$f":"H968*'Série - IPCA'!$C$444/'Série - IPCA'!$C$437","v":0},94.773111843236236,"Outras Receitas e Despesas","N","NÃO","NÃO","OPEX","FIXO","DESPESAS_GERAIS",2410,"ASSESSORIA DE SEGURANÇA DO TRABALHO","Outras Receitas e Despesas77,56"]
[null,null,null,0,0,417.1,130,0,109.42,{"$f":"D969*'Série - IPCA'!$C$444/'Série - IPCA'!$C$385","v":0},{"$f":"E969*'Série - IPCA'!$C$444/'Série - IPCA'!$C$398","v":0},{"$f":"F969*'Série - IPCA'!$C$444/'Série - IPCA'!$C$411","v":471.95575440800985},{"$f":"G969*'Série - IPCA'!$C$444/'Série - IPCA'!$C$424","v":139.0528761935654},{"$f":"H969*'Série - IPCA'!$C$444/'Série - IPCA'!$C$437","v":0},122.20172612031506,"Outras Receitas e Despesas","N","NÃO","NÃO","OPEX","FIXO","DESPESAS_GERAIS",3100,"SMS","Outras Receitas e Despesas109,42"]
[null,null,null,0,717.55,847.96,496.93,616.71,535.83000000000004,{"$f":"D970*'Série - IPCA'!$C$444/'Série - IPCA'!$C$385","v":0},{"$f":"E970*'Série - IPCA'!$C$444/'Série - IPCA'!$C$398","v":893.60718269601398},{"$f":"F970*'Série - IPCA'!$C$444/'Série - IPCA'!$C$411","v":959.48118318824277},{"$f":"G970*'Série - IPCA'!$C$444/'Série - IPCA'!$C$424","v":531.53496743744961},{"$f":"H970*'Série - IPCA'!$C$444/'Série - IPCA'!$C$437","v":630.51868197555461},603.02840305945222,"Outras Receitas e Despesas","N","NÃO","NÃO","OPEX","FIXO","DESPESAS_GERAIS",3500,"ASSESSORIA DE COMUNICAÇÃO INSTITUCIONAL","Outras Receitas e Despesas535,83"]
[null,null,null,0,0,66,93107242.069999993,29.9,18621467.594000001,{"$f":"D971*'Série - IPCA'!$C$444/'Série - IPCA'!$C$385","v":0},{"$f":"E971*'Série - IPCA'!$C$444/'Série - IPCA'!$C$398","v":0},{"$f":"F971*'Série - IPCA'!$C$444/'Série - IPCA'!$C$411","v":74.680124169092892},{"$f":"G971*'Série - IPCA'!$C$444/'Série - IPCA'!$C$424","v":99590998.494492561},{"$f":"H971*'Série - IPCA'!$C$444/'Série - IPCA'!$C$437","v":30.569487426941482},19918220.74882083,"Outras Receitas e Despesas","N","NÃO","SIM","OPEX","FIXO","DESPESAS_GERAIS",4200,"GERÊNCIA FINANCEIRA","Outras Receitas e Despesas18621467,594"]
[null,null,null,0,0,1522.6,null,0,380.65,{"$f":"D972*'Série - IPCA'!$C$444/'Série - IPCA'!$C$385","v":0},{"$f":"E972*'Série - IPCA'!$C$444/'Série - IPCA'!$C$398","v":0},{"$f":"F972*'Série - IPCA'!$C$444/'Série - IPCA'!$C$411","v":1722.8478342403157},{"$f":"G972*'Série - IPCA'!$C$444/'Série - IPCA'!$C$424","v":0},{"$f":"H972*'Série - IPCA'!$C$444/'Série - IPCA'!$C$437","v":0},344.56956684806312,"Outras Receitas e Despesas","N","NÃO","NÃO","OPEX","FIXO","DESPESAS_GERAIS",3700,"GERÊNCIA DE REGULAÇÃO","Outras Receitas e Despesas380,65"]
[null,null,null,0,12351.23,29017.279999999999,21151.78,4128.68,13329.794,{"$f":"D973*'Série - IPCA'!$C$444/'Série - IPCA'!$C$385","v":0},{"$f":"E973*'Série - IPCA'!$C$444/'Série - IPCA'!$C$398","v":15381.712554010854},{"$f":"F973*'Série - IPCA'!$C$444/'Série - IPCA'!$C$411","v":32833.546567414181},{"$f":"G973*'Série - IPCA'!$C$444/'Série - IPCA'!$C$424","v":22624.737273950253},{"$f":"H973*'Série - IPCA'!$C$444/'Série - IPCA'!$C$437","v":4221.1247943098588},15012.224237937029,"Outras Receitas e Despesas","N","NÃO","NÃO","OPEX","FIXO","DESPESAS_GERAIS",4100,"GERÊNCIA DE SERVIÇOS CORPORATIVOS","Outras Receitas e Despesas13329,794"]
[null,null,null,0,57.8,24,8,17.5,21.46,{"$f":"D974*'Série - IPCA'!$C$444/'Série - IPCA'!$C$385","v":0},{"$f":"E974*'Série - IPCA'!$C$444/'Série - IPCA'!$C$398","v":71.981736687101389},{"$f":"F974*'Série - IPCA'!$C$444/'Série - IPCA'!$C$411","v":27.156408788761055},{"$f":"G974*'Série - IPCA'!$C$444/'Série - IPCA'!$C$424","v":8.5571000734501776},{"$f":"H974*'Série - IPCA'!$C$444/'Série - IPCA'!$C$437","v":17.891840467273443},25.11741720331721,"Outras Receitas e Despesas","N","NÃO","NÃO","OPEX","FIXO","DESPESAS_GERAIS",4300,"GERÊNCIA DE TECNOLOGIA E SISTEMAS DE INFORMAÇÃO","Outras Receitas e Despesas21,46"]
[null,null,null,0,598.79999999999995,404,574.49,413.82,398.22199999999998,{"$f":"D975*'Série - IPCA'!$C$444/'Série - IPCA'!$C$385","v":0},{"$f":"E975*'Série - IPCA'!$C$444/'Série - IPCA'!$C$398","v":745.72082920824073},{"$f":"F975*'Série - IPCA'!$C$444/'Série - IPCA'!$C$411","v":457.13288127747774},{"$f":"G975*'Série - IPCA'!$C$444/'Série - IPCA'!$C$424","v":614.49605264954914},{"$f":"H975*'Série - IPCA'!$C$444/'Série - IPCA'!$C$437","v":423.0857955524055},448.08711173753466,"Outras Receitas e Despesas","N","NÃO","NÃO","OPEX","FIXO","DESPESAS_GERAIS",4500,"GERÊNCIA CONTÁBIL","Outras Receitas e Despesas398,222"]
[null,null,null,0,0,0,0,0,0,{"$f":"D976*'Série - IPCA'!$C$444/'Série - IPCA'!$C$385","v":0},{"$f":"E976*'Série - IPCA'!$C$444/'Série - IPCA'!$C$398","v":0},{"$f":"F976*'Série - IPCA'!$C$444/'Série - IPCA'!$C$411","v":0},{"$f":"G976*'Série - IPCA'!$C$444/'Série - IPCA'!$C$424","v":0},{"$f":"H976*'Série - IPCA'!$C$444/'Série - IPCA'!$C$437","v":0},0,"Outras Receitas e Despesas","N","NÃO","NÃO","OPEX","FIXO","DESPESAS_GERAIS",4600,"GERÊNCIA DE PESSOAS E CULTURA","Outras Receitas e Despesas0"]
[null,null,null,0,1142.3,64,107,474.9,357.64,{"$f":"D977*'Série - IPCA'!$C$444/'Série - IPCA'!$C$385","v":0},{"$f":"E977*'Série - IPCA'!$C$444/'Série - IPCA'!$C$398","v":1422.5733186449122},{"$f":"F977*'Série - IPCA'!$C$444/'Série - IPCA'!$C$411","v":72.41709010336281},{"$f":"G977*'Série - IPCA'!$C$444/'Série - IPCA'!$C$424","v":114.45121348239614},{"$f":"H977*'Série - IPCA'!$C$444/'Série - IPCA'!$C$437","v":485.53343073760908},418.99501059365605,"Outras Receitas e Despesas","N","NÃO","NÃO","OPEX","FIXO","DESPESAS_GERAIS",5100,"GERÊNCIA DE ENGENHARIA","Outras Receitas e Despesas357,64"]
[null,null,null,0,325,9239.5,12961.22,0,4505.1440000000002,{"$f":"D978*'Série - IPCA'!$C$444/'Série - IPCA'!$C$385","v":0},{"$f":"E978*'Série - IPCA'!$C$444/'Série - IPCA'!$C$398","v":404.74159901916875},{"$f":"F978*'Série - IPCA'!$C$444/'Série - IPCA'!$C$411","v":10454.651625156574},{"$f":"G978*'Série - IPCA'!$C$444/'Série - IPCA'!$C$424","v":13863.807076750489},{"$f":"H978*'Série - IPCA'!$C$444/'Série - IPCA'!$C$437","v":0},4944.6400601852465,"Outras Receitas e Despesas","N","NÃO","NÃO","OPEX","FIXO","DESPESAS_GERAIS",5200,"GERÊNCIA DE OPERAÇÕES","Outras Receitas e Despesas4505,144"]
[null,null,null,0,0,3225.52,12165.4,5687.38,4215.66,{"$f":"D979*'Série - IPCA'!$C$444/'Série - IPCA'!$C$385","v":0},{"$f":"E979*'Série - IPCA'!$C$444/'Série - IPCA'!$C$398","v":0},{"$f":"F979*'Série - IPCA'!$C$444/'Série - IPCA'!$C$411","v":3649.7308198468563},{"$f":"G979*'Série - IPCA'!$C$444/'Série - IPCA'!$C$424","v":13012.56815419385},{"$f":"H979*'Série - IPCA'!$C$444/'Série - IPCA'!$C$437","v":5814.7254649578081},4495.4048877997029,"Outras Receitas e Despesas","N","NÃO","NÃO","OPEX","FIXO","DESPESAS_GERAIS",5300,"GERÊNCIA COMERCIAL","Outras Receitas e Despesas4215,66"]
[null,null,null,0,0,39359.160000000003,0,0,7871.8320000000003,{"$f":"D980*'Série - IPCA'!$C$444/'Série - IPCA'!$C$385","v":0},{"$f":"E980*'Série - IPCA'!$C$444/'Série - IPCA'!$C$398","v":0},{"$f":"F980*'Série - IPCA'!$C$444/'Série - IPCA'!$C$411","v":44535.559939260522},{"$f":"G980*'Série - IPCA'!$C$444/'Série - IPCA'!$C$424","v":0},{"$f":"H980*'Série - IPCA'!$C$444/'Série - IPCA'!$C$437","v":0},8907.111987852104,"Outras Receitas e Despesas","N","NÃO","NÃO","OPEX","FIXO","DESPESAS_GERAIS",5300,"GERÊNCIA COMERCIAL","Outras Receitas e Despesas7871,832"]
[null,null,null,0,0,0,0,15,3,{"$f":"D981*'Série - IPCA'!$C$444/'Série - IPCA'!$C$385","v":0},{"$f":"E981*'Série - IPCA'!$C$444/'Série - IPCA'!$C$398","v":0},{"$f":"F981*'Série - IPCA'!$C$444/'Série - IPCA'!$C$411","v":0},{"$f":"G981*'Série - IPCA'!$C$444/'Série - IPCA'!$C$424","v":0},{"$f":"H981*'Série - IPCA'!$C$444/'Série - IPCA'!$C$437","v":15.335863257662952},3.0671726515325903,"Outras Receitas e Despesas","N","NÃO","NÃO","OPEX","FIXO","DESPESAS_GERAIS",5400,"GERÊNCIA COMERCIAL (inativo)","Outras Receitas e Despesas3"]
[null,null,null,-39487087.57,0,0,0,0,-7897417.5140000004,{"$f":"D982*'Série - IPCA'!$C$444/'Série - IPCA'!$C$385","v":-51397076.764110811},{"$f":"E982*'Série - IPCA'!$C$444/'Série - IPCA'!$C$398","v":0},{"$f":"F982*'Série - IPCA'!$C$444/'Série - IPCA'!$C$411","v":0},{"$f":"G982*'Série - IPCA'!$C$444/'Série - IPCA'!$C$424","v":0},{"$f":"H982*'Série - IPCA'!$C$444/'Série - IPCA'!$C$437","v":0},-10279415.352822162,"Outras Receitas e Despesas","S","NÃO","SIM","OPEX","FIXO","MATERIAIS_MANUTENÇÃO",4200,"GERÊNCIA FINANCEIRA","Outras Receitas e Despesas-7897417,514"]
[null,null,null,1890.52,921.42,0,0,0,562.38800000000003,{"$f":"D983*'Série - IPCA'!$C$444/'Série - IPCA'!$C$385","v":2460.7335598462514},{"$f":"E983*'Série - IPCA'!$C$444/'Série - IPCA'!$C$398","v":1147.4984743638229},{"$f":"F983*'Série - IPCA'!$C$444/'Série - IPCA'!$C$411","v":0},{"$f":"G983*'Série - IPCA'!$C$444/'Série - IPCA'!$C$424","v":0},{"$f":"H983*'Série - IPCA'!$C$444/'Série - IPCA'!$C$437","v":0},721.64640684201481,"Custos","N","SIM","NÃO","OPEX","FIXO","DESPESAS_GERAIS",5100,"GERÊNCIA DE ENGENHARIA","Custos562,388"]
[null,null,null,4654.96,2268.7800000000002,0,0,0,1384.748,{"$f":"D984*'Série - IPCA'!$C$444/'Série - IPCA'!$C$385","v":6058.9765206090942},{"$f":"E984*'Série - IPCA'!$C$444/'Série - IPCA'!$C$398","v":2825.4450616083377},{"$f":"F984*'Série - IPCA'!$C$444/'Série - IPCA'!$C$411","v":0},{"$f":"G984*'Série - IPCA'!$C$444/'Série - IPCA'!$C$424","v":0},{"$f":"H984*'Série - IPCA'!$C$444/'Série - IPCA'!$C$437","v":0},1776.8843164434863,"Custos","N","SIM","NÃO","OPEX","FIXO","DESPESAS_GERAIS",5200,"GERÊNCIA DE OPERAÇÕES","Custos1384,748"]
[null,null,null,1047.81,2211.19,0,0,0,651.79999999999995,{"$f":"D985*'Série - IPCA'!$C$444/'Série - IPCA'!$C$385","v":1363.8476352233779},{"$f":"E985*'Série - IPCA'!$C$444/'Série - IPCA'!$C$398","v":2753.7248502621405},{"$f":"F985*'Série - IPCA'!$C$444/'Série - IPCA'!$C$411","v":0},{"$f":"G985*'Série - IPCA'!$C$444/'Série - IPCA'!$C$424","v":0},{"$f":"H985*'Série - IPCA'!$C$444/'Série - IPCA'!$C$437","v":0},823.51449709710357,"Despesas com Vendas","N","SIM","NÃO","ENCARGOS DE COMERCIALIZAÇÃO","FIXO","DESPESAS_GERAIS",5300,"GERÊNCIA COMERCIAL","Despesas com Vendas651,8"]
[null,null,null,0,198.85,0,0,0,39.769999999999996,{"$f":"D986*'Série - IPCA'!$C$444/'Série - IPCA'!$C$385","v":0},{"$f":"E986*'Série - IPCA'!$C$444/'Série - IPCA'!$C$398","v":247.63959066142064},{"$f":"F986*'Série - IPCA'!$C$444/'Série - IPCA'!$C$411","v":0},{"$f":"G986*'Série - IPCA'!$C$444/'Série - IPCA'!$C$424","v":0},{"$f":"H986*'Série - IPCA'!$C$444/'Série - IPCA'!$C$437","v":0},49.527918132284128,"Despesas Gerais e Administratias","N","SIM","NÃO","ENCARGOS DE GESTÃO","FIXO","DESPESAS_GERAIS",2110,"ASSESSORIA DA DIRETORIA EXECUTIVA","Despesas Gerais e Administratias39,77"]
[null,null,null,929.65,453.1,0,0,0,276.55,{"$f":"D987*'Série - IPCA'!$C$444/'Série - IPCA'!$C$385","v":1210.0485336897084},{"$f":"E987*'Série - IPCA'!$C$444/'Série - IPCA'!$C$398","v":564.27205697103182},{"$f":"F987*'Série - IPCA'!$C$444/'Série - IPCA'!$C$411","v":0},{"$f":"G987*'Série - IPCA'!$C$444/'Série - IPCA'!$C$424","v":0},{"$f":"H987*'Série - IPCA'!$C$444/'Série - IPCA'!$C$437","v":0},354.86411813214806,"Despesas Gerais e Administratias","N","SIM","NÃO","ENCARGOS DE GESTÃO","FIXO","DESPESAS_GERAIS",2200,"DIRETORIA COLEGIADA - PRESIDÊNCIA","Despesas Gerais e Administratias276,55"]
[null,null,null,231.86,113,0,0,0,68.972000000000008,{"$f":"D988*'Série - IPCA'!$C$444/'Série - IPCA'!$C$385","v":301.79298985779144},{"$f":"E988*'Série - IPCA'!$C$444/'Série - IPCA'!$C$398","v":140.72554058204946},{"$f":"F988*'Série - IPCA'!$C$444/'Série - IPCA'!$C$411","v":0},{"$f":"G988*'Série - IPCA'!$C$444/'Série - IPCA'!$C$424","v":0},{"$f":"H988*'Série - IPCA'!$C$444/'Série - IPCA'!$C$437","v":0},88.503706087968183,"Despesas Gerais e Administratias","N","SIM","NÃO","ENCARGOS DE GESTÃO","FIXO","DESPESAS_GERAIS",2300,"DIRETORIA COLEGIADA - DAF","Despesas Gerais e Administratias68,972"]
[null,null,null,231.86,113,0,0,0,68.972000000000008,{"$f":"D989*'Série - IPCA'!$C$444/'Série - IPCA'!$C$385","v":301.79298985779144},{"$f":"E989*'Série - IPCA'!$C$444/'Série - IPCA'!$C$398","v":140.72554058204946},{"$f":"F989*'Série - IPCA'!$C$444/'Série - IPCA'!$C$411","v":0},{"$f":"G989*'Série - IPCA'!$C$444/'Série - IPCA'!$C$424","v":0},{"$f":"H989*'Série - IPCA'!$C$444/'Série - IPCA'!$C$437","v":0},88.503706087968183,"Despesas Gerais e Administratias","N","SIM","NÃO","ENCARGOS DE GESTÃO","FIXO","DESPESAS_GERAIS",2400,"DIRETORIA COLEGIADA - DTC","Despesas Gerais e Administratias68,972"]
[null,null,null,987.62,0,0,0,0,197.524,{"$f":"D990*'Série - IPCA'!$C$444/'Série - IPCA'!$C$385","v":1285.5032892407141},{"$f":"E990*'Série - IPCA'!$C$444/'Série - IPCA'!$C$398","v":0},{"$f":"F990*'Série - IPCA'!$C$444/'Série - IPCA'!$C$411","v":0},{"$f":"G990*'Série - IPCA'!$C$444/'Série - IPCA'!$C$424","v":0},{"$f":"H990*'Série - IPCA'!$C$444/'Série - IPCA'!$C$437","v":0},257.10065784814282,"Despesas Gerais e Administratias","N","SIM","NÃO","ENCARGOS DE GESTÃO","FIXO","DESPESAS_GERAIS",3100,"SMS","Despesas Gerais e Administratias197,524"]
[null,null,null,581.87,857.23,0,0,0,287.82,{"$f":"D991*'Série - IPCA'!$C$444/'Série - IPCA'!$C$385","v":757.37206507613678},{"$f":"E991*'Série - IPCA'!$C$444/'Série - IPCA'!$C$398","v":1067.5588951606217},{"$f":"F991*'Série - IPCA'!$C$444/'Série - IPCA'!$C$411","v":0},{"$f":"G991*'Série - IPCA'!$C$444/'Série - IPCA'!$C$424","v":0},{"$f":"H991*'Série - IPCA'!$C$444/'Série - IPCA'!$C$437","v":0},364.98619204735166,"Despesas Gerais e Administratias","N","SIM","NÃO","ENCARGOS DE GESTÃO","FIXO","DESPESAS_GERAIS",3200,"GERÊNCIA DE PLANEJAMENTO E MEIO AMBIENTE","Despesas Gerais e Administratias287,82"]
[null,null,null,697.8,340.1,0,0,0,207.58,{"$f":"D992*'Série - IPCA'!$C$444/'Série - IPCA'!$C$385","v":908.26856000503255},{"$f":"E992*'Série - IPCA'!$C$444/'Série - IPCA'!$C$398","v":423.54651638898247},{"$f":"F992*'Série - IPCA'!$C$444/'Série - IPCA'!$C$411","v":0},{"$f":"G992*'Série - IPCA'!$C$444/'Série - IPCA'!$C$424","v":0},{"$f":"H992*'Série - IPCA'!$C$444/'Série - IPCA'!$C$437","v":0},266.363015278803,"Despesas Gerais e Administratias","N","SIM","NÃO","ENCARGOS DE GESTÃO","FIXO","DESPESAS_GERAIS",3300,"GERÊNCIA JURÍDICA","Despesas Gerais e Administratias207,58"]
[null,null,null,0,396.6,0,0,0,79.320000000000007,{"$f":"D993*'Série - IPCA'!$C$444/'Série - IPCA'!$C$385","v":0},{"$f":"E993*'Série - IPCA'!$C$444/'Série - IPCA'!$C$398","v":493.9092866800072},{"$f":"F993*'Série - IPCA'!$C$444/'Série - IPCA'!$C$411","v":0},{"$f":"G993*'Série - IPCA'!$C$444/'Série - IPCA'!$C$424","v":0},{"$f":"H993*'Série - IPCA'!$C$444/'Série - IPCA'!$C$437","v":0},98.781857336001437,"Despesas Gerais e Administratias","N","SIM","NÃO","ENCARGOS DE GESTÃO","FIXO","DESPESAS_GERAIS",3500,"ASSESSORIA DE COMUNICAÇÃO INSTITUCIONAL","Despesas Gerais e Administratias79,32"]
[null,null,null,349.99,170.59,0,0,18600,3824.1160000000004,{"$f":"D994*'Série - IPCA'!$C$444/'Série - IPCA'!$C$385","v":455.5530428721143},{"$f":"E994*'Série - IPCA'!$C$444/'Série - IPCA'!$C$398","v":212.44575192824615},{"$f":"F994*'Série - IPCA'!$C$444/'Série - IPCA'!$C$411","v":0},{"$f":"G994*'Série - IPCA'!$C$444/'Série - IPCA'!$C$424","v":0},{"$f":"H994*'Série - IPCA'!$C$444/'Série - IPCA'!$C$437","v":19016.470439502064},3936.8938468604852,"Despesas Gerais e Administratias","N","SIM","NÃO","ENCARGOS DE GESTÃO","FIXO","DESPESAS_GERAIS",3600,"GERÊNCIA DE GOVERNANÇA, RISCO E COMPLIANCE","Despesas Gerais e Administratias3824,116"]
[null,null,null,1511.53,736.7,0,0,0,449.64600000000002,{"$f":"D995*'Série - IPCA'!$C$444/'Série - IPCA'!$C$385","v":1967.4336149389608},{"$f":"E995*'Série - IPCA'!$C$444/'Série - IPCA'!$C$398","v":917.45580306898955},{"$f":"F995*'Série - IPCA'!$C$444/'Série - IPCA'!$C$411","v":0},{"$f":"G995*'Série - IPCA'!$C$444/'Série - IPCA'!$C$424","v":0},{"$f":"H995*'Série - IPCA'!$C$444/'Série - IPCA'!$C$437","v":0},576.97788360159007,"Despesas Gerais e Administratias","N","SIM","NÃO","ENCARGOS DE GESTÃO","FIXO","DESPESAS_GERAIS",4100,"GERÊNCIA DE SERVIÇOS CORPORATIVOS","Despesas Gerais e Administratias449,646"]
[null,null,null,1279.67,623.70000000000005,0,0,0,380.67400000000004,{"$f":"D996*'Série - IPCA'!$C$444/'Série - IPCA'!$C$385","v":1665.6406250811697},{"$f":"E996*'Série - IPCA'!$C$444/'Série - IPCA'!$C$398","v":776.73026248694021},{"$f":"F996*'Série - IPCA'!$C$444/'Série - IPCA'!$C$411","v":0},{"$f":"G996*'Série - IPCA'!$C$444/'Série - IPCA'!$C$424","v":0},{"$f":"H996*'Série - IPCA'!$C$444/'Série - IPCA'!$C$437","v":0},488.47417751362201,"Despesas Gerais e Administratias","N","SIM","NÃO","ENCARGOS DE GESTÃO","FIXO","DESPESAS_GERAIS",4200,"GERÊNCIA FINANCEIRA","Despesas Gerais e Administratias380,674"]
[null,null,null,1444.64,704.1,0,0,0,429.74800000000005,{"$f":"D997*'Série - IPCA'!$C$444/'Série - IPCA'!$C$385","v":1880.3684329688599},{"$f":"E997*'Série - IPCA'!$C$444/'Série - IPCA'!$C$398","v":876.85710729045149},{"$f":"F997*'Série - IPCA'!$C$444/'Série - IPCA'!$C$411","v":0},{"$f":"G997*'Série - IPCA'!$C$444/'Série - IPCA'!$C$424","v":0},{"$f":"H997*'Série - IPCA'!$C$444/'Série - IPCA'!$C$437","v":0},551.44510805186223,"Despesas Gerais e Administratias","N","SIM","NÃO","ENCARGOS DE GESTÃO","FIXO","DESPESAS_GERAIS",4300,"GERÊNCIA DE TECNOLOGIA E SISTEMAS DE INFORMAÇÃO","Despesas Gerais e Administratias429,748"]
[null,null,null,929.65,453.1,0,0,0,276.55,{"$f":"D998*'Série - IPCA'!$C$444/'Série - IPCA'!$C$385","v":1210.0485336897084},{"$f":"E998*'Série - IPCA'!$C$444/'Série - IPCA'!$C$398","v":564.27205697103182},{"$f":"F998*'Série - IPCA'!$C$444/'Série - IPCA'!$C$411","v":0},{"$f":"G998*'Série - IPCA'!$C$444/'Série - IPCA'!$C$424","v":0},{"$f":"H998*'Série - IPCA'!$C$444/'Série - IPCA'!$C$437","v":0},354.86411813214806,"Despesas Gerais e Administratias","N","SIM","NÃO","ENCARGOS DE GESTÃO","FIXO","DESPESAS_GERAIS",4500,"GERÊNCIA CONTÁBIL","Despesas Gerais e Administratias276,55"]
[null,null,null,813.73,396.6,0,0,0,242.06599999999997,{"$f":"D999*'Série - IPCA'!$C$444/'Série - IPCA'!$C$385","v":1059.1650549339283},{"$f":"E999*'Série - IPCA'!$C$444/'Série - IPCA'!$C$398","v":493.9092866800072},{"$f":"F999*'Série - IPCA'!$C$444/'Série - IPCA'!$C$411","v":0},{"$f":"G999*'Série - IPCA'!$C$444/'Série - IPCA'!$C$424","v":0},{"$f":"H999*'Série - IPCA'!$C$444/'Série - IPCA'!$C$437","v":0},310.61486832278712,"Despesas Gerais e Administratias","N","SIM","NÃO","ENCARGOS DE GESTÃO","FIXO","DESPESAS_GERAIS",4600,"GERÊNCIA DE PESSOAS E CULTURA","Despesas Gerais e Administratias242,066"]
[null,null,null,2021.2,0,0,0,0,404.24,{"$f":"D1000*'Série - IPCA'!$C$444/'Série - IPCA'!$C$385","v":2630.8289101206246},{"$f":"E1000*'Série - IPCA'!$C$444/'Série - IPCA'!$C$398","v":0},{"$f":"F1000*'Série - IPCA'!$C$444/'Série - IPCA'!$C$411","v":0},{"$f":"G1000*'Série - IPCA'!$C$444/'Série - IPCA'!$C$424","v":0},{"$f":"H1000*'Série - IPCA'!$C$444/'Série - IPCA'!$C$437","v":0},526.16578202412495,"Despesas com Vendas","N","SIM","NÃO","ENCARGOS DE COMERCIALIZAÇÃO","FIXO","VIAGENS_REPRESENTAÇÕES",5400,"GERÊNCIA COMERCIAL (inativo)","Despesas com Vendas404,24"]
[null,null,null,3149.11,0,0,0,0,629.822,{"$f":"D1001*'Série - IPCA'!$C$444/'Série - IPCA'!$C$385","v":4098.9360919997825},{"$f":"E1001*'Série - IPCA'!$C$444/'Série - IPCA'!$C$398","v":0},{"$f":"F1001*'Série - IPCA'!$C$444/'Série - IPCA'!$C$411","v":0},{"$f":"G1001*'Série - IPCA'!$C$444/'Série - IPCA'!$C$424","v":0},{"$f":"H1001*'Série - IPCA'!$C$444/'Série - IPCA'!$C$437","v":0},819.78721839995649,"Despesas Gerais e Administratias","N","SIM","NÃO","ENCARGOS DE GESTÃO","FIXO","VIAGENS_REPRESENTAÇÕES",3400,"MARKETING","Despesas Gerais e Administratias629,822"]
[null,null,null,2732.53,0,0,0,0,546.50600000000009,{"$f":"D1002*'Série - IPCA'!$C$444/'Série - IPCA'!$C$385","v":3556.7083523510341},{"$f":"E1002*'Série - IPCA'!$C$444/'Série - IPCA'!$C$398","v":0},{"$f":"F1002*'Série - IPCA'!$C$444/'Série - IPCA'!$C$411","v":0},{"$f":"G1002*'Série - IPCA'!$C$444/'Série - IPCA'!$C$424","v":0},{"$f":"H1002*'Série - IPCA'!$C$444/'Série - IPCA'!$C$437","v":0},711.34167047020685,"Despesas Gerais e Administratias","N","SIM","NÃO","ENCARGOS DE GESTÃO","FIXO","VIAGENS_REPRESENTAÇÕES",4600,"GERÊNCIA DE PESSOAS E CULTURA","Despesas Gerais e Administratias546,506"]
[null,null,null,46513.8,8394.42,358,44467.33,32514.240000000002,26449.558000000001,{"$f":"D1003*'Série - IPCA'!$C$444/'Série - IPCA'!$C$385","v":60543.167306337178},{"$f":"E1003*'Série - IPCA'!$C$444/'Série - IPCA'!$C$398","v":10454.064534272278},{"$f":"F1003*'Série - IPCA'!$C$444/'Série - IPCA'!$C$411","v":405.08309776568569},{"$f":"G1003*'Série - IPCA'!$C$444/'Série - IPCA'!$C$424","v":47563.924101141667},{"$f":"H1003*'Série - IPCA'!$C$444/'Série - IPCA'!$C$437","v":33242.262571122345},30441.700322127832,"Custos","N","SIM","NÃO","OPEX","FIXO","VIAGENS_REPRESENTAÇÕES",5100,"GERÊNCIA DE ENGENHARIA","Custos26449,558"]
[null,null,null,15325.56,1211.44,3338.7,6475.91,13985.78,8067.4780000000001,{"$f":"D1004*'Série - IPCA'!$C$444/'Série - IPCA'!$C$385","v":19948.014205317751},{"$f":"E1004*'Série - IPCA'!$C$444/'Série - IPCA'!$C$398","v":1508.6774237408672},{"$f":"F1004*'Série - IPCA'!$C$444/'Série - IPCA'!$C$411","v":3777.7959176265222},{"$f":"G1004*'Série - IPCA'!$C$444/'Série - IPCA'!$C$424","v":6926.8762420820931},{"$f":"H1004*'Série - IPCA'!$C$444/'Série - IPCA'!$C$437","v":14298.933975450493},9292.059552843546,"Custos","N","SIM","NÃO","OPEX","FIXO","VIAGENS_REPRESENTAÇÕES",5200,"GERÊNCIA DE OPERAÇÕES","Custos8067,478"]
[null,null,null,12341.49,533.5,2564.12,5992.29,651.65,4416.6100000000006,{"$f":"D1005*'Série - IPCA'!$C$444/'Série - IPCA'!$C$385","v":16063.897034417467},{"$f":"E1005*'Série - IPCA'!$C$444/'Série - IPCA'!$C$398","v":664.39890177454311},{"$f":"F1005*'Série - IPCA'!$C$444/'Série - IPCA'!$C$411","v":2901.3454543099165},{"$f":"G1005*'Série - IPCA'!$C$444/'Série - IPCA'!$C$424","v":6409.5781498918459},{"$f":"H1005*'Série - IPCA'!$C$444/'Série - IPCA'!$C$437","v":666.24101945707082},5341.0921119701688,"Despesas com Vendas","N","SIM","NÃO","ENCARGOS DE COMERCIALIZAÇÃO","FIXO","VIAGENS_REPRESENTAÇÕES",5300,"GERÊNCIA COMERCIAL","Despesas com Vendas4416,61"]
[null,null,null,32056.59,7815.67,1737.84,6174.67,3851.16,10327.185999999998,{"$f":"D1006*'Série - IPCA'!$C$444/'Série - IPCA'!$C$385","v":41725.412493510645},{"$f":"E1006*'Série - IPCA'!$C$444/'Série - IPCA'!$C$398","v":9733.3131483266043},{"$f":"F1006*'Série - IPCA'!$C$444/'Série - IPCA'!$C$411","v":1966.3955603941879},{"$f":"G1006*'Série - IPCA'!$C$444/'Série - IPCA'!$C$424","v":6604.6586388163269},{"$f":"H1006*'Série - IPCA'!$C$444/'Série - IPCA'!$C$437","v":3937.3908762254168},12793.434143454635,"Despesas Gerais e Administratias","N","SIM","NÃO","ENCARGOS DE GESTÃO","FIXO","VIAGENS_REPRESENTAÇÕES",1001,"CONSELHO DE ADMINISTRAÇÃO","Despesas Gerais e Administratias10327,186"]
[null,null,null,2177.6999999999998,618.94000000000005,0,0,0,559.32799999999997,{"$f":"D1007*'Série - IPCA'!$C$444/'Série - IPCA'!$C$385","v":2834.53201937942},{"$f":"E1007*'Série - IPCA'!$C$444/'Série - IPCA'!$C$398","v":770.80235475976724},{"$f":"F1007*'Série - IPCA'!$C$444/'Série - IPCA'!$C$411","v":0},{"$f":"G1007*'Série - IPCA'!$C$444/'Série - IPCA'!$C$424","v":0},{"$f":"H1007*'Série - IPCA'!$C$444/'Série - IPCA'!$C$437","v":0},721.06687482783741,"Despesas Gerais e Administratias","N","SIM","NÃO","ENCARGOS DE GESTÃO","FIXO","VIAGENS_REPRESENTAÇÕES",1002,"CONSELHO FISCAL","Despesas Gerais e Administratias559,328"]
[null,null,null,0,0,0,3048.18,4044.49,1418.5340000000001,{"$f":"D1008*'Série - IPCA'!$C$444/'Série - IPCA'!$C$385","v":0},{"$f":"E1008*'Série - IPCA'!$C$444/'Série - IPCA'!$C$398","v":0},{"$f":"F1008*'Série - IPCA'!$C$444/'Série - IPCA'!$C$411","v":0},{"$f":"G1008*'Série - IPCA'!$C$444/'Série - IPCA'!$C$424","v":3260.4476627361705},{"$f":"H1008*'Série - IPCA'!$C$444/'Série - IPCA'!$C$437","v":4135.0497057990151},1479.0994737070371,"Despesas Gerais e Administratias","N","SIM","SIM","ENCARGOS DE GESTÃO","FIXO","VIAGENS_REPRESENTAÇÕES",1004,"COMITÊ DE AUDITORIA ESTATUTÁRIA","Despesas Gerais e Administratias1418,534"]
[null,null,null,0,3165.79,0,0,547.89,742.73599999999999,{"$f":"D1009*'Série - IPCA'!$C$444/'Série - IPCA'!$C$385","v":0},{"$f":"E1009*'Série - IPCA'!$C$444/'Série - IPCA'!$C$398","v":3942.5443284889056},{"$f":"F1009*'Série - IPCA'!$C$444/'Série - IPCA'!$C$411","v":0},{"$f":"G1009*'Série - IPCA'!$C$444/'Série - IPCA'!$C$424","v":0},{"$f":"H1009*'Série - IPCA'!$C$444/'Série - IPCA'!$C$437","v":560.15774134939693},900.54041396766047,"Despesas Gerais e Administratias","N","SIM","NÃO","ENCARGOS DE GESTÃO","FIXO","VIAGENS_REPRESENTAÇÕES",1005,"AUDITORIA INTERNA","Despesas Gerais e Administratias742,736"]
[null,null,null,0,0,4296.4399999999996,39680,12273.4,11249.968000000001,{"$f":"D1010*'Série - IPCA'!$C$444/'Série - IPCA'!$C$385","v":0},{"$f":"E1010*'Série - IPCA'!$C$444/'Série - IPCA'!$C$398","v":0},{"$f":"F1010*'Série - IPCA'!$C$444/'Série - IPCA'!$C$411","v":4861.4950406826893},{"$f":"G1010*'Série - IPCA'!$C$444/'Série - IPCA'!$C$424","v":42443.216364312888},{"$f":"H1010*'Série - IPCA'!$C$444/'Série - IPCA'!$C$437","v":12548.212273773366},11970.58473575379,"Despesas Gerais e Administratias","N","SIM","NÃO","ENCARGOS DE GESTÃO","FIXO","VIAGENS_REPRESENTAÇÕES",2120,"ASSESSORIA DA PRESIDÊNCIA","Despesas Gerais e Administratias11249,968"]
[null,null,null,0,0,0,0,14993.58,2998.7159999999999,{"$f":"D1011*'Série - IPCA'!$C$444/'Série - IPCA'!$C$385","v":0},{"$f":"E1011*'Série - IPCA'!$C$444/'Série - IPCA'!$C$398","v":0},{"$f":"F1011*'Série - IPCA'!$C$444/'Série - IPCA'!$C$411","v":0},{"$f":"G1011*'Série - IPCA'!$C$444/'Série - IPCA'!$C$424","v":0},{"$f":"H1011*'Série - IPCA'!$C$444/'Série - IPCA'!$C$437","v":15329.299508188673},3065.8599016377348,"Despesas Gerais e Administratias","N","SIM","NÃO","ENCARGOS DE GESTÃO","FIXO","VIAGENS_REPRESENTAÇÕES",2130,"ASSESSORIA DE RELAÇÕES INSTITUCIONAIS E NOVOS NEGÓCIOS","Despesas Gerais e Administratias2998,716"]
[null,null,null,0,0,0,0,3943.78,788.75600000000009,{"$f":"D1012*'Série - IPCA'!$C$444/'Série - IPCA'!$C$385","v":0},{"$f":"E1012*'Série - IPCA'!$C$444/'Série - IPCA'!$C$398","v":0},{"$f":"F1012*'Série - IPCA'!$C$444/'Série - IPCA'!$C$411","v":0},{"$f":"G1012*'Série - IPCA'!$C$444/'Série - IPCA'!$C$424","v":0},{"$f":"H1012*'Série - IPCA'!$C$444/'Série - IPCA'!$C$437","v":4032.084719887067},806.41694397741344,"Despesas Gerais e Administratias","N","SIM","NÃO","ENCARGOS DE GESTÃO","FIXO","VIAGENS_REPRESENTAÇÕES",2140,"ASSESSORIA DTC","Despesas Gerais e Administratias788,756"]
[null,null,null,19002.97,0,0,11051.23,19605.13,9931.866,{"$f":"D1013*'Série - IPCA'!$C$444/'Série - IPCA'!$C$385","v":24734.594723013521},{"$f":"E1013*'Série - IPCA'!$C$444/'Série - IPCA'!$C$398","v":0},{"$f":"F1013*'Série - IPCA'!$C$444/'Série - IPCA'!$C$411","v":0},{"$f":"G1013*'Série - IPCA'!$C$444/'Série - IPCA'!$C$424","v":11820.810130589352},{"$f":"H1013*'Série - IPCA'!$C$444/'Série - IPCA'!$C$437","v":20044.106188580379},11319.90220843665,"Despesas Gerais e Administratias","N","SIM","NÃO","ENCARGOS DE GESTÃO","FIXO","VIAGENS_REPRESENTAÇÕES",2300,"DIRETORIA COLEGIADA - DAF","Despesas Gerais e Administratias9931,866"]
[null,null,null,0,0,2298.9,6979.81,2656.81,2387.1040000000003,{"$f":"D1014*'Série - IPCA'!$C$444/'Série - IPCA'!$C$385","v":0},{"$f":"E1014*'Série - IPCA'!$C$444/'Série - IPCA'!$C$398","v":0},{"$f":"F1014*'Série - IPCA'!$C$444/'Série - IPCA'!$C$411","v":2601.2445068534498},{"$f":"G1014*'Série - IPCA'!$C$444/'Série - IPCA'!$C$424","v":7465.8665829585361},{"$f":"H1014*'Série - IPCA'!$C$444/'Série - IPCA'!$C$437","v":2716.2983241061006},2556.6818827836173,"Despesas Gerais e Administratias","N","SIM","NÃO","ENCARGOS DE GESTÃO","FIXO","VIAGENS_REPRESENTAÇÕES",2310,"ASSESSORIA DAF","Despesas Gerais e Administratias2387,104"]
[null,null,null,88373.28,17855.8,6984.16,34590.47,63547.65,42270.272000000004,{"$f":"D1015*'Série - IPCA'!$C$444/'Série - IPCA'!$C$385","v":115028.19112714467},{"$f":"E1015*'Série - IPCA'!$C$444/'Série - IPCA'!$C$398","v":22236.877057742993},{"$f":"F1015*'Série - IPCA'!$C$444/'Série - IPCA'!$C$411","v":7902.6960002547248},{"$f":"G1015*'Série - IPCA'!$C$444/'Série - IPCA'!$C$424","v":36999.264172209529},{"$f":"H1015*'Série - IPCA'!$C$444/'Série - IPCA'!$C$437","v":64970.538049721676},49427.513281414715,"Despesas Gerais e Administratias","N","SIM","NÃO","ENCARGOS DE GESTÃO","FIXO","VIAGENS_REPRESENTAÇÕES",2200,"DIRETORIA COLEGIADA - PRESIDÊNCIA","Despesas Gerais e Administratias42270,272"]
[null,null,null,18417.439999999999,4578.26,0,17200.16,31026.639999999999,14244.5,{"$f":"D1016*'Série - IPCA'!$C$444/'Série - IPCA'!$C$385","v":23972.458738577079},{"$f":"E1016*'Série - IPCA'!$C$444/'Série - IPCA'!$C$398","v":5701.5762250015378},{"$f":"F1016*'Série - IPCA'!$C$444/'Série - IPCA'!$C$411","v":0},{"$f":"G1016*'Série - IPCA'!$C$444/'Série - IPCA'!$C$424","v":18397.936299919351},{"$f":"H1016*'Série - IPCA'!$C$444/'Série - IPCA'!$C$437","v":31721.35389231571},15958.665031162736,"Despesas Gerais e Administratias","N","SIM","NÃO","ENCARGOS DE GESTÃO","FIXO","VIAGENS_REPRESENTAÇÕES",2400,"DIRETORIA COLEGIADA - DTC","Despesas Gerais e Administratias14244,5"]
[null,null,null,0,0,0,4353.84,9473.1200000000008,2765.3920000000003,{"$f":"D1017*'Série - IPCA'!$C$444/'Série - IPCA'!$C$385","v":0},{"$f":"E1017*'Série - IPCA'!$C$444/'Série - IPCA'!$C$398","v":0},{"$f":"F1017*'Série - IPCA'!$C$444/'Série - IPCA'!$C$411","v":0},{"$f":"G1017*'Série - IPCA'!$C$444/'Série - IPCA'!$C$424","v":4657.0305729737911},{"$f":"H1017*'Série - IPCA'!$C$444/'Série - IPCA'!$C$437","v":9685.2315295621393},2868.4524205071857,"Despesas Gerais e Administratias","N","SIM","NÃO","ENCARGOS DE GESTÃO","FIXO","VIAGENS_REPRESENTAÇÕES",2410,"ASSESSORIA DE SEGURANÇA DO TRABALHO","Despesas Gerais e Administratias2765,392"]
[null,null,null,3559.67,0,716,0,0,855.13400000000001,{"$f":"D1018*'Série - IPCA'!$C$444/'Série - IPCA'!$C$385","v":4633.328095432953},{"$f":"E1018*'Série - IPCA'!$C$444/'Série - IPCA'!$C$398","v":0},{"$f":"F1018*'Série - IPCA'!$C$444/'Série - IPCA'!$C$411","v":810.16619553137139},{"$f":"G1018*'Série - IPCA'!$C$444/'Série - IPCA'!$C$424","v":0},{"$f":"H1018*'Série - IPCA'!$C$444/'Série - IPCA'!$C$437","v":0},1088.6988581928649,"Despesas Gerais e Administratias","N","SIM","NÃO","ENCARGOS DE GESTÃO","FIXO","VIAGENS_REPRESENTAÇÕES",3100,"SMS","Despesas Gerais e Administratias855,134"]
[null,null,null,29195.4,3714.78,2614.4,7234.38,1930.72,8937.9359999999997,{"$f":"D1019*'Série - IPCA'!$C$444/'Série - IPCA'!$C$385","v":38001.238057854585},{"$f":"E1019*'Série - IPCA'!$C$444/'Série - IPCA'!$C$398","v":4626.2338375520858},{"$f":"F1019*'Série - IPCA'!$C$444/'Série - IPCA'!$C$411","v":2958.2381307223709},{"$f":"G1019*'Série - IPCA'!$C$444/'Série - IPCA'!$C$424","v":7738.1642036708126},{"$f":"H1019*'Série - IPCA'!$C$444/'Série - IPCA'!$C$437","v":1973.9505272556676},11059.564951411105,"Despesas Gerais e Administratias","N","SIM","NÃO","ENCARGOS DE GESTÃO","FIXO","VIAGENS_REPRESENTAÇÕES",3200,"GERÊNCIA DE PLANEJAMENTO E MEIO AMBIENTE","Despesas Gerais e Administratias8937,936"]
[null,null,null,24420.07,1819.13,0,1713.21,1003.07,5791.0959999999995,{"$f":"D1020*'Série - IPCA'!$C$444/'Série - IPCA'!$C$385","v":31785.585861453274},{"$f":"E1020*'Série - IPCA'!$C$444/'Série - IPCA'!$C$398","v":2265.4694923807397},{"$f":"F1020*'Série - IPCA'!$C$444/'Série - IPCA'!$C$411","v":0},{"$f":"G1020*'Série - IPCA'!$C$444/'Série - IPCA'!$C$424","v":1832.5136771044474},{"$f":"H1020*'Série - IPCA'!$C$444/'Série - IPCA'!$C$437","v":1025.5296238575986},7381.8197309592115,"Despesas Gerais e Administratias","N","SIM","NÃO","ENCARGOS DE GESTÃO","FIXO","VIAGENS_REPRESENTAÇÕES",3300,"GERÊNCIA JURÍDICA","Despesas Gerais e Administratias5791,096"]
[null,null,null,2264.1999999999998,2409.13,0,0,4993.6899999999996,1933.404,{"$f":"D1021*'Série - IPCA'!$C$444/'Série - IPCA'!$C$385","v":2947.1219168291695},{"$f":"E1021*'Série - IPCA'!$C$444/'Série - IPCA'!$C$398","v":3000.231164446308},{"$f":"F1021*'Série - IPCA'!$C$444/'Série - IPCA'!$C$411","v":0},{"$f":"G1021*'Série - IPCA'!$C$444/'Série - IPCA'!$C$424","v":0},{"$f":"H1021*'Série - IPCA'!$C$444/'Série - IPCA'!$C$437","v":5105.5031327439274},2210.571242803881,"Despesas Gerais e Administratias","N","SIM","NÃO","ENCARGOS DE GESTÃO","FIXO","VIAGENS_REPRESENTAÇÕES",3600,"GERÊNCIA DE GOVERNANÇA, RISCO E COMPLIANCE","Despesas Gerais e Administratias1933,404"]
[null,null,null,0,0,0,3578.28,9771.9599999999991,2670.0479999999998,{"$f":"D1022*'Série - IPCA'!$C$444/'Série - IPCA'!$C$385","v":0},{"$f":"E1022*'Série - IPCA'!$C$444/'Série - IPCA'!$C$398","v":0},{"$f":"F1022*'Série - IPCA'!$C$444/'Série - IPCA'!$C$411","v":0},{"$f":"G1022*'Série - IPCA'!$C$444/'Série - IPCA'!$C$424","v":3827.462506353163},{"$f":"H1022*'Série - IPCA'!$C$444/'Série - IPCA'!$C$437","v":9990.7628212901363},2763.6450655286599,"Despesas Gerais e Administratias","N","SIM","NÃO","ENCARGOS DE GESTÃO","FIXO","VIAGENS_REPRESENTAÇÕES",3500,"ASSESSORIA DE COMUNICAÇÃO INSTITUCIONAL","Despesas Gerais e Administratias2670,048"]
[null,null,null,0,0,3151.52,1391.02,4894.95,1887.498,{"$f":"D1023*'Série - IPCA'!$C$444/'Série - IPCA'!$C$385","v":0},{"$f":"E1023*'Série - IPCA'!$C$444/'Série - IPCA'!$C$398","v":0},{"$f":"F1023*'Série - IPCA'!$C$444/'Série - IPCA'!$C$411","v":3565.9985594148434},{"$f":"G1023*'Série - IPCA'!$C$444/'Série - IPCA'!$C$424","v":1487.8871680213333},{"$f":"H1023*'Série - IPCA'!$C$444/'Série - IPCA'!$C$437","v":5004.5522568731512},2011.6875968618654,"Despesas Gerais e Administratias","N","SIM","NÃO","ENCARGOS DE GESTÃO","FIXO","VIAGENS_REPRESENTAÇÕES",3700,"GERÊNCIA DE REGULAÇÃO","Despesas Gerais e Administratias1887,498"]
[null,null,null,905.5,858.75,0,1372.3,10488.25,2724.96,{"$f":"D1024*'Série - IPCA'!$C$444/'Série - IPCA'!$C$385","v":1178.6144756155877},{"$f":"E1024*'Série - IPCA'!$C$444/'Série - IPCA'!$C$398","v":1069.4518404852652},{"$f":"F1024*'Série - IPCA'!$C$444/'Série - IPCA'!$C$411","v":0},{"$f":"G1024*'Série - IPCA'!$C$444/'Série - IPCA'!$C$424","v":1467.86355384946},{"$f":"H1024*'Série - IPCA'!$C$444/'Série - IPCA'!$C$437","v":10723.091187478896},2887.8042114858417,"Despesas Gerais e Administratias","N","SIM","NÃO","ENCARGOS DE GESTÃO","FIXO","VIAGENS_REPRESENTAÇÕES",4100,"GERÊNCIA DE SERVIÇOS CORPORATIVOS","Despesas Gerais e Administratias2724,96"]
[null,null,null,14875.03,264.94,0,0,16464.919999999998,6320.9780000000001,{"$f":"D1025*'Série - IPCA'!$C$444/'Série - IPCA'!$C$385","v":19361.596557941619},{"$f":"E1025*'Série - IPCA'!$C$444/'Série - IPCA'!$C$398","v":329.94535152042636},{"$f":"F1025*'Série - IPCA'!$C$444/'Série - IPCA'!$C$411","v":0},{"$f":"G1025*'Série - IPCA'!$C$444/'Série - IPCA'!$C$424","v":0},{"$f":"H1025*'Série - IPCA'!$C$444/'Série - IPCA'!$C$437","v":16833.58411122399},7305.0252041372059,"Despesas Gerais e Administratias","N","SIM","NÃO","ENCARGOS DE GESTÃO","FIXO","VIAGENS_REPRESENTAÇÕES",4200,"GERÊNCIA FINANCEIRA","Despesas Gerais e Administratias6320,978"]
[null,null,null,20902.830000000002,79.8,0,0,4640.58,5124.6419999999998,{"$f":"D1026*'Série - IPCA'!$C$444/'Série - IPCA'!$C$385","v":27207.485388549725},{"$f":"E1026*'Série - IPCA'!$C$444/'Série - IPCA'!$C$398","v":99.379629543783594},{"$f":"F1026*'Série - IPCA'!$C$444/'Série - IPCA'!$C$411","v":0},{"$f":"G1026*'Série - IPCA'!$C$444/'Série - IPCA'!$C$424","v":0},{"$f":"H1026*'Série - IPCA'!$C$444/'Série - IPCA'!$C$437","v":4744.4866877497034},6410.2703411686425,"Despesas Gerais e Administratias","N","SIM","NÃO","ENCARGOS DE GESTÃO","FIXO","VIAGENS_REPRESENTAÇÕES",4300,"GERÊNCIA DE TECNOLOGIA E SISTEMAS DE INFORMAÇÃO","Despesas Gerais e Administratias5124,642"]
[null,null,null,6648.8,0,0,0,688.56,1467.4720000000002,{"$f":"D1027*'Série - IPCA'!$C$444/'Série - IPCA'!$C$385","v":8654.1931810854985},{"$f":"E1027*'Série - IPCA'!$C$444/'Série - IPCA'!$C$398","v":0},{"$f":"F1027*'Série - IPCA'!$C$444/'Série - IPCA'!$C$411","v":0},{"$f":"G1027*'Série - IPCA'!$C$444/'Série - IPCA'!$C$424","v":0},{"$f":"H1027*'Série - IPCA'!$C$444/'Série - IPCA'!$C$437","v":703.97746697976015},1871.6341296130518,"Despesas Gerais e Administratias","N","SIM","NÃO","ENCARGOS DE GESTÃO","FIXO","VIAGENS_REPRESENTAÇÕES",4500,"GERÊNCIA CONTÁBIL","Despesas Gerais e Administratias1467,472"]
[null,null,null,0,340116,0,87500,462000,177923.20000000001,{"$f":"D1028*'Série - IPCA'!$C$444/'Série - IPCA'!$C$385","v":0},{"$f":"E1028*'Série - IPCA'!$C$444/'Série - IPCA'!$C$398","v":423566.44212924183},{"$f":"F1028*'Série - IPCA'!$C$444/'Série - IPCA'!$C$411","v":0},{"$f":"G1028*'Série - IPCA'!$C$444/'Série - IPCA'!$C$424","v":93593.282053361327},{"$f":"H1028*'Série - IPCA'!$C$444/'Série - IPCA'!$C$437","v":472344.5883360189},197900.86250372441,"Despesas Gerais e Administratias","N","NÃO","SIM","ENCARGOS DE GESTÃO","FIXO","DESPESAS_INSTITUCIONAIS",3500,"ASSESSORIA DE COMUNICAÇÃO INSTITUCIONAL","Despesas Gerais e Administratias177923,2"]
[null,null,null,384796.56,0,0,0,0,{"$f":"AVERAGE(D1029:H1029)","v":76959.312000000005},{"$f":"D1029*'Série - IPCA'!$C$444/'Série - IPCA'!$C$385","v":500857.86392388953},{"$f":"E1029*'Série - IPCA'!$C$444/'Série - IPCA'!$C$398","v":0},{"$f":"F1029*'Série - IPCA'!$C$444/'Série - IPCA'!$C$411","v":0},{"$f":"G1029*'Série - IPCA'!$C$444/'Série - IPCA'!$C$424","v":0},{"$f":"H1029*'Série - IPCA'!$C$444/'Série - IPCA'!$C$437","v":0},{"$f":"AVERAGE(J1029:N1029)","v":100171.57278477791},"Despesas com Vendas","N","SIM","NÃO","ENCARGOS DE COMERCIALIZAÇÃO","VOLUME S/ TERMOELÉTRICA","DESPESAS_GERAIS",5300,"GERÊNCIA COMERCIAL",{"$f":"B1029&C1029&P1029&I1029","v":"Despesas com Vendas76959,312"}]
[null,null,null,844.43,0,0,0,0,168.886,{"$f":"D1030*'Série - IPCA'!$C$444/'Série - IPCA'!$C$385","v":1099.1247063987526},{"$f":"E1030*'Série - IPCA'!$C$444/'Série - IPCA'!$C$398","v":0},{"$f":"F1030*'Série - IPCA'!$C$444/'Série - IPCA'!$C$411","v":0},{"$f":"G1030*'Série - IPCA'!$C$444/'Série - IPCA'!$C$424","v":0},{"$f":"H1030*'Série - IPCA'!$C$444/'Série - IPCA'!$C$437","v":0},219.8249412797505,"Despesas com Vendas","N","SIM","NÃO","ENCARGOS DE COMERCIALIZAÇÃO","VOLUME S/ TERMOELÉTRICA","DESPESAS_GERAIS",5400,"GERÊNCIA COMERCIAL (inativo)","Despesas com Vendas168,886"]
[null,null,null,0,-251553.88,-444272.9,-944655.5,0,-328096.45600000001,{"$f":"D1031*'Série - IPCA'!$C$444/'Série - IPCA'!$C$385","v":0},{"$f":"E1031*'Série - IPCA'!$C$444/'Série - IPCA'!$C$398","v":-313274.82963284955},{"$f":"F1031*'Série - IPCA'!$C$444/'Série - IPCA'!$C$411","v":-502702.35359034839},{"$f":"G1031*'Série - IPCA'!$C$444/'Série - IPCA'!$C$424","v":-1010438.9560543894},{"$f":"H1031*'Série - IPCA'!$C$444/'Série - IPCA'!$C$437","v":0},-365283.22785551741,"Outras Receitas e Despesas","S","NÃO","SIM","OPEX","FIXO","DESPESA GERAIS",4100,"GERÊNCIA DE SERVIÇOS CORPORATIVOS","Outras Receitas e Despesas-328096,456"]
[null,null,null,126183.01,109316.93,7904.32,0,0,48680.851999999999,{"$f":"D1032*'Série - IPCA'!$C$444/'Série - IPCA'!$C$385","v":164241.99024047094},{"$f":"E1032*'Série - IPCA'!$C$444/'Série - IPCA'!$C$398","v":136138.79707097396},{"$f":"F1032*'Série - IPCA'!$C$444/'Série - IPCA'!$C$411","v":8943.8727132158238},{"$f":"G1032*'Série - IPCA'!$C$444/'Série - IPCA'!$C$424","v":0},{"$f":"H1032*'Série - IPCA'!$C$444/'Série - IPCA'!$C$437","v":0},61864.93200493214,"Custos","N","SIM","NÃO","OPEX","FUNCIONÁRIOS","PESSOAL",5100,"GERÊNCIA DE ENGENHARIA","Custos48680,852"]
[null,null,null,581377.14,577119.16,620779.89,690515.67,757196.38,645397.64799999993,{"$f":"D1033*'Série - IPCA'!$C$444/'Série - IPCA'!$C$385","v":756730.54996796255},{"$f":"E1033*'Série - IPCA'!$C$444/'Série - IPCA'!$C$398","v":718720.4050553831},{"$f":"F1033*'Série - IPCA'!$C$444/'Série - IPCA'!$C$411","v":702423.01919508842},{"$f":"G1033*'Série - IPCA'!$C$444/'Série - IPCA'!$C$424","v":738601.46130943752},{"$f":"H1033*'Série - IPCA'!$C$444/'Série - IPCA'!$C$437","v":774150.67619182635},738125.22234393959,"Custos","N","SIM","NÃO","OPEX","FUNCIONÁRIOS","PESSOAL",5200,"GERÊNCIA DE OPERAÇÕES","Custos645397,648"]
[null,null,null,14195.51,0,0,0,0,2839.1019999999999,{"$f":"D1034*'Série - IPCA'!$C$444/'Série - IPCA'!$C$385","v":18477.121562391862},{"$f":"E1034*'Série - IPCA'!$C$444/'Série - IPCA'!$C$398","v":0},{"$f":"F1034*'Série - IPCA'!$C$444/'Série - IPCA'!$C$411","v":0},{"$f":"G1034*'Série - IPCA'!$C$444/'Série - IPCA'!$C$424","v":0},{"$f":"H1034*'Série - IPCA'!$C$444/'Série - IPCA'!$C$437","v":0},3695.4243124783725,"Custos","N","SIM","NÃO","OPEX","FUNCIONÁRIOS","PESSOAL",2410,"ASSESSORIA DE SEGURANÇA DO TRABALHO","Custos2839,102"]
[null,null,null,0,0,97429.2,111496.35,123125.81,66410.271999999997,{"$f":"D1035*'Série - IPCA'!$C$444/'Série - IPCA'!$C$385","v":0},{"$f":"E1035*'Série - IPCA'!$C$444/'Série - IPCA'!$C$398","v":0},{"$f":"F1035*'Série - IPCA'!$C$444/'Série - IPCA'!$C$411","v":110242.79929841493},{"$f":"G1035*'Série - IPCA'!$C$444/'Série - IPCA'!$C$424","v":119260.67809680337},{"$f":"H1035*'Série - IPCA'!$C$444/'Série - IPCA'!$C$437","v":125882.70570993265},71077.236621030184,"Despesas com Vendas","N","SIM","NÃO","ENCARGOS DE COMERCIALIZAÇÃO","FUNCIONÁRIOS","PESSOAL",5300,"GERÊNCIA COMERCIAL","Despesas com Vendas66410,272"]
[null,null,null,0,78534.210000000006,90197.54,103983.93,122702.31,79083.597999999998,{"$f":"D1036*'Série - IPCA'!$C$444/'Série - IPCA'!$C$385","v":0},{"$f":"E1036*'Série - IPCA'!$C$444/'Série - IPCA'!$C$398","v":97803.266871099055},{"$f":"F1036*'Série - IPCA'!$C$444/'Série - IPCA'!$C$411","v":102060.05283252611},{"$f":"G1036*'Série - IPCA'!$C$444/'Série - IPCA'!$C$424","v":111225.11188007977},{"$f":"H1036*'Série - IPCA'!$C$444/'Série - IPCA'!$C$437","v":125449.72317062462},87307.630950865918,"Despesas Gerais e Administratias","N","SIM","NÃO","ENCARGOS DE GESTÃO","FUNCIONÁRIOS","PESSOAL",2410,"ASSESSORIA DE SEGURANÇA DO TRABALHO","Despesas Gerais e Administratias79083,598"]
[null,null,null,36386.559999999998,0,0,0,0,7277.3119999999999,{"$f":"D1037*'Série - IPCA'!$C$444/'Série - IPCA'!$C$385","v":47361.376404036564},{"$f":"E1037*'Série - IPCA'!$C$444/'Série - IPCA'!$C$398","v":0},{"$f":"F1037*'Série - IPCA'!$C$444/'Série - IPCA'!$C$411","v":0},{"$f":"G1037*'Série - IPCA'!$C$444/'Série - IPCA'!$C$424","v":0},{"$f":"H1037*'Série - IPCA'!$C$444/'Série - IPCA'!$C$437","v":0},9472.2752808073128,"Despesas Gerais e Administratias","N","SIM","NÃO","ENCARGOS DE GESTÃO","FIXO","DESPESAS_GERAIS",3400,"MARKETING","Despesas Gerais e Administratias7277,312"]
[null,null,null,0,20230.48,0,0,0,4046.096,{"$f":"D1038*'Série - IPCA'!$C$444/'Série - IPCA'!$C$385","v":0},{"$f":"E1038*'Série - IPCA'!$C$444/'Série - IPCA'!$C$398","v":25194.205612693273},{"$f":"F1038*'Série - IPCA'!$C$444/'Série - IPCA'!$C$411","v":0},{"$f":"G1038*'Série - IPCA'!$C$444/'Série - IPCA'!$C$424","v":0},{"$f":"H1038*'Série - IPCA'!$C$444/'Série - IPCA'!$C$437","v":0},5038.8411225386544,"Despesas Gerais e Administratias","N","SIM","NÃO","ENCARGOS DE GESTÃO","FIXO","DESPESAS_GERAIS",2120,"ASSESSORIA DA PRESIDÊNCIA","Despesas Gerais e Administratias4046,096"]
[null,null,null,61065.89,0,0,0,0,12213.178,{"$f":"D1039*'Série - IPCA'!$C$444/'Série - IPCA'!$C$385","v":79484.419569684324},{"$f":"E1039*'Série - IPCA'!$C$444/'Série - IPCA'!$C$398","v":0},{"$f":"F1039*'Série - IPCA'!$C$444/'Série - IPCA'!$C$411","v":0},{"$f":"G1039*'Série - IPCA'!$C$444/'Série - IPCA'!$C$424","v":0},{"$f":"H1039*'Série - IPCA'!$C$444/'Série - IPCA'!$C$437","v":0},15896.883913936865,"Despesas com Vendas","N","NÃO","SIM","ENCARGOS DE COMERCIALIZAÇÃO","NÚMERO DE CLIENTES","PESSOAL",5400,"GERÊNCIA COMERCIAL (inativo)","Despesas com Vendas12213,178"]
[null,null,null,45161.23,0,0,0,0,9032.246000000001,{"$f":"D1040*'Série - IPCA'!$C$444/'Série - IPCA'!$C$385","v":58782.638779243454},{"$f":"E1040*'Série - IPCA'!$C$444/'Série - IPCA'!$C$398","v":0},{"$f":"F1040*'Série - IPCA'!$C$444/'Série - IPCA'!$C$411","v":0},{"$f":"G1040*'Série - IPCA'!$C$444/'Série - IPCA'!$C$424","v":0},{"$f":"H1040*'Série - IPCA'!$C$444/'Série - IPCA'!$C$437","v":0},11756.527755848691,"Despesas com Vendas","N","NÃO","SIM","ENCARGOS DE COMERCIALIZAÇÃO","NÚMERO DE CLIENTES","PESSOAL",5500,"GERÊNCIA COMERCIAL (inativo)","Despesas com Vendas9032,246"]
[null,null,null,26610.92,0,0,0,0,5322.1839999999993,{"$f":"D1041*'Série - IPCA'!$C$444/'Série - IPCA'!$C$385","v":34637.234148479678},{"$f":"E1041*'Série - IPCA'!$C$444/'Série - IPCA'!$C$398","v":0},{"$f":"F1041*'Série - IPCA'!$C$444/'Série - IPCA'!$C$411","v":0},{"$f":"G1041*'Série - IPCA'!$C$444/'Série - IPCA'!$C$424","v":0},{"$f":"H1041*'Série - IPCA'!$C$444/'Série - IPCA'!$C$437","v":0},6927.4468296959358,"Despesas Gerais e Administratias","N","NÃO","SIM","ENCARGOS DE GESTÃO","FIXO","PESSOAL",2100,"SECRETARIA","Despesas Gerais e Administratias5322,184"]
[null,null,null,20299.439999999999,0,0,0,0,4059.8879999999999,{"$f":"D1042*'Série - IPCA'!$C$444/'Série - IPCA'!$C$385","v":26422.102518928856},{"$f":"E1042*'Série - IPCA'!$C$444/'Série - IPCA'!$C$398","v":0},{"$f":"F1042*'Série - IPCA'!$C$444/'Série - IPCA'!$C$411","v":0},{"$f":"G1042*'Série - IPCA'!$C$444/'Série - IPCA'!$C$424","v":0},{"$f":"H1042*'Série - IPCA'!$C$444/'Série - IPCA'!$C$437","v":0},5284.420503785771,"Despesas Gerais e Administratias","N","NÃO","SIM","ENCARGOS DE GESTÃO","FIXO","PESSOAL",2400,"DIRETORIA COLEGIADA - DTC","Despesas Gerais e Administratias4059,888"]
[null,null,null,42060.9,0,0,0,0,8412.18,{"$f":"D1043*'Série - IPCA'!$C$444/'Série - IPCA'!$C$385","v":54747.195579701453},{"$f":"E1043*'Série - IPCA'!$C$444/'Série - IPCA'!$C$398","v":0},{"$f":"F1043*'Série - IPCA'!$C$444/'Série - IPCA'!$C$411","v":0},{"$f":"G1043*'Série - IPCA'!$C$444/'Série - IPCA'!$C$424","v":0},{"$f":"H1043*'Série - IPCA'!$C$444/'Série - IPCA'!$C$437","v":0},10949.439115940291,"Despesas Gerais e Administratias","N","NÃO","SIM","ENCARGOS DE GESTÃO","FIXO","PESSOAL",3400,"MARKETING","Despesas Gerais e Administratias8412,18"]
[null,null,null,244594.38,205251.7,134060.39000000001,149893.03,177598.11,182279.522,{"$f":"D1044*'Série - IPCA'!$C$444/'Série - IPCA'!$C$385","v":318368.27931774687},{"$f":"E1044*'Série - IPCA'!$C$444/'Série - IPCA'!$C$398","v":255612.0038750853},{"$f":"F1044*'Série - IPCA'!$C$444/'Série - IPCA'!$C$411","v":151691.61471753061},{"$f":"G1044*'Série - IPCA'!$C$444/'Série - IPCA'!$C$424","v":160331.20725283373},{"$f":"H1044*'Série - IPCA'!$C$444/'Série - IPCA'!$C$437","v":181574.68865195886},213515.55876303109,"Custos","N","NÃO","SIM","OPEX","FUNCIONÁRIOS","PESSOAL",5100,"GERÊNCIA DE ENGENHARIA","Custos182279,522"]
[null,null,null,473429.24,443124.45,492391.96,518360.71,552910.98,496043.46799999999,{"$f":"D1045*'Série - IPCA'!$C$444/'Série - IPCA'!$C$385","v":616223.69458165229},{"$f":"E1045*'Série - IPCA'!$C$444/'Série - IPCA'!$C$398","v":551848.91833073751},{"$f":"F1045*'Série - IPCA'!$C$444/'Série - IPCA'!$C$411","v":557149.88958580338},{"$f":"G1045*'Série - IPCA'!$C$444/'Série - IPCA'!$C$424","v":554458.05870183592},{"$f":"H1045*'Série - IPCA'!$C$444/'Série - IPCA'!$C$437","v":565291.14552936098},568994.34134587809,"Custos","N","NÃO","SIM","OPEX","FUNCIONÁRIOS","PESSOAL",5200,"GERÊNCIA DE OPERAÇÕES","Custos496043,468"]
[null,null,null,171342.13,232304.76,343090.09,363480.94,404736.23,302990.82999999996,{"$f":"D1046*'Série - IPCA'!$C$444/'Série - IPCA'!$C$385","v":223021.88260718703},{"$f":"E1046*'Série - IPCA'!$C$444/'Série - IPCA'!$C$398","v":289302.76929896686},{"$f":"F1046*'Série - IPCA'!$C$444/'Série - IPCA'!$C$411","v":388212.2806422009},{"$f":"G1046*'Série - IPCA'!$C$444/'Série - IPCA'!$C$424","v":388792.84729646746},{"$f":"H1046*'Série - IPCA'!$C$444/'Série - IPCA'!$C$437","v":413798.63191346813},340625.68235165812,"Despesas com Vendas","N","NÃO","SIM","ENCARGOS DE COMERCIALIZAÇÃO","NÚMERO DE CLIENTES","PESSOAL",5300,"GERÊNCIA COMERCIAL","Despesas com Vendas302990,83"]
[null,null,null,38444.949999999997,37595.800000000003,32567.14,32269.439999999999,54144.18,39004.301999999996,{"$f":"D1047*'Série - IPCA'!$C$444/'Série - IPCA'!$C$385","v":50040.612461974029},{"$f":"E1047*'Série - IPCA'!$C$444/'Série - IPCA'!$C$398","v":46820.259102784199},{"$f":"F1047*'Série - IPCA'!$C$444/'Série - IPCA'!$C$411","v":36850.273621700486},{"$f":"G1047*'Série - IPCA'!$C$444/'Série - IPCA'!$C$424","v":34516.603424274515},{"$f":"H1047*'Série - IPCA'!$C$444/'Série - IPCA'!$C$437","v":55356.516045219287},44716.8529311905,"Despesas Gerais e Administratias","N","NÃO","SIM","ENCARGOS DE GESTÃO","FIXO","PESSOAL",1001,"CONSELHO DE ADMINISTRAÇÃO","Despesas Gerais e Administratias39004,302"]
[null,null,null,0,32830.17,39098.120000000003,43393.98,45732.49,32210.952000000001,{"$f":"D1048*'Série - IPCA'!$C$444/'Série - IPCA'!$C$385","v":0},{"$f":"E1048*'Série - IPCA'!$C$444/'Série - IPCA'!$C$398","v":40885.34000575736},{"$f":"F1048*'Série - IPCA'!$C$444/'Série - IPCA'!$C$411","v":44240.188733001429},{"$f":"G1048*'Série - IPCA'!$C$444/'Série - IPCA'!$C$424","v":46415.828680661951},{"$f":"H1048*'Série - IPCA'!$C$444/'Série - IPCA'!$C$437","v":46756.480871495893},35659.567658183325,"Despesas Gerais e Administratias","N","NÃO","SIM","ENCARGOS DE GESTÃO","FIXO","PESSOAL",1005,"AUDITORIA INTERNA","Despesas Gerais e Administratias32210,952"]
[null,null,null,0,0,38867.19,34214.69,27510.639999999999,20118.504000000001,{"$f":"D1049*'Série - IPCA'!$C$444/'Série - IPCA'!$C$385","v":0},{"$f":"E1049*'Série - IPCA'!$C$444/'Série - IPCA'!$C$398","v":0},{"$f":"F1049*'Série - IPCA'!$C$444/'Série - IPCA'!$C$411","v":43978.887504601902},{"$f":"G1049*'Série - IPCA'!$C$444/'Série - IPCA'!$C$424","v":36597.315789009393},{"$f":"H1049*'Série - IPCA'!$C$444/'Série - IPCA'!$C$437","v":28126.627544719515},21740.566167666162,"Despesas Gerais e Administratias","N","NÃO","SIM","ENCARGOS DE GESTÃO","FIXO","PESSOAL",1010,"GOVERNANÇA SOCIETÁRIA","Despesas Gerais e Administratias20118,504"]
[null,null,null,11299.37,30225.19,15638.79,10244.129999999999,6002.22,14681.939999999999,{"$f":"D1050*'Série - IPCA'!$C$444/'Série - IPCA'!$C$385","v":14707.455601696855},{"$f":"E1050*'Série - IPCA'!$C$444/'Série - IPCA'!$C$398","v":37641.205326948279},{"$f":"F1050*'Série - IPCA'!$C$444/'Série - IPCA'!$C$411","v":17695.55725839952},{"$f":"G1050*'Série - IPCA'!$C$444/'Série - IPCA'!$C$424","v":10957.505696929147},{"$f":"H1050*'Série - IPCA'!$C$444/'Série - IPCA'!$C$437","v":6136.615010827315},17427.667778960222,"Despesas Gerais e Administratias","N","NÃO","SIM","ENCARGOS DE GESTÃO","FIXO","PESSOAL",2110,"ASSESSORIA DA DIRETORIA EXECUTIVA","Despesas Gerais e Administratias14681,94"]
[null,null,null,19844.3,54633.2,59505.56,61951.7,68074.740000000005,52801.9,{"$f":"D1051*'Série - IPCA'!$C$444/'Série - IPCA'!$C$385","v":25829.684415746444},{"$f":"E1051*'Série - IPCA'!$C$444/'Série - IPCA'!$C$398","v":68037.934546258621},{"$f":"F1051*'Série - IPCA'!$C$444/'Série - IPCA'!$C$411","v":67331.554690172838},{"$f":"G1051*'Série - IPCA'!$C$444/'Série - IPCA'!$C$424","v":66265.862077545433},{"$f":"H1051*'Série - IPCA'!$C$444/'Série - IPCA'!$C$437","v":69598.993596063898},59412.805865157439,"Despesas Gerais e Administratias","N","NÃO","SIM","ENCARGOS DE GESTÃO","FIXO","PESSOAL",2120,"ASSESSORIA DA PRESIDÊNCIA","Despesas Gerais e Administratias52801,9"]
[null,null,null,0,4083.26,27104.47,30015.360000000001,31578.57,18556.332000000002,{"$f":"D1052*'Série - IPCA'!$C$444/'Série - IPCA'!$C$385","v":0},{"$f":"E1052*'Série - IPCA'!$C$444/'Série - IPCA'!$C$398","v":5085.1236357261878},{"$f":"F1052*'Série - IPCA'!$C$444/'Série - IPCA'!$C$411","v":30669.169471779598},{"$f":"G1052*'Série - IPCA'!$C$444/'Série - IPCA'!$C$424","v":32105.554907579193},{"$f":"H1052*'Série - IPCA'!$C$444/'Série - IPCA'!$C$437","v":32285.642092835838},20029.098021584163,"Despesas Gerais e Administratias","N","NÃO","SIM","ENCARGOS DE GESTÃO","FIXO","PESSOAL",2130,"ASSESSORIA DE RELAÇÕES INSTITUCIONAIS E NOVOS NEGÓCIOS","Despesas Gerais e Administratias18556,332"]
[null,null,null,66027.199999999997,83530.61,88674.47,89936.38,95009.15,84635.562000000005,{"$f":"D1053*'Série - IPCA'!$C$444/'Série - IPCA'!$C$385","v":85942.146553689148},{"$f":"E1053*'Série - IPCA'!$C$444/'Série - IPCA'!$C$398","v":104025.57741060482},{"$f":"F1053*'Série - IPCA'!$C$444/'Série - IPCA'!$C$411","v":100336.67318528035},{"$f":"G1053*'Série - IPCA'!$C$444/'Série - IPCA'!$C$424","v":96199.325487980415},{"$f":"H1053*'Série - IPCA'!$C$444/'Série - IPCA'!$C$437","v":97136.48884178586},96728.04229586813,"Despesas Gerais e Administratias","N","NÃO","SIM","ENCARGOS DE GESTÃO","FIXO","PESSOAL",2200,"DIRETORIA COLEGIADA - PRESIDÊNCIA","Despesas Gerais e Administratias84635,562"]
[null,null,null,0,20272.95,25004.81,0,0,9055.5519999999997,{"$f":"D1054*'Série - IPCA'!$C$444/'Série - IPCA'!$C$385","v":0},{"$f":"E1054*'Série - IPCA'!$C$444/'Série - IPCA'!$C$398","v":25247.095999494333},{"$f":"F1054*'Série - IPCA'!$C$444/'Série - IPCA'!$C$411","v":28293.368418554182},{"$f":"G1054*'Série - IPCA'!$C$444/'Série - IPCA'!$C$424","v":0},{"$f":"H1054*'Série - IPCA'!$C$444/'Série - IPCA'!$C$437","v":0},10708.092883609705,"Despesas Gerais e Administratias","N","NÃO","SIM","ENCARGOS DE GESTÃO","FIXO","PESSOAL",2300,"DIRETORIA COLEGIADA - DAF","Despesas Gerais e Administratias9055,552"]
[null,null,null,20106.77,55052.99,71181.070000000007,81515.460000000006,92269.39,64025.136000000013,{"$f":"D1055*'Série - IPCA'!$C$444/'Série - IPCA'!$C$385","v":26171.319911511018},{"$f":"E1055*'Série - IPCA'!$C$444/'Série - IPCA'!$C$398","v":68560.723702727089},{"$f":"F1055*'Série - IPCA'!$C$444/'Série - IPCA'!$C$411","v":80542.593122559003},{"$f":"G1055*'Série - IPCA'!$C$444/'Série - IPCA'!$C$424","v":87191.993594165644},{"$f":"H1055*'Série - IPCA'!$C$444/'Série - IPCA'!$C$437","v":94335.383193864895},71360.402704965527,"Despesas Gerais e Administratias","N","NÃO","SIM","ENCARGOS DE GESTÃO","FIXO","PESSOAL",2410,"ASSESSORIA DE SEGURANÇA DO TRABALHO","Despesas Gerais e Administratias64025,136"]
[null,null,null,48958.99,33000.26,0,0,0,16391.849999999999,{"$f":"D1056*'Série - IPCA'!$C$444/'Série - IPCA'!$C$385","v":63725.868940385189},{"$f":"E1056*'Série - IPCA'!$C$444/'Série - IPCA'!$C$398","v":41097.16307830251},{"$f":"F1056*'Série - IPCA'!$C$444/'Série - IPCA'!$C$411","v":0},{"$f":"G1056*'Série - IPCA'!$C$444/'Série - IPCA'!$C$424","v":0},{"$f":"H1056*'Série - IPCA'!$C$444/'Série - IPCA'!$C$437","v":0},20964.60640373754,"Despesas Gerais e Administratias","N","NÃO","SIM","ENCARGOS DE GESTÃO","FIXO","PESSOAL",3100,"SMS","Despesas Gerais e Administratias16391,85"]
[null,null,null,65435.45,51125.02,93548.27,103168.56,107230,84101.459999999992,{"$f":"D1057*'Série - IPCA'!$C$444/'Série - IPCA'!$C$385","v":85171.914509574824},{"$f":"E1057*'Série - IPCA'!$C$444/'Série - IPCA'!$C$398","v":63668.991829806102},{"$f":"F1057*'Série - IPCA'!$C$444/'Série - IPCA'!$C$411","v":105851.46090005801},{"$f":"G1057*'Série - IPCA'!$C$444/'Série - IPCA'!$C$424","v":110352.96154421865},{"$f":"H1057*'Série - IPCA'!$C$444/'Série - IPCA'!$C$437","v":109630.97447461323},94935.260651654171,"Despesas Gerais e Administratias","N","NÃO","SIM","ENCARGOS DE GESTÃO","FIXO","PESSOAL",3200,"GERÊNCIA DE PLANEJAMENTO E MEIO AMBIENTE","Despesas Gerais e Administratias84101,46"]
[null,null,null,59322.65,50926.54,60344.66,69781.94,75119.39,63099.036,{"$f":"D1058*'Série - IPCA'!$C$444/'Série - IPCA'!$C$385","v":77215.388207484313},{"$f":"E1058*'Série - IPCA'!$C$444/'Série - IPCA'!$C$398","v":63421.813021888178},{"$f":"F1058*'Série - IPCA'!$C$444/'Série - IPCA'!$C$411","v":68281.010632449907},{"$f":"G1058*'Série - IPCA'!$C$444/'Série - IPCA'!$C$424","v":74641.380487436996},{"$f":"H1058*'Série - IPCA'!$C$444/'Série - IPCA'!$C$437","v":76801.379535936925},72072.194377039268,"Despesas Gerais e Administratias","N","NÃO","SIM","ENCARGOS DE GESTÃO","FIXO","PESSOAL",3300,"GERÊNCIA JURÍDICA","Despesas Gerais e Administratias63099,036"]
[null,null,null,21611.040000000001,51114.82,56900.13,53149.9,46467.21,45848.619999999995,{"$f":"D1059*'Série - IPCA'!$C$444/'Série - IPCA'!$C$385","v":28129.303784768068},{"$f":"E1059*'Série - IPCA'!$C$444/'Série - IPCA'!$C$398","v":63656.28917039073},{"$f":"F1059*'Série - IPCA'!$C$444/'Série - IPCA'!$C$411","v":64383.466267235272},{"$f":"G1059*'Série - IPCA'!$C$444/'Série - IPCA'!$C$424","v":56851.126649233709},{"$f":"H1059*'Série - IPCA'!$C$444/'Série - IPCA'!$C$437","v":47507.651901673904},52105.567554660338,"Despesas Gerais e Administratias","N","NÃO","SIM","ENCARGOS DE GESTÃO","FIXO","PESSOAL",3500,"ASSESSORIA DE COMUNICAÇÃO INSTITUCIONAL","Despesas Gerais e Administratias45848,62"]
[null,null,null,55952.18,82138.98,69434.58,106893.22,93822.45,81648.281999999992,{"$f":"D1060*'Série - IPCA'!$C$444/'Série - IPCA'!$C$385","v":72828.326107398083},{"$f":"E1060*'Série - IPCA'!$C$444/'Série - IPCA'!$C$398","v":102292.49879078005},{"$f":"F1060*'Série - IPCA'!$C$444/'Série - IPCA'!$C$411","v":78566.409939830526},{"$f":"G1060*'Série - IPCA'!$C$444/'Série - IPCA'!$C$424","v":114336.99758916577},{"$f":"H1060*'Série - IPCA'!$C$444/'Série - IPCA'!$C$437","v":95923.217579927965},92789.490001420461,"Despesas Gerais e Administratias","N","NÃO","SIM","ENCARGOS DE GESTÃO","FIXO","PESSOAL",3600,"GERÊNCIA DE GOVERNANÇA, RISCO E COMPLIANCE","Despesas Gerais e Administratias81648,282"]
[null,null,null,0,4603.5600000000004,32919.339999999997,36766.160000000003,38437.730000000003,22545.358,{"$f":"D1061*'Série - IPCA'!$C$444/'Série - IPCA'!$C$385","v":0},{"$f":"E1061*'Série - IPCA'!$C$444/'Série - IPCA'!$C$398","v":5733.0838017867218},{"$f":"F1061*'Série - IPCA'!$C$444/'Série - IPCA'!$C$411","v":37248.793920675547},{"$f":"G1061*'Série - IPCA'!$C$444/'Série - IPCA'!$C$424","v":39326.463804560131},{"$f":"H1061*'Série - IPCA'!$C$444/'Série - IPCA'!$C$437","v":39298.384747664604},24321.345254937398,"Despesas Gerais e Administratias","N","NÃO","SIM","ENCARGOS DE GESTÃO","FIXO","PESSOAL",3700,"GERÊNCIA DE REGULAÇÃO","Despesas Gerais e Administratias22545,358"]
[null,null,null,155414.13,250604.67,275909.23,224645.79,225983.51,226511.46600000001,{"$f":"D1062*'Série - IPCA'!$C$444/'Série - IPCA'!$C$385","v":202289.72206869439},{"$f":"E1062*'Série - IPCA'!$C$444/'Série - IPCA'!$C$398","v":312092.72263837262},{"$f":"F1062*'Série - IPCA'!$C$444/'Série - IPCA'!$C$411","v":312195.99326967896},{"$f":"G1062*'Série - IPCA'!$C$444/'Série - IPCA'!$C$424","v":240289.56326365919},{"$f":"H1062*'Série - IPCA'!$C$444/'Série - IPCA'!$C$437","v":231043.48052311392},259582.29635270376,"Despesas Gerais e Administratias","N","NÃO","SIM","ENCARGOS DE GESTÃO","FIXO","PESSOAL",4100,"GERÊNCIA DE SERVIÇOS CORPORATIVOS","Despesas Gerais e Administratias226511,466"]
[null,null,null,77184.600000000006,77473.460000000006,91799.28,94030.19,101433.78,88384.262000000017,{"$f":"D1063*'Série - IPCA'!$C$444/'Série - IPCA'!$C$385","v":100464.81154566415},{"$f":"E1063*'Série - IPCA'!$C$444/'Série - IPCA'!$C$398","v":96482.252559838817},{"$f":"F1063*'Série - IPCA'!$C$444/'Série - IPCA'!$C$411","v":103872.44892474735},{"$f":"G1063*'Série - IPCA'!$C$444/'Série - IPCA'!$C$424","v":100578.21821944178},{"$f":"H1063*'Série - IPCA'!$C$444/'Série - IPCA'!$C$437","v":103704.97198585782},101020.54064710999,"Despesas Gerais e Administratias","N","NÃO","SIM","ENCARGOS DE GESTÃO","FIXO","PESSOAL",4200,"GERÊNCIA FINANCEIRA","Despesas Gerais e Administratias88384,262"]
[null,null,null,113210,114428.5,110505.79,96430.15,104000.32000000001,107714.952,{"$f":"D1064*'Série - IPCA'!$C$444/'Série - IPCA'!$C$385","v":147356.0958414585},{"$f":"E1064*'Série - IPCA'!$C$444/'Série - IPCA'!$C$398","v":142504.53557958448},{"$f":"F1064*'Série - IPCA'!$C$444/'Série - IPCA'!$C$411","v":125039.18361520764},{"$f":"G1064*'Série - IPCA'!$C$444/'Série - IPCA'!$C$424","v":103145.30545597646},{"$f":"H1064*'Série - IPCA'!$C$444/'Série - IPCA'!$C$437","v":106328.97908487931},124874.81991542128,"Despesas Gerais e Administratias","N","NÃO","SIM","ENCARGOS DE GESTÃO","FIXO","PESSOAL",4300,"GERÊNCIA DE TECNOLOGIA E SISTEMAS DE INFORMAÇÃO","Despesas Gerais e Administratias107714,952"]
[null,null,null,76722.2,74751,80862.850000000006,89782.25,96250.01,83673.662000000011,{"$f":"D1065*'Série - IPCA'!$C$444/'Série - IPCA'!$C$385","v":99862.943700799806},{"$f":"E1065*'Série - IPCA'!$C$444/'Série - IPCA'!$C$398","v":93091.813133175019},{"$f":"F1065*'Série - IPCA'!$C$444/'Série - IPCA'!$C$411","v":91497.692101011111},{"$f":"G1065*'Série - IPCA'!$C$444/'Série - IPCA'!$C$424","v":96034.462258690284},{"$f":"H1065*'Série - IPCA'!$C$444/'Série - IPCA'!$C$437","v":98405.13279391278},95778.408797517797,"Despesas Gerais e Administratias","N","NÃO","SIM","ENCARGOS DE GESTÃO","FIXO","PESSOAL",4500,"GERÊNCIA CONTÁBIL","Despesas Gerais e Administratias83673,662"]
[null,null,null,54433.87,0,0,0,14113.28,13709.430000000002,{"$f":"D1066*'Série - IPCA'!$C$444/'Série - IPCA'!$C$385","v":70852.067527086765},{"$f":"E1066*'Série - IPCA'!$C$444/'Série - IPCA'!$C$398","v":0},{"$f":"F1066*'Série - IPCA'!$C$444/'Série - IPCA'!$C$411","v":0},{"$f":"G1066*'Série - IPCA'!$C$444/'Série - IPCA'!$C$424","v":0},{"$f":"H1066*'Série - IPCA'!$C$444/'Série - IPCA'!$C$437","v":14429.288813140625},17056.271268045479,"Despesas Gerais e Administratias","N","NÃO","SIM","ENCARGOS DE GESTÃO","FIXO","PESSOAL",4600,"GERÊNCIA DE PESSOAS E CULTURA","Despesas Gerais e Administratias13709,43"]
[null,null,null,4007.56,3317.67,1323.97,3698.37,5616.44,3592.8019999999997,{"$f":"D1067*'Série - IPCA'!$C$444/'Série - IPCA'!$C$385","v":5216.3094731065758},{"$f":"E1067*'Série - IPCA'!$C$444/'Série - IPCA'!$C$398","v":4131.6894179013098},{"$f":"F1067*'Série - IPCA'!$C$444/'Série - IPCA'!$C$411","v":1498.0946060023325},{"$f":"G1067*'Série - IPCA'!$C$444/'Série - IPCA'!$C$424","v":3955.9152748307415},{"$f":"H1067*'Série - IPCA'!$C$444/'Série - IPCA'!$C$437","v":5742.1970556578999},4108.8411654997717,"Custos","N","NÃO","NÃO","OPEX","FUNCIONÁRIOS","PESSOAL",5100,"GERÊNCIA DE ENGENHARIA","Custos3592,802"]
[null,null,null,9867.68,9329.41,7673.17,7200.13,11397.68,9093.6139999999996,{"$f":"D1068*'Série - IPCA'!$C$444/'Série - IPCA'!$C$385","v":12843.943112912668},{"$f":"E1068*'Série - IPCA'!$C$444/'Série - IPCA'!$C$398","v":11618.462527093609},{"$f":"F1068*'Série - IPCA'!$C$444/'Série - IPCA'!$C$411","v":8682.32255106907},{"$f":"G1068*'Série - IPCA'!$C$444/'Série - IPCA'!$C$424","v":7701.5291189813543},{"$f":"H1068*'Série - IPCA'!$C$444/'Série - IPCA'!$C$437","v":11652.884128973325},10499.828287806004,"Custos","N","NÃO","NÃO","OPEX","FUNCIONÁRIOS","PESSOAL",5200,"GERÊNCIA DE OPERAÇÕES","Custos9093,614"]
[null,null,null,2221.1799999999998,6761.73,4699.74,3370.36,4850.92,4380.7860000000001,{"$f":"D1069*'Série - IPCA'!$C$444/'Série - IPCA'!$C$385","v":2891.126340085953},{"$f":"E1069*'Série - IPCA'!$C$444/'Série - IPCA'!$C$398","v":8420.7797302642575},{"$f":"F1069*'Série - IPCA'!$C$444/'Série - IPCA'!$C$411","v":5317.8358600371612},{"$f":"G1069*'Série - IPCA'!$C$444/'Série - IPCA'!$C$424","v":3605.063475444193},{"$f":"H1069*'Série - IPCA'!$C$444/'Série - IPCA'!$C$437","v":4959.5363862574914},5038.8683584178116,"Despesas com Vendas","N","NÃO","NÃO","ENCARGOS DE COMERCIALIZAÇÃO","FUNCIONÁRIOS","PESSOAL",5300,"GERÊNCIA COMERCIAL","Despesas com Vendas4380,786"]
[null,null,null,0,0,59.85,167.17,253.87,96.177999999999997,{"$f":"D1070*'Série - IPCA'!$C$444/'Série - IPCA'!$C$385","v":0},{"$f":"E1070*'Série - IPCA'!$C$444/'Série - IPCA'!$C$398","v":0},{"$f":"F1070*'Série - IPCA'!$C$444/'Série - IPCA'!$C$411","v":67.721294416972881},{"$f":"G1070*'Série - IPCA'!$C$444/'Série - IPCA'!$C$424","v":178.8113024098333},{"$f":"H1070*'Série - IPCA'!$C$444/'Série - IPCA'!$C$437","v":259.55437368152627},101.21739410166649,"Despesas Gerais e Administratias","N","NÃO","NÃO","ENCARGOS DE GESTÃO","FUNCIONÁRIOS","PESSOAL",1005,"AUDITORIA INTERNA","Despesas Gerais e Administratias96,178"]
[null,null,null,0,608.03,120.61,336.92,511.65,315.44200000000001,{"$f":"D1071*'Série - IPCA'!$C$444/'Série - IPCA'!$C$385","v":0},{"$f":"E1071*'Série - IPCA'!$C$444/'Série - IPCA'!$C$398","v":757.21549062038503},{"$f":"F1071*'Série - IPCA'!$C$444/'Série - IPCA'!$C$411","v":136.47226933385295},{"$f":"G1071*'Série - IPCA'!$C$444/'Série - IPCA'!$C$424","v":360.38226959335429},{"$f":"H1071*'Série - IPCA'!$C$444/'Série - IPCA'!$C$437","v":523.1062957188833},355.4352650532951,"Despesas Gerais e Administratias","N","NÃO","NÃO","ENCARGOS DE GESTÃO","FUNCIONÁRIOS","PESSOAL",2110,"ASSESSORIA DA DIRETORIA EXECUTIVA","Despesas Gerais e Administratias315,442"]
[null,null,null,0,0,180.46,504.09,765.52,290.01400000000001,{"$f":"D1072*'Série - IPCA'!$C$444/'Série - IPCA'!$C$385","v":0},{"$f":"E1072*'Série - IPCA'!$C$444/'Série - IPCA'!$C$398","v":0},{"$f":"F1072*'Série - IPCA'!$C$444/'Série - IPCA'!$C$411","v":204.19356375082583},{"$f":"G1072*'Série - IPCA'!$C$444/'Série - IPCA'!$C$424","v":539.19357200318757},{"$f":"H1072*'Série - IPCA'!$C$444/'Série - IPCA'!$C$437","v":782.66066940040957},305.20956103088457,"Despesas Gerais e Administratias","N","NÃO","NÃO","ENCARGOS DE GESTÃO","FUNCIONÁRIOS","PESSOAL",2120,"ASSESSORIA DA PRESIDÊNCIA","Despesas Gerais e Administratias290,014"]
[null,null,null,1970.7,1385.58,0,554.22,0,782.1,{"$f":"D1073*'Série - IPCA'!$C$444/'Série - IPCA'!$C$385","v":2565.0972358869558},{"$f":"E1073*'Série - IPCA'!$C$444/'Série - IPCA'!$C$398","v":1725.5441992891685},{"$f":"F1073*'Série - IPCA'!$C$444/'Série - IPCA'!$C$411","v":0},{"$f":"G1073*'Série - IPCA'!$C$444/'Série - IPCA'!$C$424","v":592.81450033844476},{"$f":"H1073*'Série - IPCA'!$C$444/'Série - IPCA'!$C$437","v":0},976.69118710291366,"Despesas Gerais e Administratias","N","NÃO","NÃO","ENCARGOS DE GESTÃO","FUNCIONÁRIOS","PESSOAL",2200,"DIRETORIA COLEGIADA - PRESIDÊNCIA","Despesas Gerais e Administratias782,1"]
[null,null,null,491.49,345.56,0,0,0,167.41,{"$f":"D1074*'Série - IPCA'!$C$444/'Série - IPCA'!$C$385","v":639.73189245754293},{"$f":"E1074*'Série - IPCA'!$C$444/'Série - IPCA'!$C$398","v":430.34617525250445},{"$f":"F1074*'Série - IPCA'!$C$444/'Série - IPCA'!$C$411","v":0},{"$f":"G1074*'Série - IPCA'!$C$444/'Série - IPCA'!$C$424","v":0},{"$f":"H1074*'Série - IPCA'!$C$444/'Série - IPCA'!$C$437","v":0},214.01561354200948,"Despesas Gerais e Administratias","N","NÃO","NÃO","ENCARGOS DE GESTÃO","FUNCIONÁRIOS","PESSOAL",2300,"DIRETORIA COLEGIADA - DAF","Despesas Gerais e Administratias167,41"]
[null,null,null,0,0,59.85,167.17,253.87,96.177999999999997,{"$f":"D1075*'Série - IPCA'!$C$444/'Série - IPCA'!$C$385","v":0},{"$f":"E1075*'Série - IPCA'!$C$444/'Série - IPCA'!$C$398","v":0},{"$f":"F1075*'Série - IPCA'!$C$444/'Série - IPCA'!$C$411","v":67.721294416972881},{"$f":"G1075*'Série - IPCA'!$C$444/'Série - IPCA'!$C$424","v":178.8113024098333},{"$f":"H1075*'Série - IPCA'!$C$444/'Série - IPCA'!$C$437","v":259.55437368152627},101.21739410166649,"Despesas Gerais e Administratias","N","NÃO","NÃO","ENCARGOS DE GESTÃO","FUNCIONÁRIOS","PESSOAL",2310,"ASSESSORIA DAF","Despesas Gerais e Administratias96,178"]
[null,null,null,491.49,345.56,0,0,0,167.41,{"$f":"D1076*'Série - IPCA'!$C$444/'Série - IPCA'!$C$385","v":639.73189245754293},{"$f":"E1076*'Série - IPCA'!$C$444/'Série - IPCA'!$C$398","v":430.34617525250445},{"$f":"F1076*'Série - IPCA'!$C$444/'Série - IPCA'!$C$411","v":0},{"$f":"G1076*'Série - IPCA'!$C$444/'Série - IPCA'!$C$424","v":0},{"$f":"H1076*'Série - IPCA'!$C$444/'Série - IPCA'!$C$437","v":0},214.01561354200948,"Despesas Gerais e Administratias","N","NÃO","NÃO","ENCARGOS DE GESTÃO","FUNCIONÁRIOS","PESSOAL",2400,"DIRETORIA COLEGIADA - DTC","Despesas Gerais e Administratias167,41"]
[null,null,null,0,0,220,0,0,44,{"$f":"D1077*'Série - IPCA'!$C$444/'Série - IPCA'!$C$385","v":0},{"$f":"E1077*'Série - IPCA'!$C$444/'Série - IPCA'!$C$398","v":0},{"$f":"F1077*'Série - IPCA'!$C$444/'Série - IPCA'!$C$411","v":248.93374723030968},{"$f":"G1077*'Série - IPCA'!$C$444/'Série - IPCA'!$C$424","v":0},{"$f":"H1077*'Série - IPCA'!$C$444/'Série - IPCA'!$C$437","v":0},49.786749446061933,"Despesas Gerais e Administratias","N","NÃO","NÃO","ENCARGOS DE GESTÃO","FUNCIONÁRIOS","PESSOAL",2410,"ASSESSORIA DE SEGURANÇA DO TRABALHO","Despesas Gerais e Administratias44"]
[null,null,null,1233.46,2833.71,1071.83,2016.36,3062.08,2043.4879999999998,{"$f":"D1078*'Série - IPCA'!$C$444/'Série - IPCA'!$C$385","v":1605.4928891140835},{"$f":"E1078*'Série - IPCA'!$C$444/'Série - IPCA'!$C$398","v":3528.9855894049497},{"$f":"F1078*'Série - IPCA'!$C$444/'Série - IPCA'!$C$411","v":1212.79390133574},{"$f":"G1078*'Série - IPCA'!$C$444/'Série - IPCA'!$C$424","v":2156.7742880127503},{"$f":"H1078*'Série - IPCA'!$C$444/'Série - IPCA'!$C$437","v":3130.6426776016383},2326.9378690938324,"Despesas Gerais e Administratias","N","NÃO","NÃO","ENCARGOS DE GESTÃO","FUNCIONÁRIOS","PESSOAL",3200,"GERÊNCIA DE PLANEJAMENTO E MEIO AMBIENTE","Despesas Gerais e Administratias2043,488"]
[null,null,null,1479.22,1040.01,240.3,671.26,1019.4,890.0379999999999,{"$f":"D1079*'Série - IPCA'!$C$444/'Série - IPCA'!$C$385","v":1925.3783596025285},{"$f":"E1079*'Série - IPCA'!$C$444/'Série - IPCA'!$C$398","v":1295.1855704490022},{"$f":"F1079*'Série - IPCA'!$C$444/'Série - IPCA'!$C$411","v":271.90354299747008},{"$f":"G1079*'Série - IPCA'!$C$444/'Série - IPCA'!$C$424","v":718.00487441302084},{"$f":"H1079*'Série - IPCA'!$C$444/'Série - IPCA'!$C$437","v":1042.2252669907743},1050.5395228905593,"Despesas Gerais e Administratias","N","NÃO","NÃO","ENCARGOS DE GESTÃO","FUNCIONÁRIOS","PESSOAL",3300,"GERÊNCIA JURÍDICA","Despesas Gerais e Administratias890,038"]
[null,null,null,0,1212.79,35819.980000000003,15496.68,1019.4,10709.77,{"$f":"D1080*'Série - IPCA'!$C$444/'Série - IPCA'!$C$385","v":0},{"$f":"E1080*'Série - IPCA'!$C$444/'Série - IPCA'!$C$398","v":1510.3586580752544},{"$f":"F1080*'Série - IPCA'!$C$444/'Série - IPCA'!$C$411","v":40530.917486885221},{"$f":"G1080*'Série - IPCA'!$C$444/'Série - IPCA'!$C$424","v":16575.830195779239},{"$f":"H1080*'Série - IPCA'!$C$444/'Série - IPCA'!$C$437","v":1042.2252669907743},11931.866321546098,"Despesas Gerais e Administratias","N","NÃO","NÃO","ENCARGOS DE GESTÃO","FUNCIONÁRIOS","PESSOAL",3500,"ASSESSORIA DE COMUNICAÇÃO INSTITUCIONAL","Despesas Gerais e Administratias10709,77"]
[null,null,null,741.97,521.66,421.68,1177.92,14852.81,3543.2080000000001,{"$f":"D1081*'Série - IPCA'!$C$444/'Série - IPCA'!$C$385","v":965.76099665654056},{"$f":"E1081*'Série - IPCA'!$C$444/'Série - IPCA'!$C$398","v":649.6538539825832},{"$f":"F1081*'Série - IPCA'!$C$444/'Série - IPCA'!$C$411","v":477.13810241853179},{"$f":"G1081*'Série - IPCA'!$C$444/'Série - IPCA'!$C$424","v":1259.9474148148042},{"$f":"H1081*'Série - IPCA'!$C$444/'Série - IPCA'!$C$437","v":15185.377543469924},3707.5755822684769,"Despesas Gerais e Administratias","N","NÃO","NÃO","ENCARGOS DE GESTÃO","FUNCIONÁRIOS","PESSOAL",3600,"GERÊNCIA DE GOVERNANÇA, RISCO E COMPLIANCE","Despesas Gerais e Administratias3543,208"]
[null,null,null,3204.16,23191.08,79750.320000000007,77567.98,87252.27,54193.161999999997,{"$f":"D1082*'Série - IPCA'!$C$444/'Série - IPCA'!$C$385","v":4170.5901250010393},{"$f":"E1082*'Série - IPCA'!$C$444/'Série - IPCA'!$C$398","v":28881.214775942964},{"$f":"F1082*'Série - IPCA'!$C$444/'Série - IPCA'!$C$411","v":90238.845456437775},{"$f":"G1082*'Série - IPCA'!$C$444/'Série - IPCA'!$C$424","v":82969.620919422741},{"$f":"H1082*'Série - IPCA'!$C$444/'Série - IPCA'!$C$437","v":89205.925442712498},59093.239343903399,"Despesas Gerais e Administratias","N","NÃO","NÃO","ENCARGOS DE GESTÃO","FUNCIONÁRIOS","PESSOAL",4100,"GERÊNCIA DE SERVIÇOS CORPORATIVOS","Despesas Gerais e Administratias54193,162"]
[null,null,null,2712.66,1907.24,541.37,1516.55,2296.56,1794.8759999999997,{"$f":"D1083*'Série - IPCA'!$C$444/'Série - IPCA'!$C$385","v":3530.8452163703805},{"$f":"E1083*'Série - IPCA'!$C$444/'Série - IPCA'!$C$398","v":2375.1980532717521},{"$f":"F1083*'Série - IPCA'!$C$444/'Série - IPCA'!$C$411","v":612.56937608214889},{"$f":"G1083*'Série - IPCA'!$C$444/'Série - IPCA'!$C$424","v":1622.1587645488585},{"$f":"H1083*'Série - IPCA'!$C$444/'Série - IPCA'!$C$437","v":2347.9820082012284},2097.7506836948733,"Despesas Gerais e Administratias","N","NÃO","NÃO","ENCARGOS DE GESTÃO","FUNCIONÁRIOS","PESSOAL",4200,"GERÊNCIA FINANCEIRA","Despesas Gerais e Administratias1794,876"]
[null,null,null,3062.39,2153.13,481.53,1345.09,2042.7,1816.9680000000001,{"$f":"D1084*'Série - IPCA'!$C$444/'Série - IPCA'!$C$385","v":3986.0598387414898},{"$f":"E1084*'Série - IPCA'!$C$444/'Série - IPCA'!$C$398","v":2681.419320295824},{"$f":"F1084*'Série - IPCA'!$C$444/'Série - IPCA'!$C$411","v":544.85939683550453},{"$f":"G1084*'Série - IPCA'!$C$444/'Série - IPCA'!$C$424","v":1438.7587172246374},{"$f":"H1084*'Série - IPCA'!$C$444/'Série - IPCA'!$C$437","v":2088.4378584285409},2147.907026305199,"Despesas Gerais e Administratias","N","NÃO","NÃO","ENCARGOS DE GESTÃO","FUNCIONÁRIOS","PESSOAL",4300,"GERÊNCIA DE TECNOLOGIA E SISTEMAS DE INFORMAÇÃO","Despesas Gerais e Administratias1816,968"]
[null,null,null,1970.7,1385.58,360.91,1008.18,1531.05,1251.2840000000001,{"$f":"D1085*'Série - IPCA'!$C$444/'Série - IPCA'!$C$385","v":2565.0972358869558},{"$f":"E1085*'Série - IPCA'!$C$444/'Série - IPCA'!$C$398","v":1725.5441992891685},{"$f":"F1085*'Série - IPCA'!$C$444/'Série - IPCA'!$C$411","v":408.37581233132306},{"$f":"G1085*'Série - IPCA'!$C$444/'Série - IPCA'!$C$424","v":1078.3871440063751},{"$f":"H1085*'Série - IPCA'!$C$444/'Série - IPCA'!$C$437","v":1565.3315627096576},1468.5471908446957,"Despesas Gerais e Administratias","N","NÃO","NÃO","ENCARGOS DE GESTÃO","FUNCIONÁRIOS","PESSOAL",4500,"GERÊNCIA CONTÁBIL","Despesas Gerais e Administratias1251,284"]
[null,null,null,-33546.230000000003,0,0,0,0,-6709.246000000001,{"$f":"D1086*'Série - IPCA'!$C$444/'Série - IPCA'!$C$385","v":-43664.353705499605},{"$f":"E1086*'Série - IPCA'!$C$444/'Série - IPCA'!$C$398","v":0},{"$f":"F1086*'Série - IPCA'!$C$444/'Série - IPCA'!$C$411","v":0},{"$f":"G1086*'Série - IPCA'!$C$444/'Série - IPCA'!$C$424","v":0},{"$f":"H1086*'Série - IPCA'!$C$444/'Série - IPCA'!$C$437","v":0},-8732.8707410999214,"Despesas com Vendas","N","NÃO","SIM","ENCARGOS DE COMERCIALIZAÇÃO","NÚMERO DE CLIENTES","PESSOAL",5400,"GERÊNCIA COMERCIAL (inativo)","Despesas com Vendas-6709,246"]
[null,null,null,-1575.05,0,0,0,0,-315.01,{"$f":"D1087*'Série - IPCA'!$C$444/'Série - IPCA'!$C$385","v":-2050.1123465691121},{"$f":"E1087*'Série - IPCA'!$C$444/'Série - IPCA'!$C$398","v":0},{"$f":"F1087*'Série - IPCA'!$C$444/'Série - IPCA'!$C$411","v":0},{"$f":"G1087*'Série - IPCA'!$C$444/'Série - IPCA'!$C$424","v":0},{"$f":"H1087*'Série - IPCA'!$C$444/'Série - IPCA'!$C$437","v":0},-410.0224693138224,"Despesas com Vendas","N","NÃO","SIM","ENCARGOS DE COMERCIALIZAÇÃO","NÚMERO DE CLIENTES","PESSOAL",5500,"GERÊNCIA COMERCIAL (inativo)","Despesas com Vendas-315,01"]
[null,null,null,-2884.11,0,0,0,0,-576.822,{"$f":"D1088*'Série - IPCA'!$C$444/'Série - IPCA'!$C$385","v":-3754.007504436966},{"$f":"E1088*'Série - IPCA'!$C$444/'Série - IPCA'!$C$398","v":0},{"$f":"F1088*'Série - IPCA'!$C$444/'Série - IPCA'!$C$411","v":0},{"$f":"G1088*'Série - IPCA'!$C$444/'Série - IPCA'!$C$424","v":0},{"$f":"H1088*'Série - IPCA'!$C$444/'Série - IPCA'!$C$437","v":0},-750.80150088739322,"Despesas Gerais e Administratias","N","NÃO","SIM","ENCARGOS DE GESTÃO","FIXO","PESSOAL",2100,"SECRETARIA","Despesas Gerais e Administratias-576,822"]
[null,null,null,6883.92,0,0,0,0,1376.7840000000001,{"$f":"D1089*'Série - IPCA'!$C$444/'Série - IPCA'!$C$385","v":8960.2294433789666},{"$f":"E1089*'Série - IPCA'!$C$444/'Série - IPCA'!$C$398","v":0},{"$f":"F1089*'Série - IPCA'!$C$444/'Série - IPCA'!$C$411","v":0},{"$f":"G1089*'Série - IPCA'!$C$444/'Série - IPCA'!$C$424","v":0},{"$f":"H1089*'Série - IPCA'!$C$444/'Série - IPCA'!$C$437","v":0},1792.0458886757933,"Despesas Gerais e Administratias","N","NÃO","SIM","ENCARGOS DE GESTÃO","FIXO","PESSOAL",2400,"DIRETORIA COLEGIADA - DTC","Despesas Gerais e Administratias1376,784"]
[null,null,null,-10226.5,0,0,0,0,-2045.3,{"$f":"D1090*'Série - IPCA'!$C$444/'Série - IPCA'!$C$385","v":-13310.989436645839},{"$f":"E1090*'Série - IPCA'!$C$444/'Série - IPCA'!$C$398","v":0},{"$f":"F1090*'Série - IPCA'!$C$444/'Série - IPCA'!$C$411","v":0},{"$f":"G1090*'Série - IPCA'!$C$444/'Série - IPCA'!$C$424","v":0},{"$f":"H1090*'Série - IPCA'!$C$444/'Série - IPCA'!$C$437","v":0},-2662.1978873291678,"Despesas Gerais e Administratias","N","NÃO","SIM","ENCARGOS DE GESTÃO","FIXO","PESSOAL",3400,"MARKETING","Despesas Gerais e Administratias-2045,3"]
[null,null,null,350685.42,173366.85,87107.9,178464.35,160880.78,190101.06,{"$f":"D1091*'Série - IPCA'!$C$444/'Série - IPCA'!$C$385","v":456458.21358291782},{"$f":"E1091*'Série - IPCA'!$C$444/'Série - IPCA'!$C$398","v":215903.92641820421},{"$f":"F1091*'Série - IPCA'!$C$444/'Série - IPCA'!$C$411","v":98564.072547104952},{"$f":"G1091*'Série - IPCA'!$C$444/'Série - IPCA'!$C$424","v":190892.16281165479},{"$f":"H1091*'Série - IPCA'!$C$444/'Série - IPCA'!$C$437","v":164483.0428577438},225260.28364352509,"Custos","N","NÃO","SIM","OPEX","FUNCIONÁRIOS","PESSOAL",5100,"GERÊNCIA DE ENGENHARIA","Custos190101,06"]
[null,null,null,535612.26,365734.53,279667.94,510372.47,457840.46,429845.53200000001,{"$f":"D1092*'Série - IPCA'!$C$444/'Série - IPCA'!$C$385","v":697162.18989859719},{"$f":"E1092*'Série - IPCA'!$C$444/'Série - IPCA'!$C$398","v":455470.70304222818},{"$f":"F1092*'Série - IPCA'!$C$444/'Série - IPCA'!$C$411","v":316449.03765627916},{"$f":"G1092*'Série - IPCA'!$C$444/'Série - IPCA'!$C$424","v":545913.53756549361},{"$f":"H1092*'Série - IPCA'!$C$444/'Série - IPCA'!$C$437","v":468091.91255903366},496617.47614432639,"Custos","N","NÃO","SIM","OPEX","FUNCIONÁRIOS","PESSOAL",5200,"GERÊNCIA DE OPERAÇÕES","Custos429845,532"]
[null,null,null,438192.35,219015.08,222550.9,392264.74,361717.29,{"$f":"AVERAGE(D1093:H1093)","v":326748.07199999999},{"$f":"D1093*'Série - IPCA'!$C$444/'Série - IPCA'!$C$385","v":570358.74855219433},{"$f":"E1093*'Série - IPCA'!$C$444/'Série - IPCA'!$C$398","v":272752.34981080354},{"$f":"F1093*'Série - IPCA'!$C$444/'Série - IPCA'!$C$411","v":251820.13402944509},{"$f":"G1093*'Série - IPCA'!$C$444/'Série - IPCA'!$C$424","v":419581.07943323936},{"$f":"H1093*'Série - IPCA'!$C$444/'Série - IPCA'!$C$437","v":369816.45982482762},{"$f":"AVERAGE(J1093:N1093)","v":376865.75433010201},"Despesas com Vendas","N","NÃO","SIM","ENCARGOS DE COMERCIALIZAÇÃO","NÚMERO DE CLIENTES","PESSOAL",5300,"GERÊNCIA COMERCIAL",{"$f":"B1093&C1093&P1093&I1093","v":"Despesas com Vendas326748,072"}]
[null,null,null,0,27521.34,22979.83,40190.620000000003,36081.53,25354.664000000001,{"$f":"D1094*'Série - IPCA'!$C$444/'Série - IPCA'!$C$385","v":0},{"$f":"E1094*'Série - IPCA'!$C$444/'Série - IPCA'!$C$398","v":34273.942026923723},{"$f":"F1094*'Série - IPCA'!$C$444/'Série - IPCA'!$C$411","v":26002.069057343124},{"$f":"G1094*'Série - IPCA'!$C$444/'Série - IPCA'!$C$424","v":42989.394669251029},{"$f":"H1094*'Série - IPCA'!$C$444/'Série - IPCA'!$C$437","v":36889.4273471509},28030.966620133753,"Despesas Gerais e Administratias","N","NÃO","SIM","ENCARGOS DE GESTÃO","FIXO","PESSOAL",1005,"AUDITORIA INTERNA","Despesas Gerais e Administratias25354,664"]
[null,null,null,0,0,-2233.65,36943.160000000003,-6410.54,5659.7939999999999,{"$f":"D1095*'Série - IPCA'!$C$444/'Série - IPCA'!$C$385","v":0},{"$f":"E1095*'Série - IPCA'!$C$444/'Série - IPCA'!$C$398","v":0},{"$f":"F1095*'Série - IPCA'!$C$444/'Série - IPCA'!$C$411","v":-2527.4130204590056},{"$f":"G1095*'Série - IPCA'!$C$444/'Série - IPCA'!$C$424","v":39515.789643685217},{"$f":"H1095*'Série - IPCA'!$C$444/'Série - IPCA'!$C$437","v":-6554.0776565185779},6086.8597933415276,"Despesas Gerais e Administratias","N","NÃO","SIM","ENCARGOS DE GESTÃO","FIXO","PESSOAL",1010,"GOVERNANÇA SOCIETÁRIA","Despesas Gerais e Administratias5659,794"]
[null,null,null,47339.199999999997,26216.86,12958.71,8201.9500000000007,7537.68,20450.879999999997,{"$f":"D1096*'Série - IPCA'!$C$444/'Série - IPCA'!$C$385","v":61617.522235296987},{"$f":"E1096*'Série - IPCA'!$C$444/'Série - IPCA'!$C$398","v":32649.396423574413},{"$f":"F1096*'Série - IPCA'!$C$444/'Série - IPCA'!$C$411","v":14663.001088958574},{"$f":"G1096*'Série - IPCA'!$C$444/'Série - IPCA'!$C$424","v":8773.1133684293363},{"$f":"H1096*'Série - IPCA'!$C$444/'Série - IPCA'!$C$437","v":7706.4553173347258},25081.897686718807,"Despesas Gerais e Administratias","N","NÃO","SIM","ENCARGOS DE GESTÃO","FIXO","PESSOAL",2110,"ASSESSORIA DA DIRETORIA EXECUTIVA","Despesas Gerais e Administratias20450,88"]
[null,null,null,94447.57,43905.599999999999,36660.410000000003,64117.279999999999,57191.7,59264.512000000002,{"$f":"D1097*'Série - IPCA'!$C$444/'Série - IPCA'!$C$385","v":122934.59214656711},{"$f":"E1097*'Série - IPCA'!$C$444/'Série - IPCA'!$C$398","v":54678.223845833891},{"$f":"F1097*'Série - IPCA'!$C$444/'Série - IPCA'!$C$411","v":41481.878346815989},{"$f":"G1097*'Série - IPCA'!$C$444/'Série - IPCA'!$C$424","v":68582.247674678205},{"$f":"H1097*'Série - IPCA'!$C$444/'Série - IPCA'!$C$437","v":58472.272711552148},69229.842945089476,"Despesas Gerais e Administratias","N","NÃO","SIM","ENCARGOS DE GESTÃO","FIXO","PESSOAL",2120,"ASSESSORIA DA PRESIDÊNCIA","Despesas Gerais e Administratias59264,512"]
[null,null,null,0,23737.22,16967.64,29675.58,26629.18,19401.923999999999,{"$f":"D1098*'Série - IPCA'!$C$444/'Série - IPCA'!$C$385","v":0},{"$f":"E1098*'Série - IPCA'!$C$444/'Série - IPCA'!$C$398","v":29561.355012522443},{"$f":"F1098*'Série - IPCA'!$C$444/'Série - IPCA'!$C$411","v":19199.173667522235},{"$f":"G1098*'Série - IPCA'!$C$444/'Série - IPCA'!$C$424","v":31742.113474709582},{"$f":"H1098*'Série - IPCA'!$C$444/'Série - IPCA'!$C$437","v":27225.43087624621},21545.614606200095,"Despesas Gerais e Administratias","N","NÃO","SIM","ENCARGOS DE GESTÃO","FIXO","PESSOAL",2130,"ASSESSORIA DE RELAÇÕES INSTITUCIONAIS E NOVOS NEGÓCIOS","Despesas Gerais e Administratias19401,924"]
[null,null,null,0,0,0,0,28595.85,5719.17,{"$f":"D1099*'Série - IPCA'!$C$444/'Série - IPCA'!$C$385","v":0},{"$f":"E1099*'Série - IPCA'!$C$444/'Série - IPCA'!$C$398","v":0},{"$f":"F1099*'Série - IPCA'!$C$444/'Série - IPCA'!$C$411","v":0},{"$f":"G1099*'Série - IPCA'!$C$444/'Série - IPCA'!$C$424","v":0},{"$f":"H1099*'Série - IPCA'!$C$444/'Série - IPCA'!$C$437","v":29236.136355776074},5847.227271155215,"Despesas Gerais e Administratias","N","NÃO","SIM","ENCARGOS DE GESTÃO","FIXO","PESSOAL",2140,"ASSESSORIA DTC","Despesas Gerais e Administratias5719,17"]
[null,null,null,-24657.78,0,2438.13,0,0,-4443.9299999999994,{"$f":"D1100*'Série - IPCA'!$C$444/'Série - IPCA'!$C$385","v":-32094.99331258368},{"$f":"E1100*'Série - IPCA'!$C$444/'Série - IPCA'!$C$398","v":0},{"$f":"F1100*'Série - IPCA'!$C$444/'Série - IPCA'!$C$411","v":2758.7856233392499},{"$f":"G1100*'Série - IPCA'!$C$444/'Série - IPCA'!$C$424","v":0},{"$f":"H1100*'Série - IPCA'!$C$444/'Série - IPCA'!$C$437","v":0},-5867.2415378488859,"Despesas Gerais e Administratias","N","NÃO","SIM","ENCARGOS DE GESTÃO","FIXO","PESSOAL",2200,"DIRETORIA COLEGIADA - PRESIDÊNCIA","Despesas Gerais e Administratias-4443,93"]
[null,null,null,0,21952.799999999999,-24902.59,0,0,-589.9580000000002,{"$f":"D1101*'Série - IPCA'!$C$444/'Série - IPCA'!$C$385","v":0},{"$f":"E1101*'Série - IPCA'!$C$444/'Série - IPCA'!$C$398","v":27339.111922916945},{"$f":"F1101*'Série - IPCA'!$C$444/'Série - IPCA'!$C$411","v":-28177.704747454711},{"$f":"G1101*'Série - IPCA'!$C$444/'Série - IPCA'!$C$424","v":0},{"$f":"H1101*'Série - IPCA'!$C$444/'Série - IPCA'!$C$437","v":0},-167.71856490755309,"Despesas Gerais e Administratias","N","NÃO","SIM","ENCARGOS DE GESTÃO","FIXO","PESSOAL",2300,"DIRETORIA COLEGIADA - DAF","Despesas Gerais e Administratias-589,958"]
[null,null,null,81174.28,57522.559999999998,43704.57,89906.41,81030.789999999994,70667.721999999994,{"$f":"D1102*'Série - IPCA'!$C$444/'Série - IPCA'!$C$385","v":105657.84810124006},{"$f":"E1102*'Série - IPCA'!$C$444/'Série - IPCA'!$C$398","v":71636.2243510033},{"$f":"F1102*'Série - IPCA'!$C$444/'Série - IPCA'!$C$411","v":49452.465369042613},{"$f":"G1102*'Série - IPCA'!$C$444/'Série - IPCA'!$C$424","v":96167.268451830241},{"$f":"H1102*'Série - IPCA'!$C$444/'Série - IPCA'!$C$437","v":82845.141006693506},81151.789455961945,"Despesas Gerais e Administratias","N","NÃO","SIM","ENCARGOS DE GESTÃO","FIXO","PESSOAL",2410,"ASSESSORIA DE SEGURANÇA DO TRABALHO","Despesas Gerais e Administratias70667,722"]
[null,null,null,-36879.25,0,8127.07,0,0,-5750.4359999999997,{"$f":"D1103*'Série - IPCA'!$C$444/'Série - IPCA'!$C$385","v":-48002.670237267979},{"$f":"E1103*'Série - IPCA'!$C$444/'Série - IPCA'!$C$398","v":0},{"$f":"F1103*'Série - IPCA'!$C$444/'Série - IPCA'!$C$411","v":9195.9181322865115},{"$f":"G1103*'Série - IPCA'!$C$444/'Série - IPCA'!$C$424","v":0},{"$f":"H1103*'Série - IPCA'!$C$444/'Série - IPCA'!$C$437","v":0},-7761.3504209962939,"Despesas Gerais e Administratias","N","NÃO","SIM","ENCARGOS DE GESTÃO","FIXO","PESSOAL",3100,"SMS","Despesas Gerais e Administratias-5750,436"]
[null,null,null,107225.02,77481.36,66196.399999999994,107098.07,96355.08,90871.186000000002,{"$f":"D1104*'Série - IPCA'!$C$444/'Série - IPCA'!$C$385","v":139565.9422641313},{"$f":"E1104*'Série - IPCA'!$C$444/'Série - IPCA'!$C$398","v":96492.090894091874},{"$f":"F1104*'Série - IPCA'!$C$444/'Série - IPCA'!$C$411","v":74902.354114347589},{"$f":"G1104*'Série - IPCA'!$C$444/'Série - IPCA'!$C$424","v":114556.11283292154},{"$f":"H1104*'Série - IPCA'!$C$444/'Série - IPCA'!$C$437","v":98512.555404078303},104805.81110191412,"Despesas Gerais e Administratias","N","NÃO","SIM","ENCARGOS DE GESTÃO","FIXO","PESSOAL",3200,"GERÊNCIA DE PLANEJAMENTO E MEIO AMBIENTE","Despesas Gerais e Administratias90871,186"]
[null,null,null,78947.27,55353.89,49418.71,75591.23,67426.350000000006,65347.489999999991,{"$f":"D1105*'Série - IPCA'!$C$444/'Série - IPCA'!$C$385","v":102759.13333222775},{"$f":"E1105*'Série - IPCA'!$C$444/'Série - IPCA'!$C$398","v":68935.45215548054},{"$f":"F1105*'Série - IPCA'!$C$444/'Série - IPCA'!$C$411","v":55918.112107218076},{"$f":"G1105*'Série - IPCA'!$C$444/'Série - IPCA'!$C$424","v":80855.214973148657},{"$f":"H1105*'Série - IPCA'!$C$444/'Série - IPCA'!$C$437","v":68936.085570888157},75480.799627792629,"Despesas Gerais e Administratias","N","NÃO","SIM","ENCARGOS DE GESTÃO","FIXO","PESSOAL",3300,"GERÊNCIA JURÍDICA","Despesas Gerais e Administratias65347,4899999999"]
[null,null,null,87920.24,48550.45,41222.239999999998,49000.61,44071.99,54153.105999999992,{"$f":"D1106*'Série - IPCA'!$C$444/'Série - IPCA'!$C$385","v":114438.50642031652},{"$f":"E1106*'Série - IPCA'!$C$444/'Série - IPCA'!$C$398","v":60462.728511077541},{"$f":"F1106*'Série - IPCA'!$C$444/'Série - IPCA'!$C$411","v":46643.666692850726},{"$f":"G1106*'Série - IPCA'!$C$444/'Série - IPCA'!$C$424","v":52412.890428762941},{"$f":"H1106*'Série - IPCA'!$C$444/'Série - IPCA'!$C$437","v":45058.800808872598},63803.318572376076,"Despesas Gerais e Administratias","N","NÃO","SIM","ENCARGOS DE GESTÃO","FIXO","PESSOAL",3500,"ASSESSORIA DE COMUNICAÇÃO INSTITUCIONAL","Despesas Gerais e Administratias54153,106"]
[null,null,null,172544.79,81903.05,67145.649999999994,159304.57,110166.6,118212.932,{"$f":"D1107*'Série - IPCA'!$C$444/'Série - IPCA'!$C$385","v":224587.28568310512},{"$f":"E1107*'Série - IPCA'!$C$444/'Série - IPCA'!$C$398","v":101998.68129706748},{"$f":"F1107*'Série - IPCA'!$C$444/'Série - IPCA'!$C$411","v":75976.446657794731},{"$f":"G1107*'Série - IPCA'!$C$444/'Série - IPCA'!$C$424","v":170398.14345599365},{"$f":"H1107*'Série - IPCA'!$C$444/'Série - IPCA'!$C$437","v":112633.3275441101},137118.77692761421,"Despesas Gerais e Administratias","N","NÃO","SIM","ENCARGOS DE GESTÃO","FIXO","PESSOAL",3600,"GERÊNCIA DE GOVERNANÇA, RISCO E COMPLIANCE","Despesas Gerais e Administratias118212,932"]
[null,null,null,0,20320.95,20096.45,34869.4,31287.58,21314.876,{"$f":"D1108*'Série - IPCA'!$C$444/'Série - IPCA'!$C$385","v":0},{"$f":"E1108*'Série - IPCA'!$C$444/'Série - IPCA'!$C$398","v":25306.873220272548},{"$f":"F1108*'Série - IPCA'!$C$444/'Série - IPCA'!$C$411","v":22739.475475120711},{"$f":"G1108*'Série - IPCA'!$C$444/'Série - IPCA'!$C$424","v":37297.618162645456},{"$f":"H1108*'Série - IPCA'!$C$444/'Série - IPCA'!$C$437","v":31988.136569546015},23466.420685516943,"Despesas Gerais e Administratias","N","NÃO","SIM","ENCARGOS DE GESTÃO","FIXO","PESSOAL",3700,"GERÊNCIA DE REGULAÇÃO","Despesas Gerais e Administratias21314,876"]
[null,null,null,307337.31,196076.03,255828.36,256192.84,351312.79,273349.46599999996,{"$f":"D1109*'Série - IPCA'!$C$444/'Série - IPCA'!$C$385","v":400035.56318360602},{"$f":"E1109*'Série - IPCA'!$C$444/'Série - IPCA'!$C$398","v":244185.00280470925},{"$f":"F1109*'Série - IPCA'!$C$444/'Série - IPCA'!$C$411","v":289474.14682993031},{"$f":"G1109*'Série - IPCA'!$C$444/'Série - IPCA'!$C$424","v":274033.47124767624},{"$f":"H1109*'Série - IPCA'!$C$444/'Série - IPCA'!$C$437","v":359178.9938738707},313381.43558795855,"Despesas Gerais e Administratias","N","NÃO","SIM","ENCARGOS DE GESTÃO","FIXO","PESSOAL",4100,"GERÊNCIA DE SERVIÇOS CORPORATIVOS","Despesas Gerais e Administratias273349,466"]
[null,null,null,136938.89000000001,72881.7,62019.839999999997,107483.48,96252.21,95115.224000000017,{"$f":"D1110*'Série - IPCA'!$C$444/'Série - IPCA'!$C$385","v":178242.02984950927},{"$f":"E1110*'Série - IPCA'!$C$444/'Série - IPCA'!$C$398","v":90763.863991493374},{"$f":"F1110*'Série - IPCA'!$C$444/'Série - IPCA'!$C$411","v":70176.505335564754},{"$f":"G1110*'Série - IPCA'!$C$444/'Série - IPCA'!$C$424","v":114968.36182533509},{"$f":"H1110*'Série - IPCA'!$C$444/'Série - IPCA'!$C$437","v":98407.382053857247},110511.62861115194,"Despesas Gerais e Administratias","N","NÃO","SIM","ENCARGOS DE GESTÃO","FIXO","PESSOAL",4200,"GERÊNCIA FINANCEIRA","Despesas Gerais e Administratias95115,224"]
[null,null,null,165873.68,102324.55,47926.61,110126.45,87578.75,102766.008,{"$f":"D1111*'Série - IPCA'!$C$444/'Série - IPCA'!$C$385","v":215904.05341979876},{"$f":"E1111*'Série - IPCA'!$C$444/'Série - IPCA'!$C$398","v":127430.77534128272},{"$f":"F1111*'Série - IPCA'!$C$444/'Série - IPCA'!$C$411","v":54229.775542480143},{"$f":"G1111*'Série - IPCA'!$C$444/'Série - IPCA'!$C$424","v":117795.38167297591},{"$f":"H1111*'Série - IPCA'!$C$444/'Série - IPCA'!$C$437","v":89539.715618469942},120979.94031900149,"Despesas Gerais e Administratias","N","NÃO","SIM","ENCARGOS DE GESTÃO","FIXO","PESSOAL",4300,"GERÊNCIA DE TECNOLOGIA E SISTEMAS DE INFORMAÇÃO","Despesas Gerais e Administratias102766,008"]
[null,null,null,107322.99,69940.210000000006,61369.93,102802.33,92838.88,86854.868000000002,{"$f":"D1112*'Série - IPCA'!$C$444/'Série - IPCA'!$C$385","v":139693.46171214464},{"$f":"E1112*'Série - IPCA'!$C$444/'Série - IPCA'!$C$398","v":87100.653634266026},{"$f":"F1112*'Série - IPCA'!$C$444/'Série - IPCA'!$C$411","v":69441.121100735443},{"$f":"G1112*'Série - IPCA'!$C$444/'Série - IPCA'!$C$424","v":109961.22819923119},{"$f":"H1112*'Série - IPCA'!$C$444/'Série - IPCA'!$C$437","v":94917.624578305345},100222.81784493654,"Despesas Gerais e Administratias","N","NÃO","SIM","ENCARGOS DE GESTÃO","FIXO","PESSOAL",4500,"GERÊNCIA CONTÁBIL","Despesas Gerais e Administratias86854,868"]
[null,null,null,-17846.32,0,4876.24,0,192781.72,35962.328000000001,{"$f":"D1113*'Série - IPCA'!$C$444/'Série - IPCA'!$C$385","v":-23229.07905960019},{"$f":"E1113*'Série - IPCA'!$C$444/'Série - IPCA'!$C$398","v":0},{"$f":"F1113*'Série - IPCA'!$C$444/'Série - IPCA'!$C$411","v":5517.5486163378409},{"$f":"G1113*'Série - IPCA'!$C$444/'Série - IPCA'!$C$424","v":0},{"$f":"H1113*'Série - IPCA'!$C$444/'Série - IPCA'!$C$437","v":197098.27309980447},35877.348531308424,"Despesas Gerais e Administratias","N","NÃO","SIM","ENCARGOS DE GESTÃO","FIXO","PESSOAL",4600,"GERÊNCIA DE PESSOAS E CULTURA","Despesas Gerais e Administratias35962,328"]
[null,null,null,285857.64,12656.48,19772.599999999999,34863.78,20218.93,74673.885999999999,{"$f":"D1114*'Série - IPCA'!$C$444/'Série - IPCA'!$C$385","v":372077.25286505732},{"$f":"E1114*'Série - IPCA'!$C$444/'Série - IPCA'!$C$398","v":15761.858317397318},{"$f":"F1114*'Série - IPCA'!$C$444/'Série - IPCA'!$C$411","v":22373.033684027363},{"$f":"G1114*'Série - IPCA'!$C$444/'Série - IPCA'!$C$424","v":37291.606799843859},{"$f":"H1114*'Série - IPCA'!$C$444/'Série - IPCA'!$C$437","v":20671.649713083945},93635.080275881948,"Despesas Gerais e Administratias","N","NÃO","SIM","ENCARGOS DE GESTÃO","FIXO","PESSOAL",4200,"GERÊNCIA FINANCEIRA","Despesas Gerais e Administratias74673,886"]
[null,null,null,6241.15,72417.27,15489877.74,-11007.98,242656.29,3160036.8939999999,{"$f":"D1115*'Série - IPCA'!$C$444/'Série - IPCA'!$C$385","v":8123.5888840289599},{"$f":"E1115*'Série - IPCA'!$C$444/'Série - IPCA'!$C$398","v":90185.482019701172},{"$f":"F1115*'Série - IPCA'!$C$444/'Série - IPCA'!$C$411","v":17527060.499807093},{"$f":"G1115*'Série - IPCA'!$C$444/'Série - IPCA'!$C$424","v":-11774.548308317262},{"$f":"H1115*'Série - IPCA'!$C$444/'Série - IPCA'!$C$437","v":248089.57880345374},3572336.920241192,"Despesas Gerais e Administratias","N","NÃO","SIM","ENCARGOS DE GESTÃO","FIXO","DESPESA GERAIS",4200,"GERÊNCIA FINANCEIRA","Despesas Gerais e Administratias3160036,894"]
[null,null,null,0,0,852603.24,1279856.28,1353247.8,697141.46400000004,{"$f":"D1116*'Série - IPCA'!$C$444/'Série - IPCA'!$C$385","v":0},{"$f":"E1116*'Série - IPCA'!$C$444/'Série - IPCA'!$C$398","v":0},{"$f":"F1116*'Série - IPCA'!$C$444/'Série - IPCA'!$C$411","v":964735.08833592292},{"$f":"G1116*'Série - IPCA'!$C$444/'Série - IPCA'!$C$424","v":1368982.2834492091},{"$f":"H1116*'Série - IPCA'!$C$444/'Série - IPCA'!$C$437","v":1383548.214302215},743453.11721746938,"Despesas Gerais e Administratias","N","NÃO","SIM","ENCARGOS DE GESTÃO","FIXO","DESPESAS_GERAIS",4200,"GERÊNCIA FINANCEIRA","Despesas Gerais e Administratias697141,464"]
[null,null,null,782189.26,829355.76,0,0,0,322309.00400000002,{"$f":"D1117*'Série - IPCA'!$C$444/'Série - IPCA'!$C$385","v":1018111.0817305847},{"$f":"E1117*'Série - IPCA'!$C$444/'Série - IPCA'!$C$398","v":1032845.4660251014},{"$f":"F1117*'Série - IPCA'!$C$444/'Série - IPCA'!$C$411","v":0},{"$f":"G1117*'Série - IPCA'!$C$444/'Série - IPCA'!$C$424","v":0},{"$f":"H1117*'Série - IPCA'!$C$444/'Série - IPCA'!$C$437","v":0},410191.30955113721,"Despesas Gerais e Administratias","N","NÃO","SIM","ENCARGOS DE GESTÃO","FIXO","DESPESAS_GERAIS",4200,"GERÊNCIA FINANCEIRA","Despesas Gerais e Administratias322309,004"]
[null,null,null,677486.16,0,0,0,0,135497.23200000002,{"$f":"D1118*'Série - IPCA'!$C$444/'Série - IPCA'!$C$385","v":881827.71419681725},{"$f":"E1118*'Série - IPCA'!$C$444/'Série - IPCA'!$C$398","v":0},{"$f":"F1118*'Série - IPCA'!$C$444/'Série - IPCA'!$C$411","v":0},{"$f":"G1118*'Série - IPCA'!$C$444/'Série - IPCA'!$C$424","v":0},{"$f":"H1118*'Série - IPCA'!$C$444/'Série - IPCA'!$C$437","v":0},176365.54283936345,"Despesas Gerais e Administratias","N","SIM","NÃO","ENCARGOS DE GESTÃO","VOLUME S/ TERMOELÉTRICA","DESPESAS_GERAIS",5300,"GERÊNCIA COMERCIAL","Despesas Gerais e Administratias135497,232"]
[null,null,null,0,0,152712.26999999999,696307.07,-1082199.06,-46635.944000000018,{"$f":"D1119*'Série - IPCA'!$C$444/'Série - IPCA'!$C$385","v":0},{"$f":"E1119*'Série - IPCA'!$C$444/'Série - IPCA'!$C$398","v":0},{"$f":"F1119*'Série - IPCA'!$C$444/'Série - IPCA'!$C$411","v":172796.53463248545},{"$f":"G1119*'Série - IPCA'!$C$444/'Série - IPCA'!$C$424","v":744796.15998010978},{"$f":"H1119*'Série - IPCA'!$C$444/'Série - IPCA'!$C$437","v":-1106430.4534487592},-37767.551767232784,"Despesas Gerais e Administratias","N","SIM","NÃO","ENCARGOS DE GESTÃO","VOLUME S/ TERMOELÉTRICA","DESPESAS_GERAIS",5300,"GERÊNCIA COMERCIAL","Despesas Gerais e Administratias-46635,944"]
[null,null,null,0,1973655.17,-723405.56,-641187.48,1367745.7,395361.56599999999,{"$f":"D1120*'Série - IPCA'!$C$444/'Série - IPCA'!$C$385","v":0},{"$f":"E1120*'Série - IPCA'!$C$444/'Série - IPCA'!$C$398","v":2457908.767440767},{"$f":"F1120*'Série - IPCA'!$C$444/'Série - IPCA'!$C$411","v":-818545.7128092756},{"$f":"G1120*'Série - IPCA'!$C$444/'Série - IPCA'!$C$424","v":-685838.17902541684},{"$f":"H1120*'Série - IPCA'!$C$444/'Série - IPCA'!$C$437","v":1398370.7350970996},470379.1221406348,"Outras Receitas e Despesas","N","SIM","NÃO","OPEX","VOLUME S/ TERMOELÉTRICA","DESPESAS_GERAIS",5300,"GERÊNCIA COMERCIAL","Outras Receitas e Despesas395361,566"]
[null,null,null,0,0,0,0,0,0,{"$f":"D1121*'Série - IPCA'!$C$444/'Série - IPCA'!$C$385","v":0},{"$f":"E1121*'Série - IPCA'!$C$444/'Série - IPCA'!$C$398","v":0},{"$f":"F1121*'Série - IPCA'!$C$444/'Série - IPCA'!$C$411","v":0},{"$f":"G1121*'Série - IPCA'!$C$444/'Série - IPCA'!$C$424","v":0},{"$f":"H1121*'Série - IPCA'!$C$444/'Série - IPCA'!$C$437","v":0},0,"Outras Receitas e Despesas","N","SIM","NÃO","OPEX","VOLUME S/ TERMOELÉTRICA","DESPESAS_GERAIS",5400,"GERÊNCIA COMERCIAL (inativo)","Outras Receitas e Despesas0"]
[null,null,null,792161.6,48113.37,0,0,0,168054.99400000001,{"$f":"D1122*'Série - IPCA'!$C$444/'Série - IPCA'!$C$385","v":1031091.2521113249},{"$f":"E1122*'Série - IPCA'!$C$444/'Série - IPCA'!$C$398","v":59918.407101541241},{"$f":"F1122*'Série - IPCA'!$C$444/'Série - IPCA'!$C$411","v":0},{"$f":"G1122*'Série - IPCA'!$C$444/'Série - IPCA'!$C$424","v":0},{"$f":"H1122*'Série - IPCA'!$C$444/'Série - IPCA'!$C$437","v":0},218201.93184257322,"Despesas Gerais e Administratias","N","NÃO","SIM","ENCARGOS DE GESTÃO","FIXO","PESSOAL",4100,"GERÊNCIA DE SERVIÇOS CORPORATIVOS","Despesas Gerais e Administratias168054,994"]
[null,null,null,0,0,149,0,0,29.8,{"$f":"D1123*'Série - IPCA'!$C$444/'Série - IPCA'!$C$385","v":0},{"$f":"E1123*'Série - IPCA'!$C$444/'Série - IPCA'!$C$398","v":0},{"$f":"F1123*'Série - IPCA'!$C$444/'Série - IPCA'!$C$411","v":168.59603789689154},{"$f":"G1123*'Série - IPCA'!$C$444/'Série - IPCA'!$C$424","v":0},{"$f":"H1123*'Série - IPCA'!$C$444/'Série - IPCA'!$C$437","v":0},33.719207579378306,"Despesas Gerais e Administratias","N","SIM","NÃO","ENCARGOS DE GESTÃO","FIXO","DESPESAS_INSTITUCIONAIS",2410,"ASSESSORIA DE SEGURANÇA DO TRABALHO","Despesas Gerais e Administratias29,8"]
[null,null,null,107213.74,36555.480000000003,0,0,0,28753.844000000001,{"$f":"D1124*'Série - IPCA'!$C$444/'Série - IPCA'!$C$385","v":139551.26002085692},{"$f":"E1124*'Série - IPCA'!$C$444/'Série - IPCA'!$C$398","v":45524.687471117672},{"$f":"F1124*'Série - IPCA'!$C$444/'Série - IPCA'!$C$411","v":0},{"$f":"G1124*'Série - IPCA'!$C$444/'Série - IPCA'!$C$424","v":0},{"$f":"H1124*'Série - IPCA'!$C$444/'Série - IPCA'!$C$437","v":0},37015.189498394917,"Despesas Gerais e Administratias","N","SIM","NÃO","ENCARGOS DE GESTÃO","FIXO","DESPESAS_INSTITUCIONAIS",3400,"MARKETING","Despesas Gerais e Administratias28753,844"]
[null,null,null,0,93046.14,129648.24,213324.62,265506.59999999998,140305.12,{"$f":"D1125*'Série - IPCA'!$C$444/'Série - IPCA'!$C$385","v":0},{"$f":"E1125*'Série - IPCA'!$C$444/'Série - IPCA'!$C$398","v":115875.82611126597},{"$f":"F1125*'Série - IPCA'!$C$444/'Série - IPCA'!$C$411","v":146699.19184097511},{"$f":"G1125*'Série - IPCA'!$C$444/'Série - IPCA'!$C$424","v":228180.01518384143},{"$f":"H1125*'Série - IPCA'!$C$444/'Série - IPCA'!$C$437","v":271451.52744046762},152441.31211531002,"Despesas Gerais e Administratias","N","SIM","NÃO","ENCARGOS DE GESTÃO","FIXO","DESPESAS_INSTITUCIONAIS",4100,"GERÊNCIA DE SERVIÇOS CORPORATIVOS","Despesas Gerais e Administratias140305,12"]
[null,null,null,0,181044.45,0,36000,112050,65818.89,{"$f":"D1126*'Série - IPCA'!$C$444/'Série - IPCA'!$C$385","v":0},{"$f":"E1126*'Série - IPCA'!$C$444/'Série - IPCA'!$C$398","v":225465.29288167984},{"$f":"F1126*'Série - IPCA'!$C$444/'Série - IPCA'!$C$411","v":0},{"$f":"G1126*'Série - IPCA'!$C$444/'Série - IPCA'!$C$424","v":38506.950330525804},{"$f":"H1126*'Série - IPCA'!$C$444/'Série - IPCA'!$C$437","v":114558.89853474226},75706.228349389581,"Despesas com Vendas","N","NÃO","NÃO","ENCARGOS DE COMERCIALIZAÇÃO","FIXO","DESPESAS_INSTITUCIONAIS",5300,"GERÊNCIA COMERCIAL","Despesas com Vendas65818,89"]
[null,null,null,586178.46,0,0,0,0,117235.692,{"$f":"D1127*'Série - IPCA'!$C$444/'Série - IPCA'!$C$385","v":762980.03119829111},{"$f":"E1127*'Série - IPCA'!$C$444/'Série - IPCA'!$C$398","v":0},{"$f":"F1127*'Série - IPCA'!$C$444/'Série - IPCA'!$C$411","v":0},{"$f":"G1127*'Série - IPCA'!$C$444/'Série - IPCA'!$C$424","v":0},{"$f":"H1127*'Série - IPCA'!$C$444/'Série - IPCA'!$C$437","v":0},152596.00623965822,"Despesas com Vendas","N","NÃO","NÃO","ENCARGOS DE COMERCIALIZAÇÃO","FIXO","DESPESAS_INSTITUCIONAIS",5400,"GERÊNCIA COMERCIAL (inativo)","Despesas com Vendas117235,692"]
[null,null,null,0,849641.34,1034896.39,719758.78,1041303.35,729119.97199999995,{"$f":"D1128*'Série - IPCA'!$C$444/'Série - IPCA'!$C$385","v":0},{"$f":"E1128*'Série - IPCA'!$C$444/'Série - IPCA'!$C$398","v":1058108.290905813},{"$f":"F1128*'Série - IPCA'!$C$444/'Série - IPCA'!$C$411","v":1171002.8925355454},{"$f":"G1128*'Série - IPCA'!$C$444/'Série - IPCA'!$C$424","v":769880.98865055142},{"$f":"H1128*'Série - IPCA'!$C$444/'Série - IPCA'!$C$437","v":1064619.0523564229},812722.24488966656,"Despesas Gerais e Administratias","N","NÃO","NÃO","ENCARGOS DE GESTÃO","FIXO","DESPESAS_INSTITUCIONAIS",3500,"ASSESSORIA DE COMUNICAÇÃO INSTITUCIONAL","Despesas Gerais e Administratias729119,972"]
[null,null,null,-155926.57,121845.53,-23159.67,-314087.95,-235416.41,-121349.01400000001,{"$f":"D1129*'Série - IPCA'!$C$444/'Série - IPCA'!$C$385","v":-202956.72284382905},{"$f":"E1129*'Série - IPCA'!$C$444/'Série - IPCA'!$C$398","v":151741.39890934798},{"$f":"F1129*'Série - IPCA'!$C$444/'Série - IPCA'!$C$411","v":-26205.561080533567},{"$f":"G1129*'Série - IPCA'!$C$444/'Série - IPCA'!$C$424","v":-335960.252501852},{"$f":"H1129*'Série - IPCA'!$C$444/'Série - IPCA'!$C$437","v":-240687.59149132782},-130813.7458016389,"Outras Receitas e Despesas","N","NÃO","SIM","OPEX","FIXO","DESPESAS_GERAIS",9999,"RATEIO","Outras Receitas e Despesas-121349,014"]
[null,null,null,0,-1659.18,-822.04,-125056.38,-176023.55,-60712.23,{"$f":"D1130*'Série - IPCA'!$C$444/'Série - IPCA'!$C$385","v":0},{"$f":"E1130*'Série - IPCA'!$C$444/'Série - IPCA'!$C$398","v":-2066.274357724998},{"$f":"F1130*'Série - IPCA'!$C$444/'Série - IPCA'!$C$411","v":-930.15226169638061},{"$f":"G1130*'Série - IPCA'!$C$444/'Série - IPCA'!$C$424","v":-133764.9948104267},{"$f":"H1130*'Série - IPCA'!$C$444/'Série - IPCA'!$C$437","v":-179964.87286189315},-63345.258858348243,"Outras Receitas e Despesas","N","NÃO","SIM","OPEX","FIXO","DESPESAS_GERAIS",9999,"RATEIO","Outras Receitas e Despesas-60712,23"]
[null,null,null,-1173611,-1951613.78,-3438979.63,-3322632.18,-3158875.17,-2609142.352,{"$f":"D1131*'Série - IPCA'!$C$444/'Série - IPCA'!$C$385","v":-1527592.3946346608},{"$f":"E1131*'Série - IPCA'!$C$444/'Série - IPCA'!$C$398","v":-2430459.3291847515},{"$f":"F1131*'Série - IPCA'!$C$444/'Série - IPCA'!$C$411","v":-3891264.0270209261},{"$f":"G1131*'Série - IPCA'!$C$444/'Série - IPCA'!$C$424","v":-3554012.008940741},{"$f":"H1131*'Série - IPCA'!$C$444/'Série - IPCA'!$C$437","v":-3229605.1770097874},-2926586.5873581734,"Outras Receitas e Despesas","N","NÃO","SIM","OPEX","FIXO","DESPESAS_GERAIS",9999,"RATEIO","Outras Receitas e Despesas-2609142,352"]
[null,null,null,-104599.7,-98841.16,-57863.32,-57482.01,-21988.93,-68155.024000000005,{"$f":"D1132*'Série - IPCA'!$C$444/'Série - IPCA'!$C$385","v":-136148.78030375237},{"$f":"E1132*'Série - IPCA'!$C$444/'Série - IPCA'!$C$398","v":-123092.70506864463},{"$f":"F1132*'Série - IPCA'!$C$444/'Série - IPCA'!$C$411","v":-65473.332158120546},{"$f":"G1132*'Série - IPCA'!$C$444/'Série - IPCA'!$C$424","v":-61484.913999132994},{"$f":"H1132*'Série - IPCA'!$C$444/'Série - IPCA'!$C$437","v":-22481.281577488175},-81736.202621427743,"Outras Receitas e Despesas","N","NÃO","SIM","OPEX","FIXO","DESPESAS_GERAIS",9999,"RATEIO","Outras Receitas e Despesas-68155,024"]
[null,null,null,-150222.31,-30318,-173693.46,-230214.38,-248523.92,-166594.41400000002,{"$f":"D1133*'Série - IPCA'!$C$444/'Série - IPCA'!$C$385","v":-195531.95927820235},{"$f":"E1133*'Série - IPCA'!$C$444/'Série - IPCA'!$C$398","v":-37756.787074040491},{"$f":"F1133*'Série - IPCA'!$C$444/'Série - IPCA'!$C$411","v":-196537.10848726318},{"$f":"G1133*'Série - IPCA'!$C$444/'Série - IPCA'!$C$424","v":-246245.93600091094},{"$f":"H1133*'Série - IPCA'!$C$444/'Série - IPCA'!$C$437","v":-254088.59022522447},-186032.07621312828,"Outras Receitas e Despesas","N","NÃO","SIM","OPEX","FIXO","DESPESAS_GERAIS",9999,"RATEIO","Outras Receitas e Despesas-166594,414"]
[null,null,null,-678191.38,-195380.35,-1672458.66,-4410707.28,-4988587.53,-2389065.04,{"$f":"D1134*'Série - IPCA'!$C$444/'Série - IPCA'!$C$385","v":-882745.64075727412},{"$f":"E1134*'Série - IPCA'!$C$444/'Série - IPCA'!$C$398","v":-243318.63161823028},{"$f":"F1134*'Série - IPCA'!$C$444/'Série - IPCA'!$C$411","v":-1892415.4605526472},{"$f":"G1134*'Série - IPCA'!$C$444/'Série - IPCA'!$C$424","v":-4717857.9487069044},{"$f":"H1134*'Série - IPCA'!$C$444/'Série - IPCA'!$C$437","v":-5100286.4139308389},-2567324.8191131791,"Outras Receitas e Despesas","N","NÃO","SIM","OPEX","FIXO","DESPESAS_GERAIS",9999,"RATEIO","Outras Receitas e Despesas-2389065,04"]
[null,null,null,-5368423.8600000003,-119833.49,0,0,0,-1097651.4700000002,{"$f":"D1135*'Série - IPCA'!$C$444/'Série - IPCA'!$C$385","v":-6987633.4319559447},{"$f":"E1135*'Série - IPCA'!$C$444/'Série - IPCA'!$C$398","v":-149235.68725737714},{"$f":"F1135*'Série - IPCA'!$C$444/'Série - IPCA'!$C$411","v":0},{"$f":"G1135*'Série - IPCA'!$C$444/'Série - IPCA'!$C$424","v":0},{"$f":"H1135*'Série - IPCA'!$C$444/'Série - IPCA'!$C$437","v":0},-1427373.8238426645,"Outras Receitas e Despesas","N","NÃO","SIM","OPEX","FIXO","DESPESAS_GERAIS",9999,"RATEIO","Outras Receitas e Despesas-1097651,47"]
[null,null,null,-314098.56,-1346233.74,-311508.65999999997,-854249.67,-3312036.08,-1227625.3419999999,{"$f":"D1136*'Série - IPCA'!$C$444/'Série - IPCA'!$C$385","v":-408836.12323137623},{"$f":"E1136*'Série - IPCA'!$C$444/'Série - IPCA'!$C$398","v":-1676543.9894804794},{"$f":"F1136*'Série - IPCA'!$C$444/'Série - IPCA'!$C$411","v":-352477.35467496578},{"$f":"G1136*'Série - IPCA'!$C$444/'Série - IPCA'!$C$424","v":-913737.48923772387},{"$f":"H1136*'Série - IPCA'!$C$444/'Série - IPCA'!$C$437","v":-3386195.495155069},-1347558.0903559229,"Outras Receitas e Despesas","N","NÃO","SIM","OPEX","FIXO","DESPESAS_GERAIS",9999,"RATEIO","Outras Receitas e Despesas-1227625,342"]
[null,null,null,0,0,0,-244314.99,-42451.38,-57353.273999999998,{"$f":"D1137*'Série - IPCA'!$C$444/'Série - IPCA'!$C$385","v":0},{"$f":"E1137*'Série - IPCA'!$C$444/'Série - IPCA'!$C$398","v":0},{"$f":"F1137*'Série - IPCA'!$C$444/'Série - IPCA'!$C$411","v":0},{"$f":"G1137*'Série - IPCA'!$C$444/'Série - IPCA'!$C$424","v":-261328.47735924745},{"$f":"H1137*'Série - IPCA'!$C$444/'Série - IPCA'!$C$437","v":-43401.903918605858},-60946.076255570668,"Outras Receitas e Despesas","N","NÃO","SIM","OPEX","FIXO","DESPESAS_GERAIS",9999,"RATEIO","Outras Receitas e Despesas-57353,274"]
[null,null,null,0,0,0,0,-475957.02,-95191.40400000001,{"$f":"D1138*'Série - IPCA'!$C$444/'Série - IPCA'!$C$385","v":0},{"$f":"E1138*'Série - IPCA'!$C$444/'Série - IPCA'!$C$398","v":0},{"$f":"F1138*'Série - IPCA'!$C$444/'Série - IPCA'!$C$411","v":0},{"$f":"G1138*'Série - IPCA'!$C$444/'Série - IPCA'!$C$424","v":0},{"$f":"H1138*'Série - IPCA'!$C$444/'Série - IPCA'!$C$437","v":-486614.11834965006},-97322.823669930018,"Outras Receitas e Despesas","N","NÃO","SIM","OPEX","FIXO","DESPESAS_GERAIS",9999,"RATEIO","Outras Receitas e Despesas-95191,404"]
[null,null,null,-389135.79,81942.16,-181773.71,-664974.29,-669064.13,-364601.15199999994,{"$f":"D1139*'Série - IPCA'!$C$444/'Série - IPCA'!$C$385","v":-506505.88081072044},{"$f":"E1139*'Série - IPCA'!$C$444/'Série - IPCA'!$C$398","v":102047.38727841405},{"$f":"F1139*'Série - IPCA'!$C$444/'Série - IPCA'!$C$411","v":-205680.04899207095},{"$f":"G1139*'Série - IPCA'!$C$444/'Série - IPCA'!$C$424","v":-711281.44322518504},{"$f":"H1139*'Série - IPCA'!$C$444/'Série - IPCA'!$C$437","v":-684045.06721914862},-401093.01059374219,"Outras Receitas e Despesas","N","NÃO","SIM","OPEX","FIXO","DESPESAS_GERAIS",9999,"RATEIO","Outras Receitas e Despesas-364601,152"]
[null,null,null,0,-36182.74,0,0,0,-7236.5479999999998,{"$f":"D1140*'Série - IPCA'!$C$444/'Série - IPCA'!$C$385","v":0},{"$f":"E1140*'Série - IPCA'!$C$444/'Série - IPCA'!$C$398","v":-45060.492444599498},{"$f":"F1140*'Série - IPCA'!$C$444/'Série - IPCA'!$C$411","v":0},{"$f":"G1140*'Série - IPCA'!$C$444/'Série - IPCA'!$C$424","v":0},{"$f":"H1140*'Série - IPCA'!$C$444/'Série - IPCA'!$C$437","v":0},-9012.098488919899,"Outras Receitas e Despesas","N","NÃO","SIM","OPEX","FIXO","DESPESAS_GERAIS",9999,"RATEIO","Outras Receitas e Despesas-7236,548"]
[null,null,null,0,0,0,0,964.26,192.852,{"$f":"D1141*'Série - IPCA'!$C$444/'Série - IPCA'!$C$385","v":0},{"$f":"E1141*'Série - IPCA'!$C$444/'Série - IPCA'!$C$398","v":0},{"$f":"F1141*'Série - IPCA'!$C$444/'Série - IPCA'!$C$411","v":0},{"$f":"G1141*'Série - IPCA'!$C$444/'Série - IPCA'!$C$424","v":0},{"$f":"H1141*'Série - IPCA'!$C$444/'Série - IPCA'!$C$437","v":985.85063365560518},197.17012673112103,"Custos","N","SIM","NÃO","OPEX","FUNCIONÁRIOS","DESPESAS_GERAIS",5100,"GERÊNCIA DE ENGENHARIA","Custos192,852"]
[null,null,null,0,0,0,0,1648.18,329.63600000000002,{"$f":"D1142*'Série - IPCA'!$C$444/'Série - IPCA'!$C$385","v":0},{"$f":"E1142*'Série - IPCA'!$C$444/'Série - IPCA'!$C$398","v":0},{"$f":"F1142*'Série - IPCA'!$C$444/'Série - IPCA'!$C$411","v":0},{"$f":"G1142*'Série - IPCA'!$C$444/'Série - IPCA'!$C$424","v":0},{"$f":"H1142*'Série - IPCA'!$C$444/'Série - IPCA'!$C$437","v":1685.0842069343284},337.01684138686568,"Custos","N","SIM","NÃO","OPEX","FUNCIONÁRIOS","DESPESAS_GERAIS",5200,"GERÊNCIA DE OPERAÇÕES","Custos329,636"]
[null,null,null,0,0,0,0,832.83,166.566,{"$f":"D1143*'Série - IPCA'!$C$444/'Série - IPCA'!$C$385","v":0},{"$f":"E1143*'Série - IPCA'!$C$444/'Série - IPCA'!$C$398","v":0},{"$f":"F1143*'Série - IPCA'!$C$444/'Série - IPCA'!$C$411","v":0},{"$f":"G1143*'Série - IPCA'!$C$444/'Série - IPCA'!$C$424","v":0},{"$f":"H1143*'Série - IPCA'!$C$444/'Série - IPCA'!$C$437","v":851.47779979196241},170.29555995839249,"Despesas com Vendas","N","SIM","NÃO","ENCARGOS DE COMERCIALIZAÇÃO","FUNCIONÁRIOS","DESPESAS_GERAIS",5300,"GERÊNCIA COMERCIAL","Despesas com Vendas166,566"]
[null,null,null,0,0,0,18.3,175.01,38.661999999999999,{"$f":"D1144*'Série - IPCA'!$C$444/'Série - IPCA'!$C$385","v":0},{"$f":"E1144*'Série - IPCA'!$C$444/'Série - IPCA'!$C$398","v":0},{"$f":"F1144*'Série - IPCA'!$C$444/'Série - IPCA'!$C$411","v":0},{"$f":"G1144*'Série - IPCA'!$C$444/'Série - IPCA'!$C$424","v":19.574366418017284},{"$f":"H1144*'Série - IPCA'!$C$444/'Série - IPCA'!$C$437","v":178.92862858157289},39.700598999918036,"Despesas Gerais e Administratias","N","SIM","NÃO","ENCARGOS DE GESTÃO","FUNCIONÁRIOS","PESSOAL",3500,"ASSESSORIA DE COMUNICAÇÃO INSTITUCIONAL","Despesas Gerais e Administratias38,662"]
[null,null,null,0,0,0,0,43.59,8.718,{"$f":"D1145*'Série - IPCA'!$C$444/'Série - IPCA'!$C$385","v":0},{"$f":"E1145*'Série - IPCA'!$C$444/'Série - IPCA'!$C$398","v":0},{"$f":"F1145*'Série - IPCA'!$C$444/'Série - IPCA'!$C$411","v":0},{"$f":"G1145*'Série - IPCA'!$C$444/'Série - IPCA'!$C$424","v":0},{"$f":"H1145*'Série - IPCA'!$C$444/'Série - IPCA'!$C$437","v":44.566018626768546},8.9132037253537089,"Despesas Gerais e Administratias","N","SIM","NÃO","ENCARGOS DE GESTÃO","FUNCIONÁRIOS","PESSOAL",1005,"AUDITORIA INTERNA","Despesas Gerais e Administratias8,718"]
[null,null,null,0,0,0,0,87.84,17.568000000000001,{"$f":"D1146*'Série - IPCA'!$C$444/'Série - IPCA'!$C$385","v":0},{"$f":"E1146*'Série - IPCA'!$C$444/'Série - IPCA'!$C$398","v":0},{"$f":"F1146*'Série - IPCA'!$C$444/'Série - IPCA'!$C$411","v":0},{"$f":"G1146*'Série - IPCA'!$C$444/'Série - IPCA'!$C$424","v":0},{"$f":"H1146*'Série - IPCA'!$C$444/'Série - IPCA'!$C$437","v":89.806815236874257},17.961363047374853,"Despesas Gerais e Administratias","N","SIM","NÃO","ENCARGOS DE GESTÃO","FUNCIONÁRIOS","PESSOAL",2110,"ASSESSORIA DA DIRETORIA EXECUTIVA","Despesas Gerais e Administratias17,568"]
[null,null,null,0,0,0,0,131.43,26.286000000000001,{"$f":"D1147*'Série - IPCA'!$C$444/'Série - IPCA'!$C$385","v":0},{"$f":"E1147*'Série - IPCA'!$C$444/'Série - IPCA'!$C$398","v":0},{"$f":"F1147*'Série - IPCA'!$C$444/'Série - IPCA'!$C$411","v":0},{"$f":"G1147*'Série - IPCA'!$C$444/'Série - IPCA'!$C$424","v":0},{"$f":"H1147*'Série - IPCA'!$C$444/'Série - IPCA'!$C$437","v":134.3728338636428},26.87456677272856,"Despesas Gerais e Administratias","N","SIM","NÃO","ENCARGOS DE GESTÃO","FUNCIONÁRIOS","PESSOAL",2120,"ASSESSORIA DA PRESIDÊNCIA","Despesas Gerais e Administratias26,286"]
[null,null,null,0,0,0,0,43.59,8.718,{"$f":"D1148*'Série - IPCA'!$C$444/'Série - IPCA'!$C$385","v":0},{"$f":"E1148*'Série - IPCA'!$C$444/'Série - IPCA'!$C$398","v":0},{"$f":"F1148*'Série - IPCA'!$C$444/'Série - IPCA'!$C$411","v":0},{"$f":"G1148*'Série - IPCA'!$C$444/'Série - IPCA'!$C$424","v":0},{"$f":"H1148*'Série - IPCA'!$C$444/'Série - IPCA'!$C$437","v":44.566018626768546},8.9132037253537089,"Despesas Gerais e Administratias","N","SIM","NÃO","ENCARGOS DE GESTÃO","FUNCIONÁRIOS","PESSOAL",2310,"ASSESSORIA DAF","Despesas Gerais e Administratias8,718"]
[null,null,null,0,0,0,0,525.71,105.14200000000001,{"$f":"D1149*'Série - IPCA'!$C$444/'Série - IPCA'!$C$385","v":0},{"$f":"E1149*'Série - IPCA'!$C$444/'Série - IPCA'!$C$398","v":0},{"$f":"F1149*'Série - IPCA'!$C$444/'Série - IPCA'!$C$411","v":0},{"$f":"G1149*'Série - IPCA'!$C$444/'Série - IPCA'!$C$424","v":0},{"$f":"H1149*'Série - IPCA'!$C$444/'Série - IPCA'!$C$437","v":537.4811115457328},107.49622230914656,"Despesas Gerais e Administratias","N","SIM","NÃO","ENCARGOS DE GESTÃO","FUNCIONÁRIOS","PESSOAL",3200,"GERÊNCIA DE PLANEJAMENTO E MEIO AMBIENTE","Despesas Gerais e Administratias105,142"]
[null,null,null,0,0,0,0,175.01,35.001999999999995,{"$f":"D1150*'Série - IPCA'!$C$444/'Série - IPCA'!$C$385","v":0},{"$f":"E1150*'Série - IPCA'!$C$444/'Série - IPCA'!$C$398","v":0},{"$f":"F1150*'Série - IPCA'!$C$444/'Série - IPCA'!$C$411","v":0},{"$f":"G1150*'Série - IPCA'!$C$444/'Série - IPCA'!$C$424","v":0},{"$f":"H1150*'Série - IPCA'!$C$444/'Série - IPCA'!$C$437","v":178.92862858157289},35.78572571631458,"Despesas Gerais e Administratias","N","SIM","NÃO","ENCARGOS DE GESTÃO","FUNCIONÁRIOS","PESSOAL",3300,"GERÊNCIA JURÍDICA","Despesas Gerais e Administratias35,002"]
[null,null,null,0,0,0,0,307.11,61.422000000000004,{"$f":"D1151*'Série - IPCA'!$C$444/'Série - IPCA'!$C$385","v":0},{"$f":"E1151*'Série - IPCA'!$C$444/'Série - IPCA'!$C$398","v":0},{"$f":"F1151*'Série - IPCA'!$C$444/'Série - IPCA'!$C$411","v":0},{"$f":"G1151*'Série - IPCA'!$C$444/'Série - IPCA'!$C$424","v":0},{"$f":"H1151*'Série - IPCA'!$C$444/'Série - IPCA'!$C$437","v":313.98646433739128},62.797292867478255,"Despesas Gerais e Administratias","N","SIM","NÃO","ENCARGOS DE GESTÃO","FUNCIONÁRIOS","PESSOAL",3600,"GERÊNCIA DE GOVERNANÇA, RISCO E COMPLIANCE","Despesas Gerais e Administratias61,422"]
[null,null,null,0,0,0,0,832.83,166.566,{"$f":"D1152*'Série - IPCA'!$C$444/'Série - IPCA'!$C$385","v":0},{"$f":"E1152*'Série - IPCA'!$C$444/'Série - IPCA'!$C$398","v":0},{"$f":"F1152*'Série - IPCA'!$C$444/'Série - IPCA'!$C$411","v":0},{"$f":"G1152*'Série - IPCA'!$C$444/'Série - IPCA'!$C$424","v":0},{"$f":"H1152*'Série - IPCA'!$C$444/'Série - IPCA'!$C$437","v":851.47779979196241},170.29555995839249,"Despesas Gerais e Administratias","N","SIM","NÃO","ENCARGOS DE GESTÃO","FUNCIONÁRIOS","PESSOAL",4100,"GERÊNCIA DE SERVIÇOS CORPORATIVOS","Despesas Gerais e Administratias166,566"]
[null,null,null,0,0,0,0,394.29,78.858000000000004,{"$f":"D1153*'Série - IPCA'!$C$444/'Série - IPCA'!$C$385","v":0},{"$f":"E1153*'Série - IPCA'!$C$444/'Série - IPCA'!$C$398","v":0},{"$f":"F1153*'Série - IPCA'!$C$444/'Série - IPCA'!$C$411","v":0},{"$f":"G1153*'Série - IPCA'!$C$444/'Série - IPCA'!$C$424","v":0},{"$f":"H1153*'Série - IPCA'!$C$444/'Série - IPCA'!$C$437","v":403.11850159092842},80.623700318185683,"Despesas Gerais e Administratias","N","SIM","NÃO","ENCARGOS DE GESTÃO","FUNCIONÁRIOS","PESSOAL",4200,"GERÊNCIA FINANCEIRA","Despesas Gerais e Administratias78,858"]
[null,null,null,0,0,0,0,350.7,70.14,{"$f":"D1154*'Série - IPCA'!$C$444/'Série - IPCA'!$C$385","v":0},{"$f":"E1154*'Série - IPCA'!$C$444/'Série - IPCA'!$C$398","v":0},{"$f":"F1154*'Série - IPCA'!$C$444/'Série - IPCA'!$C$411","v":0},{"$f":"G1154*'Série - IPCA'!$C$444/'Série - IPCA'!$C$424","v":0},{"$f":"H1154*'Série - IPCA'!$C$444/'Série - IPCA'!$C$437","v":358.55248296415982},71.710496592831959,"Despesas Gerais e Administratias","N","SIM","NÃO","ENCARGOS DE GESTÃO","FUNCIONÁRIOS","PESSOAL",4300,"GERÊNCIA DE TECNOLOGIA E SISTEMAS DE INFORMAÇÃO","Despesas Gerais e Administratias70,14"]
[null,null,null,0,0,0,0,262.86,52.572000000000003,{"$f":"D1155*'Série - IPCA'!$C$444/'Série - IPCA'!$C$385","v":0},{"$f":"E1155*'Série - IPCA'!$C$444/'Série - IPCA'!$C$398","v":0},{"$f":"F1155*'Série - IPCA'!$C$444/'Série - IPCA'!$C$411","v":0},{"$f":"G1155*'Série - IPCA'!$C$444/'Série - IPCA'!$C$424","v":0},{"$f":"H1155*'Série - IPCA'!$C$444/'Série - IPCA'!$C$437","v":268.74566772728559},53.74913354545712,"Despesas Gerais e Administratias","N","SIM","NÃO","ENCARGOS DE GESTÃO","FUNCIONÁRIOS","PESSOAL",4500,"GERÊNCIA CONTÁBIL","Despesas Gerais e Administratias52,572"]
[null,null,null,224505.46,281334.43,268547.3,311180.62,23295.03,221772.56800000003,{"$f":"D1156*'Série - IPCA'!$C$444/'Série - IPCA'!$C$385","v":292220.19327524712},{"$f":"E1156*'Série - IPCA'!$C$444/'Série - IPCA'!$C$398","v":350362.29863798892},{"$f":"F1156*'Série - IPCA'!$C$444/'Série - IPCA'!$C$411","v":303865.84407991875},{"$f":"G1156*'Série - IPCA'!$C$444/'Série - IPCA'!$C$424","v":332850.46328228398},{"$f":"H1156*'Série - IPCA'!$C$444/'Série - IPCA'!$C$437","v":23816.62631087708},260623.08511726317,"Despesas Gerais e Administratias","N","NÃO","SIM","ENCARGOS DE GESTÃO","FIXO","DESPESAS_INSTITUCIONAIS",2300,"DIRETORIA COLEGIADA - DAF","Despesas Gerais e Administratias221772,568"]
[null,null,null,60640.82,47844.480000000003,20960.77,20859.27,32527.9,{"$f":"AVERAGE(D1157:H1157)","v":36566.648000000001},{"$f":"D1157*'Série - IPCA'!$C$444/'Série - IPCA'!$C$385","v":78931.141099060449},{"$f":"E1157*'Série - IPCA'!$C$444/'Série - IPCA'!$C$398","v":59583.542582894275},{"$f":"F1157*'Série - IPCA'!$C$444/'Série - IPCA'!$C$411","v":23717.468276966629},{"$f":"G1157*'Série - IPCA'!$C$444/'Série - IPCA'!$C$424","v":22311.857606139642},{"$f":"H1157*'Série - IPCA'!$C$444/'Série - IPCA'!$C$437","v":33256.228430595649},{"$f":"AVERAGE(J1157:N1157)","v":43560.047599131329},"Custos","N","SIM","NÃO","OPEX","FUNCIONÁRIOS","PESSOAL",5100,"GERÊNCIA DE ENGENHARIA",{"$f":"B1157&C1157&P1157&I1157","v":"Custos36566,648"}]
[null,null,null,109779.28,122841,121175.26,129864.45,157531.16,128238.23000000001,{"$f":"D1158*'Série - IPCA'!$C$444/'Série - IPCA'!$C$385","v":142890.61129835091},{"$f":"E1158*'Série - IPCA'!$C$444/'Série - IPCA'!$C$398","v":152981.11620034988},{"$f":"F1158*'Série - IPCA'!$C$444/'Série - IPCA'!$C$411","v":137111.87065185024},{"$f":"G1158*'Série - IPCA'!$C$444/'Série - IPCA'!$C$424","v":138907.88682919589},{"$f":"H1158*'Série - IPCA'!$C$444/'Série - IPCA'!$C$437","v":161058.4219054016},146589.9813770297,"Custos","N","SIM","NÃO","OPEX","FUNCIONÁRIOS","PESSOAL",5200,"GERÊNCIA DE OPERAÇÕES","Custos128238,23"]
[null,null,null,47073.919999999998,70382.399999999994,63364.87,73734.149999999994,81402.210000000006,67191.509999999995,{"$f":"D1159*'Série - IPCA'!$C$444/'Série - IPCA'!$C$385","v":61272.229194886939},{"$f":"E1159*'Série - IPCA'!$C$444/'Série - IPCA'!$C$398","v":87651.338827097657},{"$f":"F1159*'Série - IPCA'!$C$444/'Série - IPCA'!$C$411","v":71698.429690279241},{"$f":"G1159*'Série - IPCA'!$C$444/'Série - IPCA'!$C$424","v":78868.812547598311},{"$f":"H1159*'Série - IPCA'!$C$444/'Série - IPCA'!$C$437","v":83224.877428770938},76543.137537726623,"Despesas com Vendas","N","SIM","NÃO","ENCARGOS DE COMERCIALIZAÇÃO","FUNCIONÁRIOS","PESSOAL",5300,"GERÊNCIA COMERCIAL","Despesas com Vendas67191,51"]
[null,null,null,0,0,5006.51,6408.27,7074.24,3697.8040000000001,{"$f":"D1160*'Série - IPCA'!$C$444/'Série - IPCA'!$C$385","v":0},{"$f":"E1160*'Série - IPCA'!$C$444/'Série - IPCA'!$C$398","v":0},{"$f":"F1160*'Série - IPCA'!$C$444/'Série - IPCA'!$C$411","v":5664.9513402091707},{"$f":"G1160*'Série - IPCA'!$C$444/'Série - IPCA'!$C$424","v":6854.5259609610721},{"$f":"H1160*'Série - IPCA'!$C$444/'Série - IPCA'!$C$437","v":7232.6384861259703},3950.4231574592427,"Despesas Gerais e Administratias","N","SIM","NÃO","ENCARGOS DE GESTÃO","FUNCIONÁRIOS","PESSOAL",1005,"AUDITORIA INTERNA","Despesas Gerais e Administratias3697,804"]
[null,null,null,0,0,7032.61,12816.54,12037.22,6377.2740000000003,{"$f":"D1161*'Série - IPCA'!$C$444/'Série - IPCA'!$C$385","v":0},{"$f":"E1161*'Série - IPCA'!$C$444/'Série - IPCA'!$C$398","v":0},{"$f":"F1161*'Série - IPCA'!$C$444/'Série - IPCA'!$C$411","v":7957.5180004970362},{"$f":"G1161*'Série - IPCA'!$C$444/'Série - IPCA'!$C$424","v":13709.051921922144},{"$f":"H1161*'Série - IPCA'!$C$444/'Série - IPCA'!$C$437","v":12306.743994827042},6794.6627834492447,"Despesas Gerais e Administratias","N","SIM","NÃO","ENCARGOS DE GESTÃO","FUNCIONÁRIOS","PESSOAL",1010,"GOVERNANÇA SOCIETÁRIA","Despesas Gerais e Administratias6377,274"]
[null,null,null,3934.72,8361.2800000000007,7003.24,6019.56,0,5063.76,{"$f":"D1162*'Série - IPCA'!$C$444/'Série - IPCA'!$C$385","v":5121.4996681327048},{"$f":"E1162*'Série - IPCA'!$C$444/'Série - IPCA'!$C$398","v":10412.793344759986},{"$f":"F1162*'Série - IPCA'!$C$444/'Série - IPCA'!$C$411","v":7924.2853452417894},{"$f":"G1162*'Série - IPCA'!$C$444/'Série - IPCA'!$C$424","v":6438.7471647672201},{"$f":"H1162*'Série - IPCA'!$C$444/'Série - IPCA'!$C$437","v":0},5979.4651045803403,"Despesas Gerais e Administratias","N","SIM","NÃO","ENCARGOS DE GESTÃO","FUNCIONÁRIOS","PESSOAL",2110,"ASSESSORIA DA DIRETORIA EXECUTIVA","Despesas Gerais e Administratias5063,76"]
[null,null,null,1967.36,5410.24,5990.19,6408.27,7074.24,5370.0599999999995,{"$f":"D1163*'Série - IPCA'!$C$444/'Série - IPCA'!$C$385","v":2560.7498340663524},{"$f":"E1163*'Série - IPCA'!$C$444/'Série - IPCA'!$C$398","v":6737.6898113152847},{"$f":"F1163*'Série - IPCA'!$C$444/'Série - IPCA'!$C$411","v":6778.0020150978571},{"$f":"G1163*'Série - IPCA'!$C$444/'Série - IPCA'!$C$424","v":6854.5259609610721},{"$f":"H1163*'Série - IPCA'!$C$444/'Série - IPCA'!$C$437","v":7232.6384861259703},6032.7212215133068,"Despesas Gerais e Administratias","N","SIM","NÃO","ENCARGOS DE GESTÃO","FUNCIONÁRIOS","PESSOAL",2120,"ASSESSORIA DA PRESIDÊNCIA","Despesas Gerais e Administratias5370,06"]
[null,null,null,0,983.68,11980.38,12816.54,14148.48,7985.8160000000007,{"$f":"D1164*'Série - IPCA'!$C$444/'Série - IPCA'!$C$385","v":0},{"$f":"E1164*'Série - IPCA'!$C$444/'Série - IPCA'!$C$398","v":1225.0345111482336},{"$f":"F1164*'Série - IPCA'!$C$444/'Série - IPCA'!$C$411","v":13556.004030195714},{"$f":"G1164*'Série - IPCA'!$C$444/'Série - IPCA'!$C$424","v":13709.051921922144},{"$f":"H1164*'Série - IPCA'!$C$444/'Série - IPCA'!$C$437","v":14465.276972251941},8591.0734871036057,"Despesas Gerais e Administratias","N","SIM","NÃO","ENCARGOS DE GESTÃO","FUNCIONÁRIOS","PESSOAL",2130,"ASSESSORIA DE RELAÇÕES INSTITUCIONAIS E NOVOS NEGÓCIOS","Despesas Gerais e Administratias7985,816"]
[null,null,null,0,983.68,5488.56,0,0,1294.4480000000001,{"$f":"D1165*'Série - IPCA'!$C$444/'Série - IPCA'!$C$385","v":0},{"$f":"E1165*'Série - IPCA'!$C$444/'Série - IPCA'!$C$398","v":1225.0345111482336},{"$f":"F1165*'Série - IPCA'!$C$444/'Série - IPCA'!$C$411","v":6210.3991259017657},{"$f":"G1165*'Série - IPCA'!$C$444/'Série - IPCA'!$C$424","v":0},{"$f":"H1165*'Série - IPCA'!$C$444/'Série - IPCA'!$C$437","v":0},1487.0867274099999,"Despesas Gerais e Administratias","N","SIM","NÃO","ENCARGOS DE GESTÃO","FUNCIONÁRIOS","PESSOAL",2300,"DIRETORIA COLEGIADA - DAF","Despesas Gerais e Administratias1294,448"]
[null,null,null,0,4918.3999999999996,11980.38,16085.46,21827.14,10962.276,{"$f":"D1166*'Série - IPCA'!$C$444/'Série - IPCA'!$C$385","v":0},{"$f":"E1166*'Série - IPCA'!$C$444/'Série - IPCA'!$C$398","v":6125.1725557411673},{"$f":"F1166*'Série - IPCA'!$C$444/'Série - IPCA'!$C$411","v":13556.004030195714},{"$f":"G1166*'Série - IPCA'!$C$444/'Série - IPCA'!$C$424","v":17205.611368434988},{"$f":"H1166*'Série - IPCA'!$C$444/'Série - IPCA'!$C$437","v":22315.868956391019},11840.531382152578,"Despesas Gerais e Administratias","N","SIM","NÃO","ENCARGOS DE GESTÃO","FUNCIONÁRIOS","PESSOAL",2410,"ASSESSORIA DE SEGURANÇA DO TRABALHO","Despesas Gerais e Administratias10962,276"]
[null,null,null,11804.16,20657.28,28475.43,32041.35,35430.800000000003,25681.804,{"$f":"D1167*'Série - IPCA'!$C$444/'Série - IPCA'!$C$385","v":15364.499004398116},{"$f":"E1167*'Série - IPCA'!$C$444/'Série - IPCA'!$C$398","v":25725.724734112908},{"$f":"F1167*'Série - IPCA'!$C$444/'Série - IPCA'!$C$411","v":32220.434063156259},{"$f":"G1167*'Série - IPCA'!$C$444/'Série - IPCA'!$C$424","v":34272.629804805358},{"$f":"H1167*'Série - IPCA'!$C$444/'Série - IPCA'!$C$437","v":36224.12692730697},28761.482906755922,"Despesas Gerais e Administratias","N","SIM","NÃO","ENCARGOS DE GESTÃO","FUNCIONÁRIOS","PESSOAL",3200,"GERÊNCIA DE PLANEJAMENTO E MEIO AMBIENTE","Despesas Gerais e Administratias25681,804"]
[null,null,null,7869.44,0,4514.67,6408.27,13058.84,6370.2440000000006,{"$f":"D1168*'Série - IPCA'!$C$444/'Série - IPCA'!$C$385","v":10242.99933626541},{"$f":"E1168*'Série - IPCA'!$C$444/'Série - IPCA'!$C$398","v":0},{"$f":"F1168*'Série - IPCA'!$C$444/'Série - IPCA'!$C$411","v":5108.4260027648279},{"$f":"G1168*'Série - IPCA'!$C$444/'Série - IPCA'!$C$424","v":6854.5259609610721},{"$f":"H1168*'Série - IPCA'!$C$444/'Série - IPCA'!$C$437","v":13351.238969579952},7111.438053914253,"Despesas Gerais e Administratias","N","SIM","NÃO","ENCARGOS DE GESTÃO","FUNCIONÁRIOS","PESSOAL",3300,"GERÊNCIA JURÍDICA","Despesas Gerais e Administratias6370,244"]
[null,null,null,5902.08,17706.240000000002,16986.89,17590.349999999999,14148.48,14466.807999999999,{"$f":"D1169*'Série - IPCA'!$C$444/'Série - IPCA'!$C$385","v":7682.249502199058},{"$f":"E1169*'Série - IPCA'!$C$444/'Série - IPCA'!$C$398","v":22050.621200668207},{"$f":"F1169*'Série - IPCA'!$C$444/'Série - IPCA'!$C$411","v":19220.955370404885},{"$f":"G1169*'Série - IPCA'!$C$444/'Série - IPCA'!$C$424","v":18815.298159626793},{"$f":"H1169*'Série - IPCA'!$C$444/'Série - IPCA'!$C$437","v":14465.276972251941},16446.88024103018,"Despesas Gerais e Administratias","N","SIM","NÃO","ENCARGOS DE GESTÃO","FUNCIONÁRIOS","PESSOAL",3500,"ASSESSORIA DE COMUNICAÇÃO INSTITUCIONAL","Despesas Gerais e Administratias14466,808"]
[null,null,null,9200,9200.0400000000009,9200,4600.0200000000004,0,6440.0120000000006,{"$f":"D1170*'Série - IPCA'!$C$444/'Série - IPCA'!$C$385","v":11974.879266331756},{"$f":"E1170*'Série - IPCA'!$C$444/'Série - IPCA'!$C$398","v":11457.350463508657},{"$f":"F1170*'Série - IPCA'!$C$444/'Série - IPCA'!$C$411","v":10409.956702358404},{"$f":"G1170*'Série - IPCA'!$C$444/'Série - IPCA'!$C$424","v":4920.3539349840366},{"$f":"H1170*'Série - IPCA'!$C$444/'Série - IPCA'!$C$437","v":0},7752.5080734365711,"Despesas Gerais e Administratias","S",null,null,"ENCARGOS DE GESTÃO","FIXO","DESPESAS GERAIS",2200,"DIRETORIA COLEGIADA - PRESIDÊNCIA","Despesas Gerais e Administratias6440,012"]
[null,null,null,9200,9200.0400000000009,9200,4600.0200000000004,0,6440.0120000000006,{"$f":"D1171*'Série - IPCA'!$C$444/'Série - IPCA'!$C$385","v":11974.879266331756},{"$f":"E1171*'Série - IPCA'!$C$444/'Série - IPCA'!$C$398","v":11457.350463508657},{"$f":"F1171*'Série - IPCA'!$C$444/'Série - IPCA'!$C$411","v":10409.956702358404},{"$f":"G1171*'Série - IPCA'!$C$444/'Série - IPCA'!$C$424","v":4920.3539349840366},{"$f":"H1171*'Série - IPCA'!$C$444/'Série - IPCA'!$C$437","v":0},7752.5080734365711,"Despesas Gerais e Administratias","S",null,null,"ENCARGOS DE GESTÃO","FIXO","DESPESAS GERAIS",2300,"DIRETORIA COLEGIADA - DAF","Despesas Gerais e Administratias6440,012"]
[null,null,null,9200,9200.0400000000009,9200,4736.6000000000004,204.84,6508.2960000000003,{"$f":"D1172*'Série - IPCA'!$C$444/'Série - IPCA'!$C$385","v":11974.879266331756},{"$f":"E1172*'Série - IPCA'!$C$444/'Série - IPCA'!$C$398","v":11457.350463508657},{"$f":"F1172*'Série - IPCA'!$C$444/'Série - IPCA'!$C$411","v":10409.956702358404},{"$f":"G1172*'Série - IPCA'!$C$444/'Série - IPCA'!$C$424","v":5066.445025988015},{"$f":"H1172*'Série - IPCA'!$C$444/'Série - IPCA'!$C$437","v":209.42654864664527},7823.611601366696,"Despesas Gerais e Administratias","S",null,null,"ENCARGOS DE GESTÃO","FIXO","DESPESAS GERAIS",2400,"DIRETORIA COLEGIADA - DTC","Despesas Gerais e Administratias6508,296"]
[null,null,null,0,8958.85,19119.79,14815.94,11392.25,10857.366,{"$f":"D1173*'Série - IPCA'!$C$444/'Série - IPCA'!$C$385","v":0},{"$f":"E1173*'Série - IPCA'!$C$444/'Série - IPCA'!$C$398","v":11156.982382685785},{"$f":"F1173*'Série - IPCA'!$C$444/'Série - IPCA'!$C$411","v":21634.368049802739},{"$f":"G1173*'Série - IPCA'!$C$444/'Série - IPCA'!$C$424","v":15847.68515777918},{"$f":"H1173*'Série - IPCA'!$C$444/'Série - IPCA'!$C$437","v":11647.33254647405},12057.27362734835,"Despesas Gerais e Administratias","S",null,null,"ENCARGOS DE GESTÃO","FIXO","DESPESAS GERAIS",3100,"SMS","Despesas Gerais e Administratias10857,366"]
[null,null,null,15185.67,0,0,0,0,3037.134,{"$f":"D1174*'Série - IPCA'!$C$444/'Série - IPCA'!$C$385","v":19765.930959603931},{"$f":"E1174*'Série - IPCA'!$C$444/'Série - IPCA'!$C$398","v":0},{"$f":"F1174*'Série - IPCA'!$C$444/'Série - IPCA'!$C$411","v":0},{"$f":"G1174*'Série - IPCA'!$C$444/'Série - IPCA'!$C$424","v":0},{"$f":"H1174*'Série - IPCA'!$C$444/'Série - IPCA'!$C$437","v":0},3953.1861919207863,"Despesas Gerais e Administratias","S","NÃO",null,"ENCARGOS DE GESTÃO","FIXO","DESPESA GERAIS",3100,"SMS","Despesas Gerais e Administratias3037,134"]
[null,null,null,0,11389.8,0,0,0,2277.96,{"$f":"D1175*'Série - IPCA'!$C$444/'Série - IPCA'!$C$385","v":0},{"$f":"E1175*'Série - IPCA'!$C$444/'Série - IPCA'!$C$398","v":14184.387275410854},{"$f":"F1175*'Série - IPCA'!$C$444/'Série - IPCA'!$C$411","v":0},{"$f":"G1175*'Série - IPCA'!$C$444/'Série - IPCA'!$C$424","v":0},{"$f":"H1175*'Série - IPCA'!$C$444/'Série - IPCA'!$C$437","v":0},2836.8774550821709,"Despesas Gerais e Administratias","S",null,null,"ENCARGOS DE GESTÃO","FIXO","DESPESAS GERAIS",3200,"GERÊNCIA DE PLANEJAMENTO E MEIO AMBIENTE","Despesas Gerais e Administratias2277,96"]
[null,null,null,388.8,0,0,0,0,77.760000000000005,{"$f":"D1176*'Série - IPCA'!$C$444/'Série - IPCA'!$C$385","v":506.06881073367248},{"$f":"E1176*'Série - IPCA'!$C$444/'Série - IPCA'!$C$398","v":0},{"$f":"F1176*'Série - IPCA'!$C$444/'Série - IPCA'!$C$411","v":0},{"$f":"G1176*'Série - IPCA'!$C$444/'Série - IPCA'!$C$424","v":0},{"$f":"H1176*'Série - IPCA'!$C$444/'Série - IPCA'!$C$437","v":0},101.2137621467345,"Despesas Gerais e Administratias","S",null,null,"ENCARGOS DE GESTÃO","FIXO","DESPESAS GERAIS",3400,"MARKETING","Despesas Gerais e Administratias77,76"]
[null,null,null,317.70999999999998,309692.31,310890.14,327227.88,286804.37,246986.48200000002,{"$f":"D1177*'Série - IPCA'!$C$444/'Série - IPCA'!$C$385","v":413.53683605502852},{"$f":"E1177*'Série - IPCA'!$C$444/'Série - IPCA'!$C$398","v":385678.03308720031},{"$f":"F1177*'Série - IPCA'!$C$444/'Série - IPCA'!$C$411","v":351777.48875979811},{"$f":"G1177*'Série - IPCA'!$C$444/'Série - IPCA'!$C$424","v":350015.21449786826},{"$f":"H1177*'Série - IPCA'!$C$444/'Série - IPCA'!$C$437","v":293226.17333467805},276222.08930311992,"Despesas Gerais e Administratias","S",null,null,"ENCARGOS DE GESTÃO","FIXO","DESPESAS GERAIS",4100,"GERÊNCIA DE SERVIÇOS CORPORATIVOS","Despesas Gerais e Administratias246986,482"]
[null,null,null,159711.76,0,0,0,0,31942.352000000003,{"$f":"D1178*'Série - IPCA'!$C$444/'Série - IPCA'!$C$385","v":207883.59167536453},{"$f":"E1178*'Série - IPCA'!$C$444/'Série - IPCA'!$C$398","v":0},{"$f":"F1178*'Série - IPCA'!$C$444/'Série - IPCA'!$C$411","v":0},{"$f":"G1178*'Série - IPCA'!$C$444/'Série - IPCA'!$C$424","v":0},{"$f":"H1178*'Série - IPCA'!$C$444/'Série - IPCA'!$C$437","v":0},41576.718335072903,"Despesas Gerais e Administratias","S","NÃO",null,"ENCARGOS DE GESTÃO","FIXO","DESPESA GERAIS",4100,"GERÊNCIA DE SERVIÇOS CORPORATIVOS","Despesas Gerais e Administratias31942,352"]
[null,null,null,192655.03,0,0,0,0,38531.006000000001,{"$f":"D1179*'Série - IPCA'!$C$444/'Série - IPCA'!$C$385","v":250763.1222066872},{"$f":"E1179*'Série - IPCA'!$C$444/'Série - IPCA'!$C$398","v":0},{"$f":"F1179*'Série - IPCA'!$C$444/'Série - IPCA'!$C$411","v":0},{"$f":"G1179*'Série - IPCA'!$C$444/'Série - IPCA'!$C$424","v":0},{"$f":"H1179*'Série - IPCA'!$C$444/'Série - IPCA'!$C$437","v":0},50152.624441337437,"Despesas Gerais e Administratias","S","NÃO",null,"ENCARGOS DE GESTÃO","FIXO","VEÍCULOS",4100,"GERÊNCIA DE SERVIÇOS CORPORATIVOS","Despesas Gerais e Administratias38531,006"]
[null,null,null,5018.7700000000004,0,0,0,0,1003.7540000000001,{"$f":"D1180*'Série - IPCA'!$C$444/'Série - IPCA'!$C$385","v":6532.5179147269391},{"$f":"E1180*'Série - IPCA'!$C$444/'Série - IPCA'!$C$398","v":0},{"$f":"F1180*'Série - IPCA'!$C$444/'Série - IPCA'!$C$411","v":0},{"$f":"G1180*'Série - IPCA'!$C$444/'Série - IPCA'!$C$424","v":0},{"$f":"H1180*'Série - IPCA'!$C$444/'Série - IPCA'!$C$437","v":0},1306.5035829453877,"Despesas Gerais e Administratias","S","NÃO",null,"ENCARGOS DE GESTÃO","FIXO","DESPESA GERAIS",4100,"GERÊNCIA DE SERVIÇOS CORPORATIVOS","Despesas Gerais e Administratias1003,754"]
[null,null,null,0,0,0,0,140900.64000000001,28180.128000000004,{"$f":"D1181*'Série - IPCA'!$C$444/'Série - IPCA'!$C$385","v":0},{"$f":"E1181*'Série - IPCA'!$C$444/'Série - IPCA'!$C$398","v":0},{"$f":"F1181*'Série - IPCA'!$C$444/'Série - IPCA'!$C$411","v":0},{"$f":"G1181*'Série - IPCA'!$C$444/'Série - IPCA'!$C$424","v":0},{"$f":"H1181*'Série - IPCA'!$C$444/'Série - IPCA'!$C$437","v":144055.52986381299},28811.105972762598,"Despesas Gerais e Administratias","S",null,null,"ENCARGOS DE GESTÃO","FIXO","DESPESAS GERAIS",4200,"GERÊNCIA FINANCEIRA","Despesas Gerais e Administratias28180,128"]
[null,null,null,215386.61,963091.67,1417540.65,1592388.81,1563559.57,1150393.4619999998,{"$f":"D1182*'Série - IPCA'!$C$444/'Série - IPCA'!$C$385","v":280350.94025374827},{"$f":"E1182*'Série - IPCA'!$C$444/'Série - IPCA'!$C$398","v":1199394.6539010513},{"$f":"F1182*'Série - IPCA'!$C$444/'Série - IPCA'!$C$411","v":1603971.3902535855},{"$f":"G1182*'Série - IPCA'!$C$444/'Série - IPCA'!$C$424","v":1703278.8003765305},{"$f":"H1182*'Série - IPCA'!$C$444/'Série - IPCA'!$C$437","v":1598569.0507153522},1277112.9671000536,"Despesas Gerais e Administratias","S",null,null,"ENCARGOS DE GESTÃO","FIXO","DESPESAS GERAIS",4300,"GERÊNCIA DE TECNOLOGIA E SISTEMAS DE INFORMAÇÃO","Despesas Gerais e Administratias1150393,462"]
[null,null,null,390.74,0,0,0,0,78.147999999999996,{"$f":"D1183*'Série - IPCA'!$C$444/'Série - IPCA'!$C$385","v":508.59394831809465},{"$f":"E1183*'Série - IPCA'!$C$444/'Série - IPCA'!$C$398","v":0},{"$f":"F1183*'Série - IPCA'!$C$444/'Série - IPCA'!$C$411","v":0},{"$f":"G1183*'Série - IPCA'!$C$444/'Série - IPCA'!$C$424","v":0},{"$f":"H1183*'Série - IPCA'!$C$444/'Série - IPCA'!$C$437","v":0},101.71878966361894,"Despesas Gerais e Administratias","S","NÃO",null,"ENCARGOS DE GESTÃO","FIXO","DESPESA GERAIS",4300,"GERÊNCIA DE TECNOLOGIA E SISTEMAS DE INFORMAÇÃO","Despesas Gerais e Administratias78,148"]
[null,null,null,294688.71000000002,0,0,0,0,58937.742000000006,{"$f":"D1184*'Série - IPCA'!$C$444/'Série - IPCA'!$C$385","v":383571.92645663611},{"$f":"E1184*'Série - IPCA'!$C$444/'Série - IPCA'!$C$398","v":0},{"$f":"F1184*'Série - IPCA'!$C$444/'Série - IPCA'!$C$411","v":0},{"$f":"G1184*'Série - IPCA'!$C$444/'Série - IPCA'!$C$424","v":0},{"$f":"H1184*'Série - IPCA'!$C$444/'Série - IPCA'!$C$437","v":0},76714.385291327228,"Despesas Gerais e Administratias","S","NÃO",null,"ENCARGOS DE GESTÃO","FIXO","DESPESA GERAIS",4300,"GERÊNCIA DE TECNOLOGIA E SISTEMAS DE INFORMAÇÃO","Despesas Gerais e Administratias58937,742"]
[null,null,null,0,1709971.5,2359093.58,2659731.17,2106243.09,1767007.868,{"$f":"D1185*'Série - IPCA'!$C$444/'Série - IPCA'!$C$385","v":0},{"$f":"E1185*'Série - IPCA'!$C$444/'Série - IPCA'!$C$398","v":2129527.9974990971},{"$f":"F1185*'Série - IPCA'!$C$444/'Série - IPCA'!$C$411","v":2669354.5678925742},{"$f":"G1185*'Série - IPCA'!$C$444/'Série - IPCA'!$C$424","v":2844948.223770591},{"$f":"H1185*'Série - IPCA'!$C$444/'Série - IPCA'!$C$437","v":2153403.7343758321},1959446.9047076188,"Despesas Gerais e Administratias","N","SIM","NÃO","ENCARGOS DE GESTÃO","FIXO","ALUGUÉIS",4100,"GERÊNCIA DE SERVIÇOS CORPORATIVOS","Despesas Gerais e Administratias1767007,868"]
[null,null,null,0,500081.06,597441.09,766432.2,832064.59,539203.78799999994,{"$f":"D1186*'Série - IPCA'!$C$444/'Série - IPCA'!$C$385","v":0},{"$f":"E1186*'Série - IPCA'!$C$444/'Série - IPCA'!$C$398","v":622780.33188800269},{"$f":"F1186*'Série - IPCA'!$C$444/'Série - IPCA'!$C$411","v":676014.76946845767},{"$f":"G1186*'Série - IPCA'!$C$444/'Série - IPCA'!$C$424","v":819804.62936432275},{"$f":"H1186*'Série - IPCA'!$C$444/'Série - IPCA'!$C$437","v":850695.2515855591},593858.9964612684,"Despesas Gerais e Administratias","N","SIM","NÃO","ENCARGOS DE GESTÃO","FIXO","VEÍCULOS",4100,"GERÊNCIA DE SERVIÇOS CORPORATIVOS","Despesas Gerais e Administratias539203,788"]
[null,null,null,0,0,0,74295.039999999994,449599.66,104778.93999999999,{"$f":"D1187*'Série - IPCA'!$C$444/'Série - IPCA'!$C$385","v":0},{"$f":"E1187*'Série - IPCA'!$C$444/'Série - IPCA'!$C$398","v":0},{"$f":"F1187*'Série - IPCA'!$C$444/'Série - IPCA'!$C$411","v":0},{"$f":"G1187*'Série - IPCA'!$C$444/'Série - IPCA'!$C$424","v":79468.761530122996},{"$f":"H1187*'Série - IPCA'!$C$444/'Série - IPCA'!$C$437","v":459666.59376345034},107827.07105871468,"Despesas Gerais e Administratias","S",null,null,"ENCARGOS DE GESTÃO","FIXO","DESPESAS GERAIS",4300,"GERÊNCIA DE TECNOLOGIA E SISTEMAS DE INFORMAÇÃO","Despesas Gerais e Administratias104778,94"]
[null,null,null,11804.16,23116.48,22485.24,32430.06,42445.440000000002,26456.276000000002,{"$f":"D1188*'Série - IPCA'!$C$444/'Série - IPCA'!$C$385","v":15364.499004398116},{"$f":"E1188*'Série - IPCA'!$C$444/'Série - IPCA'!$C$398","v":28788.311011983489},{"$f":"F1188*'Série - IPCA'!$C$444/'Série - IPCA'!$C$411","v":25442.432048058403},{"$f":"G1188*'Série - IPCA'!$C$444/'Série - IPCA'!$C$424","v":34688.408600999217},{"$f":"H1188*'Série - IPCA'!$C$444/'Série - IPCA'!$C$437","v":43395.830916755825},29535.896316439012,"Despesas Gerais e Administratias","N","SIM","NÃO","ENCARGOS DE GESTÃO","FUNCIONÁRIOS","PESSOAL",3600,"GERÊNCIA DE GOVERNANÇA, RISCO E COMPLIANCE","Despesas Gerais e Administratias26456,276"]
[null,null,null,0,491.84,5990.19,6408.27,7074.24,3992.9080000000004,{"$f":"D1189*'Série - IPCA'!$C$444/'Série - IPCA'!$C$385","v":0},{"$f":"E1189*'Série - IPCA'!$C$444/'Série - IPCA'!$C$398","v":612.5172555741168},{"$f":"F1189*'Série - IPCA'!$C$444/'Série - IPCA'!$C$411","v":6778.0020150978571},{"$f":"G1189*'Série - IPCA'!$C$444/'Série - IPCA'!$C$424","v":6854.5259609610721},{"$f":"H1189*'Série - IPCA'!$C$444/'Série - IPCA'!$C$437","v":7232.6384861259703},4295.5367435518028,"Despesas Gerais e Administratias","N","SIM","NÃO","ENCARGOS DE GESTÃO","FUNCIONÁRIOS","PESSOAL",3700,"GERÊNCIA DE REGULAÇÃO","Despesas Gerais e Administratias3992,908"]
[null,null,null,21149.119999999999,54594.239999999998,59767.73,80451.600000000006,82710.320000000007,59734.601999999999,{"$f":"D1190*'Série - IPCA'!$C$444/'Série - IPCA'!$C$385","v":27528.060716213287},{"$f":"E1190*'Série - IPCA'!$C$444/'Série - IPCA'!$C$398","v":67989.415368726957},{"$f":"F1190*'Série - IPCA'!$C$444/'Série - IPCA'!$C$411","v":67628.204510679076},{"$f":"G1190*'Série - IPCA'!$C$444/'Série - IPCA'!$C$424","v":86054.049033648058},{"$f":"H1190*'Série - IPCA'!$C$444/'Série - IPCA'!$C$437","v":84562.27716783635},66752.401359420735,"Despesas Gerais e Administratias","N","SIM","NÃO","ENCARGOS DE GESTÃO","FUNCIONÁRIOS","PESSOAL",4100,"GERÊNCIA DE SERVIÇOS CORPORATIVOS","Despesas Gerais e Administratias59734,602"]
[null,null,null,29510.400000000001,22624.639999999999,12819.75,13858.34,13958.15,18554.256000000001,{"$f":"D1191*'Série - IPCA'!$C$444/'Série - IPCA'!$C$385","v":38411.247510995294},{"$f":"E1191*'Série - IPCA'!$C$444/'Série - IPCA'!$C$398","v":28175.79375640937},{"$f":"F1191*'Série - IPCA'!$C$444/'Série - IPCA'!$C$411","v":14505.765482071649},{"$f":"G1191*'Série - IPCA'!$C$444/'Série - IPCA'!$C$424","v":14823.400278987192},{"$f":"H1191*'Série - IPCA'!$C$444/'Série - IPCA'!$C$437","v":14270.685315329876},22037.378468758678,"Despesas Gerais e Administratias","N","SIM","NÃO","ENCARGOS DE GESTÃO","FUNCIONÁRIOS","PESSOAL",4200,"GERÊNCIA FINANCEIRA","Despesas Gerais e Administratias18554,256"]
[null,null,null,34054.879999999997,32807.22,30508.02,23963.49,21526.67,28572.056000000004,{"$f":"D1192*'Série - IPCA'!$C$444/'Série - IPCA'!$C$385","v":44326.421351023477},{"$f":"E1192*'Série - IPCA'!$C$444/'Série - IPCA'!$C$398","v":40856.75902207278},{"$f":"F1192*'Série - IPCA'!$C$444/'Série - IPCA'!$C$411","v":34520.344268987421},{"$f":"G1192*'Série - IPCA'!$C$444/'Série - IPCA'!$C$424","v":25632.247754890326},{"$f":"H1192*'Série - IPCA'!$C$444/'Série - IPCA'!$C$437","v":22008.671167522352},33468.888712899272,"Despesas Gerais e Administratias","N","SIM","NÃO","ENCARGOS DE GESTÃO","FUNCIONÁRIOS","PESSOAL",4300,"GERÊNCIA DE TECNOLOGIA E SISTEMAS DE INFORMAÇÃO","Despesas Gerais e Administratias28572,056"]
[null,null,null,0,983.68,11980.38,11182.08,7074.24,6244.0759999999991,{"$f":"D1193*'Série - IPCA'!$C$444/'Série - IPCA'!$C$385","v":0},{"$f":"E1193*'Série - IPCA'!$C$444/'Série - IPCA'!$C$398","v":1225.0345111482336},{"$f":"F1193*'Série - IPCA'!$C$444/'Série - IPCA'!$C$411","v":13556.004030195714},{"$f":"G1193*'Série - IPCA'!$C$444/'Série - IPCA'!$C$424","v":11960.772198665722},{"$f":"H1193*'Série - IPCA'!$C$444/'Série - IPCA'!$C$437","v":7232.6384861259703},6794.8898452271287,"Despesas Gerais e Administratias","N","SIM","NÃO","ENCARGOS DE GESTÃO","FUNCIONÁRIOS","PESSOAL",4500,"GERÊNCIA CONTÁBIL","Despesas Gerais e Administratias6244,076"]
[null,null,null,14755.2,0,0,0,3626.52,3676.3440000000001,{"$f":"D1194*'Série - IPCA'!$C$444/'Série - IPCA'!$C$385","v":19205.623755497647},{"$f":"E1194*'Série - IPCA'!$C$444/'Série - IPCA'!$C$398","v":0},{"$f":"F1194*'Série - IPCA'!$C$444/'Série - IPCA'!$C$411","v":0},{"$f":"G1194*'Série - IPCA'!$C$444/'Série - IPCA'!$C$424","v":0},{"$f":"H1194*'Série - IPCA'!$C$444/'Série - IPCA'!$C$437","v":3707.7209880786568},4582.6689487152607,"Despesas Gerais e Administratias","N","SIM","NÃO","ENCARGOS DE GESTÃO","FUNCIONÁRIOS","PESSOAL",4600,"GERÊNCIA DE PESSOAS E CULTURA","Despesas Gerais e Administratias3676,344"]
[null,null,null,0,0,57.2,342.48,8768.5400000000009,1833.6440000000002,{"$f":"D1195*'Série - IPCA'!$C$444/'Série - IPCA'!$C$385","v":0},{"$f":"E1195*'Série - IPCA'!$C$444/'Série - IPCA'!$C$398","v":0},{"$f":"F1195*'Série - IPCA'!$C$444/'Série - IPCA'!$C$411","v":64.722774279880511},{"$f":"G1195*'Série - IPCA'!$C$444/'Série - IPCA'!$C$424","v":366.32945414440218},{"$f":"H1195*'Série - IPCA'!$C$444/'Série - IPCA'!$C$437","v":8964.8753606231949},1879.1855178094956,"Custos","N","SIM","NÃO","OPEX","FUNCIONÁRIOS","DESPESAS_INSTITUCIONAIS",5100,"GERÊNCIA DE ENGENHARIA","Custos1833,644"]
[null,null,null,0,153.05000000000001,280.2,32.130000000000003,15374.06,3167.8879999999999,{"$f":"D1196*'Série - IPCA'!$C$444/'Série - IPCA'!$C$385","v":0},{"$f":"E1196*'Série - IPCA'!$C$444/'Série - IPCA'!$C$398","v":190.60215916887316},{"$f":"F1196*'Série - IPCA'!$C$444/'Série - IPCA'!$C$411","v":317.05107260878532},{"$f":"G1196*'Série - IPCA'!$C$444/'Série - IPCA'!$C$424","v":34.367453169994278},{"$f":"H1196*'Série - IPCA'!$C$444/'Série - IPCA'!$C$437","v":15718.298791673711},3252.0638953242728,"Custos","N","SIM","NÃO","OPEX","FUNCIONÁRIOS","DESPESAS_INSTITUCIONAIS",5200,"GERÊNCIA DE OPERAÇÕES","Custos3167,888"]
[null,null,null,6033.68,1804.09,0,0,0,1567.5540000000001,{"$f":"D1197*'Série - IPCA'!$C$444/'Série - IPCA'!$C$385","v":7853.5423404000639},{"$f":"E1197*'Série - IPCA'!$C$444/'Série - IPCA'!$C$398","v":2246.739296536899},{"$f":"F1197*'Série - IPCA'!$C$444/'Série - IPCA'!$C$411","v":0},{"$f":"G1197*'Série - IPCA'!$C$444/'Série - IPCA'!$C$424","v":0},{"$f":"H1197*'Série - IPCA'!$C$444/'Série - IPCA'!$C$437","v":0},2020.0563273873927,"Custos","N","SIM","NÃO","OPEX","FUNCIONÁRIOS","DESPESAS_INSTITUCIONAIS",5100,"GERÊNCIA DE ENGENHARIA","Custos1567,554"]
[null,null,null,14497.94,6801.44,832.08,1047.48,540.1,4743.808,{"$f":"D1198*'Série - IPCA'!$C$444/'Série - IPCA'!$C$385","v":18870.769685926287},{"$f":"E1198*'Série - IPCA'!$C$444/'Série - IPCA'!$C$398","v":8470.2329268705689},{"$f":"F1198*'Série - IPCA'!$C$444/'Série - IPCA'!$C$411","v":941.51269270634577},{"$f":"G1198*'Série - IPCA'!$C$444/'Série - IPCA'!$C$424","v":1120.4238981171991},{"$f":"H1198*'Série - IPCA'!$C$444/'Série - IPCA'!$C$437","v":552.19331636425068},5991.0265039969299,"Custos","N","SIM","NÃO","OPEX","FUNCIONÁRIOS","DESPESAS_INSTITUCIONAIS",5200,"GERÊNCIA DE OPERAÇÕES","Custos4743,808"]
[null,null,null,0,0,8,12.9,16155.67,3235.3139999999999,{"$f":"D1199*'Série - IPCA'!$C$444/'Série - IPCA'!$C$385","v":0},{"$f":"E1199*'Série - IPCA'!$C$444/'Série - IPCA'!$C$398","v":0},{"$f":"F1199*'Série - IPCA'!$C$444/'Série - IPCA'!$C$411","v":9.0521362629203512},{"$f":"G1199*'Série - IPCA'!$C$444/'Série - IPCA'!$C$424","v":13.798323868438413},{"$f":"H1199*'Série - IPCA'!$C$444/'Série - IPCA'!$C$437","v":16517.409730395175},3308.0520381053066,"Despesas com Vendas","N","SIM","NÃO","ENCARGOS DE COMERCIALIZAÇÃO","FUNCIONÁRIOS","DESPESAS_INSTITUCIONAIS",5300,"GERÊNCIA COMERCIAL","Despesas com Vendas3235,314"]
[null,null,null,3183.74,3992.88,0,0,87.8,1452.884,{"$f":"D1200*'Série - IPCA'!$C$444/'Série - IPCA'!$C$385","v":4144.0110994990282},{"$f":"E1200*'Série - IPCA'!$C$444/'Série - IPCA'!$C$398","v":4972.5681104358728},{"$f":"F1200*'Série - IPCA'!$C$444/'Série - IPCA'!$C$411","v":0},{"$f":"G1200*'Série - IPCA'!$C$444/'Série - IPCA'!$C$424","v":0},{"$f":"H1200*'Série - IPCA'!$C$444/'Série - IPCA'!$C$437","v":89.76591960152048},1841.2690259072847,"Despesas com Vendas","N","SIM","NÃO","ENCARGOS DE COMERCIALIZAÇÃO","FUNCIONÁRIOS","DESPESAS_INSTITUCIONAIS",5300,"GERÊNCIA COMERCIAL","Despesas com Vendas1452,884"]
[null,null,null,3536,0,0,162.53,0,739.70600000000002,{"$f":"D1201*'Série - IPCA'!$C$444/'Série - IPCA'!$C$385","v":4602.5188136683792},{"$f":"E1201*'Série - IPCA'!$C$444/'Série - IPCA'!$C$398","v":0},{"$f":"F1201*'Série - IPCA'!$C$444/'Série - IPCA'!$C$411","v":0},{"$f":"G1201*'Série - IPCA'!$C$444/'Série - IPCA'!$C$424","v":173.84818436723219},{"$f":"H1201*'Série - IPCA'!$C$444/'Série - IPCA'!$C$437","v":0},955.27339960712231,"Despesas com Vendas","N","SIM","NÃO","ENCARGOS DE COMERCIALIZAÇÃO","FUNCIONÁRIOS","DESPESAS_INSTITUCIONAIS",5500,"GERÊNCIA COMERCIAL (inativo)","Despesas com Vendas739,706"]
[null,null,null,0,0,33,0,0,6.6,{"$f":"D1202*'Série - IPCA'!$C$444/'Série - IPCA'!$C$385","v":0},{"$f":"E1202*'Série - IPCA'!$C$444/'Série - IPCA'!$C$398","v":0},{"$f":"F1202*'Série - IPCA'!$C$444/'Série - IPCA'!$C$411","v":37.340062084546446},{"$f":"G1202*'Série - IPCA'!$C$444/'Série - IPCA'!$C$424","v":0},{"$f":"H1202*'Série - IPCA'!$C$444/'Série - IPCA'!$C$437","v":0},7.4680124169092892,"Despesas Gerais e Administratias","N","SIM","NÃO","ENCARGOS DE GESTÃO","FUNCIONÁRIOS","DESPESAS_INSTITUCIONAIS",1001,"CONSELHO DE ADMINISTRAÇÃO","Despesas Gerais e Administratias6,6"]
[null,null,null,0,0,0,0,5319.5,1063.9000000000001,{"$f":"D1203*'Série - IPCA'!$C$444/'Série - IPCA'!$C$385","v":0},{"$f":"E1203*'Série - IPCA'!$C$444/'Série - IPCA'!$C$398","v":0},{"$f":"F1203*'Série - IPCA'!$C$444/'Série - IPCA'!$C$411","v":0},{"$f":"G1203*'Série - IPCA'!$C$444/'Série - IPCA'!$C$424","v":0},{"$f":"H1203*'Série - IPCA'!$C$444/'Série - IPCA'!$C$437","v":5438.6083066092051},1087.7216613218411,"Despesas Gerais e Administratias","N","SIM","NÃO","ENCARGOS DE GESTÃO","FUNCIONÁRIOS","DESPESAS_INSTITUCIONAIS",1010,"GOVERNANÇA SOCIETÁRIA","Despesas Gerais e Administratias1063,9"]
[null,null,null,0,0,3020.94,8290.02,0,2262.192,{"$f":"D1204*'Série - IPCA'!$C$444/'Série - IPCA'!$C$385","v":0},{"$f":"E1204*'Série - IPCA'!$C$444/'Série - IPCA'!$C$398","v":0},{"$f":"F1204*'Série - IPCA'!$C$444/'Série - IPCA'!$C$411","v":3418.2450652633261},{"$f":"G1204*'Série - IPCA'!$C$444/'Série - IPCA'!$C$424","v":8867.3163438629326},{"$f":"H1204*'Série - IPCA'!$C$444/'Série - IPCA'!$C$437","v":0},2457.1122818252516,"Despesas Gerais e Administratias","N","SIM","NÃO","ENCARGOS DE GESTÃO","FUNCIONÁRIOS","DESPESAS_INSTITUCIONAIS",2100,"SECRETARIA","Despesas Gerais e Administratias2262,192"]
[null,null,null,0,0,0,0,121.4,24.28,{"$f":"D1205*'Série - IPCA'!$C$444/'Série - IPCA'!$C$385","v":0},{"$f":"E1205*'Série - IPCA'!$C$444/'Série - IPCA'!$C$398","v":0},{"$f":"F1205*'Série - IPCA'!$C$444/'Série - IPCA'!$C$411","v":0},{"$f":"G1205*'Série - IPCA'!$C$444/'Série - IPCA'!$C$424","v":0},{"$f":"H1205*'Série - IPCA'!$C$444/'Série - IPCA'!$C$437","v":124.11825329868549},24.823650659737098,"Despesas Gerais e Administratias","N","SIM","NÃO","ENCARGOS DE GESTÃO","FUNCIONÁRIOS","DESPESAS_INSTITUCIONAIS",2120,"ASSESSORIA DA PRESIDÊNCIA","Despesas Gerais e Administratias24,28"]
[null,null,null,0,0,0,0,11585.36,2317.0720000000001,{"$f":"D1206*'Série - IPCA'!$C$444/'Série - IPCA'!$C$385","v":0},{"$f":"E1206*'Série - IPCA'!$C$444/'Série - IPCA'!$C$398","v":0},{"$f":"F1206*'Série - IPCA'!$C$444/'Série - IPCA'!$C$411","v":0},{"$f":"G1206*'Série - IPCA'!$C$444/'Série - IPCA'!$C$424","v":0},{"$f":"H1206*'Série - IPCA'!$C$444/'Série - IPCA'!$C$437","v":11844.766450053205},2368.953290010641,"Despesas Gerais e Administratias","N","SIM","NÃO","ENCARGOS DE GESTÃO","FUNCIONÁRIOS","DESPESAS_INSTITUCIONAIS",2110,"ASSESSORIA DA DIRETORIA EXECUTIVA","Despesas Gerais e Administratias2317,072"]
[null,null,null,0,1670.06,523.48,446.58,11582.35,2844.4940000000001,{"$f":"D1207*'Série - IPCA'!$C$444/'Série - IPCA'!$C$385","v":0},{"$f":"E1207*'Série - IPCA'!$C$444/'Série - IPCA'!$C$398","v":2079.8238611013935},{"$f":"F1207*'Série - IPCA'!$C$444/'Série - IPCA'!$C$411","v":592.3265363641932},{"$f":"G1207*'Série - IPCA'!$C$444/'Série - IPCA'!$C$424","v":477.67871885017257},{"$f":"H1207*'Série - IPCA'!$C$444/'Série - IPCA'!$C$437","v":11841.689053492833},2998.3036339617183,"Despesas Gerais e Administratias","N","SIM","NÃO","ENCARGOS DE GESTÃO","FUNCIONÁRIOS","DESPESAS_INSTITUCIONAIS",2200,"DIRETORIA COLEGIADA - PRESIDÊNCIA","Despesas Gerais e Administratias2844,494"]
[null,null,null,0,0,0,0,608.6,121.72,{"$f":"D1208*'Série - IPCA'!$C$444/'Série - IPCA'!$C$385","v":0},{"$f":"E1208*'Série - IPCA'!$C$444/'Série - IPCA'!$C$398","v":0},{"$f":"F1208*'Série - IPCA'!$C$444/'Série - IPCA'!$C$411","v":0},{"$f":"G1208*'Série - IPCA'!$C$444/'Série - IPCA'!$C$424","v":0},{"$f":"H1208*'Série - IPCA'!$C$444/'Série - IPCA'!$C$437","v":622.22709190757826},124.44541838151565,"Despesas Gerais e Administratias","N","SIM","NÃO","ENCARGOS DE GESTÃO","FUNCIONÁRIOS","DESPESAS_INSTITUCIONAIS",2300,"DIRETORIA COLEGIADA - DAF","Despesas Gerais e Administratias121,72"]
[null,null,null,0,0,83.6,0,0,16.72,{"$f":"D1209*'Série - IPCA'!$C$444/'Série - IPCA'!$C$385","v":0},{"$f":"E1209*'Série - IPCA'!$C$444/'Série - IPCA'!$C$398","v":0},{"$f":"F1209*'Série - IPCA'!$C$444/'Série - IPCA'!$C$411","v":94.594823947517668},{"$f":"G1209*'Série - IPCA'!$C$444/'Série - IPCA'!$C$424","v":0},{"$f":"H1209*'Série - IPCA'!$C$444/'Série - IPCA'!$C$437","v":0},18.918964789503534,"Despesas Gerais e Administratias","N","SIM","NÃO","ENCARGOS DE GESTÃO","FUNCIONÁRIOS","DESPESAS_INSTITUCIONAIS",2310,"ASSESSORIA DAF","Despesas Gerais e Administratias16,72"]
[null,null,null,0,0,0,327.99,1012.49,268.096,{"$f":"D1210*'Série - IPCA'!$C$444/'Série - IPCA'!$C$385","v":0},{"$f":"E1210*'Série - IPCA'!$C$444/'Série - IPCA'!$C$398","v":0},{"$f":"F1210*'Série - IPCA'!$C$444/'Série - IPCA'!$C$411","v":0},{"$f":"G1210*'Série - IPCA'!$C$444/'Série - IPCA'!$C$424","v":350.83040663636552},{"$f":"H1210*'Série - IPCA'!$C$444/'Série - IPCA'!$C$437","v":1035.1605459834109},277.1981905239553,"Despesas Gerais e Administratias","N","SIM","NÃO","ENCARGOS DE GESTÃO","FUNCIONÁRIOS","DESPESAS_INSTITUCIONAIS",2400,"DIRETORIA COLEGIADA - DTC","Despesas Gerais e Administratias268,096"]
[null,null,null,0,0,42.3,0,5804.67,1169.394,{"$f":"D1211*'Série - IPCA'!$C$444/'Série - IPCA'!$C$385","v":0},{"$f":"E1211*'Série - IPCA'!$C$444/'Série - IPCA'!$C$398","v":0},{"$f":"F1211*'Série - IPCA'!$C$444/'Série - IPCA'!$C$411","v":47.863170490191351},{"$f":"G1211*'Série - IPCA'!$C$444/'Série - IPCA'!$C$424","v":0},{"$f":"H1211*'Série - IPCA'!$C$444/'Série - IPCA'!$C$437","v":5934.6416917238948},1196.5009724428171,"Despesas Gerais e Administratias","N","SIM","NÃO","ENCARGOS DE GESTÃO","FUNCIONÁRIOS","DESPESAS_INSTITUCIONAIS",2410,"ASSESSORIA DE SEGURANÇA DO TRABALHO","Despesas Gerais e Administratias1169,394"]
[null,null,null,0,0,0,0,5804.67,1160.934,{"$f":"D1212*'Série - IPCA'!$C$444/'Série - IPCA'!$C$385","v":0},{"$f":"E1212*'Série - IPCA'!$C$444/'Série - IPCA'!$C$398","v":0},{"$f":"F1212*'Série - IPCA'!$C$444/'Série - IPCA'!$C$411","v":0},{"$f":"G1212*'Série - IPCA'!$C$444/'Série - IPCA'!$C$424","v":0},{"$f":"H1212*'Série - IPCA'!$C$444/'Série - IPCA'!$C$437","v":5934.6416917238948},1186.9283383447789,"Despesas Gerais e Administratias","N","SIM","NÃO","ENCARGOS DE GESTÃO","FUNCIONÁRIOS","DESPESAS_INSTITUCIONAIS",3200,"GERÊNCIA DE PLANEJAMENTO E MEIO AMBIENTE","Despesas Gerais e Administratias1160,934"]
[null,null,null,0,0,0,0,5692.94,1138.588,{"$f":"D1213*'Série - IPCA'!$C$444/'Série - IPCA'!$C$385","v":0},{"$f":"E1213*'Série - IPCA'!$C$444/'Série - IPCA'!$C$398","v":0},{"$f":"F1213*'Série - IPCA'!$C$444/'Série - IPCA'!$C$411","v":0},{"$f":"G1213*'Série - IPCA'!$C$444/'Série - IPCA'!$C$424","v":0},{"$f":"H1213*'Série - IPCA'!$C$444/'Série - IPCA'!$C$437","v":5820.4099582719809},1164.0819916543962,"Despesas Gerais e Administratias","N","SIM","NÃO","ENCARGOS DE GESTÃO","FUNCIONÁRIOS","DESPESAS_INSTITUCIONAIS",3300,"GERÊNCIA JURÍDICA","Despesas Gerais e Administratias1138,588"]
[null,null,null,0,0,0,0,5864.71,1172.942,{"$f":"D1214*'Série - IPCA'!$C$444/'Série - IPCA'!$C$385","v":0},{"$f":"E1214*'Série - IPCA'!$C$444/'Série - IPCA'!$C$398","v":0},{"$f":"F1214*'Série - IPCA'!$C$444/'Série - IPCA'!$C$411","v":0},{"$f":"G1214*'Série - IPCA'!$C$444/'Série - IPCA'!$C$424","v":0},{"$f":"H1214*'Série - IPCA'!$C$444/'Série - IPCA'!$C$437","v":5996.0260403898992},1199.2052080779799,"Despesas Gerais e Administratias","N","SIM","NÃO","ENCARGOS DE GESTÃO","FUNCIONÁRIOS","DESPESAS_INSTITUCIONAIS",3500,"ASSESSORIA DE COMUNICAÇÃO INSTITUCIONAL","Despesas Gerais e Administratias1172,942"]
[null,null,null,0,0,0,0,20.8,4.16,{"$f":"D1215*'Série - IPCA'!$C$444/'Série - IPCA'!$C$385","v":0},{"$f":"E1215*'Série - IPCA'!$C$444/'Série - IPCA'!$C$398","v":0},{"$f":"F1215*'Série - IPCA'!$C$444/'Série - IPCA'!$C$411","v":0},{"$f":"G1215*'Série - IPCA'!$C$444/'Série - IPCA'!$C$424","v":0},{"$f":"H1215*'Série - IPCA'!$C$444/'Série - IPCA'!$C$437","v":21.265730383959294},4.2531460767918592,"Despesas Gerais e Administratias","N","SIM","NÃO","ENCARGOS DE GESTÃO","FUNCIONÁRIOS","DESPESAS_INSTITUCIONAIS",3600,"GERÊNCIA DE GOVERNANÇA, RISCO E COMPLIANCE","Despesas Gerais e Administratias4,16"]
[null,null,null,0,0,8,0,6434.65,1288.53,{"$f":"D1216*'Série - IPCA'!$C$444/'Série - IPCA'!$C$385","v":0},{"$f":"E1216*'Série - IPCA'!$C$444/'Série - IPCA'!$C$398","v":0},{"$f":"F1216*'Série - IPCA'!$C$444/'Série - IPCA'!$C$411","v":9.0521362629203512},{"$f":"G1216*'Série - IPCA'!$C$444/'Série - IPCA'!$C$424","v":0},{"$f":"H1216*'Série - IPCA'!$C$444/'Série - IPCA'!$C$437","v":6578.7275007280605},1317.5559273981962,"Despesas Gerais e Administratias","N","SIM","NÃO","ENCARGOS DE GESTÃO","FUNCIONÁRIOS","DESPESAS_INSTITUCIONAIS",3700,"GERÊNCIA DE REGULAÇÃO","Despesas Gerais e Administratias1288,53"]
[null,null,null,0,0,0,215.48,4400.18,923.13199999999995,{"$f":"D1217*'Série - IPCA'!$C$444/'Série - IPCA'!$C$385","v":0},{"$f":"E1217*'Série - IPCA'!$C$444/'Série - IPCA'!$C$398","v":0},{"$f":"F1217*'Série - IPCA'!$C$444/'Série - IPCA'!$C$411","v":0},{"$f":"G1217*'Série - IPCA'!$C$444/'Série - IPCA'!$C$424","v":230.48549047838057},{"$f":"H1217*'Série - IPCA'!$C$444/'Série - IPCA'!$C$437","v":4498.7039192735583},945.83788195038778,"Despesas Gerais e Administratias","N","SIM","NÃO","ENCARGOS DE GESTÃO","FUNCIONÁRIOS","DESPESAS_INSTITUCIONAIS",4100,"GERÊNCIA DE SERVIÇOS CORPORATIVOS","Despesas Gerais e Administratias923,132"]
[null,null,null,0,0,0,0,11685.54,2337.1080000000002,{"$f":"D1218*'Série - IPCA'!$C$444/'Série - IPCA'!$C$385","v":0},{"$f":"E1218*'Série - IPCA'!$C$444/'Série - IPCA'!$C$398","v":0},{"$f":"F1218*'Série - IPCA'!$C$444/'Série - IPCA'!$C$411","v":0},{"$f":"G1218*'Série - IPCA'!$C$444/'Série - IPCA'!$C$424","v":0},{"$f":"H1218*'Série - IPCA'!$C$444/'Série - IPCA'!$C$437","v":11947.189568796717},2389.4379137593432,"Despesas Gerais e Administratias","N","SIM","NÃO","ENCARGOS DE GESTÃO","FUNCIONÁRIOS","DESPESAS_INSTITUCIONAIS",4200,"GERÊNCIA FINANCEIRA","Despesas Gerais e Administratias2337,108"]
[null,null,null,0,0,0,0,11609.34,2321.8679999999999,{"$f":"D1219*'Série - IPCA'!$C$444/'Série - IPCA'!$C$385","v":0},{"$f":"E1219*'Série - IPCA'!$C$444/'Série - IPCA'!$C$398","v":0},{"$f":"F1219*'Série - IPCA'!$C$444/'Série - IPCA'!$C$411","v":0},{"$f":"G1219*'Série - IPCA'!$C$444/'Série - IPCA'!$C$424","v":0},{"$f":"H1219*'Série - IPCA'!$C$444/'Série - IPCA'!$C$437","v":11869.28338344779},2373.8566766895578,"Despesas Gerais e Administratias","N","SIM","NÃO","ENCARGOS DE GESTÃO","FUNCIONÁRIOS","DESPESAS_INSTITUCIONAIS",4300,"GERÊNCIA DE TECNOLOGIA E SISTEMAS DE INFORMAÇÃO","Despesas Gerais e Administratias2321,868"]
[null,null,null,0,0,0,0,5804.67,1160.934,{"$f":"D1220*'Série - IPCA'!$C$444/'Série - IPCA'!$C$385","v":0},{"$f":"E1220*'Série - IPCA'!$C$444/'Série - IPCA'!$C$398","v":0},{"$f":"F1220*'Série - IPCA'!$C$444/'Série - IPCA'!$C$411","v":0},{"$f":"G1220*'Série - IPCA'!$C$444/'Série - IPCA'!$C$424","v":0},{"$f":"H1220*'Série - IPCA'!$C$444/'Série - IPCA'!$C$437","v":5934.6416917238948},1186.9283383447789,"Despesas Gerais e Administratias","N","SIM","NÃO","ENCARGOS DE GESTÃO","FUNCIONÁRIOS","DESPESAS_INSTITUCIONAIS",4500,"GERÊNCIA CONTÁBIL","Despesas Gerais e Administratias1160,934"]
[null,null,null,0,335.63,0,0,0,{"$f":"AVERAGE(D1221:H1221)","v":67.126000000000005},{"$f":"D1221*'Série - IPCA'!$C$444/'Série - IPCA'!$C$385","v":0},{"$f":"E1221*'Série - IPCA'!$C$444/'Série - IPCA'!$C$398","v":417.97976270401114},{"$f":"F1221*'Série - IPCA'!$C$444/'Série - IPCA'!$C$411","v":0},{"$f":"G1221*'Série - IPCA'!$C$444/'Série - IPCA'!$C$424","v":0},{"$f":"H1221*'Série - IPCA'!$C$444/'Série - IPCA'!$C$437","v":0},{"$f":"AVERAGE(J1221:N1221)","v":83.59595254080223},"Despesas Gerais e Administratias","N","SIM","NÃO","ENCARGOS DE GESTÃO","FUNCIONÁRIOS","DESPESAS_INSTITUCIONAIS",1001,"CONSELHO DE ADMINISTRAÇÃO",{"$f":"B1221&C1221&P1221&I1221","v":"Despesas Gerais e Administratias67,126"}]
[null,null,null,0,182.58,0,0,0,36.516000000000005,{"$f":"D1222*'Série - IPCA'!$C$444/'Série - IPCA'!$C$385","v":0},{"$f":"E1222*'Série - IPCA'!$C$444/'Série - IPCA'!$C$398","v":227.37760353513795},{"$f":"F1222*'Série - IPCA'!$C$444/'Série - IPCA'!$C$411","v":0},{"$f":"G1222*'Série - IPCA'!$C$444/'Série - IPCA'!$C$424","v":0},{"$f":"H1222*'Série - IPCA'!$C$444/'Série - IPCA'!$C$437","v":0},45.475520707027592,"Despesas Gerais e Administratias","N","SIM","NÃO","ENCARGOS DE GESTÃO","FUNCIONÁRIOS","DESPESAS_INSTITUCIONAIS",1002,"CONSELHO FISCAL","Despesas Gerais e Administratias36,516"]
[null,null,null,1239.6300000000001,125.08,399.08,3949.69,0,1142.6959999999999,{"$f":"D1223*'Série - IPCA'!$C$444/'Série - IPCA'!$C$385","v":1613.523867926395},{"$f":"E1223*'Série - IPCA'!$C$444/'Série - IPCA'!$C$398","v":155.76947447790039},{"$f":"F1223*'Série - IPCA'!$C$444/'Série - IPCA'!$C$411","v":451.56581747578167},{"$f":"G1223*'Série - IPCA'!$C$444/'Série - IPCA'!$C$424","v":4224.7365736381798},{"$f":"H1223*'Série - IPCA'!$C$444/'Série - IPCA'!$C$437","v":0},1289.1191467036515,"Despesas Gerais e Administratias","N","SIM","NÃO","ENCARGOS DE GESTÃO","FUNCIONÁRIOS","DESPESAS_INSTITUCIONAIS",2100,"SECRETARIA","Despesas Gerais e Administratias1142,696"]
[null,null,null,0,356.99,0,0,1005.27,272.452,{"$f":"D1224*'Série - IPCA'!$C$444/'Série - IPCA'!$C$385","v":0},{"$f":"E1224*'Série - IPCA'!$C$444/'Série - IPCA'!$C$398","v":444.58062595031708},{"$f":"F1224*'Série - IPCA'!$C$444/'Série - IPCA'!$C$411","v":0},{"$f":"G1224*'Série - IPCA'!$C$444/'Série - IPCA'!$C$424","v":0},{"$f":"H1224*'Série - IPCA'!$C$444/'Série - IPCA'!$C$437","v":1027.7788838020558},294.4719019504746,"Despesas Gerais e Administratias","N","SIM","NÃO","ENCARGOS DE GESTÃO","FUNCIONÁRIOS","DESPESAS_INSTITUCIONAIS",2110,"ASSESSORIA DA DIRETORIA EXECUTIVA","Despesas Gerais e Administratias272,452"]
[null,null,null,2824.72,7230.24,218.87,0,24144.15,6883.5960000000005,{"$f":"D1225*'Série - IPCA'!$C$444/'Série - IPCA'!$C$385","v":3676.7044523035479},{"$f":"E1225*'Série - IPCA'!$C$444/'Série - IPCA'!$C$398","v":9004.2427658226297},{"$f":"F1225*'Série - IPCA'!$C$444/'Série - IPCA'!$C$411","v":247.65513298317217},{"$f":"G1225*'Série - IPCA'!$C$444/'Série - IPCA'!$C$424","v":0},{"$f":"H1225*'Série - IPCA'!$C$444/'Série - IPCA'!$C$437","v":24684.758858166864},7522.6722418552426,"Despesas Gerais e Administratias","N","SIM","NÃO","ENCARGOS DE GESTÃO","FUNCIONÁRIOS","DESPESAS_INSTITUCIONAIS",2200,"DIRETORIA COLEGIADA - PRESIDÊNCIA","Despesas Gerais e Administratias6883,596"]
[null,null,null,704.48,242.89,0,0,1721.3,533.73400000000004,{"$f":"D1226*'Série - IPCA'!$C$444/'Série - IPCA'!$C$385","v":916.96336364623869},{"$f":"E1226*'Série - IPCA'!$C$444/'Série - IPCA'!$C$398","v":302.48519072543354},{"$f":"F1226*'Série - IPCA'!$C$444/'Série - IPCA'!$C$411","v":0},{"$f":"G1226*'Série - IPCA'!$C$444/'Série - IPCA'!$C$424","v":0},{"$f":"H1226*'Série - IPCA'!$C$444/'Série - IPCA'!$C$437","v":1759.8414283610159},595.85799654653761,"Despesas Gerais e Administratias","N","SIM","NÃO","ENCARGOS DE GESTÃO","FUNCIONÁRIOS","DESPESAS_INSTITUCIONAIS",2300,"DIRETORIA COLEGIADA - DAF","Despesas Gerais e Administratias533,734"]
[null,null,null,704.48,202.89,0,0,1721.84,525.84199999999998,{"$f":"D1227*'Série - IPCA'!$C$444/'Série - IPCA'!$C$385","v":916.96336364623869},{"$f":"E1227*'Série - IPCA'!$C$444/'Série - IPCA'!$C$398","v":252.67084007692043},{"$f":"F1227*'Série - IPCA'!$C$444/'Série - IPCA'!$C$411","v":0},{"$f":"G1227*'Série - IPCA'!$C$444/'Série - IPCA'!$C$424","v":0},{"$f":"H1227*'Série - IPCA'!$C$444/'Série - IPCA'!$C$437","v":1760.3935194382918},586.00554463229014,"Despesas Gerais e Administratias","N","SIM","NÃO","ENCARGOS DE GESTÃO","FUNCIONÁRIOS","DESPESAS_INSTITUCIONAIS",2400,"DIRETORIA COLEGIADA - DTC","Despesas Gerais e Administratias525,842"]
[null,null,null,0,447.85,772,0,0,243.96999999999997,{"$f":"D1228*'Série - IPCA'!$C$444/'Série - IPCA'!$C$385","v":0},{"$f":"E1228*'Série - IPCA'!$C$444/'Série - IPCA'!$C$398","v":557.73392344841466},{"$f":"F1228*'Série - IPCA'!$C$444/'Série - IPCA'!$C$411","v":873.53114937181385},{"$f":"G1228*'Série - IPCA'!$C$444/'Série - IPCA'!$C$424","v":0},{"$f":"H1228*'Série - IPCA'!$C$444/'Série - IPCA'!$C$437","v":0},286.25301456404566,"Despesas Gerais e Administratias","N","SIM","NÃO","ENCARGOS DE GESTÃO","FUNCIONÁRIOS","DESPESAS_INSTITUCIONAIS",2410,"ASSESSORIA DE SEGURANÇA DO TRABALHO","Despesas Gerais e Administratias243,97"]
[null,null,null,1767.98,1373.37,0,0,0,628.27,{"$f":"D1229*'Série - IPCA'!$C$444/'Série - IPCA'!$C$385","v":2301.2333744879588},{"$f":"E1229*'Série - IPCA'!$C$444/'Série - IPCA'!$C$398","v":1710.3383687537098},{"$f":"F1229*'Série - IPCA'!$C$444/'Série - IPCA'!$C$411","v":0},{"$f":"G1229*'Série - IPCA'!$C$444/'Série - IPCA'!$C$424","v":0},{"$f":"H1229*'Série - IPCA'!$C$444/'Série - IPCA'!$C$437","v":0},802.31434864833375,"Despesas Gerais e Administratias","N","SIM","NÃO","ENCARGOS DE GESTÃO","FUNCIONÁRIOS","DESPESAS_INSTITUCIONAIS",3200,"GERÊNCIA DE PLANEJAMENTO E MEIO AMBIENTE","Despesas Gerais e Administratias628,27"]
[null,null,null,2120.2399999999998,725.6,0,0,0,569.16799999999989,{"$f":"D1230*'Série - IPCA'!$C$444/'Série - IPCA'!$C$385","v":2759.7410886573089},{"$f":"E1230*'Série - IPCA'!$C$444/'Série - IPCA'!$C$398","v":903.63232076402721},{"$f":"F1230*'Série - IPCA'!$C$444/'Série - IPCA'!$C$411","v":0},{"$f":"G1230*'Série - IPCA'!$C$444/'Série - IPCA'!$C$424","v":0},{"$f":"H1230*'Série - IPCA'!$C$444/'Série - IPCA'!$C$437","v":0},732.67468188426722,"Despesas Gerais e Administratias","N","SIM","NÃO","ENCARGOS DE GESTÃO","FUNCIONÁRIOS","DESPESAS_INSTITUCIONAIS",3300,"GERÊNCIA JURÍDICA","Despesas Gerais e Administratias569,168"]
[null,null,null,0,712.04,0,0,0,142.40799999999999,{"$f":"D1231*'Série - IPCA'!$C$444/'Série - IPCA'!$C$385","v":0},{"$f":"E1231*'Série - IPCA'!$C$444/'Série - IPCA'!$C$398","v":886.74525589418113},{"$f":"F1231*'Série - IPCA'!$C$444/'Série - IPCA'!$C$411","v":0},{"$f":"G1231*'Série - IPCA'!$C$444/'Série - IPCA'!$C$424","v":0},{"$f":"H1231*'Série - IPCA'!$C$444/'Série - IPCA'!$C$437","v":0},177.34905117883622,"Despesas Gerais e Administratias","N","SIM","NÃO","ENCARGOS DE GESTÃO","FUNCIONÁRIOS","DESPESAS_INSTITUCIONAIS",3500,"ASSESSORIA DE COMUNICAÇÃO INSTITUCIONAL","Despesas Gerais e Administratias142,408"]
[null,null,null,1063.44,306.27999999999997,0,0,0,273.94400000000002,{"$f":"D1232*'Série - IPCA'!$C$444/'Série - IPCA'!$C$385","v":1384.1919138030264},{"$f":"E1232*'Série - IPCA'!$C$444/'Série - IPCA'!$C$398","v":381.42848291566463},{"$f":"F1232*'Série - IPCA'!$C$444/'Série - IPCA'!$C$411","v":0},{"$f":"G1232*'Série - IPCA'!$C$444/'Série - IPCA'!$C$424","v":0},{"$f":"H1232*'Série - IPCA'!$C$444/'Série - IPCA'!$C$437","v":0},353.12407934373823,"Despesas Gerais e Administratias","N","SIM","NÃO","ENCARGOS DE GESTÃO","FUNCIONÁRIOS","DESPESAS_INSTITUCIONAIS",3600,"GERÊNCIA DE GOVERNANÇA, RISCO E COMPLIANCE","Despesas Gerais e Administratias273,944"]
[null,null,null,10792.92,5926.07,987.4,4853.71,2561.9699999999998,5024.4139999999998,{"$f":"D1233*'Série - IPCA'!$C$444/'Série - IPCA'!$C$385","v":14048.251514258407},{"$f":"E1233*'Série - IPCA'!$C$444/'Série - IPCA'!$C$398","v":7380.0832236908473},{"$f":"F1233*'Série - IPCA'!$C$444/'Série - IPCA'!$C$411","v":1117.2599182509443},{"$f":"G1233*'Série - IPCA'!$C$444/'Série - IPCA'!$C$424","v":5191.7102746882329},{"$f":"H1233*'Série - IPCA'!$C$444/'Série - IPCA'!$C$437","v":2619.3347726823163},6071.3279407141499,"Despesas Gerais e Administratias","N","SIM","NÃO","ENCARGOS DE GESTÃO","FUNCIONÁRIOS","DESPESAS_INSTITUCIONAIS",4100,"GERÊNCIA DE SERVIÇOS CORPORATIVOS","Despesas Gerais e Administratias5024,414"]
[null,null,null,3888.22,1119.76,0,0,0,1001.5959999999999,{"$f":"D1234*'Série - IPCA'!$C$444/'Série - IPCA'!$C$385","v":5060.9744631452677},{"$f":"E1234*'Série - IPCA'!$C$444/'Série - IPCA'!$C$398","v":1394.502932054475},{"$f":"F1234*'Série - IPCA'!$C$444/'Série - IPCA'!$C$411","v":0},{"$f":"G1234*'Série - IPCA'!$C$444/'Série - IPCA'!$C$424","v":0},{"$f":"H1234*'Série - IPCA'!$C$444/'Série - IPCA'!$C$437","v":0},1291.0954790399487,"Despesas Gerais e Administratias","N","SIM","NÃO","ENCARGOS DE GESTÃO","FUNCIONÁRIOS","DESPESAS_INSTITUCIONAIS",4200,"GERÊNCIA FINANCEIRA","Despesas Gerais e Administratias1001,596"]
[null,null,null,4389.51,1264.1199999999999,0,0,0,1130.7260000000001,{"$f":"D1235*'Série - IPCA'!$C$444/'Série - IPCA'!$C$385","v":5713.4622052560771},{"$f":"E1235*'Série - IPCA'!$C$444/'Série - IPCA'!$C$398","v":1574.2829235449585},{"$f":"F1235*'Série - IPCA'!$C$444/'Série - IPCA'!$C$411","v":0},{"$f":"G1235*'Série - IPCA'!$C$444/'Série - IPCA'!$C$424","v":0},{"$f":"H1235*'Série - IPCA'!$C$444/'Série - IPCA'!$C$437","v":0},1457.5490257602073,"Despesas Gerais e Administratias","N","SIM","NÃO","ENCARGOS DE GESTÃO","FUNCIONÁRIOS","DESPESAS_INSTITUCIONAIS",4300,"GERÊNCIA DE TECNOLOGIA E SISTEMAS DE INFORMAÇÃO","Despesas Gerais e Administratias1130,726"]
[null,null,null,2824.72,813.48,0,0,0,727.64,{"$f":"D1236*'Série - IPCA'!$C$444/'Série - IPCA'!$C$385","v":3676.7044523035479},{"$f":"E1236*'Série - IPCA'!$C$444/'Série - IPCA'!$C$398","v":1013.0744491388105},{"$f":"F1236*'Série - IPCA'!$C$444/'Série - IPCA'!$C$411","v":0},{"$f":"G1236*'Série - IPCA'!$C$444/'Série - IPCA'!$C$424","v":0},{"$f":"H1236*'Série - IPCA'!$C$444/'Série - IPCA'!$C$437","v":0},937.9557802884716,"Despesas Gerais e Administratias","N","SIM","NÃO","ENCARGOS DE GESTÃO","FUNCIONÁRIOS","DESPESAS_INSTITUCIONAIS",4500,"GERÊNCIA CONTÁBIL","Despesas Gerais e Administratias727,64"]
[null,null,null,683984.72,468297.37,730684.25,733716.26,769515.01,677239.52199999988,{"$f":"D1237*'Série - IPCA'!$C$444/'Série - IPCA'!$C$385","v":890286.35239301436},{"$f":"E1237*'Série - IPCA'!$C$444/'Série - IPCA'!$C$398","v":583198.23492391175},{"$f":"F1237*'Série - IPCA'!$C$444/'Série - IPCA'!$C$411","v":826781.67452122003},{"$f":"G1237*'Série - IPCA'!$C$444/'Série - IPCA'!$C$424","v":784810.43279219884},{"$f":"H1237*'Série - IPCA'!$C$444/'Série - IPCA'!$C$437","v":786745.13120527589},774364.3651671242,"Despesas Gerais e Administratias","N","SIM","NÃO","ENCARGOS DE GESTÃO","FIXO","DESPESAS_INSTITUCIONAIS",1001,"CONSELHO DE ADMINISTRAÇÃO","Despesas Gerais e Administratias677239,522"]
[null,null,null,0,0,129653.67,136876.91,150835.20000000001,83473.156000000003,{"$f":"D1238*'Série - IPCA'!$C$444/'Série - IPCA'!$C$385","v":0},{"$f":"E1238*'Série - IPCA'!$C$444/'Série - IPCA'!$C$398","v":0},{"$f":"F1238*'Série - IPCA'!$C$444/'Série - IPCA'!$C$411","v":146705.33597846355},{"$f":"G1238*'Série - IPCA'!$C$444/'Série - IPCA'!$C$424","v":146408.67707682919},{"$f":"H1238*'Série - IPCA'!$C$444/'Série - IPCA'!$C$437","v":154212.5334428162},89465.309299621804,"Despesas Gerais e Administratias","N","SIM","SIM","ENCARGOS DE GESTÃO","FIXO","DESPESAS_INSTITUCIONAIS",1003,"COMITÊ DE INDICAÇÃO E AVALIAÇÃO","Despesas Gerais e Administratias83473,156"]
[null,null,null,0,0,171868.86,159931.23000000001,181002.12,102560.442,{"$f":"D1239*'Série - IPCA'!$C$444/'Série - IPCA'!$C$385","v":0},{"$f":"E1239*'Série - IPCA'!$C$444/'Série - IPCA'!$C$398","v":0},{"$f":"F1239*'Série - IPCA'!$C$444/'Série - IPCA'!$C$411","v":194472.54250909764},{"$f":"G1239*'Série - IPCA'!$C$444/'Série - IPCA'!$C$424","v":171068.44249749719},{"$f":"H1239*'Série - IPCA'!$C$444/'Série - IPCA'!$C$437","v":185054.91744447337},110119.18049021364,"Despesas Gerais e Administratias","N","SIM","SIM","ENCARGOS DE GESTÃO","FIXO","DESPESAS_INSTITUCIONAIS",1004,"COMITÊ DE AUDITORIA ESTATUTÁRIA","Despesas Gerais e Administratias102560,442"]
[null,null,null,0,229447.33,0,0,0,45889.466,{"$f":"D1240*'Série - IPCA'!$C$444/'Série - IPCA'!$C$385","v":0},{"$f":"E1240*'Série - IPCA'!$C$444/'Série - IPCA'!$C$398","v":285744.24379962735},{"$f":"F1240*'Série - IPCA'!$C$444/'Série - IPCA'!$C$411","v":0},{"$f":"G1240*'Série - IPCA'!$C$444/'Série - IPCA'!$C$424","v":0},{"$f":"H1240*'Série - IPCA'!$C$444/'Série - IPCA'!$C$437","v":0},57148.848759925473,"Despesas Gerais e Administratias","N","SIM","NÃO","ENCARGOS DE GESTÃO","FIXO","DESPESAS_INSTITUCIONAIS",1001,"CONSELHO DE ADMINISTRAÇÃO","Despesas Gerais e Administratias45889,466"]
[null,null,null,165272.28,165119.43,172191.32,168314.72,193126.31,172804.81200000001,{"$f":"D1241*'Série - IPCA'!$C$444/'Série - IPCA'!$C$385","v":215121.26076862792},{"$f":"E1241*'Série - IPCA'!$C$444/'Série - IPCA'!$C$398","v":205632.92962256522},{"$f":"F1241*'Série - IPCA'!$C$444/'Série - IPCA'!$C$411","v":194837.41149151529},{"$f":"G1241*'Série - IPCA'!$C$444/'Série - IPCA'!$C$424","v":180035.73785934327},{"$f":"H1241*'Série - IPCA'!$C$444/'Série - IPCA'!$C$437","v":197450.57877446836},198615.58370330403,"Despesas Gerais e Administratias","N","SIM","NÃO","ENCARGOS DE GESTÃO","FIXO","DESPESAS_INSTITUCIONAIS",1002,"CONSELHO FISCAL","Despesas Gerais e Administratias172804,812"]
[null,null,null,0,0,0,5965.18,0,1193.0360000000001,{"$f":"D1242*'Série - IPCA'!$C$444/'Série - IPCA'!$C$385","v":0},{"$f":"E1242*'Série - IPCA'!$C$444/'Série - IPCA'!$C$398","v":0},{"$f":"F1242*'Série - IPCA'!$C$444/'Série - IPCA'!$C$411","v":0},{"$f":"G1242*'Série - IPCA'!$C$444/'Série - IPCA'!$C$424","v":6380.5802770179425},{"$f":"H1242*'Série - IPCA'!$C$444/'Série - IPCA'!$C$437","v":0},1276.1160554035885,"Despesas Gerais e Administratias","N","SIM","SIM","ENCARGOS DE GESTÃO","FIXO","DESPESAS_INSTITUCIONAIS",1003,"COMITÊ DE INDICAÇÃO E AVALIAÇÃO","Despesas Gerais e Administratias1193,036"]
[null,null,null,0,0,0,0,0,0,{"$f":"D1243*'Série - IPCA'!$C$444/'Série - IPCA'!$C$385","v":0},{"$f":"E1243*'Série - IPCA'!$C$444/'Série - IPCA'!$C$398","v":0},{"$f":"F1243*'Série - IPCA'!$C$444/'Série - IPCA'!$C$411","v":0},{"$f":"G1243*'Série - IPCA'!$C$444/'Série - IPCA'!$C$424","v":0},{"$f":"H1243*'Série - IPCA'!$C$444/'Série - IPCA'!$C$437","v":0},0,"Despesas Gerais e Administratias","N","SIM","SIM","ENCARGOS DE GESTÃO","FIXO","DESPESAS_INSTITUCIONAIS",1004,"COMITÊ DE AUDITORIA ESTATUTÁRIA","Despesas Gerais e Administratias0"]
[null,null,null,0,-0.01,0,0,0,-2E-3,{"$f":"D1244*'Série - IPCA'!$C$444/'Série - IPCA'!$C$385","v":0},{"$f":"E1244*'Série - IPCA'!$C$444/'Série - IPCA'!$C$398","v":-1.2453587662128269E-2},{"$f":"F1244*'Série - IPCA'!$C$444/'Série - IPCA'!$C$411","v":0},{"$f":"G1244*'Série - IPCA'!$C$444/'Série - IPCA'!$C$424","v":0},{"$f":"H1244*'Série - IPCA'!$C$444/'Série - IPCA'!$C$437","v":0},-2.4907175324256538E-3,"Despesas Gerais e Administratias","N","SIM","NÃO","ENCARGOS DE GESTÃO","FIXO","DESPESAS_INSTITUCIONAIS",2200,"DIRETORIA COLEGIADA - PRESIDÊNCIA","Despesas Gerais e Administratias-0,002"]
[null,null,null,0,-0.17,0,0,0,-3.4000000000000002E-2,{"$f":"D1245*'Série - IPCA'!$C$444/'Série - IPCA'!$C$385","v":0},{"$f":"E1245*'Série - IPCA'!$C$444/'Série - IPCA'!$C$398","v":-0.21171099025618059},{"$f":"F1245*'Série - IPCA'!$C$444/'Série - IPCA'!$C$411","v":0},{"$f":"G1245*'Série - IPCA'!$C$444/'Série - IPCA'!$C$424","v":0},{"$f":"H1245*'Série - IPCA'!$C$444/'Série - IPCA'!$C$437","v":0},-4.2342198051236117E-2,"Despesas Gerais e Administratias","N","SIM","NÃO","ENCARGOS DE GESTÃO","FIXO","DESPESAS_INSTITUCIONAIS",4100,"GERÊNCIA DE SERVIÇOS CORPORATIVOS","Despesas Gerais e Administratias-0,034"]
[null,null,null,138,0,0,0,0,27.6,{"$f":"D1246*'Série - IPCA'!$C$444/'Série - IPCA'!$C$385","v":179.62318899497635},{"$f":"E1246*'Série - IPCA'!$C$444/'Série - IPCA'!$C$398","v":0},{"$f":"F1246*'Série - IPCA'!$C$444/'Série - IPCA'!$C$411","v":0},{"$f":"G1246*'Série - IPCA'!$C$444/'Série - IPCA'!$C$424","v":0},{"$f":"H1246*'Série - IPCA'!$C$444/'Série - IPCA'!$C$437","v":0},35.924637798995271,"Despesas Gerais e Administratias","N","SIM","NÃO","ENCARGOS DE GESTÃO","FIXO","DESPESAS_GERAIS",4100,"GERÊNCIA DE SERVIÇOS CORPORATIVOS","Despesas Gerais e Administratias27,6"]
[null,null,null,35,0,0,0,0,7,{"$f":"D1247*'Série - IPCA'!$C$444/'Série - IPCA'!$C$385","v":45.556605904522982},{"$f":"E1247*'Série - IPCA'!$C$444/'Série - IPCA'!$C$398","v":0},{"$f":"F1247*'Série - IPCA'!$C$444/'Série - IPCA'!$C$411","v":0},{"$f":"G1247*'Série - IPCA'!$C$444/'Série - IPCA'!$C$424","v":0},{"$f":"H1247*'Série - IPCA'!$C$444/'Série - IPCA'!$C$437","v":0},9.1113211809045964,"Despesas Gerais e Administratias","N","SIM","NÃO","ENCARGOS DE GESTÃO","FIXO","DESPESAS_GERAIS",4200,"GERÊNCIA FINANCEIRA","Despesas Gerais e Administratias7"]
[null,null,null,0,0,1832003.58,1701093.36,942826.18,895184.62400000007,{"$f":"D1248*'Série - IPCA'!$C$444/'Série - IPCA'!$C$385","v":0},{"$f":"E1248*'Série - IPCA'!$C$444/'Série - IPCA'!$C$398","v":0},{"$f":"F1248*'Série - IPCA'!$C$444/'Série - IPCA'!$C$411","v":2072943.255039738},{"$f":"G1248*'Série - IPCA'!$C$444/'Série - IPCA'!$C$424","v":1819553.2644752015},{"$f":"H1248*'Série - IPCA'!$C$444/'Série - IPCA'!$C$437","v":963936.89148164785},971286.68219931761,"Despesas com Vendas","N","SIM","NÃO","ENCARGOS DE COMERCIALIZAÇÃO","VOLUME S/ TERMOELÉTRICA","DESPESAS_GERAIS",5300,"GERÊNCIA COMERCIAL","Despesas com Vendas895184,624"]
[null,null,null,2847287.44,987155.62,0,0,0,766888.61199999996,{"$f":"D1249*'Série - IPCA'!$C$444/'Série - IPCA'!$C$385","v":3706078.6228850898},{"$f":"E1249*'Série - IPCA'!$C$444/'Série - IPCA'!$C$398","v":1229362.9049832583},{"$f":"F1249*'Série - IPCA'!$C$444/'Série - IPCA'!$C$411","v":0},{"$f":"G1249*'Série - IPCA'!$C$444/'Série - IPCA'!$C$424","v":0},{"$f":"H1249*'Série - IPCA'!$C$444/'Série - IPCA'!$C$437","v":0},987088.30557366961,"Despesas com Vendas","N","SIM","NÃO","ENCARGOS DE COMERCIALIZAÇÃO","VOLUME S/ TERMOELÉTRICA","DESPESAS_GERAIS",5400,"GERÊNCIA COMERCIAL (inativo)","Despesas com Vendas766888,612"]
[null,null,null,0,0,0,0,0,0,{"$f":"D1250*'Série - IPCA'!$C$444/'Série - IPCA'!$C$385","v":0},{"$f":"E1250*'Série - IPCA'!$C$444/'Série - IPCA'!$C$398","v":0},{"$f":"F1250*'Série - IPCA'!$C$444/'Série - IPCA'!$C$411","v":0},{"$f":"G1250*'Série - IPCA'!$C$444/'Série - IPCA'!$C$424","v":0},{"$f":"H1250*'Série - IPCA'!$C$444/'Série - IPCA'!$C$437","v":0},0,"Despesas com Vendas","N","SIM","NÃO","ENCARGOS DE COMERCIALIZAÇÃO","VOLUME S/ TERMOELÉTRICA","DESPESAS_GERAIS",5400,"GERÊNCIA COMERCIAL (inativo)","Despesas com Vendas0"]
[null,null,null,0,0,0,0,0,0,{"$f":"D1251*'Série - IPCA'!$C$444/'Série - IPCA'!$C$385","v":0},{"$f":"E1251*'Série - IPCA'!$C$444/'Série - IPCA'!$C$398","v":0},{"$f":"F1251*'Série - IPCA'!$C$444/'Série - IPCA'!$C$411","v":0},{"$f":"G1251*'Série - IPCA'!$C$444/'Série - IPCA'!$C$424","v":0},{"$f":"H1251*'Série - IPCA'!$C$444/'Série - IPCA'!$C$437","v":0},0,"Outras Receitas e Despesas","N","SIM","NÃO","OPEX","FIXO","DESPESAS_GERAIS",9999,"RATEIO","Outras Receitas e Despesas0"]
[null,null,null,0,-1735803.98,-2040263.72,1008906.42,0,-553432.25600000005,{"$f":"D1252*'Série - IPCA'!$C$444/'Série - IPCA'!$C$385","v":0},{"$f":"E1252*'Série - IPCA'!$C$444/'Série - IPCA'!$C$398","v":-2161698.7029201146},{"$f":"F1252*'Série - IPCA'!$C$444/'Série - IPCA'!$C$411","v":-2308593.1507165967},{"$f":"G1252*'Série - IPCA'!$C$444/'Série - IPCA'!$C$424","v":1079164.1500857947},{"$f":"H1252*'Série - IPCA'!$C$444/'Série - IPCA'!$C$437","v":0},-678225.54071018344,"Outras Receitas e Despesas","N","SIM","NÃO","OPEX","FIXO","DESPESAS_GERAIS",5300,"GERÊNCIA COMERCIAL","Outras Receitas e Despesas-553432,256"]
[null,null,null,0,0,0,0,16044.1,3208.82,{"$f":"D1253*'Série - IPCA'!$C$444/'Série - IPCA'!$C$385","v":0},{"$f":"E1253*'Série - IPCA'!$C$444/'Série - IPCA'!$C$398","v":0},{"$f":"F1253*'Série - IPCA'!$C$444/'Série - IPCA'!$C$411","v":0},{"$f":"G1253*'Série - IPCA'!$C$444/'Série - IPCA'!$C$424","v":0},{"$f":"H1253*'Série - IPCA'!$C$444/'Série - IPCA'!$C$437","v":16403.341579484677},3280.6683158969354,"Custos","N","SIM","NÃO","OPEX","FUNCIONÁRIOS","PESSOAL",5100,"GERÊNCIA DE ENGENHARIA","Custos3208,82"]
[null,null,null,0,0,0,0,8745.44,1749.0880000000002,{"$f":"D1254*'Série - IPCA'!$C$444/'Série - IPCA'!$C$385","v":0},{"$f":"E1254*'Série - IPCA'!$C$444/'Série - IPCA'!$C$398","v":0},{"$f":"F1254*'Série - IPCA'!$C$444/'Série - IPCA'!$C$411","v":0},{"$f":"G1254*'Série - IPCA'!$C$444/'Série - IPCA'!$C$424","v":0},{"$f":"H1254*'Série - IPCA'!$C$444/'Série - IPCA'!$C$437","v":8941.2581312063921},1788.2516262412785,"Custos","N","SIM","NÃO","OPEX","FUNCIONÁRIOS","PESSOAL",5200,"GERÊNCIA DE OPERAÇÕES","Custos1749,088"]
[null,null,null,0,0,0,20260.599999999999,0,4052.12,{"$f":"D1255*'Série - IPCA'!$C$444/'Série - IPCA'!$C$385","v":0},{"$f":"E1255*'Série - IPCA'!$C$444/'Série - IPCA'!$C$398","v":0},{"$f":"F1255*'Série - IPCA'!$C$444/'Série - IPCA'!$C$411","v":0},{"$f":"G1255*'Série - IPCA'!$C$444/'Série - IPCA'!$C$424","v":21671.497718518083},{"$f":"H1255*'Série - IPCA'!$C$444/'Série - IPCA'!$C$437","v":0},4334.299543703617,"Despesas Gerais e Administratias","N","SIM","NÃO","ENCARGOS DE GESTÃO","FUNCIONÁRIOS","PESSOAL",3200,"GERÊNCIA DE PLANEJAMENTO E MEIO AMBIENTE","Despesas Gerais e Administratias4052,12"]
[null,null,null,0,0,0,0,544.28,108.85599999999999,{"$f":"D1256*'Série - IPCA'!$C$444/'Série - IPCA'!$C$385","v":0},{"$f":"E1256*'Série - IPCA'!$C$444/'Série - IPCA'!$C$398","v":0},{"$f":"F1256*'Série - IPCA'!$C$444/'Série - IPCA'!$C$411","v":0},{"$f":"G1256*'Série - IPCA'!$C$444/'Série - IPCA'!$C$424","v":0},{"$f":"H1256*'Série - IPCA'!$C$444/'Série - IPCA'!$C$437","v":556.46691025871939},111.29338205174388,"Despesas Gerais e Administratias","N","SIM","NÃO","ENCARGOS DE GESTÃO","FUNCIONÁRIOS","PESSOAL",4200,"GERÊNCIA FINANCEIRA","Despesas Gerais e Administratias108,856"]
[null,null,null,2006174.98,1875277.43,1018330.55,1180908.27,1321622.71,1480462.7880000002,{"$f":"D1257*'Série - IPCA'!$C$444/'Série - IPCA'!$C$385","v":2611272.0839821226},{"$f":"E1257*'Série - IPCA'!$C$444/'Série - IPCA'!$C$398","v":2335393.1865315605},{"$f":"F1257*'Série - IPCA'!$C$444/'Série - IPCA'!$C$411","v":1152258.3624118282},{"$f":"G1257*'Série - IPCA'!$C$444/'Série - IPCA'!$C$424","v":1263143.7804943654},{"$f":"H1257*'Série - IPCA'!$C$444/'Série - IPCA'!$C$437","v":1351215.0105854627},1742656.4848010682,"Custos","N","SIM","NÃO","OPEX","FUNCIONÁRIOS","PESSOAL",5100,"GERÊNCIA DE ENGENHARIA","Custos1480462,788"]
[null,null,null,2642169.2000000002,2777191.05,2938636.14,3304531.61,3238630.79,2980231.7579999999,{"$f":"D1258*'Série - IPCA'!$C$444/'Série - IPCA'!$C$385","v":3439093.1707848222},{"$f":"E1258*'Série - IPCA'!$C$444/'Série - IPCA'!$C$398","v":3458599.2195653049},{"$f":"F1258*'Série - IPCA'!$C$444/'Série - IPCA'!$C$411","v":3325116.8458027858},{"$f":"G1258*'Série - IPCA'!$C$444/'Série - IPCA'!$C$424","v":3534650.9603311792},{"$f":"H1258*'Série - IPCA'!$C$444/'Série - IPCA'!$C$437","v":3311146.5958331292},3413721.3584634447,"Custos","N","SIM","NÃO","OPEX","FUNCIONÁRIOS","PESSOAL",5200,"GERÊNCIA DE OPERAÇÕES","Custos2980231,758"]
[null,null,null,624155.82999999996,0,0,0,0,124831.166,{"$f":"D1259*'Série - IPCA'!$C$444/'Série - IPCA'!$C$385","v":812412.03343772702},{"$f":"E1259*'Série - IPCA'!$C$444/'Série - IPCA'!$C$398","v":0},{"$f":"F1259*'Série - IPCA'!$C$444/'Série - IPCA'!$C$411","v":0},{"$f":"G1259*'Série - IPCA'!$C$444/'Série - IPCA'!$C$424","v":0},{"$f":"H1259*'Série - IPCA'!$C$444/'Série - IPCA'!$C$437","v":0},162482.40668754542,"Despesas com Vendas","N","SIM","NÃO","ENCARGOS DE COMERCIALIZAÇÃO","FUNCIONÁRIOS","PESSOAL",5400,"GERÊNCIA COMERCIAL (inativo)","Despesas com Vendas124831,166"]
[null,null,null,355786.68,0,0,0,0,71157.335999999996,{"$f":"D1260*'Série - IPCA'!$C$444/'Série - IPCA'!$C$385","v":463098.10190967517},{"$f":"E1260*'Série - IPCA'!$C$444/'Série - IPCA'!$C$398","v":0},{"$f":"F1260*'Série - IPCA'!$C$444/'Série - IPCA'!$C$411","v":0},{"$f":"G1260*'Série - IPCA'!$C$444/'Série - IPCA'!$C$424","v":0},{"$f":"H1260*'Série - IPCA'!$C$444/'Série - IPCA'!$C$437","v":0},92619.620381935034,"Despesas com Vendas","N","SIM","NÃO","ENCARGOS DE COMERCIALIZAÇÃO","FUNCIONÁRIOS","PESSOAL",5500,"GERÊNCIA COMERCIAL (inativo)","Despesas com Vendas71157,336"]
[null,null,null,203381.57,0,0,0,0,40676.313999999998,{"$f":"D1261*'Série - IPCA'!$C$444/'Série - IPCA'!$C$385","v":264724.97236380447},{"$f":"E1261*'Série - IPCA'!$C$444/'Série - IPCA'!$C$398","v":0},{"$f":"F1261*'Série - IPCA'!$C$444/'Série - IPCA'!$C$411","v":0},{"$f":"G1261*'Série - IPCA'!$C$444/'Série - IPCA'!$C$424","v":0},{"$f":"H1261*'Série - IPCA'!$C$444/'Série - IPCA'!$C$437","v":0},52944.994472760896,"Despesas Gerais e Administratias","N","SIM","NÃO","ENCARGOS DE GESTÃO","FUNCIONÁRIOS","PESSOAL",2100,"SECRETARIA","Despesas Gerais e Administratias40676,314"]
[null,null,null,457681.81,0,0,0,0,91536.361999999994,{"$f":"D1262*'Série - IPCA'!$C$444/'Série - IPCA'!$C$385","v":595726.56708110764},{"$f":"E1262*'Série - IPCA'!$C$444/'Série - IPCA'!$C$398","v":0},{"$f":"F1262*'Série - IPCA'!$C$444/'Série - IPCA'!$C$411","v":0},{"$f":"G1262*'Série - IPCA'!$C$444/'Série - IPCA'!$C$424","v":0},{"$f":"H1262*'Série - IPCA'!$C$444/'Série - IPCA'!$C$437","v":0},119145.31341622153,"Despesas Gerais e Administratias","N","SIM","NÃO","ENCARGOS DE GESTÃO","FUNCIONÁRIOS","PESSOAL",2200,"DIRETORIA COLEGIADA - PRESIDÊNCIA","Despesas Gerais e Administratias91536,362"]
[null,null,null,103597.14,0,0,0,0,20719.428,{"$f":"D1263*'Série - IPCA'!$C$444/'Série - IPCA'!$C$385","v":134843.83085187699},{"$f":"E1263*'Série - IPCA'!$C$444/'Série - IPCA'!$C$398","v":0},{"$f":"F1263*'Série - IPCA'!$C$444/'Série - IPCA'!$C$411","v":0},{"$f":"G1263*'Série - IPCA'!$C$444/'Série - IPCA'!$C$424","v":0},{"$f":"H1263*'Série - IPCA'!$C$444/'Série - IPCA'!$C$437","v":0},26968.766170375398,"Despesas Gerais e Administratias","N","SIM","NÃO","ENCARGOS DE GESTÃO","FUNCIONÁRIOS","PESSOAL",2400,"DIRETORIA COLEGIADA - DTC","Despesas Gerais e Administratias20719,428"]
[null,null,null,350515.89,0,0,0,0,70103.178,{"$f":"D1264*'Série - IPCA'!$C$444/'Série - IPCA'!$C$385","v":456237.55040008941},{"$f":"E1264*'Série - IPCA'!$C$444/'Série - IPCA'!$C$398","v":0},{"$f":"F1264*'Série - IPCA'!$C$444/'Série - IPCA'!$C$411","v":0},{"$f":"G1264*'Série - IPCA'!$C$444/'Série - IPCA'!$C$424","v":0},{"$f":"H1264*'Série - IPCA'!$C$444/'Série - IPCA'!$C$437","v":0},91247.510080017877,"Despesas Gerais e Administratias","N","SIM","NÃO","ENCARGOS DE GESTÃO","FUNCIONÁRIOS","PESSOAL",3400,"MARKETING","Despesas Gerais e Administratias70103,178"]
[null,null,null,1193992.1000000001,2052279.07,2754620.48,2804974.11,3177124.62,2396598.0759999999,{"$f":"D1265*'Série - IPCA'!$C$444/'Série - IPCA'!$C$385","v":1554120.7872232515},{"$f":"E1265*'Série - IPCA'!$C$444/'Série - IPCA'!$C$398","v":2555823.7305396078},{"$f":"F1265*'Série - IPCA'!$C$444/'Série - IPCA'!$C$411","v":3116899.9921988831},{"$f":"G1265*'Série - IPCA'!$C$444/'Série - IPCA'!$C$424","v":3000305.520338356},{"$f":"H1265*'Série - IPCA'!$C$444/'Série - IPCA'!$C$437","v":3248263.2483249581},2695082.6557250116,"Despesas com Vendas","N","SIM","NÃO","ENCARGOS DE COMERCIALIZAÇÃO","FUNCIONÁRIOS","PESSOAL",5300,"GERÊNCIA COMERCIAL","Despesas com Vendas2396598,076"]
[null,null,null,0,174177.77,188168.97,211094.95,231262.87,160940.91199999998,{"$f":"D1266*'Série - IPCA'!$C$444/'Série - IPCA'!$C$385","v":0},{"$f":"E1266*'Série - IPCA'!$C$444/'Série - IPCA'!$C$398","v":216913.81274890152},{"$f":"F1266*'Série - IPCA'!$C$444/'Série - IPCA'!$C$411","v":212916.39461167145},{"$f":"G1266*'Série - IPCA'!$C$444/'Série - IPCA'!$C$424","v":225795.07651874522},{"$f":"H1266*'Série - IPCA'!$C$444/'Série - IPCA'!$C$437","v":236441.05005964558},178413.26678779276,"Despesas Gerais e Administratias","N","SIM","NÃO","ENCARGOS DE GESTÃO","FUNCIONÁRIOS","PESSOAL",1005,"AUDITORIA INTERNA","Despesas Gerais e Administratias160940,912"]
[null,null,null,0,0,512524.23,215117.52,192042.1,183936.77,{"$f":"D1267*'Série - IPCA'!$C$444/'Série - IPCA'!$C$385","v":0},{"$f":"E1267*'Série - IPCA'!$C$444/'Série - IPCA'!$C$398","v":0},{"$f":"F1267*'Série - IPCA'!$C$444/'Série - IPCA'!$C$411","v":579929.89600104128},{"$f":"G1267*'Série - IPCA'!$C$444/'Série - IPCA'!$C$424","v":230097.76827405253},{"$f":"H1267*'Série - IPCA'!$C$444/'Série - IPCA'!$C$437","v":196342.09235429566},201273.95132587789,"Despesas Gerais e Administratias","N","SIM","NÃO","ENCARGOS DE GESTÃO","FUNCIONÁRIOS","PESSOAL",1010,"GOVERNANÇA SOCIETÁRIA","Despesas Gerais e Administratias183936,77"]
[null,null,null,50575.43,186608.55,159718.63,115390.49,76943.66,117847.352,{"$f":"D1268*'Série - IPCA'!$C$444/'Série - IPCA'!$C$385","v":65829.855227479682},{"$f":"E1268*'Série - IPCA'!$C$444/'Série - IPCA'!$C$398","v":232394.59359276461},{"$f":"F1268*'Série - IPCA'!$C$444/'Série - IPCA'!$C$411","v":180724.35031086981},{"$f":"G1268*'Série - IPCA'!$C$444/'Série - IPCA'!$C$424","v":123425.99630680653},{"$f":"H1268*'Série - IPCA'!$C$444/'Série - IPCA'!$C$437","v":78666.496553607372},136208.2583983056,"Despesas Gerais e Administratias","N","SIM","NÃO","ENCARGOS DE GESTÃO","FUNCIONÁRIOS","PESSOAL",2110,"ASSESSORIA DA DIRETORIA EXECUTIVA","Despesas Gerais e Administratias117847,352"]
[null,null,null,149691.92000000001,435744.44,464468.09,566213.74,586247.55000000005,440473.14800000004,{"$f":"D1269*'Série - IPCA'!$C$444/'Série - IPCA'!$C$385","v":194841.59447232523},{"$f":"E1269*'Série - IPCA'!$C$444/'Série - IPCA'!$C$398","v":542658.15818249923},{"$f":"F1269*'Série - IPCA'!$C$444/'Série - IPCA'!$C$411","v":525553.5550572942},{"$f":"G1269*'Série - IPCA'!$C$444/'Série - IPCA'!$C$424","v":605643.45451781258},{"$f":"H1269*'Série - IPCA'!$C$444/'Série - IPCA'!$C$437","v":599374.15079599502},493614.1826051852,"Despesas Gerais e Administratias","N","SIM","NÃO","ENCARGOS DE GESTÃO","FUNCIONÁRIOS","PESSOAL",2120,"ASSESSORIA DA PRESIDÊNCIA","Despesas Gerais e Administratias440473,148"]
[null,null,null,0,7134.43,132889.70000000001,150946.10999999999,166918.46,91577.739999999991,{"$f":"D1270*'Série - IPCA'!$C$444/'Série - IPCA'!$C$385","v":0},{"$f":"E1270*'Série - IPCA'!$C$444/'Série - IPCA'!$C$398","v":8884.9249424317804},{"$f":"F1270*'Série - IPCA'!$C$444/'Série - IPCA'!$C$411","v":150366.95904232585},{"$f":"G1270*'Série - IPCA'!$C$444/'Série - IPCA'!$C$424","v":161457.62112100233},{"$f":"H1270*'Série - IPCA'!$C$444/'Série - IPCA'!$C$437","v":170655.91184931219},98273.083391014428,"Despesas Gerais e Administratias","N","SIM","NÃO","ENCARGOS DE GESTÃO","FUNCIONÁRIOS","PESSOAL",2130,"ASSESSORIA DE RELAÇÕES INSTITUCIONAIS E NOVOS NEGÓCIOS","Despesas Gerais e Administratias91577,74"]
[null,null,null,0,0,0,0,249011.11,49802.221999999994,{"$f":"D1271*'Série - IPCA'!$C$444/'Série - IPCA'!$C$385","v":0},{"$f":"E1271*'Série - IPCA'!$C$444/'Série - IPCA'!$C$398","v":0},{"$f":"F1271*'Série - IPCA'!$C$444/'Série - IPCA'!$C$411","v":0},{"$f":"G1271*'Série - IPCA'!$C$444/'Série - IPCA'!$C$424","v":0},{"$f":"H1271*'Série - IPCA'!$C$444/'Série - IPCA'!$C$437","v":254586.68883992452},50917.337767984907,"Despesas Gerais e Administratias","N","SIM","NÃO","ENCARGOS DE GESTÃO","FUNCIONÁRIOS","PESSOAL",2140,"ASSESSORIA DTC","Despesas Gerais e Administratias49802,222"]
[null,null,null,0,188777.33,202012.3,3154.56,0,78788.838000000003,{"$f":"D1272*'Série - IPCA'!$C$444/'Série - IPCA'!$C$385","v":0},{"$f":"E1272*'Série - IPCA'!$C$444/'Série - IPCA'!$C$398","v":235095.50277775165},{"$f":"F1272*'Série - IPCA'!$C$444/'Série - IPCA'!$C$411","v":228580.35829824308},{"$f":"G1272*'Série - IPCA'!$C$444/'Série - IPCA'!$C$424","v":3374.235700962874},{"$f":"H1272*'Série - IPCA'!$C$444/'Série - IPCA'!$C$437","v":0},93410.019355391531,"Despesas Gerais e Administratias","N","SIM","NÃO","ENCARGOS DE GESTÃO","FUNCIONÁRIOS","PESSOAL",2300,"DIRETORIA COLEGIADA - DAF","Despesas Gerais e Administratias78788,838"]
[null,null,null,0,0,0,3089.21,0,617.84199999999998,{"$f":"D1273*'Série - IPCA'!$C$444/'Série - IPCA'!$C$385","v":0},{"$f":"E1273*'Série - IPCA'!$C$444/'Série - IPCA'!$C$398","v":0},{"$f":"F1273*'Série - IPCA'!$C$444/'Série - IPCA'!$C$411","v":0},{"$f":"G1273*'Série - IPCA'!$C$444/'Série - IPCA'!$C$424","v":3304.3348897378787},{"$f":"H1273*'Série - IPCA'!$C$444/'Série - IPCA'!$C$437","v":0},660.86697794757572,"Despesas Gerais e Administratias","N","SIM","NÃO","ENCARGOS DE GESTÃO","FUNCIONÁRIOS","PESSOAL",2310,"ASSESSORIA DAF","Despesas Gerais e Administratias617,842"]
[null,null,null,102808.26,356773.48,449031.2,490575.13,574759.35,394789.484,{"$f":"D1274*'Série - IPCA'!$C$444/'Série - IPCA'!$C$385","v":133817.01098713526},{"$f":"E1274*'Série - IPCA'!$C$444/'Série - IPCA'!$C$398","v":444310.98087025667},{"$f":"F1274*'Série - IPCA'!$C$444/'Série - IPCA'!$C$411","v":508086.45108783012},{"$f":"G1274*'Série - IPCA'!$C$444/'Série - IPCA'!$C$424","v":524737.56011947885},{"$f":"H1274*'Série - IPCA'!$C$444/'Série - IPCA'!$C$437","v":587628.71984421602},439716.14458178339,"Despesas Gerais e Administratias","N","SIM","NÃO","ENCARGOS DE GESTÃO","FUNCIONÁRIOS","PESSOAL",2410,"ASSESSORIA DE SEGURANÇA DO TRABALHO","Despesas Gerais e Administratias394789,484"]
[null,null,null,356984.79,3236.36,0,0,0,72044.23,{"$f":"D1275*'Série - IPCA'!$C$444/'Série - IPCA'!$C$385","v":464657.58262682566},{"$f":"E1275*'Série - IPCA'!$C$444/'Série - IPCA'!$C$398","v":4030.4292966205448},{"$f":"F1275*'Série - IPCA'!$C$444/'Série - IPCA'!$C$411","v":0},{"$f":"G1275*'Série - IPCA'!$C$444/'Série - IPCA'!$C$424","v":0},{"$f":"H1275*'Série - IPCA'!$C$444/'Série - IPCA'!$C$437","v":0},93737.602384689235,"Despesas Gerais e Administratias","N","SIM","NÃO","ENCARGOS DE GESTÃO","FUNCIONÁRIOS","PESSOAL",3100,"SMS","Despesas Gerais e Administratias72044,23"]
[null,null,null,487156.02,700791.45,699497,721700.85,820877.99,686004.66199999989,{"$f":"D1276*'Série - IPCA'!$C$444/'Série - IPCA'!$C$385","v":634090.70906159771},{"$f":"E1276*'Série - IPCA'!$C$444/'Série - IPCA'!$C$398","v":872736.77554449788},{"$f":"F1276*'Série - IPCA'!$C$444/'Série - IPCA'!$C$411","v":791492.76993799966},{"$f":"G1276*'Série - IPCA'!$C$444/'Série - IPCA'!$C$424","v":771958.29956800712},{"$f":"H1276*'Série - IPCA'!$C$444/'Série - IPCA'!$C$437","v":839258.17372434773},781907.34556728997,"Despesas Gerais e Administratias","N","SIM","NÃO","ENCARGOS DE GESTÃO","FUNCIONÁRIOS","PESSOAL",3200,"GERÊNCIA DE PLANEJAMENTO E MEIO AMBIENTE","Despesas Gerais e Administratias686004,662"]
[null,null,null,452772.99,441865.26,426532.7,446699.15,473252.85,448224.59,{"$f":"D1277*'Série - IPCA'!$C$444/'Série - IPCA'!$C$385","v":589337.16198978643},{"$f":"E1277*'Série - IPCA'!$C$444/'Série - IPCA'!$C$398","v":550280.77502591},{"$f":"F1277*'Série - IPCA'!$C$444/'Série - IPCA'!$C$411","v":482629.01512391592},{"$f":"G1277*'Série - IPCA'!$C$444/'Série - IPCA'!$C$424","v":477806.16615939158},{"$f":"H1277*'Série - IPCA'!$C$444/'Série - IPCA'!$C$437","v":483849.39959328511},516780.50357845781,"Despesas Gerais e Administratias","N","SIM","NÃO","ENCARGOS DE GESTÃO","FUNCIONÁRIOS","PESSOAL",3300,"GERÊNCIA JURÍDICA","Despesas Gerais e Administratias448224,59"]
[null,null,null,128994.13,331548.73,429093.14,404369.51,334963.34999999998,325793.772,{"$f":"D1278*'Série - IPCA'!$C$444/'Série - IPCA'!$C$385","v":167900.99269733732},{"$f":"E1278*'Série - IPCA'!$C$444/'Série - IPCA'!$C$398","v":412897.11733222962},{"$f":"F1278*'Série - IPCA'!$C$444/'Série - IPCA'!$C$411","v":485526.19659554493},{"$f":"G1278*'Série - IPCA'!$C$444/'Série - IPCA'!$C$424","v":432528.79546525161},{"$f":"H1278*'Série - IPCA'!$C$444/'Série - IPCA'!$C$437","v":342463.47546191304},368263.31551045534,"Despesas Gerais e Administratias","N","SIM","NÃO","ENCARGOS DE GESTÃO","FUNCIONÁRIOS","PESSOAL",3500,"ASSESSORIA DE COMUNICAÇÃO INSTITUCIONAL","Despesas Gerais e Administratias325793,772"]
[null,null,null,478156.95,899553.48,703405.4,974025.27,911342.8,793296.78,{"$f":"D1279*'Série - IPCA'!$C$444/'Série - IPCA'!$C$385","v":622377.36376167729},{"$f":"E1279*'Série - IPCA'!$C$444/'Série - IPCA'!$C$398","v":1120266.8119952548},{"$f":"F1279*'Série - IPCA'!$C$444/'Série - IPCA'!$C$411","v":795915.19110924948},{"$f":"G1279*'Série - IPCA'!$C$444/'Série - IPCA'!$C$424","v":1041853.9636824162},{"$f":"H1279*'Série - IPCA'!$C$444/'Série - IPCA'!$C$437","v":931748.5707770451},902432.38026512857,"Despesas Gerais e Administratias","N","SIM","NÃO","ENCARGOS DE GESTÃO","FUNCIONÁRIOS","PESSOAL",3600,"GERÊNCIA DE GOVERNANÇA, RISCO E COMPLIANCE","Despesas Gerais e Administratias793296,78"]
[null,null,null,0,12301.26,150606.60999999999,173971.8,192302.75,105836.48399999998,{"$f":"D1280*'Série - IPCA'!$C$444/'Série - IPCA'!$C$385","v":0},{"$f":"E1280*'Série - IPCA'!$C$444/'Série - IPCA'!$C$398","v":15319.481976463199},{"$f":"F1280*'Série - IPCA'!$C$444/'Série - IPCA'!$C$411","v":170413.94447706285},{"$f":"G1280*'Série - IPCA'!$C$444/'Série - IPCA'!$C$424","v":186086.76281978248},{"$f":"H1280*'Série - IPCA'!$C$444/'Série - IPCA'!$C$437","v":196608.57853816962},113685.75356229562,"Despesas Gerais e Administratias","N","SIM","NÃO","ENCARGOS DE GESTÃO","FUNCIONÁRIOS","PESSOAL",3700,"GERÊNCIA DE REGULAÇÃO","Despesas Gerais e Administratias105836,484"]
[null,null,null,1024672.01,1752764.38,1599605.7,1622378.33,1796313.93,1559146.8699999999,{"$f":"D1281*'Série - IPCA'!$C$444/'Série - IPCA'!$C$385","v":1333730.8268847268},{"$f":"E1281*'Série - IPCA'!$C$444/'Série - IPCA'!$C$398","v":2182820.4857385904},{"$f":"F1281*'Série - IPCA'!$C$444/'Série - IPCA'!$C$411","v":1809981.0954180115},{"$f":"G1281*'Série - IPCA'!$C$444/'Série - IPCA'!$C$424","v":1735356.7158508722},{"$f":"H1281*'Série - IPCA'!$C$444/'Série - IPCA'!$C$437","v":1836534.9865543426},1779684.8220893089,"Despesas Gerais e Administratias","N","SIM","NÃO","ENCARGOS DE GESTÃO","FUNCIONÁRIOS","PESSOAL",4100,"GERÊNCIA DE SERVIÇOS CORPORATIVOS","Despesas Gerais e Administratias1559146,87"]
[null,null,null,673130.64,739301.29,679143.1,772014.53,829801.97,738678.3060000001,{"$f":"D1282*'Série - IPCA'!$C$444/'Série - IPCA'!$C$385","v":876158.49396398105},{"$f":"E1282*'Série - IPCA'!$C$444/'Série - IPCA'!$C$398","v":920695.34237395145},{"$f":"F1282*'Série - IPCA'!$C$444/'Série - IPCA'!$C$411","v":768461.98540276778},{"$f":"G1282*'Série - IPCA'!$C$444/'Série - IPCA'!$C$424","v":825775.69892095064},{"$f":"H1282*'Série - IPCA'!$C$444/'Série - IPCA'!$C$437","v":848381.96952395572},847894.69803712121,"Despesas Gerais e Administratias","N","SIM","NÃO","ENCARGOS DE GESTÃO","FUNCIONÁRIOS","PESSOAL",4200,"GERÊNCIA FINANCEIRA","Despesas Gerais e Administratias738678,306"]
[null,null,null,888515.6,964392.86,1097766.03,786917.76,806353.86,908789.22200000007,{"$f":"D1283*'Série - IPCA'!$C$444/'Série - IPCA'!$C$385","v":1156507.2865491651},{"$f":"E1283*'Série - IPCA'!$C$444/'Série - IPCA'!$C$398","v":1201015.1022740596},{"$f":"F1283*'Série - IPCA'!$C$444/'Série - IPCA'!$C$411","v":1242140.9610456387},{"$f":"G1283*'Série - IPCA'!$C$444/'Série - IPCA'!$C$424","v":841716.75273690629},{"$f":"H1283*'Série - IPCA'!$C$444/'Série - IPCA'!$C$437","v":824408.83561657974},1053157.7876444696,"Despesas Gerais e Administratias","N","SIM","NÃO","ENCARGOS DE GESTÃO","FUNCIONÁRIOS","PESSOAL",4300,"GERÊNCIA DE TECNOLOGIA E SISTEMAS DE INFORMAÇÃO","Despesas Gerais e Administratias908789,222"]
[null,null,null,596015.38,627247.76,645000.06999999995,733117.69,798206.63,679917.50599999994,{"$f":"D1284*'Série - IPCA'!$C$444/'Série - IPCA'!$C$385","v":775783.93656270031},{"$f":"E1284*'Série - IPCA'!$C$444/'Série - IPCA'!$C$398","v":781148.49650335941},{"$f":"F1284*'Série - IPCA'!$C$444/'Série - IPCA'!$C$411","v":729828.56540414551},{"$f":"G1284*'Série - IPCA'!$C$444/'Série - IPCA'!$C$424","v":784170.17986832804},{"$f":"H1284*'Série - IPCA'!$C$444/'Série - IPCA'!$C$437","v":816079.18193599768},777402.07205490617,"Despesas Gerais e Administratias","N","SIM","NÃO","ENCARGOS DE GESTÃO","FUNCIONÁRIOS","PESSOAL",4500,"GERÊNCIA CONTÁBIL","Despesas Gerais e Administratias679917,506"]
[null,null,null,386802.77,1984.6,0,0,347798.58,{"$f":"AVERAGE(D1285:H1285)","v":147317.19},{"$f":"D1285*'Série - IPCA'!$C$444/'Série - IPCA'!$C$385","v":503469.18159050995},{"$f":"E1285*'Série - IPCA'!$C$444/'Série - IPCA'!$C$398","v":2471.5390074259763},{"$f":"F1285*'Série - IPCA'!$C$444/'Série - IPCA'!$C$411","v":0},{"$f":"G1285*'Série - IPCA'!$C$444/'Série - IPCA'!$C$424","v":0},{"$f":"H1285*'Série - IPCA'!$C$444/'Série - IPCA'!$C$437","v":355586.0976059566},{"$f":"AVERAGE(J1285:N1285)","v":172305.36364077852},"Despesas Gerais e Administratias","N","SIM","NÃO","ENCARGOS DE GESTÃO","FUNCIONÁRIOS","PESSOAL",4600,"GERÊNCIA DE PESSOAS E CULTURA",{"$f":"B1285&C1285&P1285&I1285","v":"Despesas Gerais e Administratias147317,19"}]
[null,null,null,4929.1099999999997,0,0,0,0,985.82199999999989,{"$f":"D1286*'Série - IPCA'!$C$444/'Série - IPCA'!$C$385","v":6415.8149065726648},{"$f":"E1286*'Série - IPCA'!$C$444/'Série - IPCA'!$C$398","v":0},{"$f":"F1286*'Série - IPCA'!$C$444/'Série - IPCA'!$C$411","v":0},{"$f":"G1286*'Série - IPCA'!$C$444/'Série - IPCA'!$C$424","v":0},{"$f":"H1286*'Série - IPCA'!$C$444/'Série - IPCA'!$C$437","v":0},1283.162981314533,"Despesas com Vendas","N","SIM","NÃO","ENCARGOS DE COMERCIALIZAÇÃO","FUNCIONÁRIOS","PESSOAL",5400,"GERÊNCIA COMERCIAL (inativo)","Despesas com Vendas985,822"]
[null,null,null,2466.94,0,0,0,0,493.38800000000003,{"$f":"D1287*'Série - IPCA'!$C$444/'Série - IPCA'!$C$385","v":3211.0118105743982},{"$f":"E1287*'Série - IPCA'!$C$444/'Série - IPCA'!$C$398","v":0},{"$f":"F1287*'Série - IPCA'!$C$444/'Série - IPCA'!$C$411","v":0},{"$f":"G1287*'Série - IPCA'!$C$444/'Série - IPCA'!$C$424","v":0},{"$f":"H1287*'Série - IPCA'!$C$444/'Série - IPCA'!$C$437","v":0},642.20236211487963,"Despesas com Vendas","N","SIM","NÃO","ENCARGOS DE COMERCIALIZAÇÃO","FUNCIONÁRIOS","PESSOAL",5500,"GERÊNCIA COMERCIAL (inativo)","Despesas com Vendas493,388"]
[null,null,null,864.83,0,0,0,0,172.96600000000001,{"$f":"D1288*'Série - IPCA'!$C$444/'Série - IPCA'!$C$385","v":1125.677699554532},{"$f":"E1288*'Série - IPCA'!$C$444/'Série - IPCA'!$C$398","v":0},{"$f":"F1288*'Série - IPCA'!$C$444/'Série - IPCA'!$C$411","v":0},{"$f":"G1288*'Série - IPCA'!$C$444/'Série - IPCA'!$C$424","v":0},{"$f":"H1288*'Série - IPCA'!$C$444/'Série - IPCA'!$C$437","v":0},225.1355399109064,"Despesas Gerais e Administratias","N","SIM","NÃO","ENCARGOS DE GESTÃO","FUNCIONÁRIOS","PESSOAL",2100,"SECRETARIA","Despesas Gerais e Administratias172,966"]
[null,null,null,2093.58,0,0,0,0,418.71600000000001,{"$f":"D1289*'Série - IPCA'!$C$444/'Série - IPCA'!$C$385","v":2725.0399711311779},{"$f":"E1289*'Série - IPCA'!$C$444/'Série - IPCA'!$C$398","v":0},{"$f":"F1289*'Série - IPCA'!$C$444/'Série - IPCA'!$C$411","v":0},{"$f":"G1289*'Série - IPCA'!$C$444/'Série - IPCA'!$C$424","v":0},{"$f":"H1289*'Série - IPCA'!$C$444/'Série - IPCA'!$C$437","v":0},545.00799422623561,"Despesas Gerais e Administratias","N","SIM","NÃO","ENCARGOS DE GESTÃO","FUNCIONÁRIOS","PESSOAL",3100,"SMS","Despesas Gerais e Administratias418,716"]
[null,null,null,1724.96,0,0,0,0,344.99200000000002,{"$f":"D1290*'Série - IPCA'!$C$444/'Série - IPCA'!$C$385","v":2245.2377977447418},{"$f":"E1290*'Série - IPCA'!$C$444/'Série - IPCA'!$C$398","v":0},{"$f":"F1290*'Série - IPCA'!$C$444/'Série - IPCA'!$C$411","v":0},{"$f":"G1290*'Série - IPCA'!$C$444/'Série - IPCA'!$C$424","v":0},{"$f":"H1290*'Série - IPCA'!$C$444/'Série - IPCA'!$C$437","v":0},449.04755954894836,"Despesas Gerais e Administratias","N","SIM","NÃO","ENCARGOS DE GESTÃO","FUNCIONÁRIOS","PESSOAL",3400,"MARKETING","Despesas Gerais e Administratias344,992"]
[null,null,null,1724.95,0,0,0,0,344.99,{"$f":"D1291*'Série - IPCA'!$C$444/'Série - IPCA'!$C$385","v":2245.2247815716269},{"$f":"E1291*'Série - IPCA'!$C$444/'Série - IPCA'!$C$398","v":0},{"$f":"F1291*'Série - IPCA'!$C$444/'Série - IPCA'!$C$411","v":0},{"$f":"G1291*'Série - IPCA'!$C$444/'Série - IPCA'!$C$424","v":0},{"$f":"H1291*'Série - IPCA'!$C$444/'Série - IPCA'!$C$437","v":0},449.04495631432536,"Despesas Gerais e Administratias","N","SIM","NÃO","ENCARGOS DE GESTÃO","FUNCIONÁRIOS","PESSOAL",4600,"GERÊNCIA DE PESSOAS E CULTURA","Despesas Gerais e Administratias344,99"]
[null,null,null,30299.16,0,0,0,0,6059.8320000000003,{"$f":"D1292*'Série - IPCA'!$C$444/'Série - IPCA'!$C$385","v":39437.91118165962},{"$f":"E1292*'Série - IPCA'!$C$444/'Série - IPCA'!$C$398","v":0},{"$f":"F1292*'Série - IPCA'!$C$444/'Série - IPCA'!$C$411","v":0},{"$f":"G1292*'Série - IPCA'!$C$444/'Série - IPCA'!$C$424","v":0},{"$f":"H1292*'Série - IPCA'!$C$444/'Série - IPCA'!$C$437","v":0},7887.5822363319239,"Despesas com Vendas","N","NÃO","NÃO","ENCARGOS DE COMERCIALIZAÇÃO","FUNCIONÁRIOS","PESSOAL",5400,"GERÊNCIA COMERCIAL (inativo)","Despesas com Vendas6059,832"]
[null,null,null,15164.13,0,0,0,0,3032.826,{"$f":"D1293*'Série - IPCA'!$C$444/'Série - IPCA'!$C$385","v":19737.894122712976},{"$f":"E1293*'Série - IPCA'!$C$444/'Série - IPCA'!$C$398","v":0},{"$f":"F1293*'Série - IPCA'!$C$444/'Série - IPCA'!$C$411","v":0},{"$f":"G1293*'Série - IPCA'!$C$444/'Série - IPCA'!$C$424","v":0},{"$f":"H1293*'Série - IPCA'!$C$444/'Série - IPCA'!$C$437","v":0},3947.5788245425952,"Despesas com Vendas","N","NÃO","NÃO","ENCARGOS DE COMERCIALIZAÇÃO","FUNCIONÁRIOS","PESSOAL",5500,"GERÊNCIA COMERCIAL (inativo)","Despesas com Vendas3032,826"]
[null,null,null,5316.14,0,0,0,0,1063.2280000000001,{"$f":"D1294*'Série - IPCA'!$C$444/'Série - IPCA'!$C$385","v":6919.5798546648821},{"$f":"E1294*'Série - IPCA'!$C$444/'Série - IPCA'!$C$398","v":0},{"$f":"F1294*'Série - IPCA'!$C$444/'Série - IPCA'!$C$411","v":0},{"$f":"G1294*'Série - IPCA'!$C$444/'Série - IPCA'!$C$424","v":0},{"$f":"H1294*'Série - IPCA'!$C$444/'Série - IPCA'!$C$437","v":0},1383.9159709329765,"Despesas Gerais e Administratias","N","NÃO","NÃO","ENCARGOS DE GESTÃO","FUNCIONÁRIOS","PESSOAL",2100,"SECRETARIA","Despesas Gerais e Administratias1063,228"]
[null,null,null,12869.15,0,0,0,0,2573.83,{"$f":"D1295*'Série - IPCA'!$C$444/'Série - IPCA'!$C$385","v":16750.708425034056},{"$f":"E1295*'Série - IPCA'!$C$444/'Série - IPCA'!$C$398","v":0},{"$f":"F1295*'Série - IPCA'!$C$444/'Série - IPCA'!$C$411","v":0},{"$f":"G1295*'Série - IPCA'!$C$444/'Série - IPCA'!$C$424","v":0},{"$f":"H1295*'Série - IPCA'!$C$444/'Série - IPCA'!$C$437","v":0},3350.1416850068113,"Despesas Gerais e Administratias","N","NÃO","NÃO","ENCARGOS DE GESTÃO","FUNCIONÁRIOS","PESSOAL",3100,"SMS","Despesas Gerais e Administratias2573,83"]
[null,null,null,10603.26,0,0,0,0,2120.652,{"$f":"D1296*'Série - IPCA'!$C$444/'Série - IPCA'!$C$385","v":13801.386774948354},{"$f":"E1296*'Série - IPCA'!$C$444/'Série - IPCA'!$C$398","v":0},{"$f":"F1296*'Série - IPCA'!$C$444/'Série - IPCA'!$C$411","v":0},{"$f":"G1296*'Série - IPCA'!$C$444/'Série - IPCA'!$C$424","v":0},{"$f":"H1296*'Série - IPCA'!$C$444/'Série - IPCA'!$C$437","v":0},2760.277354989671,"Despesas Gerais e Administratias","N","NÃO","NÃO","ENCARGOS DE GESTÃO","FUNCIONÁRIOS","PESSOAL",3400,"MARKETING","Despesas Gerais e Administratias2120,652"]
[null,null,null,10603.26,0,0,0,0,2120.652,{"$f":"D1297*'Série - IPCA'!$C$444/'Série - IPCA'!$C$385","v":13801.386774948354},{"$f":"E1297*'Série - IPCA'!$C$444/'Série - IPCA'!$C$398","v":0},{"$f":"F1297*'Série - IPCA'!$C$444/'Série - IPCA'!$C$411","v":0},{"$f":"G1297*'Série - IPCA'!$C$444/'Série - IPCA'!$C$424","v":0},{"$f":"H1297*'Série - IPCA'!$C$444/'Série - IPCA'!$C$437","v":0},2760.277354989671,"Despesas Gerais e Administratias","N","NÃO","NÃO","ENCARGOS DE GESTÃO","FUNCIONÁRIOS","PESSOAL",4600,"GERÊNCIA DE PESSOAS E CULTURA","Despesas Gerais e Administratias2120,652"]
[null,null,null,-14993.09,0,0,0,0,-2998.6179999999999,{"$f":"D1298*'Série - IPCA'!$C$444/'Série - IPCA'!$C$385","v":-19515.265497744131},{"$f":"E1298*'Série - IPCA'!$C$444/'Série - IPCA'!$C$398","v":0},{"$f":"F1298*'Série - IPCA'!$C$444/'Série - IPCA'!$C$411","v":0},{"$f":"G1298*'Série - IPCA'!$C$444/'Série - IPCA'!$C$424","v":0},{"$f":"H1298*'Série - IPCA'!$C$444/'Série - IPCA'!$C$437","v":0},-3903.0530995488261,"Custos","N","NÃO","NÃO","OPEX","FUNCIONÁRIOS","PESSOAL",5100,"GERÊNCIA DE ENGENHARIA","Custos-2998,618"]
[null,null,null,-36916.93,0,0,0,0,-7383.3860000000004,{"$f":"D1299*'Série - IPCA'!$C$444/'Série - IPCA'!$C$385","v":-48051.715177567479},{"$f":"E1299*'Série - IPCA'!$C$444/'Série - IPCA'!$C$398","v":0},{"$f":"F1299*'Série - IPCA'!$C$444/'Série - IPCA'!$C$411","v":0},{"$f":"G1299*'Série - IPCA'!$C$444/'Série - IPCA'!$C$424","v":0},{"$f":"H1299*'Série - IPCA'!$C$444/'Série - IPCA'!$C$437","v":0},-9610.3430355134951,"Custos","N","NÃO","NÃO","OPEX","FUNCIONÁRIOS","PESSOAL",5200,"GERÊNCIA DE OPERAÇÕES","Custos-7383,386"]
[null,null,null,24634.42,14853.19,20906.86,21943.23,24018.57,21271.253999999997,{"$f":"D1300*'Série - IPCA'!$C$444/'Série - IPCA'!$C$385","v":32064.587532185687},{"$f":"E1300*'Série - IPCA'!$C$444/'Série - IPCA'!$C$398","v":18497.550372724698},{"$f":"F1300*'Série - IPCA'!$C$444/'Série - IPCA'!$C$411","v":23656.468193724875},{"$f":"G1300*'Série - IPCA'!$C$444/'Série - IPCA'!$C$424","v":23471.301880591767},{"$f":"H1300*'Série - IPCA'!$C$444/'Série - IPCA'!$C$437","v":24556.36701097371},24449.254998040149,"Custos","N","NÃO","NÃO","OPEX","FUNCIONÁRIOS","PESSOAL",5100,"GERÊNCIA DE ENGENHARIA","Custos21271,254"]
[null,null,null,60656.44,30878.93,34224.44,35921.040000000001,39318.26,40199.822,{"$f":"D1301*'Série - IPCA'!$C$444/'Série - IPCA'!$C$385","v":78951.472361466993},{"$f":"E1301*'Série - IPCA'!$C$444/'Série - IPCA'!$C$398","v":38455.346166772244},{"$f":"F1301*'Série - IPCA'!$C$444/'Série - IPCA'!$C$411","v":38725.536800267728},{"$f":"G1301*'Série - IPCA'!$C$444/'Série - IPCA'!$C$424","v":38422.491752800852},{"$f":"H1301*'Série - IPCA'!$C$444/'Série - IPCA'!$C$437","v":40198.630592615933},46950.695534784747,"Custos","N","NÃO","NÃO","OPEX","FUNCIONÁRIOS","PESSOAL",5200,"GERÊNCIA DE OPERAÇÕES","Custos40199,822"]
[null,null,null,13653.5,25046.79,18057.21,18952.38,20744.830000000002,19290.942000000003,{"$f":"D1302*'Série - IPCA'!$C$444/'Série - IPCA'!$C$385","v":17771.631963354419},{"$f":"E1302*'Série - IPCA'!$C$444/'Série - IPCA'!$C$398","v":31192.239491991772},{"$f":"F1302*'Série - IPCA'!$C$444/'Série - IPCA'!$C$411","v":20432.040681020997},{"$f":"G1302*'Série - IPCA'!$C$444/'Série - IPCA'!$C$424","v":20272.17653625696},{"$f":"H1302*'Série - IPCA'!$C$444/'Série - IPCA'!$C$437","v":21209.325078897611},22175.482750304353,"Despesas com Vendas","N","NÃO","NÃO","ENCARGOS DE COMERCIALIZAÇÃO","FUNCIONÁRIOS","PESSOAL",5300,"GERÊNCIA COMERCIAL","Despesas com Vendas19290,942"]
[null,null,null,0,311.85000000000002,945.03,991.87,1085.68,666.88600000000008,{"$f":"D1303*'Série - IPCA'!$C$444/'Série - IPCA'!$C$385","v":0},{"$f":"E1303*'Série - IPCA'!$C$444/'Série - IPCA'!$C$398","v":388.3651312434701},{"$f":"F1303*'Série - IPCA'!$C$444/'Série - IPCA'!$C$411","v":1069.3175415684525},{"$f":"G1303*'Série - IPCA'!$C$444/'Série - IPCA'!$C$424","v":1060.9413562316286},{"$f":"H1303*'Série - IPCA'!$C$444/'Série - IPCA'!$C$437","v":1109.9893347719676},725.72267276310379,"Despesas Gerais e Administratias","N","NÃO","NÃO","ENCARGOS DE GESTÃO","FUNCIONÁRIOS","PESSOAL",1005,"AUDITORIA INTERNA","Despesas Gerais e Administratias666,886"]
[null,null,null,0,940.34,2849.61,2990.89,3273.73,2010.914,{"$f":"D1304*'Série - IPCA'!$C$444/'Série - IPCA'!$C$385","v":0},{"$f":"E1304*'Série - IPCA'!$C$444/'Série - IPCA'!$C$398","v":1171.0606622205696},{"$f":"F1304*'Série - IPCA'!$C$444/'Série - IPCA'!$C$411","v":3224.3822520225581},{"$f":"G1304*'Série - IPCA'!$C$444/'Série - IPCA'!$C$424","v":3199.1681298351755},{"$f":"H1304*'Série - IPCA'!$C$444/'Série - IPCA'!$C$437","v":3347.0317081672629},2188.3285504491132,"Despesas Gerais e Administratias","N","NÃO","NÃO","ENCARGOS DE GESTÃO","FUNCIONÁRIOS","PESSOAL",2120,"ASSESSORIA DA PRESIDÊNCIA","Despesas Gerais e Administratias2010,914"]
[null,null,null,0,311.85000000000002,945.03,991.87,1085.68,666.88600000000008,{"$f":"D1305*'Série - IPCA'!$C$444/'Série - IPCA'!$C$385","v":0},{"$f":"E1305*'Série - IPCA'!$C$444/'Série - IPCA'!$C$398","v":388.3651312434701},{"$f":"F1305*'Série - IPCA'!$C$444/'Série - IPCA'!$C$411","v":1069.3175415684525},{"$f":"G1305*'Série - IPCA'!$C$444/'Série - IPCA'!$C$424","v":1060.9413562316286},{"$f":"H1305*'Série - IPCA'!$C$444/'Série - IPCA'!$C$437","v":1109.9893347719676},725.72267276310379,"Despesas Gerais e Administratias","N","NÃO","NÃO","ENCARGOS DE GESTÃO","FUNCIONÁRIOS","PESSOAL",2310,"ASSESSORIA DAF","Despesas Gerais e Administratias666,886"]
[null,null,null,0,2345.0500000000002,1904.6,1999.02,2188.0700000000002,1687.348,{"$f":"D1306*'Série - IPCA'!$C$444/'Série - IPCA'!$C$385","v":0},{"$f":"E1306*'Série - IPCA'!$C$444/'Série - IPCA'!$C$398","v":2920.42857470739},{"$f":"F1306*'Série - IPCA'!$C$444/'Série - IPCA'!$C$411","v":2155.0873407947624},{"$f":"G1306*'Série - IPCA'!$C$444/'Série - IPCA'!$C$424","v":2138.2267736035469},{"$f":"H1306*'Série - IPCA'!$C$444/'Série - IPCA'!$C$437","v":2237.0628212129718},1890.1611020637342,"Despesas Gerais e Administratias","N","NÃO","NÃO","ENCARGOS DE GESTÃO","FUNCIONÁRIOS","PESSOAL",2110,"ASSESSORIA DA DIRETORIA EXECUTIVA","Despesas Gerais e Administratias1687,348"]
[null,null,null,12113.88,3911.41,0,0,0,3205.058,{"$f":"D1307*'Série - IPCA'!$C$444/'Série - IPCA'!$C$385","v":15767.635918133796},{"$f":"E1307*'Série - IPCA'!$C$444/'Série - IPCA'!$C$398","v":4871.1087317525134},{"$f":"F1307*'Série - IPCA'!$C$444/'Série - IPCA'!$C$411","v":0},{"$f":"G1307*'Série - IPCA'!$C$444/'Série - IPCA'!$C$424","v":0},{"$f":"H1307*'Série - IPCA'!$C$444/'Série - IPCA'!$C$437","v":0},4127.7489299772624,"Despesas Gerais e Administratias","N","NÃO","NÃO","ENCARGOS DE GESTÃO","FUNCIONÁRIOS","PESSOAL",2200,"DIRETORIA COLEGIADA - PRESIDÊNCIA","Despesas Gerais e Administratias3205,058"]
[null,null,null,3021.19,975.5,0,0,0,799.33799999999997,{"$f":"D1308*'Série - IPCA'!$C$444/'Série - IPCA'!$C$385","v":3932.4332055053092},{"$f":"E1308*'Série - IPCA'!$C$444/'Série - IPCA'!$C$398","v":1214.8474764406126},{"$f":"F1308*'Série - IPCA'!$C$444/'Série - IPCA'!$C$411","v":0},{"$f":"G1308*'Série - IPCA'!$C$444/'Série - IPCA'!$C$424","v":0},{"$f":"H1308*'Série - IPCA'!$C$444/'Série - IPCA'!$C$437","v":0},1029.4561363891844,"Despesas Gerais e Administratias","N","NÃO","NÃO","ENCARGOS DE GESTÃO","FUNCIONÁRIOS","PESSOAL",2300,"DIRETORIA COLEGIADA - DAF","Despesas Gerais e Administratias799,338"]
[null,null,null,3021.19,975.5,0,0,0,799.33799999999997,{"$f":"D1309*'Série - IPCA'!$C$444/'Série - IPCA'!$C$385","v":3932.4332055053092},{"$f":"E1309*'Série - IPCA'!$C$444/'Série - IPCA'!$C$398","v":1214.8474764406126},{"$f":"F1309*'Série - IPCA'!$C$444/'Série - IPCA'!$C$411","v":0},{"$f":"G1309*'Série - IPCA'!$C$444/'Série - IPCA'!$C$424","v":0},{"$f":"H1309*'Série - IPCA'!$C$444/'Série - IPCA'!$C$437","v":0},1029.4561363891844,"Despesas Gerais e Administratias","N","NÃO","NÃO","ENCARGOS DE GESTÃO","FUNCIONÁRIOS","PESSOAL",2400,"DIRETORIA COLEGIADA - DTC","Despesas Gerais e Administratias799,338"]
[null,null,null,7582.06,10364.799999999999,11398.44,11963.48,13094.97,10880.75,{"$f":"D1310*'Série - IPCA'!$C$444/'Série - IPCA'!$C$385","v":9868.9405532699311},{"$f":"E1310*'Série - IPCA'!$C$444/'Série - IPCA'!$C$398","v":12907.894540042707},{"$f":"F1310*'Série - IPCA'!$C$444/'Série - IPCA'!$C$411","v":12897.529008090232},{"$f":"G1310*'Série - IPCA'!$C$444/'Série - IPCA'!$C$424","v":12796.586948339967},{"$f":"H1310*'Série - IPCA'!$C$444/'Série - IPCA'!$C$437","v":13388.177952213242},12371.825800391216,"Despesas Gerais e Administratias","N","NÃO","NÃO","ENCARGOS DE GESTÃO","FUNCIONÁRIOS","PESSOAL",3200,"GERÊNCIA DE PLANEJAMENTO E MEIO AMBIENTE","Despesas Gerais e Administratias10880,75"]
[null,null,null,9092.66,4188.08,3794.64,3982.74,4359.42,5083.5079999999998,{"$f":"D1311*'Série - IPCA'!$C$444/'Série - IPCA'!$C$385","v":11835.163664109143},{"$f":"E1311*'Série - IPCA'!$C$444/'Série - IPCA'!$C$398","v":5215.6621416006165},{"$f":"F1311*'Série - IPCA'!$C$444/'Série - IPCA'!$C$411","v":4293.6997935910103},{"$f":"G1311*'Série - IPCA'!$C$444/'Série - IPCA'!$C$424","v":4260.0880933166209},{"$f":"H1311*'Série - IPCA'!$C$444/'Série - IPCA'!$C$437","v":4457.0312668480683},6012.3289918930923,"Despesas Gerais e Administratias","N","NÃO","NÃO","ENCARGOS DE GESTÃO","FUNCIONÁRIOS","PESSOAL",3300,"GERÊNCIA JURÍDICA","Despesas Gerais e Administratias5083,508"]
[null,null,null,0,4675.8599999999997,3794.64,3982.74,4359.42,3362.5320000000002,{"$f":"D1312*'Série - IPCA'!$C$444/'Série - IPCA'!$C$385","v":0},{"$f":"E1312*'Série - IPCA'!$C$444/'Série - IPCA'!$C$398","v":5823.1232405839082},{"$f":"F1312*'Série - IPCA'!$C$444/'Série - IPCA'!$C$411","v":4293.6997935910103},{"$f":"G1312*'Série - IPCA'!$C$444/'Série - IPCA'!$C$424","v":4260.0880933166209},{"$f":"H1312*'Série - IPCA'!$C$444/'Série - IPCA'!$C$437","v":4457.0312668480683},3766.7884788679212,"Despesas Gerais e Administratias","N","NÃO","NÃO","ENCARGOS DE GESTÃO","FUNCIONÁRIOS","PESSOAL",3500,"ASSESSORIA DE COMUNICAÇÃO INSTITUCIONAL","Despesas Gerais e Administratias3362,532"]
[null,null,null,4560.84,3669.97,6658.81,6988.89,7649.87,5905.6759999999995,{"$f":"D1313*'Série - IPCA'!$C$444/'Série - IPCA'!$C$385","v":5936.4682992452754},{"$f":"E1313*'Série - IPCA'!$C$444/'Série - IPCA'!$C$398","v":4570.4293112380883},{"$f":"F1313*'Série - IPCA'!$C$444/'Série - IPCA'!$C$411","v":7534.5569336120834},{"$f":"G1313*'Série - IPCA'!$C$444/'Série - IPCA'!$C$424","v":7475.5788915419025},{"$f":"H1313*'Série - IPCA'!$C$444/'Série - IPCA'!$C$437","v":7821.1573505932056},6667.6381572461105,"Despesas Gerais e Administratias","N","NÃO","NÃO","ENCARGOS DE GESTÃO","FUNCIONÁRIOS","PESSOAL",3600,"GERÊNCIA DE GOVERNANÇA, RISCO E COMPLIANCE","Despesas Gerais e Administratias5905,676"]
[null,null,null,19695.919999999998,15741.98,18057.21,18952.38,20744.830000000002,18638.464,{"$f":"D1314*'Série - IPCA'!$C$444/'Série - IPCA'!$C$385","v":25636.550439057497},{"$f":"E1314*'Série - IPCA'!$C$444/'Série - IPCA'!$C$398","v":19604.412790546998},{"$f":"F1314*'Série - IPCA'!$C$444/'Série - IPCA'!$C$411","v":20432.040681020997},{"$f":"G1314*'Série - IPCA'!$C$444/'Série - IPCA'!$C$424","v":20272.17653625696},{"$f":"H1314*'Série - IPCA'!$C$444/'Série - IPCA'!$C$437","v":21209.325078897611},21430.901105156016,"Despesas Gerais e Administratias","N","NÃO","NÃO","ENCARGOS DE GESTÃO","FUNCIONÁRIOS","PESSOAL",4100,"GERÊNCIA DE SERVIÇOS CORPORATIVOS","Despesas Gerais e Administratias18638,464"]
[null,null,null,16674.72,8205.09,8548.83,8972.6,9821.2000000000007,10444.488000000001,{"$f":"D1315*'Série - IPCA'!$C$444/'Série - IPCA'!$C$385","v":21704.104217379074},{"$f":"E1315*'Série - IPCA'!$C$444/'Série - IPCA'!$C$398","v":10218.280759065203},{"$f":"F1315*'Série - IPCA'!$C$444/'Série - IPCA'!$C$411","v":9673.1467560676738},{"$f":"G1315*'Série - IPCA'!$C$444/'Série - IPCA'!$C$424","v":9597.4295148798847},{"$f":"H1315*'Série - IPCA'!$C$444/'Série - IPCA'!$C$437","v":10041.105348410627},12246.813319160492,"Despesas Gerais e Administratias","N","NÃO","NÃO","ENCARGOS DE GESTÃO","FUNCIONÁRIOS","PESSOAL",4200,"GERÊNCIA FINANCEIRA","Despesas Gerais e Administratias10444,488"]
[null,null,null,18824.41,8587.34,7603.79,7980.73,8735.5400000000009,10346.362000000001,{"$f":"D1316*'Série - IPCA'!$C$444/'Série - IPCA'!$C$385","v":24502.177935861757},{"$f":"E1316*'Série - IPCA'!$C$444/'Série - IPCA'!$C$398","v":10694.319147450058},{"$f":"F1316*'Série - IPCA'!$C$444/'Série - IPCA'!$C$411","v":8603.817899328893},{"$f":"G1316*'Série - IPCA'!$C$444/'Série - IPCA'!$C$424","v":8536.4881586482552},{"$f":"H1316*'Série - IPCA'!$C$444/'Série - IPCA'!$C$437","v":8931.1364614563372},12253.587920549058,"Despesas Gerais e Administratias","N","NÃO","NÃO","ENCARGOS DE GESTÃO","FUNCIONÁRIOS","PESSOAL",4300,"GERÊNCIA DE TECNOLOGIA E SISTEMAS DE INFORMAÇÃO","Despesas Gerais e Administratias10346,362"]
[null,null,null,12113.89,5792.1,5699.21,5981.76,6547.48,7226.8880000000008,{"$f":"D1317*'Série - IPCA'!$C$444/'Série - IPCA'!$C$385","v":15767.648934306913},{"$f":"E1317*'Série - IPCA'!$C$444/'Série - IPCA'!$C$398","v":7213.2425097813148},{"$f":"F1317*'Série - IPCA'!$C$444/'Série - IPCA'!$C$411","v":6448.7531888747872},{"$f":"G1317*'Série - IPCA'!$C$444/'Série - IPCA'!$C$424","v":6398.3148669201682},{"$f":"H1317*'Série - IPCA'!$C$444/'Série - IPCA'!$C$437","v":6694.0838641522014},8504.4086728070761,"Despesas Gerais e Administratias","N","NÃO","NÃO","ENCARGOS DE GESTÃO","FUNCIONÁRIOS","PESSOAL",4500,"GERÊNCIA CONTÁBIL","Despesas Gerais e Administratias7226,888"]
[null,null,null,33693.51,0,0,0,0,6738.7020000000002,{"$f":"D1318*'Série - IPCA'!$C$444/'Série - IPCA'!$C$385","v":43856.05590314584},{"$f":"E1318*'Série - IPCA'!$C$444/'Série - IPCA'!$C$398","v":0},{"$f":"F1318*'Série - IPCA'!$C$444/'Série - IPCA'!$C$411","v":0},{"$f":"G1318*'Série - IPCA'!$C$444/'Série - IPCA'!$C$424","v":0},{"$f":"H1318*'Série - IPCA'!$C$444/'Série - IPCA'!$C$437","v":0},8771.2111806291687,"Despesas com Vendas","N","SIM","NÃO","ENCARGOS DE COMERCIALIZAÇÃO","FIXO","DESPESAS_SEGUROS",5400,"GERÊNCIA COMERCIAL (inativo)","Despesas com Vendas6738,702"]
[null,null,null,16862.900000000001,0,0,0,0,3372.5800000000004,{"$f":"D1319*'Série - IPCA'!$C$444/'Série - IPCA'!$C$385","v":21949.042563068022},{"$f":"E1319*'Série - IPCA'!$C$444/'Série - IPCA'!$C$398","v":0},{"$f":"F1319*'Série - IPCA'!$C$444/'Série - IPCA'!$C$411","v":0},{"$f":"G1319*'Série - IPCA'!$C$444/'Série - IPCA'!$C$424","v":0},{"$f":"H1319*'Série - IPCA'!$C$444/'Série - IPCA'!$C$437","v":0},4389.8085126136048,"Despesas com Vendas","N","SIM","NÃO","ENCARGOS DE COMERCIALIZAÇÃO","FIXO","DESPESAS_SEGUROS",5500,"GERÊNCIA COMERCIAL (inativo)","Despesas com Vendas3372,58"]
[null,null,null,5911.7,0,0,0,0,1182.3399999999999,{"$f":"D1320*'Série - IPCA'!$C$444/'Série - IPCA'!$C$385","v":7694.7710607362433},{"$f":"E1320*'Série - IPCA'!$C$444/'Série - IPCA'!$C$398","v":0},{"$f":"F1320*'Série - IPCA'!$C$444/'Série - IPCA'!$C$411","v":0},{"$f":"G1320*'Série - IPCA'!$C$444/'Série - IPCA'!$C$424","v":0},{"$f":"H1320*'Série - IPCA'!$C$444/'Série - IPCA'!$C$437","v":0},1538.9542121472487,"Despesas Gerais e Administratias","N","SIM","NÃO","ENCARGOS DE GESTÃO","FIXO","DESPESAS_SEGUROS",2100,"SECRETARIA","Despesas Gerais e Administratias1182,34"]
[null,null,null,14310.86,0,0,0,0,2862.172,{"$f":"D1321*'Série - IPCA'!$C$444/'Série - IPCA'!$C$385","v":18627.263119280051},{"$f":"E1321*'Série - IPCA'!$C$444/'Série - IPCA'!$C$398","v":0},{"$f":"F1321*'Série - IPCA'!$C$444/'Série - IPCA'!$C$411","v":0},{"$f":"G1321*'Série - IPCA'!$C$444/'Série - IPCA'!$C$424","v":0},{"$f":"H1321*'Série - IPCA'!$C$444/'Série - IPCA'!$C$437","v":0},3725.4526238560102,"Despesas Gerais e Administratias","N","SIM","NÃO","ENCARGOS DE GESTÃO","FIXO","DESPESAS_SEGUROS",3100,"SMS","Despesas Gerais e Administratias2862,172"]
[null,null,null,11791.12,0,0,0,0,2358.2240000000002,{"$f":"D1322*'Série - IPCA'!$C$444/'Série - IPCA'!$C$385","v":15347.525914655402},{"$f":"E1322*'Série - IPCA'!$C$444/'Série - IPCA'!$C$398","v":0},{"$f":"F1322*'Série - IPCA'!$C$444/'Série - IPCA'!$C$411","v":0},{"$f":"G1322*'Série - IPCA'!$C$444/'Série - IPCA'!$C$424","v":0},{"$f":"H1322*'Série - IPCA'!$C$444/'Série - IPCA'!$C$437","v":0},3069.5051829310805,"Despesas Gerais e Administratias","N","SIM","NÃO","ENCARGOS DE GESTÃO","FIXO","DESPESAS_SEGUROS",3400,"MARKETING","Despesas Gerais e Administratias2358,224"]
[null,null,null,11791.12,0,0,0,0,2358.2240000000002,{"$f":"D1323*'Série - IPCA'!$C$444/'Série - IPCA'!$C$385","v":15347.525914655402},{"$f":"E1323*'Série - IPCA'!$C$444/'Série - IPCA'!$C$398","v":0},{"$f":"F1323*'Série - IPCA'!$C$444/'Série - IPCA'!$C$411","v":0},{"$f":"G1323*'Série - IPCA'!$C$444/'Série - IPCA'!$C$424","v":0},{"$f":"H1323*'Série - IPCA'!$C$444/'Série - IPCA'!$C$437","v":0},3069.5051829310805,"Despesas Gerais e Administratias","N","SIM","NÃO","ENCARGOS DE GESTÃO","FIXO","DESPESAS_SEGUROS",4600,"GERÊNCIA DE PESSOAS E CULTURA","Despesas Gerais e Administratias2358,224"]
[null,null,null,0,0,0,6777.73,278935.67,57142.679999999993,{"$f":"D1324*'Série - IPCA'!$C$444/'Série - IPCA'!$C$385","v":0},{"$f":"E1324*'Série - IPCA'!$C$444/'Série - IPCA'!$C$398","v":0},{"$f":"F1324*'Série - IPCA'!$C$444/'Série - IPCA'!$C$411","v":0},{"$f":"G1324*'Série - IPCA'!$C$444/'Série - IPCA'!$C$424","v":7249.7142351031844},{"$f":"H1324*'Série - IPCA'!$C$444/'Série - IPCA'!$C$437","v":285181.28618697322},58486.200084415279,"Despesas Gerais e Administratias","N","SIM","NÃO","ENCARGOS DE GESTÃO","FIXO","SERVIÇOS",3300,"GERÊNCIA JURÍDICA","Despesas Gerais e Administratias57142,68"]
[null,null,null,33775,33775,0,0,0,13510,{"$f":"D1325*'Série - IPCA'!$C$444/'Série - IPCA'!$C$385","v":43962.124697864681},{"$f":"E1325*'Série - IPCA'!$C$444/'Série - IPCA'!$C$398","v":42061.992328838227},{"$f":"F1325*'Série - IPCA'!$C$444/'Série - IPCA'!$C$411","v":0},{"$f":"G1325*'Série - IPCA'!$C$444/'Série - IPCA'!$C$424","v":0},{"$f":"H1325*'Série - IPCA'!$C$444/'Série - IPCA'!$C$437","v":0},17204.823405340583,"Despesas com Vendas","N","SIM","NÃO","ENCARGOS DE COMERCIALIZAÇÃO","FIXO","SERVIÇOS",5300,"GERÊNCIA COMERCIAL","Despesas com Vendas13510"]
[null,null,null,0,0,52720.959999999999,119034.63,0,34351.118000000002,{"$f":"D1326*'Série - IPCA'!$C$444/'Série - IPCA'!$C$385","v":0},{"$f":"E1326*'Série - IPCA'!$C$444/'Série - IPCA'!$C$398","v":0},{"$f":"F1326*'Série - IPCA'!$C$444/'Série - IPCA'!$C$411","v":59654.664228996662},{"$f":"G1326*'Série - IPCA'!$C$444/'Série - IPCA'!$C$424","v":127323.90513951436},{"$f":"H1326*'Série - IPCA'!$C$444/'Série - IPCA'!$C$437","v":0},37395.713873702203,"Despesas Gerais e Administratias","N","SIM","NÃO","ENCARGOS DE GESTÃO","FIXO","SERVIÇOS",1005,"AUDITORIA INTERNA","Despesas Gerais e Administratias34351,118"]
[null,null,null,415112.96000000002,18597.810000000001,6000,1200,0,88182.15400000001,{"$f":"D1327*'Série - IPCA'!$C$444/'Série - IPCA'!$C$385","v":540318.21498800046},{"$f":"E1327*'Série - IPCA'!$C$444/'Série - IPCA'!$C$398","v":23160.945715860576},{"$f":"F1327*'Série - IPCA'!$C$444/'Série - IPCA'!$C$411","v":6789.1021971902637},{"$f":"G1327*'Série - IPCA'!$C$444/'Série - IPCA'!$C$424","v":1283.5650110175268},{"$f":"H1327*'Série - IPCA'!$C$444/'Série - IPCA'!$C$437","v":0},114310.36558241377,"Despesas Gerais e Administratias","N","SIM","NÃO","ENCARGOS DE GESTÃO","FIXO","SERVIÇOS",3300,"GERÊNCIA JURÍDICA","Despesas Gerais e Administratias88182,154"]
[null,null,null,0,0,0,4000,0,800,{"$f":"D1328*'Série - IPCA'!$C$444/'Série - IPCA'!$C$385","v":0},{"$f":"E1328*'Série - IPCA'!$C$444/'Série - IPCA'!$C$398","v":0},{"$f":"F1328*'Série - IPCA'!$C$444/'Série - IPCA'!$C$411","v":0},{"$f":"G1328*'Série - IPCA'!$C$444/'Série - IPCA'!$C$424","v":4278.5500367250888},{"$f":"H1328*'Série - IPCA'!$C$444/'Série - IPCA'!$C$437","v":0},855.71000734501774,"Despesas Gerais e Administratias","N","SIM","NÃO","ENCARGOS DE GESTÃO","FIXO","SERVIÇOS",3600,"GERÊNCIA DE GOVERNANÇA, RISCO E COMPLIANCE","Despesas Gerais e Administratias800"]
[null,null,null,126401.34,169268.5,22780,0,0,63689.967999999993,{"$f":"D1329*'Série - IPCA'!$C$444/'Série - IPCA'!$C$385","v":164526.17234810334},{"$f":"E1329*'Série - IPCA'!$C$444/'Série - IPCA'!$C$398","v":210800.01031869589},{"$f":"F1329*'Série - IPCA'!$C$444/'Série - IPCA'!$C$411","v":25775.958008665701},{"$f":"G1329*'Série - IPCA'!$C$444/'Série - IPCA'!$C$424","v":0},{"$f":"H1329*'Série - IPCA'!$C$444/'Série - IPCA'!$C$437","v":0},80220.428135092981,"Despesas Gerais e Administratias","N","SIM","NÃO","ENCARGOS DE GESTÃO","FIXO","SERVIÇOS",4100,"GERÊNCIA DE SERVIÇOS CORPORATIVOS","Despesas Gerais e Administratias63689,968"]
[null,null,null,377840.32,261004.48,0,0,0,127768.96000000001,{"$f":"D1330*'Série - IPCA'!$C$444/'Série - IPCA'!$C$385","v":491803.50151653873},{"$f":"E1330*'Série - IPCA'!$C$444/'Série - IPCA'!$C$398","v":325044.21718882048},{"$f":"F1330*'Série - IPCA'!$C$444/'Série - IPCA'!$C$411","v":0},{"$f":"G1330*'Série - IPCA'!$C$444/'Série - IPCA'!$C$424","v":0},{"$f":"H1330*'Série - IPCA'!$C$444/'Série - IPCA'!$C$437","v":0},163369.54374107183,"Despesas Gerais e Administratias","N","SIM","NÃO","ENCARGOS DE GESTÃO","FIXO","SERVIÇOS",4300,"GERÊNCIA DE TECNOLOGIA E SISTEMAS DE INFORMAÇÃO","Despesas Gerais e Administratias127768,96"]
[null,null,null,200632.02,348353.59,366369,282450,173041.01,274169.12399999995,{"$f":"D1331*'Série - IPCA'!$C$444/'Série - IPCA'!$C$385","v":261146.11048481066},{"$f":"E1331*'Série - IPCA'!$C$444/'Série - IPCA'!$C$398","v":433825.19704820897},{"$f":"F1331*'Série - IPCA'!$C$444/'Série - IPCA'!$C$411","v":414552.7638137333},{"$f":"G1331*'Série - IPCA'!$C$444/'Série - IPCA'!$C$424","v":302119.11446825037},{"$f":"H1331*'Série - IPCA'!$C$444/'Série - IPCA'!$C$437","v":176915.55115519252},317711.74739403918,"Despesas Gerais e Administratias","N","SIM","NÃO","ENCARGOS DE GESTÃO","FIXO","SERVIÇOS",4500,"GERÊNCIA CONTÁBIL","Despesas Gerais e Administratias274169,124"]
[null,null,null,112559.82,53010.25,0,0,0,33114.014000000003,{"$f":"D1332*'Série - IPCA'!$C$444/'Série - IPCA'!$C$385","v":146509.81029782986},{"$f":"E1332*'Série - IPCA'!$C$444/'Série - IPCA'!$C$398","v":66016.779536633505},{"$f":"F1332*'Série - IPCA'!$C$444/'Série - IPCA'!$C$411","v":0},{"$f":"G1332*'Série - IPCA'!$C$444/'Série - IPCA'!$C$424","v":0},{"$f":"H1332*'Série - IPCA'!$C$444/'Série - IPCA'!$C$437","v":0},42505.317966892675,"Despesas Gerais e Administratias","N","SIM","NÃO","ENCARGOS DE GESTÃO","FIXO","SERVIÇOS",4600,"GERÊNCIA DE PESSOAS E CULTURA","Despesas Gerais e Administratias33114,014"]
[null,null,null,73921.47,99101.34,143959.5,164095.82,182971.65,132809.95600000001,{"$f":"D1333*'Série - IPCA'!$C$444/'Série - IPCA'!$C$385","v":96217.46504780055},{"$f":"E1333*'Série - IPCA'!$C$444/'Série - IPCA'!$C$398","v":123416.72251243786},{"$f":"F1333*'Série - IPCA'!$C$444/'Série - IPCA'!$C$411","v":162892.62629273528},{"$f":"G1333*'Série - IPCA'!$C$444/'Série - IPCA'!$C$424","v":175523.0441718584},{"$f":"H1333*'Série - IPCA'!$C$444/'Série - IPCA'!$C$437","v":187068.54696193105},149023.68099735264,"Custos","N","SIM","NÃO","OPEX","EXTENSÃO","SERVIÇOS",5100,"GERÊNCIA DE ENGENHARIA","Custos132809,956"]
[null,null,null,182014.13,206217.28,235661.07,269177.13,298950.99,238404.12000000002,{"$f":"D1334*'Série - IPCA'!$C$444/'Série - IPCA'!$C$385","v":236912.74255613185},{"$f":"E1334*'Série - IPCA'!$C$444/'Série - IPCA'!$C$398","v":256814.49739256507},{"$f":"F1334*'Série - IPCA'!$C$444/'Série - IPCA'!$C$411","v":266654.51468820142},{"$f":"G1334*'Série - IPCA'!$C$444/'Série - IPCA'!$C$424","v":287921.95486176352},{"$f":"H1334*'Série - IPCA'!$C$444/'Série - IPCA'!$C$437","v":305644.7668921976},270789.69527817192,"Custos","N","SIM","NÃO","OPEX","EXTENSÃO","SERVIÇOS",5200,"GERÊNCIA DE OPERAÇÕES","Custos238404,12"]
[null,null,null,40970.6,167469.79,124337.76,141729.48000000001,157730.22,126447.56999999999,{"$f":"D1335*'Série - IPCA'!$C$444/'Série - IPCA'!$C$385","v":53328.042224909979},{"$f":"E1335*'Série - IPCA'!$C$444/'Série - IPCA'!$C$398","v":208559.97105232123},{"$f":"F1335*'Série - IPCA'!$C$444/'Série - IPCA'!$C$411","v":140690.29326828592},{"$f":"G1335*'Série - IPCA'!$C$444/'Série - IPCA'!$C$424","v":151599.16796475695},{"$f":"H1335*'Série - IPCA'!$C$444/'Série - IPCA'!$C$437","v":161261.93903473963},143087.88270900276,"Despesas com Vendas","N","SIM","NÃO","ENCARGOS DE COMERCIALIZAÇÃO","FIXO","SERVIÇOS",5300,"GERÊNCIA COMERCIAL","Despesas com Vendas126447,57"]
[null,null,null,0,2070.19,6507.23,7417.42,8254.7999999999993,4849.9279999999999,{"$f":"D1336*'Série - IPCA'!$C$444/'Série - IPCA'!$C$385","v":0},{"$f":"E1336*'Série - IPCA'!$C$444/'Série - IPCA'!$C$398","v":2578.1292642261324},{"$f":"F1336*'Série - IPCA'!$C$444/'Série - IPCA'!$C$411","v":7363.0415817703988},{"$f":"G1336*'Série - IPCA'!$C$444/'Série - IPCA'!$C$424","v":7933.9506533513531},{"$f":"H1336*'Série - IPCA'!$C$444/'Série - IPCA'!$C$437","v":8439.6322679570749},5262.950753460992,"Despesas Gerais e Administratias","N","SIM","NÃO","ENCARGOS DE GESTÃO","FIXO","SERVIÇOS",1005,"AUDITORIA INTERNA","Despesas Gerais e Administratias4849,928"]
[null,null,null,0,15675,13114.54,14948.93,16636.61,12075.016,{"$f":"D1337*'Série - IPCA'!$C$444/'Série - IPCA'!$C$385","v":0},{"$f":"E1337*'Série - IPCA'!$C$444/'Série - IPCA'!$C$398","v":19520.99866038606},{"$f":"F1337*'Série - IPCA'!$C$444/'Série - IPCA'!$C$411","v":14839.325388189933},{"$f":"G1337*'Série - IPCA'!$C$444/'Série - IPCA'!$C$424","v":15989.936250125198},{"$f":"H1337*'Série - IPCA'!$C$444/'Série - IPCA'!$C$437","v":17009.118402071203},13471.875740154477,"Despesas Gerais e Administratias","N","SIM","NÃO","ENCARGOS DE GESTÃO","FIXO","SERVIÇOS",2110,"ASSESSORIA DA DIRETORIA EXECUTIVA","Despesas Gerais e Administratias12075,016"]
[null,null,null,0,6242.41,19621.75,22366.34,24891.4,14624.38,{"$f":"D1338*'Série - IPCA'!$C$444/'Série - IPCA'!$C$385","v":0},{"$f":"E1338*'Série - IPCA'!$C$444/'Série - IPCA'!$C$398","v":7774.0400157946133},{"$f":"F1338*'Série - IPCA'!$C$444/'Série - IPCA'!$C$411","v":22202.344339619678},{"$f":"G1338*'Série - IPCA'!$C$444/'Série - IPCA'!$C$424","v":23923.876207101457},{"$f":"H1338*'Série - IPCA'!$C$444/'Série - IPCA'!$C$437","v":25448.740446119442},15869.800201727037,"Despesas Gerais e Administratias","N","SIM","NÃO","ENCARGOS DE GESTÃO","FIXO","SERVIÇOS",2120,"ASSESSORIA DA PRESIDÊNCIA","Despesas Gerais e Administratias14624,38"]
[null,null,null,36350.53,26211.25,0,0,41.4,12520.636,{"$f":"D1339*'Série - IPCA'!$C$444/'Série - IPCA'!$C$385","v":47314.479132301145},{"$f":"E1339*'Série - IPCA'!$C$444/'Série - IPCA'!$C$398","v":32642.409960895959},{"$f":"F1339*'Série - IPCA'!$C$444/'Série - IPCA'!$C$411","v":0},{"$f":"G1339*'Série - IPCA'!$C$444/'Série - IPCA'!$C$424","v":0},{"$f":"H1339*'Série - IPCA'!$C$444/'Série - IPCA'!$C$437","v":42.326982591149751},15999.843215157651,"Despesas Gerais e Administratias","N","SIM","NÃO","ENCARGOS DE GESTÃO","FIXO","SERVIÇOS",2200,"DIRETORIA COLEGIADA - PRESIDÊNCIA","Despesas Gerais e Administratias12520,636"]
[null,null,null,9065.85,6537.1,0,0,0,3120.59,{"$f":"D1340*'Série - IPCA'!$C$444/'Série - IPCA'!$C$385","v":11800.267303986278},{"$f":"E1340*'Série - IPCA'!$C$444/'Série - IPCA'!$C$398","v":8141.0347906098714},{"$f":"F1340*'Série - IPCA'!$C$444/'Série - IPCA'!$C$411","v":0},{"$f":"G1340*'Série - IPCA'!$C$444/'Série - IPCA'!$C$424","v":0},{"$f":"H1340*'Série - IPCA'!$C$444/'Série - IPCA'!$C$437","v":0},3988.2604189192302,"Despesas Gerais e Administratias","N","SIM","NÃO","ENCARGOS DE GESTÃO","FIXO","SERVIÇOS",2300,"DIRETORIA COLEGIADA - DAF","Despesas Gerais e Administratias3120,59"]
[null,null,null,0,2070.19,6507.23,7417.42,8254.7999999999993,4849.9279999999999,{"$f":"D1341*'Série - IPCA'!$C$444/'Série - IPCA'!$C$385","v":0},{"$f":"E1341*'Série - IPCA'!$C$444/'Série - IPCA'!$C$398","v":2578.1292642261324},{"$f":"F1341*'Série - IPCA'!$C$444/'Série - IPCA'!$C$411","v":7363.0415817703988},{"$f":"G1341*'Série - IPCA'!$C$444/'Série - IPCA'!$C$424","v":7933.9506533513531},{"$f":"H1341*'Série - IPCA'!$C$444/'Série - IPCA'!$C$437","v":8439.6322679570749},5262.950753460992,"Despesas Gerais e Administratias","N","SIM","NÃO","ENCARGOS DE GESTÃO","FIXO","SERVIÇOS",2310,"ASSESSORIA DAF","Despesas Gerais e Administratias4849,928"]
[null,null,null,9065.85,6537.1,0,0,0,3120.59,{"$f":"D1342*'Série - IPCA'!$C$444/'Série - IPCA'!$C$385","v":11800.267303986278},{"$f":"E1342*'Série - IPCA'!$C$444/'Série - IPCA'!$C$398","v":8141.0347906098714},{"$f":"F1342*'Série - IPCA'!$C$444/'Série - IPCA'!$C$411","v":0},{"$f":"G1342*'Série - IPCA'!$C$444/'Série - IPCA'!$C$424","v":0},{"$f":"H1342*'Série - IPCA'!$C$444/'Série - IPCA'!$C$437","v":0},3988.2604189192302,"Despesas Gerais e Administratias","N","SIM","NÃO","ENCARGOS DE GESTÃO","FIXO","SERVIÇOS",2400,"DIRETORIA COLEGIADA - DTC","Despesas Gerais e Administratias3120,59"]
[null,null,null,0,0,0,0,3400,680,{"$f":"D1343*'Série - IPCA'!$C$444/'Série - IPCA'!$C$385","v":0},{"$f":"E1343*'Série - IPCA'!$C$444/'Série - IPCA'!$C$398","v":0},{"$f":"F1343*'Série - IPCA'!$C$444/'Série - IPCA'!$C$411","v":0},{"$f":"G1343*'Série - IPCA'!$C$444/'Série - IPCA'!$C$424","v":0},{"$f":"H1343*'Série - IPCA'!$C$444/'Série - IPCA'!$C$437","v":3476.1290050702692},695.22580101405379,"Despesas Gerais e Administratias","N","SIM","NÃO","ENCARGOS DE GESTÃO","FIXO","SERVIÇOS",2410,"ASSESSORIA DE SEGURANÇA DO TRABALHO","Despesas Gerais e Administratias680"]
[null,null,null,22751.77,69220.7,78486.97,89465.29,99565.64,71898.073999999993,{"$f":"D1344*'Série - IPCA'!$C$444/'Série - IPCA'!$C$385","v":29614.097700581398},{"$f":"E1344*'Série - IPCA'!$C$444/'Série - IPCA'!$C$398","v":86204.605548388223},{"$f":"F1344*'Série - IPCA'!$C$444/'Série - IPCA'!$C$411","v":88809.343412967719},{"$f":"G1344*'Série - IPCA'!$C$444/'Série - IPCA'!$C$424","v":95695.429953780185},{"$f":"H1344*'Série - IPCA'!$C$444/'Série - IPCA'!$C$437","v":101795.00268011312},80423.695859166124,"Despesas Gerais e Administratias","N","SIM","NÃO","ENCARGOS DE GESTÃO","FIXO","SERVIÇOS",3200,"GERÊNCIA DE PLANEJAMENTO E MEIO AMBIENTE","Despesas Gerais e Administratias71898,074"]
[null,null,null,27284.69,27986.7,26128.94,29783.73,33146.19,28866.05,{"$f":"D1345*'Série - IPCA'!$C$444/'Série - IPCA'!$C$385","v":35514.224844487981},{"$f":"E1345*'Série - IPCA'!$C$444/'Série - IPCA'!$C$398","v":34853.482182368527},{"$f":"F1345*'Série - IPCA'!$C$444/'Série - IPCA'!$C$411","v":29565.34066070876},{"$f":"G1345*'Série - IPCA'!$C$444/'Série - IPCA'!$C$424","v":31857.794771327535},{"$f":"H1345*'Série - IPCA'!$C$444/'Série - IPCA'!$C$437","v":33888.362490167681},33135.840989812088,"Despesas Gerais e Administratias","N","SIM","NÃO","ENCARGOS DE GESTÃO","FIXO","SERVIÇOS",3300,"GERÊNCIA JURÍDICA","Despesas Gerais e Administratias28866,05"]
[null,null,null,0,31255.279999999999,26128.94,29783.73,33146.19,24062.828000000001,{"$f":"D1346*'Série - IPCA'!$C$444/'Série - IPCA'!$C$385","v":0},{"$f":"E1346*'Série - IPCA'!$C$444/'Série - IPCA'!$C$398","v":38924.036938436446},{"$f":"F1346*'Série - IPCA'!$C$444/'Série - IPCA'!$C$411","v":29565.34066070876},{"$f":"G1346*'Série - IPCA'!$C$444/'Série - IPCA'!$C$424","v":31857.794771327535},{"$f":"H1346*'Série - IPCA'!$C$444/'Série - IPCA'!$C$437","v":33888.362490167681},26847.106972128084,"Despesas Gerais e Administratias","N","SIM","NÃO","ENCARGOS DE GESTÃO","FIXO","SERVIÇOS",3500,"ASSESSORIA DE COMUNICAÇÃO INSTITUCIONAL","Despesas Gerais e Administratias24062,828"]
[null,null,null,13685.83,24455.35,45850.81,52264.2,58164.61,38884.159999999996,{"$f":"D1347*'Série - IPCA'!$C$444/'Série - IPCA'!$C$385","v":17813.713251037083},{"$f":"E1347*'Série - IPCA'!$C$444/'Série - IPCA'!$C$398","v":30455.684503302859},{"$f":"F1347*'Série - IPCA'!$C$444/'Série - IPCA'!$C$411","v":51880.972485658887},{"$f":"G1347*'Série - IPCA'!$C$444/'Série - IPCA'!$C$424","v":55903.74870735185},{"$f":"H1347*'Série - IPCA'!$C$444/'Série - IPCA'!$C$437","v":59466.967026353013},43104.217194740741,"Despesas Gerais e Administratias","N","SIM","NÃO","ENCARGOS DE GESTÃO","FIXO","SERVIÇOS",3600,"GERÊNCIA DE GOVERNANÇA, RISCO E COMPLIANCE","Despesas Gerais e Administratias38884,16"]
[null,null,null,64880.18,105593.98,127474.08,150113.14000000001,160790.98000000001,121770.47199999999,{"$f":"D1348*'Série - IPCA'!$C$444/'Série - IPCA'!$C$385","v":84449.165464986116},{"$f":"E1348*'Série - IPCA'!$C$444/'Série - IPCA'!$C$398","v":131502.38865230192},{"$f":"F1348*'Série - IPCA'!$C$444/'Série - IPCA'!$C$411","v":144239.09276880123},{"$f":"G1348*'Série - IPCA'!$C$444/'Série - IPCA'!$C$424","v":160566.64516497965},{"$f":"H1348*'Série - IPCA'!$C$444/'Série - IPCA'!$C$437","v":164391.23215637461},137029.70484148868,"Despesas Gerais e Administratias","N","SIM","NÃO","ENCARGOS DE GESTÃO","FIXO","SERVIÇOS",4100,"GERÊNCIA DE SERVIÇOS CORPORATIVOS","Despesas Gerais e Administratias121770,472"]
[null,null,null,50036.45,54806.94,58865.23,67099,74674.240000000005,{"$f":"AVERAGE(D1349:H1349)","v":61096.371999999996},{"$f":"D1349*'Série - IPCA'!$C$444/'Série - IPCA'!$C$385","v":65128.309528896258},{"$f":"E1349*'Série - IPCA'!$C$444/'Série - IPCA'!$C$398","v":68254.303178300441},{"$f":"F1349*'Série - IPCA'!$C$444/'Série - IPCA'!$C$411","v":66607.010388518378},{"$f":"G1349*'Série - IPCA'!$C$444/'Série - IPCA'!$C$424","v":71771.607228554189},{"$f":"H1349*'Série - IPCA'!$C$444/'Série - IPCA'!$C$437","v":76346.262233993679},{"$f":"AVERAGE(J1349:N1349)","v":69621.498511652593},"Despesas Gerais e Administratias","N","SIM","NÃO","ENCARGOS DE GESTÃO","FIXO","SERVIÇOS",4200,"GERÊNCIA FINANCEIRA",{"$f":"B1349&C1349&P1349&I1349","v":"Despesas Gerais e Administratias61096,372"}]
[null,null,null,56487.12,57388.15,52358.04,59681.57,66419.41,58466.858000000007,{"$f":"D1350*'Série - IPCA'!$C$444/'Série - IPCA'!$C$385","v":73524.613272042814},{"$f":"E1350*'Série - IPCA'!$C$444/'Série - IPCA'!$C$398","v":71468.835679236639},{"$f":"F1350*'Série - IPCA'!$C$444/'Série - IPCA'!$C$411","v":59244.014067429285},{"$f":"G1350*'Série - IPCA'!$C$444/'Série - IPCA'!$C$424","v":63837.645878827745},{"$f":"H1350*'Série - IPCA'!$C$444/'Série - IPCA'!$C$437","v":67906.599294310086},67196.341638369311,"Despesas Gerais e Administratias","N","SIM","NÃO","ENCARGOS DE GESTÃO","FIXO","SERVIÇOS",4300,"GERÊNCIA DE TECNOLOGIA E SISTEMAS DE INFORMAÇÃO","Despesas Gerais e Administratias58466,858"]
[null,null,null,36350.519999999997,38696.050000000003,39243.5,44732.67,49782.82,41761.112000000001,{"$f":"D1351*'Série - IPCA'!$C$444/'Série - IPCA'!$C$385","v":47314.466116128024},{"$f":"E1351*'Série - IPCA'!$C$444/'Série - IPCA'!$C$398","v":48190.465085309865},{"$f":"F1351*'Série - IPCA'!$C$444/'Série - IPCA'!$C$411","v":44404.688679239356},{"$f":"G1351*'Série - IPCA'!$C$444/'Série - IPCA'!$C$424","v":47847.741717827827},{"$f":"H1351*'Série - IPCA'!$C$444/'Série - IPCA'!$C$437","v":50897.501340056559},47730.972587712327,"Despesas Gerais e Administratias","N","SIM","NÃO","ENCARGOS DE GESTÃO","FIXO","SERVIÇOS",4500,"GERÊNCIA CONTÁBIL","Despesas Gerais e Administratias41761,112"]
[null,null,null,0,0,107460,0,0,21492,{"$f":"D1352*'Série - IPCA'!$C$444/'Série - IPCA'!$C$385","v":0},{"$f":"E1352*'Série - IPCA'!$C$444/'Série - IPCA'!$C$398","v":0},{"$f":"F1352*'Série - IPCA'!$C$444/'Série - IPCA'!$C$411","v":121592.82035167761},{"$f":"G1352*'Série - IPCA'!$C$444/'Série - IPCA'!$C$424","v":0},{"$f":"H1352*'Série - IPCA'!$C$444/'Série - IPCA'!$C$437","v":0},24318.564070335524,"Despesas com Vendas","N","NÃO ","NÃO","ENCARGOS DE COMERCIALIZAÇÃO","FIXO","SERVIÇOS",5300,"GERÊNCIA COMERCIAL","Despesas com Vendas21492"]
[null,null,null,0,0,0,0,38150,7630,{"$f":"D1353*'Série - IPCA'!$C$444/'Série - IPCA'!$C$385","v":0},{"$f":"E1353*'Série - IPCA'!$C$444/'Série - IPCA'!$C$398","v":0},{"$f":"F1353*'Série - IPCA'!$C$444/'Série - IPCA'!$C$411","v":0},{"$f":"G1353*'Série - IPCA'!$C$444/'Série - IPCA'!$C$424","v":0},{"$f":"H1353*'Série - IPCA'!$C$444/'Série - IPCA'!$C$437","v":39004.21221865611},7800.8424437312224,"Despesas Gerais e Administratias","N","NÃO ","NÃO","ENCARGOS DE GESTÃO","FIXO","SERVIÇOS",2120,"ASSESSORIA DA PRESIDÊNCIA","Despesas Gerais e Administratias7630"]
[null,null,null,0,0,0,0,2721.88,544.37599999999998,{"$f":"D1354*'Série - IPCA'!$C$444/'Série - IPCA'!$C$385","v":0},{"$f":"E1354*'Série - IPCA'!$C$444/'Série - IPCA'!$C$398","v":0},{"$f":"F1354*'Série - IPCA'!$C$444/'Série - IPCA'!$C$411","v":0},{"$f":"G1354*'Série - IPCA'!$C$444/'Série - IPCA'!$C$424","v":0},{"$f":"H1354*'Série - IPCA'!$C$444/'Série - IPCA'!$C$437","v":2782.8252989178427},556.56505978356859,"Despesas Gerais e Administratias","N","NÃO ","NÃO","ENCARGOS DE GESTÃO","FIXO","SERVIÇOS",2410,"ASSESSORIA DE SEGURANÇA DO TRABALHO","Despesas Gerais e Administratias544,376"]
[null,null,null,0,1200,35319.42,20157.13,22682.63,15871.836000000001,{"$f":"D1355*'Série - IPCA'!$C$444/'Série - IPCA'!$C$385","v":0},{"$f":"E1355*'Série - IPCA'!$C$444/'Série - IPCA'!$C$398","v":1494.4305194553922},{"$f":"F1355*'Série - IPCA'!$C$444/'Série - IPCA'!$C$411","v":39964.52532091429},{"$f":"G1355*'Série - IPCA'!$C$444/'Série - IPCA'!$C$424","v":21560.8223254431},{"$f":"H1355*'Série - IPCA'!$C$444/'Série - IPCA'!$C$437","v":23190.514133610897},17242.058459884734,"Despesas Gerais e Administratias","N","NÃO ","NÃO","ENCARGOS DE GESTÃO","FIXO","SERVIÇOS",3300,"GERÊNCIA JURÍDICA","Despesas Gerais e Administratias15871,836"]
[null,null,null,0,0,0,0,52210.96,10442.191999999999,{"$f":"D1356*'Série - IPCA'!$C$444/'Série - IPCA'!$C$385","v":0},{"$f":"E1356*'Série - IPCA'!$C$444/'Série - IPCA'!$C$398","v":0},{"$f":"F1356*'Série - IPCA'!$C$444/'Série - IPCA'!$C$411","v":0},{"$f":"G1356*'Série - IPCA'!$C$444/'Série - IPCA'!$C$424","v":0},{"$f":"H1356*'Série - IPCA'!$C$444/'Série - IPCA'!$C$437","v":53380.009540753999},10676.0019081508,"Despesas Gerais e Administratias","N","NÃO ","NÃO","ENCARGOS DE GESTÃO","FIXO","SERVIÇOS",3200,"GERÊNCIA DE PLANEJAMENTO E MEIO AMBIENTE","Despesas Gerais e Administratias10442,192"]
[null,null,null,0,100082.15,323304.09999999998,17930,21334.61,92530.171999999991,{"$f":"D1357*'Série - IPCA'!$C$444/'Série - IPCA'!$C$385","v":0},{"$f":"E1357*'Série - IPCA'!$C$444/'Série - IPCA'!$C$398","v":124638.18284392706},{"$f":"F1357*'Série - IPCA'!$C$444/'Série - IPCA'!$C$411","v":365824.09594510339},{"$f":"G1357*'Série - IPCA'!$C$444/'Série - IPCA'!$C$424","v":19178.600539620213},{"$f":"H1357*'Série - IPCA'!$C$444/'Série - IPCA'!$C$437","v":21812.310774371239},106290.63802060438,"Despesas Gerais e Administratias","N","NÃO ","NÃO","ENCARGOS DE GESTÃO","FIXO","SERVIÇOS",3600,"GERÊNCIA DE GOVERNANÇA, RISCO E COMPLIANCE","Despesas Gerais e Administratias92530,172"]
[null,null,null,0,16500,28163.3,356509.34,137626.06,107759.73999999999,{"$f":"D1358*'Série - IPCA'!$C$444/'Série - IPCA'!$C$385","v":0},{"$f":"E1358*'Série - IPCA'!$C$444/'Série - IPCA'!$C$398","v":20548.419642511642},{"$f":"F1358*'Série - IPCA'!$C$444/'Série - IPCA'!$C$411","v":31867.25365168809},{"$f":"G1358*'Série - IPCA'!$C$444/'Série - IPCA'!$C$424","v":381335.76243745937},{"$f":"H1358*'Série - IPCA'!$C$444/'Série - IPCA'!$C$437","v":140707.62912339446},114891.81297101072,"Despesas Gerais e Administratias","N","NÃO ","NÃO","ENCARGOS DE GESTÃO","FIXO","SERVIÇOS",4100,"GERÊNCIA DE SERVIÇOS CORPORATIVOS","Despesas Gerais e Administratias107759,74"]
[null,null,null,0,0,0,40000,687888.72,145577.74400000001,{"$f":"D1359*'Série - IPCA'!$C$444/'Série - IPCA'!$C$385","v":0},{"$f":"E1359*'Série - IPCA'!$C$444/'Série - IPCA'!$C$398","v":0},{"$f":"F1359*'Série - IPCA'!$C$444/'Série - IPCA'!$C$411","v":0},{"$f":"G1359*'Série - IPCA'!$C$444/'Série - IPCA'!$C$424","v":42785.50036725089},{"$f":"H1359*'Série - IPCA'!$C$444/'Série - IPCA'!$C$437","v":703291.15642725327},149215.33135890082,"Despesas Gerais e Administratias","N","NÃO ","NÃO","ENCARGOS DE GESTÃO","FIXO","SERVIÇOS",4200,"GERÊNCIA FINANCEIRA","Despesas Gerais e Administratias145577,744"]
[null,null,null,0,42849.47,327283.86,334986.23999999999,477845.45,236593.00400000002,{"$f":"D1360*'Série - IPCA'!$C$444/'Série - IPCA'!$C$385","v":0},{"$f":"E1360*'Série - IPCA'!$C$444/'Série - IPCA'!$C$398","v":53362.963092073544},{"$f":"F1360*'Série - IPCA'!$C$444/'Série - IPCA'!$C$411","v":370327.26217181841},{"$f":"G1360*'Série - IPCA'!$C$444/'Série - IPCA'!$C$424","v":358313.84736359987},{"$f":"H1360*'Série - IPCA'!$C$444/'Série - IPCA'!$C$437","v":488544.83196642797},254109.78091878397,"Despesas Gerais e Administratias","N","NÃO ","NÃO","ENCARGOS DE GESTÃO","FIXO","SERVIÇOS",4300,"GERÊNCIA DE TECNOLOGIA E SISTEMAS DE INFORMAÇÃO","Despesas Gerais e Administratias236593,004"]
[null,null,null,0,39214.129999999997,34418.080000000002,154682.95000000001,134723.35,72607.702000000005,{"$f":"D1361*'Série - IPCA'!$C$444/'Série - IPCA'!$C$385","v":0},{"$f":"E1361*'Série - IPCA'!$C$444/'Série - IPCA'!$C$398","v":48835.660554909402},{"$f":"F1361*'Série - IPCA'!$C$444/'Série - IPCA'!$C$411","v":38944.643758511709},{"$f":"G1361*'Série - IPCA'!$C$444/'Série - IPCA'!$C$424","v":165454.68535081131},{"$f":"H1361*'Série - IPCA'!$C$444/'Série - IPCA'!$C$437","v":137739.92488095109},78194.982909036713,"Despesas Gerais e Administratias","N","NÃO ","NÃO","ENCARGOS DE GESTÃO","FIXO","SERVIÇOS",4500,"GERÊNCIA CONTÁBIL","Despesas Gerais e Administratias72607,702"]
[null,null,null,0,0,19858,0,0,3971.6,{"$f":"D1362*'Série - IPCA'!$C$444/'Série - IPCA'!$C$385","v":0},{"$f":"E1362*'Série - IPCA'!$C$444/'Série - IPCA'!$C$398","v":0},{"$f":"F1362*'Série - IPCA'!$C$444/'Série - IPCA'!$C$411","v":22469.665238634043},{"$f":"G1362*'Série - IPCA'!$C$444/'Série - IPCA'!$C$424","v":0},{"$f":"H1362*'Série - IPCA'!$C$444/'Série - IPCA'!$C$437","v":0},4493.9330477268086,"Despesas Gerais e Administratias","N","SIM","NÃO","ENCARGOS DE GESTÃO","FIXO","MATERIAIS_MANUTENÇÃO",3500,"ASSESSORIA DE COMUNICAÇÃO INSTITUCIONAL","Despesas Gerais e Administratias3971,6"]
[null,null,null,0,293368.37,268593.52,69265.210000000006,0,126245.42,{"$f":"D1363*'Série - IPCA'!$C$444/'Série - IPCA'!$C$385","v":0},{"$f":"E1363*'Série - IPCA'!$C$444/'Série - IPCA'!$C$398","v":365348.87130906805},{"$f":"F1363*'Série - IPCA'!$C$444/'Série - IPCA'!$C$411","v":303918.14279717789},{"$f":"G1363*'Série - IPCA'!$C$444/'Série - IPCA'!$C$424","v":74088.666697317763},{"$f":"H1363*'Série - IPCA'!$C$444/'Série - IPCA'!$C$437","v":0},148671.13616071275,"Custos","N","SIM","NÃO","OPEX","EXTENSÃO","MATERIAIS_MANUTENÇÃO",5100,"GERÊNCIA DE ENGENHARIA","Custos126245,42"]
[null,null,null,2945668.15,2882785.43,2970647.82,3994135.35,3692862.2,3297219.79,{"$f":"D1364*'Série - IPCA'!$C$444/'Série - IPCA'!$C$385","v":3834132.6581444372},{"$f":"E1364*'Série - IPCA'!$C$444/'Série - IPCA'!$C$398","v":3590102.106361114},{"$f":"F1364*'Série - IPCA'!$C$444/'Série - IPCA'!$C$411","v":3361338.606973411},{"$f":"G1364*'Série - IPCA'!$C$444/'Série - IPCA'!$C$424","v":4272276.9871068699},{"$f":"H1364*'Série - IPCA'!$C$444/'Série - IPCA'!$C$437","v":3775548.6485728254},3766679.8014317313,"Custos","N","SIM","NÃO","OPEX","EXTENSÃO","MATERIAIS_MANUTENÇÃO",5200,"GERÊNCIA DE OPERAÇÕES","Custos3297219,79"]
[null,null,null,0,0,0,59910.53,741796.88,160341.48200000002,{"$f":"D1365*'Série - IPCA'!$C$444/'Série - IPCA'!$C$385","v":0},{"$f":"E1365*'Série - IPCA'!$C$444/'Série - IPCA'!$C$398","v":0},{"$f":"F1365*'Série - IPCA'!$C$444/'Série - IPCA'!$C$411","v":0},{"$f":"G1365*'Série - IPCA'!$C$444/'Série - IPCA'!$C$424","v":64082.550082929891},{"$f":"H1365*'Série - IPCA'!$C$444/'Série - IPCA'!$C$437","v":758406.36777606758},164497.78357179949,"Despesas com Vendas","N","SIM","NÃO","ENCARGOS DE COMERCIALIZAÇÃO","FIXO","MATERIAIS_MANUTENÇÃO",5300,"GERÊNCIA COMERCIAL","Despesas com Vendas160341,482"]
[null,null,null,4154.05,0,0,0,0,830.81000000000006,{"$f":"D1366*'Série - IPCA'!$C$444/'Série - IPCA'!$C$385","v":5406.9833930766772},{"$f":"E1366*'Série - IPCA'!$C$444/'Série - IPCA'!$C$398","v":0},{"$f":"F1366*'Série - IPCA'!$C$444/'Série - IPCA'!$C$411","v":0},{"$f":"G1366*'Série - IPCA'!$C$444/'Série - IPCA'!$C$424","v":0},{"$f":"H1366*'Série - IPCA'!$C$444/'Série - IPCA'!$C$437","v":0},1081.3966786153355,"Despesas com Vendas","N","SIM","NÃO","ENCARGOS DE COMERCIALIZAÇÃO","FIXO","MATERIAIS_MANUTENÇÃO",5400,"GERÊNCIA COMERCIAL (inativo)","Despesas com Vendas830,81"]
[null,null,null,600596.29,146730.42000000001,0,0,0,149465.342,{"$f":"D1367*'Série - IPCA'!$C$444/'Série - IPCA'!$C$385","v":781746.52832138864},{"$f":"E1367*'Série - IPCA'!$C$444/'Série - IPCA'!$C$398","v":182732.01481708992},{"$f":"F1367*'Série - IPCA'!$C$444/'Série - IPCA'!$C$411","v":0},{"$f":"G1367*'Série - IPCA'!$C$444/'Série - IPCA'!$C$424","v":0},{"$f":"H1367*'Série - IPCA'!$C$444/'Série - IPCA'!$C$437","v":0},192895.70862769571,"Despesas com Vendas","N","SIM","NÃO","ENCARGOS DE COMERCIALIZAÇÃO","FIXO","MATERIAIS_MANUTENÇÃO",5500,"GERÊNCIA COMERCIAL (inativo)","Despesas com Vendas149465,342"]
[null,null,null,0,2360,16145,19283.849999999999,54109.54,18379.678,{"$f":"D1368*'Série - IPCA'!$C$444/'Série - IPCA'!$C$385","v":0},{"$f":"E1368*'Série - IPCA'!$C$444/'Série - IPCA'!$C$398","v":2939.0466882622713},{"$f":"F1368*'Série - IPCA'!$C$444/'Série - IPCA'!$C$411","v":18268.342495606135},{"$f":"G1368*'Série - IPCA'!$C$444/'Série - IPCA'!$C$424","v":20626.729281425276},{"$f":"H1368*'Série - IPCA'!$C$444/'Série - IPCA'!$C$437","v":55321.100425002922},19431.04377805932,"Despesas Gerais e Administratias","N","SIM","NÃO","ENCARGOS DE GESTÃO","FIXO","MATERIAIS_MANUTENÇÃO",2410,"ASSESSORIA DE SEGURANÇA DO TRABALHO","Despesas Gerais e Administratias18379,678"]
[null,null,null,37864.1,55805.37,86636.57,69474.7,84903.56,66936.86,{"$f":"D1369*'Série - IPCA'!$C$444/'Série - IPCA'!$C$385","v":49284.56804655568},{"$f":"E1369*'Série - IPCA'!$C$444/'Série - IPCA'!$C$398","v":69497.706731250306},{"$f":"F1369*'Série - IPCA'!$C$444/'Série - IPCA'!$C$411","v":98030.754624004679},{"$f":"G1369*'Série - IPCA'!$C$444/'Série - IPCA'!$C$424","v":74312.745059116132},{"$f":"H1369*'Série - IPCA'!$C$444/'Série - IPCA'!$C$437","v":86804.625749918792},75586.080042169109,"Despesas Gerais e Administratias","N","SIM","NÃO","ENCARGOS DE GESTÃO","FIXO","MATERIAIS_MANUTENÇÃO",4100,"GERÊNCIA DE SERVIÇOS CORPORATIVOS","Despesas Gerais e Administratias66936,86"]
[null,null,null,552478.71999999997,850232.94,1247366.99,1706351.02,2071759.08,1285637.75,{"$f":"D1370*'Série - IPCA'!$C$444/'Série - IPCA'!$C$385","v":719115.86621929426},{"$f":"E1370*'Série - IPCA'!$C$444/'Série - IPCA'!$C$398","v":1058845.0451519045},{"$f":"F1370*'Série - IPCA'!$C$444/'Série - IPCA'!$C$411","v":1411416.995418601},{"$f":"G1370*'Série - IPCA'!$C$444/'Série - IPCA'!$C$424","v":1825177.0548217234},{"$f":"H1370*'Série - IPCA'!$C$444/'Série - IPCA'!$C$437","v":2118147.5969134402},1426540.5117049927,"Despesas Gerais e Administratias","N","SIM","NÃO","ENCARGOS DE GESTÃO","FIXO","MATERIAIS_MANUTENÇÃO",4300,"GERÊNCIA DE TECNOLOGIA E SISTEMAS DE INFORMAÇÃO","Despesas Gerais e Administratias1285637,75"]
[null,null,null,0,627.88,1892.32,2328.38,2448.06,1459.328,{"$f":"D1371*'Série - IPCA'!$C$444/'Série - IPCA'!$C$385","v":0},{"$f":"E1371*'Série - IPCA'!$C$444/'Série - IPCA'!$C$398","v":781.93586212970979},{"$f":"F1371*'Série - IPCA'!$C$444/'Série - IPCA'!$C$411","v":2141.1923116311796},{"$f":"G1371*'Série - IPCA'!$C$444/'Série - IPCA'!$C$424","v":2490.5225836274913},{"$f":"H1371*'Série - IPCA'!$C$444/'Série - IPCA'!$C$437","v":2502.8742271036244},1583.304996898401,"Despesas Gerais e Administratias","N","SIM","NÃO","ENCARGOS DE GESTÃO","FIXO","MATERIAIS_MANUTENÇÃO",4500,"GERÊNCIA CONTÁBIL","Despesas Gerais e Administratias1459,328"]
[null,null,null,500,0,0,0,0,100,{"$f":"D1372*'Série - IPCA'!$C$444/'Série - IPCA'!$C$385","v":650.80865577889983},{"$f":"E1372*'Série - IPCA'!$C$444/'Série - IPCA'!$C$398","v":0},{"$f":"F1372*'Série - IPCA'!$C$444/'Série - IPCA'!$C$411","v":0},{"$f":"G1372*'Série - IPCA'!$C$444/'Série - IPCA'!$C$424","v":0},{"$f":"H1372*'Série - IPCA'!$C$444/'Série - IPCA'!$C$437","v":0},130.16173115577996,"Despesas Gerais e Administratias","N","SIM","NÃO","ENCARGOS DE GESTÃO","FIXO","SERVIÇOS",3300,"GERÊNCIA JURÍDICA","Despesas Gerais e Administratias100"]
[null,null,null,971.21,364.29,0,0,0,267.10000000000002,{"$f":"D1373*'Série - IPCA'!$C$444/'Série - IPCA'!$C$385","v":1264.1437491580507},{"$f":"E1373*'Série - IPCA'!$C$444/'Série - IPCA'!$C$398","v":453.67174494367077},{"$f":"F1373*'Série - IPCA'!$C$444/'Série - IPCA'!$C$411","v":0},{"$f":"G1373*'Série - IPCA'!$C$444/'Série - IPCA'!$C$424","v":0},{"$f":"H1373*'Série - IPCA'!$C$444/'Série - IPCA'!$C$437","v":0},343.56309882034429,"Custos","N","NÃO","NÃO","OPEX","FIXO","SERVIÇOS",5100,"GERÊNCIA DE ENGENHARIA","Custos267,1"]
[null,null,null,178.6,0,0,0,162183.38,32472.396000000001,{"$f":"D1374*'Série - IPCA'!$C$444/'Série - IPCA'!$C$385","v":232.468851844223},{"$f":"E1374*'Série - IPCA'!$C$444/'Série - IPCA'!$C$398","v":0},{"$f":"F1374*'Série - IPCA'!$C$444/'Série - IPCA'!$C$411","v":0},{"$f":"G1374*'Série - IPCA'!$C$444/'Série - IPCA'!$C$424","v":0},{"$f":"H1374*'Série - IPCA'!$C$444/'Série - IPCA'!$C$437","v":165814.80922303925},33209.455614976694,"Despesas com Vendas","N","NÃO","NÃO","ENCARGOS DE COMERCIALIZAÇÃO","FIXO","SERVIÇOS",5300,"GERÊNCIA COMERCIAL","Despesas com Vendas32472,396"]
[null,null,null,0,0,293798.99,106201.01,0,80000,{"$f":"D1375*'Série - IPCA'!$C$444/'Série - IPCA'!$C$385","v":0},{"$f":"E1375*'Série - IPCA'!$C$444/'Série - IPCA'!$C$398","v":0},{"$f":"F1375*'Série - IPCA'!$C$444/'Série - IPCA'!$C$411","v":332438.56142354669},{"$f":"G1375*'Série - IPCA'!$C$444/'Série - IPCA'!$C$424","v":113596.58380893538},{"$f":"H1375*'Série - IPCA'!$C$444/'Série - IPCA'!$C$437","v":0},89207.029046496405,"Despesas Gerais e Administratias","N","NÃO","NÃO","ENCARGOS DE GESTÃO","FIXO","SERVIÇOS",5200,"GERÊNCIA DE OPERAÇÕES","Despesas Gerais e Administratias80000"]
[null,null,null,16200,10577.53,0,0,0,5355.5059999999994,{"$f":"D1376*'Série - IPCA'!$C$444/'Série - IPCA'!$C$385","v":21086.200447236351},{"$f":"E1376*'Série - IPCA'!$C$444/'Série - IPCA'!$C$398","v":13172.819710379164},{"$f":"F1376*'Série - IPCA'!$C$444/'Série - IPCA'!$C$411","v":0},{"$f":"G1376*'Série - IPCA'!$C$444/'Série - IPCA'!$C$424","v":0},{"$f":"H1376*'Série - IPCA'!$C$444/'Série - IPCA'!$C$437","v":0},6851.8040315231028,"Despesas Gerais e Administratias","N","NÃO","NÃO","ENCARGOS DE GESTÃO","FIXO","SERVIÇOS",4100,"GERÊNCIA DE SERVIÇOS CORPORATIVOS","Despesas Gerais e Administratias5355,506"]
[null,null,null,0,0,401.29,0,25452,5170.6580000000004,{"$f":"D1377*'Série - IPCA'!$C$444/'Série - IPCA'!$C$385","v":0},{"$f":"E1377*'Série - IPCA'!$C$444/'Série - IPCA'!$C$398","v":0},{"$f":"F1377*'Série - IPCA'!$C$444/'Série - IPCA'!$C$411","v":454.06647011841352},{"$f":"G1377*'Série - IPCA'!$C$444/'Série - IPCA'!$C$424","v":0},{"$f":"H1377*'Série - IPCA'!$C$444/'Série - IPCA'!$C$437","v":26021.892775602497},5295.191849144182,"Despesas Gerais e Administratias","N","NÃO","NÃO","ENCARGOS DE GESTÃO","FIXO","SERVIÇOS",5100,"GERÊNCIA DE ENGENHARIA","Despesas Gerais e Administratias5170,658"]
[null,null,null,0,0,1516.29,1816.98,5089.37,1684.5279999999998,{"$f":"D1378*'Série - IPCA'!$C$444/'Série - IPCA'!$C$385","v":0},{"$f":"E1378*'Série - IPCA'!$C$444/'Série - IPCA'!$C$398","v":0},{"$f":"F1378*'Série - IPCA'!$C$444/'Série - IPCA'!$C$411","v":1715.7079617629374},{"$f":"G1378*'Série - IPCA'!$C$444/'Série - IPCA'!$C$424","v":1943.5099614321882},{"$f":"H1378*'Série - IPCA'!$C$444/'Série - IPCA'!$C$437","v":5203.3254925101401},1772.5086831410531,"Despesas Gerais e Administratias","N","NÃO","NÃO","ENCARGOS DE GESTÃO","FIXO","SERVIÇOS",5200,"GERÊNCIA DE OPERAÇÕES","Despesas Gerais e Administratias1684,528"]
[null,null,null,0,0,0,0,495,99,{"$f":"D1379*'Série - IPCA'!$C$444/'Série - IPCA'!$C$385","v":0},{"$f":"E1379*'Série - IPCA'!$C$444/'Série - IPCA'!$C$398","v":0},{"$f":"F1379*'Série - IPCA'!$C$444/'Série - IPCA'!$C$411","v":0},{"$f":"G1379*'Série - IPCA'!$C$444/'Série - IPCA'!$C$424","v":0},{"$f":"H1379*'Série - IPCA'!$C$444/'Série - IPCA'!$C$437","v":506.08348750287746},101.21669750057549,"Despesas Gerais e Administratias","N","NÃO","NÃO","ENCARGOS DE GESTÃO","FIXO","SERVIÇOS",1001,"CONSELHO DE ADMINISTRAÇÃO","Despesas Gerais e Administratias99"]
[null,null,null,0,1934.74,3710,14027.2,156.84,3965.7560000000003,{"$f":"D1380*'Série - IPCA'!$C$444/'Série - IPCA'!$C$385","v":0},{"$f":"E1380*'Série - IPCA'!$C$444/'Série - IPCA'!$C$398","v":2409.445419342605},{"$f":"F1380*'Série - IPCA'!$C$444/'Série - IPCA'!$C$411","v":4197.9281919293126},{"$f":"G1380*'Série - IPCA'!$C$444/'Série - IPCA'!$C$424","v":15004.019268787544},{"$f":"H1380*'Série - IPCA'!$C$444/'Série - IPCA'!$C$437","v":160.35178622212385},4354.3489332563167,"Despesas Gerais e Administratias","N","NÃO","NÃO","ENCARGOS DE GESTÃO","FIXO","SERVIÇOS",2410,"ASSESSORIA DE SEGURANÇA DO TRABALHO","Despesas Gerais e Administratias3965,756"]
[null,null,null,259.60000000000002,318.27,0,0,0,115.574,{"$f":"D1381*'Série - IPCA'!$C$444/'Série - IPCA'!$C$385","v":337.89985408040479},{"$f":"E1381*'Série - IPCA'!$C$444/'Série - IPCA'!$C$398","v":396.36033452255646},{"$f":"F1381*'Série - IPCA'!$C$444/'Série - IPCA'!$C$411","v":0},{"$f":"G1381*'Série - IPCA'!$C$444/'Série - IPCA'!$C$424","v":0},{"$f":"H1381*'Série - IPCA'!$C$444/'Série - IPCA'!$C$437","v":0},146.85203772059225,"Despesas Gerais e Administratias","N","NÃO","NÃO","ENCARGOS DE GESTÃO","FIXO","SERVIÇOS",3100,"SMS","Despesas Gerais e Administratias115,574"]
[null,null,null,0,317.07,0,1730.82,0,409.57799999999997,{"$f":"D1382*'Série - IPCA'!$C$444/'Série - IPCA'!$C$385","v":0},{"$f":"E1382*'Série - IPCA'!$C$444/'Série - IPCA'!$C$398","v":394.86590400310104},{"$f":"F1382*'Série - IPCA'!$C$444/'Série - IPCA'!$C$411","v":0},{"$f":"G1382*'Série - IPCA'!$C$444/'Série - IPCA'!$C$424","v":1851.3499936411295},{"$f":"H1382*'Série - IPCA'!$C$444/'Série - IPCA'!$C$437","v":0},449.2431795288461,"Despesas Gerais e Administratias","N","NÃO","NÃO","ENCARGOS DE GESTÃO","FIXO","SERVIÇOS",3200,"GERÊNCIA DE PLANEJAMENTO E MEIO AMBIENTE","Despesas Gerais e Administratias409,578"]
[null,null,null,118.94,0,1197,0,0,263.18799999999999,{"$f":"D1383*'Série - IPCA'!$C$444/'Série - IPCA'!$C$385","v":154.81436303668468},{"$f":"E1383*'Série - IPCA'!$C$444/'Série - IPCA'!$C$398","v":0},{"$f":"F1383*'Série - IPCA'!$C$444/'Série - IPCA'!$C$411","v":1354.4258883394575},{"$f":"G1383*'Série - IPCA'!$C$444/'Série - IPCA'!$C$424","v":0},{"$f":"H1383*'Série - IPCA'!$C$444/'Série - IPCA'!$C$437","v":0},301.84805027522845,"Despesas Gerais e Administratias","N","NÃO","NÃO","ENCARGOS DE GESTÃO","FIXO","SERVIÇOS",3300,"GERÊNCIA JURÍDICA","Despesas Gerais e Administratias263,188"]
[null,null,null,0,427.5,0,262,0,137.9,{"$f":"D1384*'Série - IPCA'!$C$444/'Série - IPCA'!$C$385","v":0},{"$f":"E1384*'Série - IPCA'!$C$444/'Série - IPCA'!$C$398","v":532.39087255598349},{"$f":"F1384*'Série - IPCA'!$C$444/'Série - IPCA'!$C$411","v":0},{"$f":"G1384*'Série - IPCA'!$C$444/'Série - IPCA'!$C$424","v":280.24502740549337},{"$f":"H1384*'Série - IPCA'!$C$444/'Série - IPCA'!$C$437","v":0},162.52717999229537,"Despesas Gerais e Administratias","N","NÃO","NÃO","ENCARGOS DE GESTÃO","FIXO","SERVIÇOS",3500,"ASSESSORIA DE COMUNICAÇÃO INSTITUCIONAL","Despesas Gerais e Administratias137,9"]
[null,null,null,0,0,49000,0,0,9800,{"$f":"D1385*'Série - IPCA'!$C$444/'Série - IPCA'!$C$385","v":0},{"$f":"E1385*'Série - IPCA'!$C$444/'Série - IPCA'!$C$398","v":0},{"$f":"F1385*'Série - IPCA'!$C$444/'Série - IPCA'!$C$411","v":55444.334610387152},{"$f":"G1385*'Série - IPCA'!$C$444/'Série - IPCA'!$C$424","v":0},{"$f":"H1385*'Série - IPCA'!$C$444/'Série - IPCA'!$C$437","v":0},11088.86692207743,"Despesas Gerais e Administratias","N","NÃO","NÃO","ENCARGOS DE GESTÃO","FIXO","SERVIÇOS",3700,"GERÊNCIA DE REGULAÇÃO","Despesas Gerais e Administratias9800"]
[null,null,null,4100,133552.1,334773.09000000003,22700,89180.37,116861.11200000001,{"$f":"D1386*'Série - IPCA'!$C$444/'Série - IPCA'!$C$385","v":5336.6309773869789},{"$f":"E1386*'Série - IPCA'!$C$444/'Série - IPCA'!$C$398","v":166320.27848113209},{"$f":"F1386*'Série - IPCA'!$C$444/'Série - IPCA'!$C$411","v":378801.45347986231},{"$f":"G1386*'Série - IPCA'!$C$444/'Série - IPCA'!$C$424","v":24280.771458414882},{"$f":"H1386*'Série - IPCA'!$C$444/'Série - IPCA'!$C$437","v":91177.197305852489},133183.26634052972,"Despesas Gerais e Administratias","N","NÃO","NÃO","ENCARGOS DE GESTÃO","FIXO","SERVIÇOS",4100,"GERÊNCIA DE SERVIÇOS CORPORATIVOS","Despesas Gerais e Administratias116861,112"]
[null,null,null,0,0,0,0,244371.22,48874.243999999999,{"$f":"D1387*'Série - IPCA'!$C$444/'Série - IPCA'!$C$385","v":0},{"$f":"E1387*'Série - IPCA'!$C$444/'Série - IPCA'!$C$398","v":0},{"$f":"F1387*'Série - IPCA'!$C$444/'Série - IPCA'!$C$411","v":0},{"$f":"G1387*'Série - IPCA'!$C$444/'Série - IPCA'!$C$424","v":0},{"$f":"H1387*'Série - IPCA'!$C$444/'Série - IPCA'!$C$437","v":249842.90760188468},49968.581520376938,"Despesas Gerais e Administratias","N","NÃO","NÃO","ENCARGOS DE GESTÃO","FIXO","SERVIÇOS",4200,"GERÊNCIA FINANCEIRA","Despesas Gerais e Administratias48874,244"]
[null,null,null,246.24,174178.59,890.66,0,0,35063.097999999998,{"$f":"D1388*'Série - IPCA'!$C$444/'Série - IPCA'!$C$385","v":320.51024679799258},{"$f":"E1388*'Série - IPCA'!$C$444/'Série - IPCA'!$C$398","v":216914.83394308985},{"$f":"F1388*'Série - IPCA'!$C$444/'Série - IPCA'!$C$411","v":1007.7969604915801},{"$f":"G1388*'Série - IPCA'!$C$444/'Série - IPCA'!$C$424","v":0},{"$f":"H1388*'Série - IPCA'!$C$444/'Série - IPCA'!$C$437","v":0},43648.628230075883,"Despesas Gerais e Administratias","N","NÃO","NÃO","ENCARGOS DE GESTÃO","FIXO","SERVIÇOS",4300,"GERÊNCIA DE TECNOLOGIA E SISTEMAS DE INFORMAÇÃO","Despesas Gerais e Administratias35063,0979999999"]
[null,null,null,3149.11,2849.28,0,0,0,1199.6780000000001,{"$f":"D1389*'Série - IPCA'!$C$444/'Série - IPCA'!$C$385","v":4098.9360919997825},{"$f":"E1389*'Série - IPCA'!$C$444/'Série - IPCA'!$C$398","v":3548.3758253948836},{"$f":"F1389*'Série - IPCA'!$C$444/'Série - IPCA'!$C$411","v":0},{"$f":"G1389*'Série - IPCA'!$C$444/'Série - IPCA'!$C$424","v":0},{"$f":"H1389*'Série - IPCA'!$C$444/'Série - IPCA'!$C$437","v":0},1529.4623834789331,"Custos","N","SIM","NÃO","OPEX","EXTENSÃO","SERVIÇOS",5200,"GERÊNCIA DE OPERAÇÕES","Custos1199,678"]
[null,null,null,54809.21,69952.639999999999,86575.48,102740.66,106284.45,84072.487999999998,{"$f":"D1390*'Série - IPCA'!$C$444/'Série - IPCA'!$C$385","v":71340.616568806872},{"$f":"E1390*'Série - IPCA'!$C$444/'Série - IPCA'!$C$398","v":87116.133443730039},{"$f":"F1390*'Série - IPCA'!$C$444/'Série - IPCA'!$C$411","v":97961.630248466958},{"$f":"G1390*'Série - IPCA'!$C$444/'Série - IPCA'!$C$424","v":109895.26365403998},{"$f":"H1390*'Série - IPCA'!$C$444/'Série - IPCA'!$C$437","v":108664.25277439435},94995.579337887641,"Custos","N","SIM","NÃO","OPEX","FIXO","DESPESAS_GERAIS",5100,"GERÊNCIA DE ENGENHARIA","Custos84072,488"]
[null,null,null,134954.79999999999,148740.39000000001,141723.69,168185.98,173987.14,153518.39999999999,{"$f":"D1391*'Série - IPCA'!$C$444/'Série - IPCA'!$C$385","v":175659.50395782053},{"$f":"E1391*'Série - IPCA'!$C$444/'Série - IPCA'!$C$398","v":185235.14857641474},{"$f":"F1391*'Série - IPCA'!$C$444/'Série - IPCA'!$C$411","v":160362.76919548531},{"$f":"G1391*'Série - IPCA'!$C$444/'Série - IPCA'!$C$424","v":179898.03272641127},{"$f":"H1391*'Série - IPCA'!$C$444/'Série - IPCA'!$C$437","v":177882.86584212401},175807.66405965114,"Custos","N","SIM","NÃO","OPEX","FIXO","DESPESAS_GERAIS",5200,"GERÊNCIA DE OPERAÇÕES","Custos153518,4"]
[null,null,null,30377.77,136419.57,74775.240000000005,88737.05,91797.83,84421.491999999998,{"$f":"D1392*'Série - IPCA'!$C$444/'Série - IPCA'!$C$385","v":39540.231318521175},{"$f":"E1392*'Série - IPCA'!$C$444/'Série - IPCA'!$C$398","v":169891.30738248437},{"$f":"F1392*'Série - IPCA'!$C$444/'Série - IPCA'!$C$411","v":84609.457696571553},{"$f":"G1392*'Série - IPCA'!$C$444/'Série - IPCA'!$C$424","v":94916.477134094021},{"$f":"H1392*'Série - IPCA'!$C$444/'Série - IPCA'!$C$437","v":93853.264548679334},96562.147616070084,"Despesas com Vendas","N","SIM","NÃO","ENCARGOS DE COMERCIALIZAÇÃO","FIXO","DESPESAS_GERAIS",5300,"GERÊNCIA COMERCIAL","Despesas com Vendas84421,492"]
[null,null,null,0,1287.19,3913.36,4644.0600000000004,4804.24,2929.77,{"$f":"D1393*'Série - IPCA'!$C$444/'Série - IPCA'!$C$385","v":0},{"$f":"E1393*'Série - IPCA'!$C$444/'Série - IPCA'!$C$398","v":1603.0133502814888},{"$f":"F1393*'Série - IPCA'!$C$444/'Série - IPCA'!$C$411","v":4428.0334957327486},{"$f":"G1393*'Série - IPCA'!$C$444/'Série - IPCA'!$C$424","v":4967.4607708883805},{"$f":"H1393*'Série - IPCA'!$C$444/'Série - IPCA'!$C$437","v":4911.8111797996444},3182.0637593404526,"Despesas Gerais e Administratias","N","SIM","NÃO","ENCARGOS DE GESTÃO","FIXO","DESPESAS_GERAIS",1005,"AUDITORIA INTERNA","Despesas Gerais e Administratias2929,77"]
[null,null,null,0,3699.71,7886.9,9359.5400000000009,9682.3700000000008,6125.7040000000006,{"$f":"D1394*'Série - IPCA'!$C$444/'Série - IPCA'!$C$385","v":0},{"$f":"E1394*'Série - IPCA'!$C$444/'Série - IPCA'!$C$398","v":4607.4662809452575},{"$f":"F1394*'Série - IPCA'!$C$444/'Série - IPCA'!$C$411","v":8924.1616865033138},{"$f":"G1394*'Série - IPCA'!$C$444/'Série - IPCA'!$C$424","v":10011.315052682487},{"$f":"H1394*'Série - IPCA'!$C$444/'Série - IPCA'!$C$437","v":9899.1668220065367},6688.4219684275186,"Despesas Gerais e Administratias","N","SIM","NÃO","ENCARGOS DE GESTÃO","FIXO","DESPESAS_GERAIS",2110,"ASSESSORIA DA DIRETORIA EXECUTIVA","Despesas Gerais e Administratias6125,704"]
[null,null,null,0,39602.78,11800.28,14003.59,57686.63,24618.655999999999,{"$f":"D1395*'Série - IPCA'!$C$444/'Série - IPCA'!$C$385","v":0},{"$f":"E1395*'Série - IPCA'!$C$444/'Série - IPCA'!$C$398","v":49319.669239398019},{"$f":"F1395*'Série - IPCA'!$C$444/'Série - IPCA'!$C$411","v":13352.21781257672},{"$f":"G1395*'Série - IPCA'!$C$444/'Série - IPCA'!$C$424","v":14978.765127195773},{"$f":"H1395*'Série - IPCA'!$C$444/'Série - IPCA'!$C$437","v":58978.284631693161},27325.787362172734,"Despesas Gerais e Administratias","N","SIM","NÃO","ENCARGOS DE GESTÃO","FIXO","DESPESAS_GERAIS",2120,"ASSESSORIA DA PRESIDÊNCIA","Despesas Gerais e Administratias24618,656"]
[null,null,null,0,2518.9699999999998,0,0,0,503.79399999999998,{"$f":"D1396*'Série - IPCA'!$C$444/'Série - IPCA'!$C$385","v":0},{"$f":"E1396*'Série - IPCA'!$C$444/'Série - IPCA'!$C$398","v":3137.0213713271246},{"$f":"F1396*'Série - IPCA'!$C$444/'Série - IPCA'!$C$411","v":0},{"$f":"G1396*'Série - IPCA'!$C$444/'Série - IPCA'!$C$424","v":0},{"$f":"H1396*'Série - IPCA'!$C$444/'Série - IPCA'!$C$437","v":0},627.40427426542487,"Despesas Gerais e Administratias","N","SIM","NÃO","ENCARGOS DE GESTÃO","FIXO","DESPESAS_GERAIS",2200,"DIRETORIA COLEGIADA - PRESIDÊNCIA","Despesas Gerais e Administratias503,794"]
[null,null,null,0,628.23,0,0,0,125.646,{"$f":"D1397*'Série - IPCA'!$C$444/'Série - IPCA'!$C$385","v":0},{"$f":"E1397*'Série - IPCA'!$C$444/'Série - IPCA'!$C$398","v":782.37173769788433},{"$f":"F1397*'Série - IPCA'!$C$444/'Série - IPCA'!$C$411","v":0},{"$f":"G1397*'Série - IPCA'!$C$444/'Série - IPCA'!$C$424","v":0},{"$f":"H1397*'Série - IPCA'!$C$444/'Série - IPCA'!$C$437","v":0},156.47434753957685,"Despesas Gerais e Administratias","N","SIM","NÃO","ENCARGOS DE GESTÃO","FIXO","DESPESAS_GERAIS",2300,"DIRETORIA COLEGIADA - DAF","Despesas Gerais e Administratias125,646"]
[null,null,null,0,5745.58,3913.36,4644.0600000000004,4804.24,3821.4479999999994,{"$f":"D1398*'Série - IPCA'!$C$444/'Série - IPCA'!$C$385","v":0},{"$f":"E1398*'Série - IPCA'!$C$444/'Série - IPCA'!$C$398","v":7155.3084199770938},{"$f":"F1398*'Série - IPCA'!$C$444/'Série - IPCA'!$C$411","v":4428.0334957327486},{"$f":"G1398*'Série - IPCA'!$C$444/'Série - IPCA'!$C$424","v":4967.4607708883805},{"$f":"H1398*'Série - IPCA'!$C$444/'Série - IPCA'!$C$437","v":4911.8111797996444},4292.5227732795738,"Despesas Gerais e Administratias","N","SIM","NÃO","ENCARGOS DE GESTÃO","FIXO","DESPESAS_GERAIS",2310,"ASSESSORIA DAF","Despesas Gerais e Administratias3821,448"]
[null,null,null,0,628.23,0,0,0,125.646,{"$f":"D1399*'Série - IPCA'!$C$444/'Série - IPCA'!$C$385","v":0},{"$f":"E1399*'Série - IPCA'!$C$444/'Série - IPCA'!$C$398","v":782.37173769788433},{"$f":"F1399*'Série - IPCA'!$C$444/'Série - IPCA'!$C$411","v":0},{"$f":"G1399*'Série - IPCA'!$C$444/'Série - IPCA'!$C$424","v":0},{"$f":"H1399*'Série - IPCA'!$C$444/'Série - IPCA'!$C$437","v":0},156.47434753957685,"Despesas Gerais e Administratias","N","SIM","NÃO","ENCARGOS DE GESTÃO","FIXO","DESPESAS_GERAIS",2400,"DIRETORIA COLEGIADA - DTC","Despesas Gerais e Administratias125,646"]
[null,null,null,0,4458.3599999999997,0,0,0,891.67199999999991,{"$f":"D1400*'Série - IPCA'!$C$444/'Série - IPCA'!$C$385","v":0},{"$f":"E1400*'Série - IPCA'!$C$444/'Série - IPCA'!$C$398","v":5552.2577089326187},{"$f":"F1400*'Série - IPCA'!$C$444/'Série - IPCA'!$C$411","v":0},{"$f":"G1400*'Série - IPCA'!$C$444/'Série - IPCA'!$C$424","v":0},{"$f":"H1400*'Série - IPCA'!$C$444/'Série - IPCA'!$C$437","v":0},1110.4515417865236,"Despesas Gerais e Administratias","N","SIM","NÃO","ENCARGOS DE GESTÃO","FIXO","DESPESAS_GERAIS",2410,"ASSESSORIA DE SEGURANÇA DO TRABALHO","Despesas Gerais e Administratias891,672"]
[null,null,null,0,49958.21,57201.11,56014.37,57946.46,44224.03,{"$f":"D1401*'Série - IPCA'!$C$444/'Série - IPCA'!$C$385","v":0},{"$f":"E1401*'Série - IPCA'!$C$444/'Série - IPCA'!$C$398","v":62215.894767801314},{"$f":"F1401*'Série - IPCA'!$C$444/'Série - IPCA'!$C$411","v":64724.03026378699},{"$f":"G1401*'Série - IPCA'!$C$444/'Série - IPCA'!$C$424","v":59915.071205158194},{"$f":"H1401*'Série - IPCA'!$C$444/'Série - IPCA'!$C$437","v":59243.932455042399},49219.785738357779,"Despesas Gerais e Administratias","N","SIM","NÃO","ENCARGOS DE GESTÃO","FIXO","DESPESAS_GERAIS",3200,"GERÊNCIA DE PLANEJAMENTO E MEIO AMBIENTE","Despesas Gerais e Administratias44224,03"]
[null,null,null,0,20477.38,15713.61,18647.650000000001,19290.849999999999,14825.898000000001,{"$f":"D1402*'Série - IPCA'!$C$444/'Série - IPCA'!$C$385","v":0},{"$f":"E1402*'Série - IPCA'!$C$444/'Série - IPCA'!$C$398","v":25501.68469207122},{"$f":"F1402*'Série - IPCA'!$C$444/'Série - IPCA'!$C$411","v":17780.217362798485},{"$f":"G1402*'Série - IPCA'!$C$444/'Série - IPCA'!$C$424","v":19946.225898084154},{"$f":"H1402*'Série - IPCA'!$C$444/'Série - IPCA'!$C$437","v":19722.789181605822},16590.183426911935,"Despesas Gerais e Administratias","N","SIM","NÃO","ENCARGOS DE GESTÃO","FIXO","DESPESAS_GERAIS",3300,"GERÊNCIA JURÍDICA","Despesas Gerais e Administratias14825,898"]
[null,null,null,0,23020.66,15713.61,30647.65,46188.18,23114.02,{"$f":"D1403*'Série - IPCA'!$C$444/'Série - IPCA'!$C$385","v":0},{"$f":"E1403*'Série - IPCA'!$C$444/'Série - IPCA'!$C$398","v":28668.980735004974},{"$f":"F1403*'Série - IPCA'!$C$444/'Série - IPCA'!$C$411","v":17780.217362798485},{"$f":"G1403*'Série - IPCA'!$C$444/'Série - IPCA'!$C$424","v":32781.876008259424},{"$f":"H1403*'Série - IPCA'!$C$444/'Série - IPCA'!$C$437","v":47222.374173354852},25290.689655883547,"Despesas Gerais e Administratias","N","SIM","NÃO","ENCARGOS DE GESTÃO","FIXO","DESPESAS_GERAIS",3500,"ASSESSORIA DE COMUNICAÇÃO INSTITUCIONAL","Despesas Gerais e Administratias23114,02"]
[null,null,null,0,16748.78,27574.11,32722.69,33851.370000000003,22179.390000000003,{"$f":"D1404*'Série - IPCA'!$C$444/'Série - IPCA'!$C$385","v":0},{"$f":"E1404*'Série - IPCA'!$C$444/'Série - IPCA'!$C$398","v":20858.23999637007},{"$f":"F1404*'Série - IPCA'!$C$444/'Série - IPCA'!$C$411","v":31200.575131094338},{"$f":"G1404*'Série - IPCA'!$C$444/'Série - IPCA'!$C$424","v":35001.416625310922},{"$f":"H1404*'Série - IPCA'!$C$444/'Série - IPCA'!$C$437","v":34609.332093636935},24333.912769282451,"Despesas Gerais e Administratias","N","SIM","NÃO","ENCARGOS DE GESTÃO","FIXO","DESPESAS_GERAIS",3600,"GERÊNCIA DE GOVERNANÇA, RISCO E COMPLIANCE","Despesas Gerais e Administratias22179,39"]
[null,null,null,0,80669.490000000005,74775.25,131243.18,91797.83,75697.149999999994,{"$f":"D1405*'Série - IPCA'!$C$444/'Série - IPCA'!$C$385","v":0},{"$f":"E1405*'Série - IPCA'!$C$444/'Série - IPCA'!$C$398","v":100462.45653741798},{"$f":"F1405*'Série - IPCA'!$C$444/'Série - IPCA'!$C$411","v":84609.46901174188},{"$f":"G1405*'Série - IPCA'!$C$444/'Série - IPCA'!$C$424","v":140382.62815222936},{"$f":"H1405*'Série - IPCA'!$C$444/'Série - IPCA'!$C$437","v":93853.264548679334},83861.563650013719,"Despesas Gerais e Administratias","N","SIM","NÃO","ENCARGOS DE GESTÃO","FIXO","DESPESAS_GERAIS",4100,"GERÊNCIA DE SERVIÇOS CORPORATIVOS","Despesas Gerais e Administratias75697,15"]
[null,null,null,0,39718.51,35400.82,42010.81,43459.87,32118.002,{"$f":"D1406*'Série - IPCA'!$C$444/'Série - IPCA'!$C$385","v":0},{"$f":"E1406*'Série - IPCA'!$C$444/'Série - IPCA'!$C$398","v":49463.794609411838},{"$f":"F1406*'Série - IPCA'!$C$444/'Série - IPCA'!$C$411","v":40056.630807389505},{"$f":"G1406*'Série - IPCA'!$C$444/'Série - IPCA'!$C$424","v":44936.338167087684},{"$f":"H1406*'Série - IPCA'!$C$444/'Série - IPCA'!$C$437","v":44432.974901053894},35777.947696988587,"Despesas Gerais e Administratias","N","SIM","NÃO","ENCARGOS DE GESTÃO","FIXO","DESPESAS_GERAIS",4200,"GERÊNCIA FINANCEIRA","Despesas Gerais e Administratias32118,002"]
[null,null,null,0,42050.559999999998,31487.47,37366.75,38655.61,29912.078000000001,{"$f":"D1407*'Série - IPCA'!$C$444/'Série - IPCA'!$C$385","v":0},{"$f":"E1407*'Série - IPCA'!$C$444/'Série - IPCA'!$C$398","v":52368.033520158446},{"$f":"F1407*'Série - IPCA'!$C$444/'Série - IPCA'!$C$411","v":35628.608626827088},{"$f":"G1407*'Série - IPCA'!$C$444/'Série - IPCA'!$C$424","v":39968.877396199307},{"$f":"H1407*'Série - IPCA'!$C$444/'Série - IPCA'!$C$437","v":39521.143273436574},33497.332563324286,"Despesas Gerais e Administratias","N","SIM","NÃO","ENCARGOS DE GESTÃO","FIXO","DESPESAS_GERAIS",4300,"GERÊNCIA DE TECNOLOGIA E SISTEMAS DE INFORMAÇÃO","Despesas Gerais e Administratias29912,078"]
[null,null,null,0,28158.23,23600.57,28007.19,28973.23,21747.844000000001,{"$f":"D1408*'Série - IPCA'!$C$444/'Série - IPCA'!$C$385","v":0},{"$f":"E1408*'Série - IPCA'!$C$444/'Série - IPCA'!$C$398","v":35067.098571537012},{"$f":"F1408*'Série - IPCA'!$C$444/'Série - IPCA'!$C$411","v":26704.446940323767},{"$f":"G1408*'Série - IPCA'!$C$444/'Série - IPCA'!$C$424","v":29957.540950766634},{"$f":"H1408*'Série - IPCA'!$C$444/'Série - IPCA'!$C$437","v":29621.966227521199},24270.210538029722,"Despesas Gerais e Administratias","N","SIM","NÃO","ENCARGOS DE GESTÃO","FIXO","DESPESAS_GERAIS",4500,"GERÊNCIA CONTÁBIL","Despesas Gerais e Administratias21747,844"]
[null,null,null,4450.8599999999997,0,0,0,0,890.17199999999991,{"$f":"D1409*'Série - IPCA'!$C$444/'Série - IPCA'!$C$385","v":5793.3164273201473},{"$f":"E1409*'Série - IPCA'!$C$444/'Série - IPCA'!$C$398","v":0},{"$f":"F1409*'Série - IPCA'!$C$444/'Série - IPCA'!$C$411","v":0},{"$f":"G1409*'Série - IPCA'!$C$444/'Série - IPCA'!$C$424","v":0},{"$f":"H1409*'Série - IPCA'!$C$444/'Série - IPCA'!$C$437","v":0},1158.6632854640295,"Despesas Gerais e Administratias","N","SIM","NÃO","ENCARGOS DE GESTÃO","FUNCIONÁRIOS","PESSOAL",3100,"SMS","Despesas Gerais e Administratias890,172"]
[null,null,null,0,0,0,0,317.14999999999998,63.429999999999993,{"$f":"D1410*'Série - IPCA'!$C$444/'Série - IPCA'!$C$385","v":0},{"$f":"E1410*'Série - IPCA'!$C$444/'Série - IPCA'!$C$398","v":0},{"$f":"F1410*'Série - IPCA'!$C$444/'Série - IPCA'!$C$411","v":0},{"$f":"G1410*'Série - IPCA'!$C$444/'Série - IPCA'!$C$424","v":0},{"$f":"H1410*'Série - IPCA'!$C$444/'Série - IPCA'!$C$437","v":324.251268811187},64.850253762237401,"Custos","N","SIM","NÃO","OPEX","FIXO","DESPESAS_GERAIS",5100,"GERÊNCIA DE ENGENHARIA","Custos63,43"]
[null,null,null,0,0,1022.59,1942.76,1464.47,885.96399999999994,{"$f":"D1411*'Série - IPCA'!$C$444/'Série - IPCA'!$C$385","v":0},{"$f":"E1411*'Série - IPCA'!$C$444/'Série - IPCA'!$C$398","v":0},{"$f":"F1411*'Série - IPCA'!$C$444/'Série - IPCA'!$C$411","v":1157.0780026374653},{"$f":"G1411*'Série - IPCA'!$C$444/'Série - IPCA'!$C$424","v":2078.0489673370084},{"$f":"H1411*'Série - IPCA'!$C$444/'Série - IPCA'!$C$437","v":1497.2607776633108},946.47754952755679,"Custos","N","SIM","NÃO","OPEX","FIXO","DESPESAS_GERAIS",5200,"GERÊNCIA DE OPERAÇÕES","Custos885,964"]
[null,null,null,0,0,572.41,1091.81,891.27,511.09799999999996,{"$f":"D1412*'Série - IPCA'!$C$444/'Série - IPCA'!$C$385","v":0},{"$f":"E1412*'Série - IPCA'!$C$444/'Série - IPCA'!$C$398","v":0},{"$f":"F1412*'Série - IPCA'!$C$444/'Série - IPCA'!$C$411","v":647.69166478227976},{"$f":"G1412*'Série - IPCA'!$C$444/'Série - IPCA'!$C$424","v":1167.840928899205},{"$f":"H1412*'Série - IPCA'!$C$444/'Série - IPCA'!$C$437","v":911.22632304381739},545.35178334506043,"Despesas com Vendas","N","SIM","NÃO","ENCARGOS DE COMERCIALIZAÇÃO","FIXO","DESPESAS_GERAIS",5300,"GERÊNCIA COMERCIAL","Despesas com Vendas511,098"]
[null,null,null,170,0,0,374,0,{"$f":"AVERAGE(D1413:H1413)","v":108.8},{"$f":"D1413*'Série - IPCA'!$C$444/'Série - IPCA'!$C$385","v":221.27494296482595},{"$f":"E1413*'Série - IPCA'!$C$444/'Série - IPCA'!$C$398","v":0},{"$f":"F1413*'Série - IPCA'!$C$444/'Série - IPCA'!$C$411","v":0},{"$f":"G1413*'Série - IPCA'!$C$444/'Série - IPCA'!$C$424","v":400.04442843379587},{"$f":"H1413*'Série - IPCA'!$C$444/'Série - IPCA'!$C$437","v":0},{"$f":"AVERAGE(J1413:N1413)","v":124.26387427972436},"Despesas Gerais e Administratias","N","SIM","NÃO","ENCARGOS DE GESTÃO","FIXO","DESPESAS_GERAIS",2200,"DIRETORIA COLEGIADA - PRESIDÊNCIA",{"$f":"B1413&C1413&P1413&I1413","v":"Despesas Gerais e Administratias108,8"}]
[null,null,null,0,0,164.63,0,0,32.926000000000002,{"$f":"D1414*'Série - IPCA'!$C$444/'Série - IPCA'!$C$385","v":0},{"$f":"E1414*'Série - IPCA'!$C$444/'Série - IPCA'!$C$398","v":0},{"$f":"F1414*'Série - IPCA'!$C$444/'Série - IPCA'!$C$411","v":186.28164912057218},{"$f":"G1414*'Série - IPCA'!$C$444/'Série - IPCA'!$C$424","v":0},{"$f":"H1414*'Série - IPCA'!$C$444/'Série - IPCA'!$C$437","v":0},37.256329824114438,"Despesas Gerais e Administratias","N","SIM","NÃO","ENCARGOS DE GESTÃO","FIXO","DESPESAS_GERAIS",2310,"ASSESSORIA DAF","Despesas Gerais e Administratias32,926"]
[null,null,null,0,0,287.70999999999998,17.010000000000002,158.08000000000001,92.559999999999988,{"$f":"D1415*'Série - IPCA'!$C$444/'Série - IPCA'!$C$385","v":0},{"$f":"E1415*'Série - IPCA'!$C$444/'Série - IPCA'!$C$398","v":0},{"$f":"F1415*'Série - IPCA'!$C$444/'Série - IPCA'!$C$411","v":325.54876552560177},{"$f":"G1415*'Série - IPCA'!$C$444/'Série - IPCA'!$C$424","v":18.194534031173443},{"$f":"H1415*'Série - IPCA'!$C$444/'Série - IPCA'!$C$437","v":161.61955091809062},101.07257009497316,"Despesas Gerais e Administratias","N","SIM","NÃO","ENCARGOS DE GESTÃO","FIXO","DESPESAS_GERAIS",3100,"SMS","Despesas Gerais e Administratias92,56"]
[null,null,null,0,0,0,373.22,0,74.644000000000005,{"$f":"D1416*'Série - IPCA'!$C$444/'Série - IPCA'!$C$385","v":0},{"$f":"E1416*'Série - IPCA'!$C$444/'Série - IPCA'!$C$398","v":0},{"$f":"F1416*'Série - IPCA'!$C$444/'Série - IPCA'!$C$411","v":0},{"$f":"G1416*'Série - IPCA'!$C$444/'Série - IPCA'!$C$424","v":399.21011117663448},{"$f":"H1416*'Série - IPCA'!$C$444/'Série - IPCA'!$C$437","v":0},79.842022235326894,"Despesas Gerais e Administratias","N","SIM","NÃO","ENCARGOS DE GESTÃO","FIXO","DESPESAS_GERAIS",3500,"ASSESSORIA DE COMUNICAÇÃO INSTITUCIONAL","Despesas Gerais e Administratias74,644"]
[null,null,null,0,0,1443.34,1692.36,2249.06,1076.952,{"$f":"D1417*'Série - IPCA'!$C$444/'Série - IPCA'!$C$385","v":0},{"$f":"E1417*'Série - IPCA'!$C$444/'Série - IPCA'!$C$398","v":0},{"$f":"F1417*'Série - IPCA'!$C$444/'Série - IPCA'!$C$411","v":1633.1637942154323},{"$f":"G1417*'Série - IPCA'!$C$444/'Série - IPCA'!$C$424","v":1810.2117350380179},{"$f":"H1417*'Série - IPCA'!$C$444/'Série - IPCA'!$C$437","v":2299.4184412186291},1148.5587940944158,"Despesas Gerais e Administratias","N","SIM","NÃO","ENCARGOS DE GESTÃO","FIXO","DESPESAS_GERAIS",4100,"GERÊNCIA DE SERVIÇOS CORPORATIVOS","Despesas Gerais e Administratias1076,952"]
[null,null,null,6816.44,4411.5,27828.76,31142.22,1190,14277.784,{"$f":"D1418*'Série - IPCA'!$C$444/'Série - IPCA'!$C$385","v":8872.3963071950475},{"$f":"E1418*'Série - IPCA'!$C$444/'Série - IPCA'!$C$398","v":5493.9001971478856},{"$f":"F1418*'Série - IPCA'!$C$444/'Série - IPCA'!$C$411","v":31488.715943513416},{"$f":"G1418*'Série - IPCA'!$C$444/'Série - IPCA'!$C$424","v":33310.886631175199},{"$f":"H1418*'Série - IPCA'!$C$444/'Série - IPCA'!$C$437","v":1216.6451517745943},16076.508846161227,"Despesas Gerais e Administratias","N","SIM","NÃO","ENCARGOS DE GESTÃO","FIXO","DESPESAS_GERAIS",4300,"GERÊNCIA DE TECNOLOGIA E SISTEMAS DE INFORMAÇÃO","Despesas Gerais e Administratias14277,784"]
[null,null,null,0,0,0,0,4991652.01,998330.402,{"$f":"D1419*'Série - IPCA'!$C$444/'Série - IPCA'!$C$385","v":0},{"$f":"E1419*'Série - IPCA'!$C$444/'Série - IPCA'!$C$398","v":0},{"$f":"F1419*'Série - IPCA'!$C$444/'Série - IPCA'!$C$411","v":0},{"$f":"G1419*'Série - IPCA'!$C$444/'Série - IPCA'!$C$424","v":0},{"$f":"H1419*'Série - IPCA'!$C$444/'Série - IPCA'!$C$437","v":5103419.5103465607},1020683.9020693122,"Despesas Gerais e Administratias","S",null,"SIM","ENCARGOS DE GESTÃO","FIXO","TRIBUTOS_E_TAXAS_FISCAIS",3700,"GERÊNCIA DE REGULAÇÃO","Despesas Gerais e Administratias998330,402"]
[null,null,null,3495057.27,3683329.87,1695667.8,2255230.58,0,2225857.1040000003,{"$f":"D1420*'Série - IPCA'!$C$444/'Série - IPCA'!$C$385","v":4549227.0475179432},{"$f":"E1420*'Série - IPCA'!$C$444/'Série - IPCA'!$C$398","v":4587067.1424580524},{"$f":"F1420*'Série - IPCA'!$C$444/'Série - IPCA'!$C$411","v":1918676.9977807968},{"$f":"G1420*'Série - IPCA'!$C$444/'Série - IPCA'!$C$424","v":2412279.2202206361},{"$f":"H1420*'Série - IPCA'!$C$444/'Série - IPCA'!$C$437","v":0},2693450.0815954856,"Despesas Gerais e Administratias","S",null,"SIM","ENCARGOS DE GESTÃO","FIXO","TRIBUTOS_E_TAXAS_FISCAIS",4200,"GERÊNCIA FINANCEIRA","Despesas Gerais e Administratias2225857,104"]
[null,null,null,0,0,0,0,345.45,69.09,{"$f":"D1421*'Série - IPCA'!$C$444/'Série - IPCA'!$C$385","v":0},{"$f":"E1421*'Série - IPCA'!$C$444/'Série - IPCA'!$C$398","v":0},{"$f":"F1421*'Série - IPCA'!$C$444/'Série - IPCA'!$C$411","v":0},{"$f":"G1421*'Série - IPCA'!$C$444/'Série - IPCA'!$C$424","v":0},{"$f":"H1421*'Série - IPCA'!$C$444/'Série - IPCA'!$C$437","v":353.18493082397782},70.636986164795559,"Despesas Gerais e Administratias","N","SIM","NÃO","ENCARGOS DE GESTÃO","FIXO","TRIBUTOS_E_TAXAS_FISCAIS",3200,"GERÊNCIA DE PLANEJAMENTO E MEIO AMBIENTE","Despesas Gerais e Administratias69,09"]
[null,null,null,0,0,130.02000000000001,0,63.21,38.646000000000001,{"$f":"D1422*'Série - IPCA'!$C$444/'Série - IPCA'!$C$385","v":0},{"$f":"E1422*'Série - IPCA'!$C$444/'Série - IPCA'!$C$398","v":0},{"$f":"F1422*'Série - IPCA'!$C$444/'Série - IPCA'!$C$411","v":147.11984461311303},{"$f":"G1422*'Série - IPCA'!$C$444/'Série - IPCA'!$C$424","v":0},{"$f":"H1422*'Série - IPCA'!$C$444/'Série - IPCA'!$C$437","v":64.625327767791688},42.34903447618094,"Despesas Gerais e Administratias","N","SIM","NÃO","ENCARGOS DE GESTÃO","FIXO","TRIBUTOS_E_TAXAS_FISCAIS",5100,"GERÊNCIA DE ENGENHARIA","Despesas Gerais e Administratias38,646"]
[null,null,null,0,0,0,0,5229.34,1045.8679999999999,{"$f":"D1423*'Série - IPCA'!$C$444/'Série - IPCA'!$C$385","v":0},{"$f":"E1423*'Série - IPCA'!$C$444/'Série - IPCA'!$C$398","v":0},{"$f":"F1423*'Série - IPCA'!$C$444/'Série - IPCA'!$C$411","v":0},{"$f":"G1423*'Série - IPCA'!$C$444/'Série - IPCA'!$C$424","v":0},{"$f":"H1423*'Série - IPCA'!$C$444/'Série - IPCA'!$C$437","v":5346.4295445218122},1069.2859089043625,"Despesas Gerais e Administratias","N","SIM","NÃO","ENCARGOS DE GESTÃO","FIXO","TRIBUTOS_E_TAXAS_FISCAIS",4100,"GERÊNCIA DE SERVIÇOS CORPORATIVOS","Despesas Gerais e Administratias1045,868"]
[null,null,null,489.48,0,0,0,0,97.896000000000001,{"$f":"D1424*'Série - IPCA'!$C$444/'Série - IPCA'!$C$385","v":637.11564166131177},{"$f":"E1424*'Série - IPCA'!$C$444/'Série - IPCA'!$C$398","v":0},{"$f":"F1424*'Série - IPCA'!$C$444/'Série - IPCA'!$C$411","v":0},{"$f":"G1424*'Série - IPCA'!$C$444/'Série - IPCA'!$C$424","v":0},{"$f":"H1424*'Série - IPCA'!$C$444/'Série - IPCA'!$C$437","v":0},127.42312833226235,"Despesas com Vendas","N","SIM","NÃO","ENCARGOS DE COMERCIALIZAÇÃO","FUNCIONÁRIOS","DESPESAS_GERAIS",5500,"GERÊNCIA COMERCIAL (inativo)","Despesas com Vendas97,896"]
[null,null,null,157.46,0,0,0,0,31.492000000000001,{"$f":"D1425*'Série - IPCA'!$C$444/'Série - IPCA'!$C$385","v":204.95266187789116},{"$f":"E1425*'Série - IPCA'!$C$444/'Série - IPCA'!$C$398","v":0},{"$f":"F1425*'Série - IPCA'!$C$444/'Série - IPCA'!$C$411","v":0},{"$f":"G1425*'Série - IPCA'!$C$444/'Série - IPCA'!$C$424","v":0},{"$f":"H1425*'Série - IPCA'!$C$444/'Série - IPCA'!$C$437","v":0},40.990532375578233,"Despesas Gerais e Administratias","N","SIM","NÃO","ENCARGOS DE GESTÃO","FUNCIONÁRIOS","DESPESAS_GERAIS",1002,"CONSELHO FISCAL","Despesas Gerais e Administratias31,492"]
[null,null,null,965.08,0,0,0,0,193.01600000000002,{"$f":"D1426*'Série - IPCA'!$C$444/'Série - IPCA'!$C$385","v":1256.1648350382013},{"$f":"E1426*'Série - IPCA'!$C$444/'Série - IPCA'!$C$398","v":0},{"$f":"F1426*'Série - IPCA'!$C$444/'Série - IPCA'!$C$411","v":0},{"$f":"G1426*'Série - IPCA'!$C$444/'Série - IPCA'!$C$424","v":0},{"$f":"H1426*'Série - IPCA'!$C$444/'Série - IPCA'!$C$437","v":0},251.23296700764027,"Despesas com Vendas","N","SIM","NÃO","ENCARGOS DE COMERCIALIZAÇÃO","FUNCIONÁRIOS","VIAGENS_REPRESENTAÇÕES",5400,"GERÊNCIA COMERCIAL (inativo)","Despesas com Vendas193,016"]
[null,null,null,980.71,0,0,0,0,196.142,{"$f":"D1427*'Série - IPCA'!$C$444/'Série - IPCA'!$C$385","v":1276.5091136178496},{"$f":"E1427*'Série - IPCA'!$C$444/'Série - IPCA'!$C$398","v":0},{"$f":"F1427*'Série - IPCA'!$C$444/'Série - IPCA'!$C$411","v":0},{"$f":"G1427*'Série - IPCA'!$C$444/'Série - IPCA'!$C$424","v":0},{"$f":"H1427*'Série - IPCA'!$C$444/'Série - IPCA'!$C$437","v":0},255.30182272356993,"Despesas Gerais e Administratias","N","SIM","NÃO","ENCARGOS DE GESTÃO","FUNCIONÁRIOS","VIAGENS_REPRESENTAÇÕES",3400,"MARKETING","Despesas Gerais e Administratias196,142"]
[null,null,null,267.77999999999997,0,0,0,0,53.555999999999997,{"$f":"D1428*'Série - IPCA'!$C$444/'Série - IPCA'!$C$385","v":348.54708368894751},{"$f":"E1428*'Série - IPCA'!$C$444/'Série - IPCA'!$C$398","v":0},{"$f":"F1428*'Série - IPCA'!$C$444/'Série - IPCA'!$C$411","v":0},{"$f":"G1428*'Série - IPCA'!$C$444/'Série - IPCA'!$C$424","v":0},{"$f":"H1428*'Série - IPCA'!$C$444/'Série - IPCA'!$C$437","v":0},69.709416737789496,"Despesas Gerais e Administratias","N","SIM","NÃO","ENCARGOS DE GESTÃO","FUNCIONÁRIOS","VIAGENS_REPRESENTAÇÕES",4600,"GERÊNCIA DE PESSOAS E CULTURA","Despesas Gerais e Administratias53,556"]
[null,null,null,10351.32,0,0,0,0,2070.2640000000001,{"$f":"D1429*'Série - IPCA'!$C$444/'Série - IPCA'!$C$385","v":13473.457309474483},{"$f":"E1429*'Série - IPCA'!$C$444/'Série - IPCA'!$C$398","v":0},{"$f":"F1429*'Série - IPCA'!$C$444/'Série - IPCA'!$C$411","v":0},{"$f":"G1429*'Série - IPCA'!$C$444/'Série - IPCA'!$C$424","v":0},{"$f":"H1429*'Série - IPCA'!$C$444/'Série - IPCA'!$C$437","v":0},2694.6914618948967,"Despesas com Vendas","N","SIM","NÃO","ENCARGOS DE COMERCIALIZAÇÃO","FIXO","DESPESAS_GERAIS",5400,"GERÊNCIA COMERCIAL (inativo)","Despesas com Vendas2070,264"]
[null,null,null,5180.6400000000003,0,0,0,0,1036.1280000000002,{"$f":"D1430*'Série - IPCA'!$C$444/'Série - IPCA'!$C$385","v":6743.210708948799},{"$f":"E1430*'Série - IPCA'!$C$444/'Série - IPCA'!$C$398","v":0},{"$f":"F1430*'Série - IPCA'!$C$444/'Série - IPCA'!$C$411","v":0},{"$f":"G1430*'Série - IPCA'!$C$444/'Série - IPCA'!$C$424","v":0},{"$f":"H1430*'Série - IPCA'!$C$444/'Série - IPCA'!$C$437","v":0},1348.6421417897598,"Despesas com Vendas","N","SIM","NÃO","ENCARGOS DE COMERCIALIZAÇÃO","FIXO","DESPESAS_GERAIS",5500,"GERÊNCIA COMERCIAL (inativo)","Despesas com Vendas1036,128"]
[null,null,null,1816.18,0,0,0,0,363.23599999999999,{"$f":"D1431*'Série - IPCA'!$C$444/'Série - IPCA'!$C$385","v":2363.9713289050446},{"$f":"E1431*'Série - IPCA'!$C$444/'Série - IPCA'!$C$398","v":0},{"$f":"F1431*'Série - IPCA'!$C$444/'Série - IPCA'!$C$411","v":0},{"$f":"G1431*'Série - IPCA'!$C$444/'Série - IPCA'!$C$424","v":0},{"$f":"H1431*'Série - IPCA'!$C$444/'Série - IPCA'!$C$437","v":0},472.7942657810089,"Despesas Gerais e Administratias","N","SIM","NÃO","ENCARGOS DE GESTÃO","FIXO","DESPESAS_GERAIS",2100,"SECRETARIA","Despesas Gerais e Administratias363,236"]
[null,null,null,4396.6000000000004,0,0,0,0,879.32,{"$f":"D1432*'Série - IPCA'!$C$444/'Série - IPCA'!$C$385","v":5722.6906719950221},{"$f":"E1432*'Série - IPCA'!$C$444/'Série - IPCA'!$C$398","v":0},{"$f":"F1432*'Série - IPCA'!$C$444/'Série - IPCA'!$C$411","v":0},{"$f":"G1432*'Série - IPCA'!$C$444/'Série - IPCA'!$C$424","v":0},{"$f":"H1432*'Série - IPCA'!$C$444/'Série - IPCA'!$C$437","v":0},1144.5381343990043,"Despesas Gerais e Administratias","N","SIM","NÃO","ENCARGOS DE GESTÃO","FIXO","DESPESAS_GERAIS",3100,"SMS","Despesas Gerais e Administratias879,32"]
[null,null,null,3622.45,0,0,0,0,724.49,{"$f":"D1433*'Série - IPCA'!$C$444/'Série - IPCA'!$C$385","v":4715.0436302525513},{"$f":"E1433*'Série - IPCA'!$C$444/'Série - IPCA'!$C$398","v":0},{"$f":"F1433*'Série - IPCA'!$C$444/'Série - IPCA'!$C$411","v":0},{"$f":"G1433*'Série - IPCA'!$C$444/'Série - IPCA'!$C$424","v":0},{"$f":"H1433*'Série - IPCA'!$C$444/'Série - IPCA'!$C$437","v":0},943.00872605051029,"Despesas Gerais e Administratias","N","SIM","NÃO","ENCARGOS DE GESTÃO","FIXO","DESPESAS_GERAIS",3400,"MARKETING","Despesas Gerais e Administratias724,49"]
[null,null,null,8605.83,0,0,0,0,1721.1659999999999,{"$f":"D1434*'Série - IPCA'!$C$444/'Série - IPCA'!$C$385","v":11201.49730832346},{"$f":"E1434*'Série - IPCA'!$C$444/'Série - IPCA'!$C$398","v":0},{"$f":"F1434*'Série - IPCA'!$C$444/'Série - IPCA'!$C$411","v":0},{"$f":"G1434*'Série - IPCA'!$C$444/'Série - IPCA'!$C$424","v":0},{"$f":"H1434*'Série - IPCA'!$C$444/'Série - IPCA'!$C$437","v":0},2240.299461664692,"Despesas Gerais e Administratias","N","SIM","NÃO","ENCARGOS DE GESTÃO","FIXO","DESPESAS_GERAIS",4100,"GERÊNCIA DE SERVIÇOS CORPORATIVOS","Despesas Gerais e Administratias1721,166"]
[null,null,null,6431.11,0,0,0,0,1286.222,{"$f":"D1435*'Série - IPCA'!$C$444/'Série - IPCA'!$C$385","v":8370.8441085324812},{"$f":"E1435*'Série - IPCA'!$C$444/'Série - IPCA'!$C$398","v":0},{"$f":"F1435*'Série - IPCA'!$C$444/'Série - IPCA'!$C$411","v":0},{"$f":"G1435*'Série - IPCA'!$C$444/'Série - IPCA'!$C$424","v":0},{"$f":"H1435*'Série - IPCA'!$C$444/'Série - IPCA'!$C$437","v":0},1674.1688217064961,"Despesas Gerais e Administratias","N","SIM","NÃO","ENCARGOS DE GESTÃO","FIXO","DESPESAS_GERAIS",4300,"GERÊNCIA DE TECNOLOGIA E SISTEMAS DE INFORMAÇÃO","Despesas Gerais e Administratias1286,222"]
[null,null,null,3622.45,0,0,0,0,724.49,{"$f":"D1436*'Série - IPCA'!$C$444/'Série - IPCA'!$C$385","v":4715.0436302525513},{"$f":"E1436*'Série - IPCA'!$C$444/'Série - IPCA'!$C$398","v":0},{"$f":"F1436*'Série - IPCA'!$C$444/'Série - IPCA'!$C$411","v":0},{"$f":"G1436*'Série - IPCA'!$C$444/'Série - IPCA'!$C$424","v":0},{"$f":"H1436*'Série - IPCA'!$C$444/'Série - IPCA'!$C$437","v":0},943.00872605051029,"Despesas Gerais e Administratias","N","SIM","NÃO","ENCARGOS DE GESTÃO","FIXO","DESPESAS_GERAIS",4600,"GERÊNCIA DE PESSOAS E CULTURA","Despesas Gerais e Administratias724,49"]
[null,null,null,0,-99,0,0,0,-19.8,{"$f":"D1437*'Série - IPCA'!$C$444/'Série - IPCA'!$C$385","v":0},{"$f":"E1437*'Série - IPCA'!$C$444/'Série - IPCA'!$C$398","v":-123.29051785506988},{"$f":"F1437*'Série - IPCA'!$C$444/'Série - IPCA'!$C$411","v":0},{"$f":"G1437*'Série - IPCA'!$C$444/'Série - IPCA'!$C$424","v":0},{"$f":"H1437*'Série - IPCA'!$C$444/'Série - IPCA'!$C$437","v":0},-24.658103571013974,"Custos","N","SIM","NÃO","OPEX","FIXO","MATERIAIS_MANUTENÇÃO",5100,"GERÊNCIA DE ENGENHARIA","Custos-19,8"]
[null,null,null,0,-63,0,0,0,-12.6,{"$f":"D1438*'Série - IPCA'!$C$444/'Série - IPCA'!$C$385","v":0},{"$f":"E1438*'Série - IPCA'!$C$444/'Série - IPCA'!$C$398","v":-78.457602271408092},{"$f":"F1438*'Série - IPCA'!$C$444/'Série - IPCA'!$C$411","v":0},{"$f":"G1438*'Série - IPCA'!$C$444/'Série - IPCA'!$C$424","v":0},{"$f":"H1438*'Série - IPCA'!$C$444/'Série - IPCA'!$C$437","v":0},-15.691520454281619,"Custos","N","SIM","NÃO","OPEX","FIXO","MATERIAIS_MANUTENÇÃO",5200,"GERÊNCIA DE OPERAÇÕES","Custos-12,6"]
[null,null,null,3362.7,2418.8200000000002,553.91,6359.63,5511.65,3641.3419999999996,{"$f":"D1439*'Série - IPCA'!$C$444/'Série - IPCA'!$C$385","v":4376.9485335754125},{"$f":"E1439*'Série - IPCA'!$C$444/'Série - IPCA'!$C$398","v":3012.2986908909102},{"$f":"F1439*'Série - IPCA'!$C$444/'Série - IPCA'!$C$411","v":626.75859967427641},{"$f":"G1439*'Série - IPCA'!$C$444/'Série - IPCA'!$C$424","v":6802.4987925144951},{"$f":"H1439*'Série - IPCA'!$C$444/'Série - IPCA'!$C$437","v":5635.0607149398666},4090.7130663189919,"Despesas Gerais e Administratias","N","SIM","NÃO","ENCARGOS DE GESTÃO","FIXO","MATERIAIS_MANUTENÇÃO",4100,"GERÊNCIA DE SERVIÇOS CORPORATIVOS","Despesas Gerais e Administratias3641,342"]
[null,null,null,227.5,0,0,0,0,45.5,{"$f":"D1440*'Série - IPCA'!$C$444/'Série - IPCA'!$C$385","v":296.11793837939945},{"$f":"E1440*'Série - IPCA'!$C$444/'Série - IPCA'!$C$398","v":0},{"$f":"F1440*'Série - IPCA'!$C$444/'Série - IPCA'!$C$411","v":0},{"$f":"G1440*'Série - IPCA'!$C$444/'Série - IPCA'!$C$424","v":0},{"$f":"H1440*'Série - IPCA'!$C$444/'Série - IPCA'!$C$437","v":0},59.223587675879891,"Custos","N","SIM","NÃO","OPEX","FIXO","DESPESAS_GERAIS",5200,"GERÊNCIA DE OPERAÇÕES","Custos45,5"]
[null,null,null,477.43,0,0,0,0,95.486000000000004,{"$f":"D1441*'Série - IPCA'!$C$444/'Série - IPCA'!$C$385","v":621.43115305704021},{"$f":"E1441*'Série - IPCA'!$C$444/'Série - IPCA'!$C$398","v":0},{"$f":"F1441*'Série - IPCA'!$C$444/'Série - IPCA'!$C$411","v":0},{"$f":"G1441*'Série - IPCA'!$C$444/'Série - IPCA'!$C$424","v":0},{"$f":"H1441*'Série - IPCA'!$C$444/'Série - IPCA'!$C$437","v":0},124.28623061140804,"Custos","N","SIM","NÃO","OPEX","FIXO","DESPESAS_GERAIS",5100,"GERÊNCIA DE ENGENHARIA","Custos95,486"]
[null,null,null,4723,0,0,0,0,944.6,{"$f":"D1442*'Série - IPCA'!$C$444/'Série - IPCA'!$C$385","v":6147.538562487488},{"$f":"E1442*'Série - IPCA'!$C$444/'Série - IPCA'!$C$398","v":0},{"$f":"F1442*'Série - IPCA'!$C$444/'Série - IPCA'!$C$411","v":0},{"$f":"G1442*'Série - IPCA'!$C$444/'Série - IPCA'!$C$424","v":0},{"$f":"H1442*'Série - IPCA'!$C$444/'Série - IPCA'!$C$437","v":0},1229.5077124974976,"Custos","N","SIM","NÃO","OPEX","FIXO","DESPESAS_GERAIS",5200,"GERÊNCIA DE OPERAÇÕES","Custos944,6"]
[null,null,null,510.3,0,0,0,0,102.06,{"$f":"D1443*'Série - IPCA'!$C$444/'Série - IPCA'!$C$385","v":664.21531408794522},{"$f":"E1443*'Série - IPCA'!$C$444/'Série - IPCA'!$C$398","v":0},{"$f":"F1443*'Série - IPCA'!$C$444/'Série - IPCA'!$C$411","v":0},{"$f":"G1443*'Série - IPCA'!$C$444/'Série - IPCA'!$C$424","v":0},{"$f":"H1443*'Série - IPCA'!$C$444/'Série - IPCA'!$C$437","v":0},132.84306281758904,"Despesas com Vendas","N","SIM","NÃO","ENCARGOS DE COMERCIALIZAÇÃO","FIXO","DESPESAS_GERAIS",5400,"GERÊNCIA COMERCIAL (inativo)","Despesas com Vendas102,06"]
[null,null,null,1986.11,0,0,0,0,397.22199999999998,{"$f":"D1444*'Série - IPCA'!$C$444/'Série - IPCA'!$C$385","v":2585.1551586580613},{"$f":"E1444*'Série - IPCA'!$C$444/'Série - IPCA'!$C$398","v":0},{"$f":"F1444*'Série - IPCA'!$C$444/'Série - IPCA'!$C$411","v":0},{"$f":"G1444*'Série - IPCA'!$C$444/'Série - IPCA'!$C$424","v":0},{"$f":"H1444*'Série - IPCA'!$C$444/'Série - IPCA'!$C$437","v":0},517.0310317316123,"Despesas Gerais e Administratias","N","SIM","NÃO","ENCARGOS DE GESTÃO","FIXO","DESPESAS_GERAIS",3200,"GERÊNCIA DE PLANEJAMENTO E MEIO AMBIENTE","Despesas Gerais e Administratias397,222"]
[null,null,null,499.8,0,0,0,0,99.960000000000008,{"$f":"D1445*'Série - IPCA'!$C$444/'Série - IPCA'!$C$385","v":650.54833231658824},{"$f":"E1445*'Série - IPCA'!$C$444/'Série - IPCA'!$C$398","v":0},{"$f":"F1445*'Série - IPCA'!$C$444/'Série - IPCA'!$C$411","v":0},{"$f":"G1445*'Série - IPCA'!$C$444/'Série - IPCA'!$C$424","v":0},{"$f":"H1445*'Série - IPCA'!$C$444/'Série - IPCA'!$C$437","v":0},130.10966646331764,"Despesas Gerais e Administratias","N","SIM","NÃO","ENCARGOS DE GESTÃO","FIXO","DESPESAS_GERAIS",3300,"GERÊNCIA JURÍDICA","Despesas Gerais e Administratias99,96"]
[null,null,null,437,0,0,0,0,87.4,{"$f":"D1446*'Série - IPCA'!$C$444/'Série - IPCA'!$C$385","v":568.80676515075845},{"$f":"E1446*'Série - IPCA'!$C$444/'Série - IPCA'!$C$398","v":0},{"$f":"F1446*'Série - IPCA'!$C$444/'Série - IPCA'!$C$411","v":0},{"$f":"G1446*'Série - IPCA'!$C$444/'Série - IPCA'!$C$424","v":0},{"$f":"H1446*'Série - IPCA'!$C$444/'Série - IPCA'!$C$437","v":0},113.7613530301517,"Despesas Gerais e Administratias","N","SIM","NÃO","ENCARGOS DE GESTÃO","FIXO","DESPESAS_GERAIS",4500,"GERÊNCIA CONTÁBIL","Despesas Gerais e Administratias87,4"]
[null,null,null,124.95,0,0,0,0,24.990000000000002,{"$f":"D1447*'Série - IPCA'!$C$444/'Série - IPCA'!$C$385","v":162.63708307914706},{"$f":"E1447*'Série - IPCA'!$C$444/'Série - IPCA'!$C$398","v":0},{"$f":"F1447*'Série - IPCA'!$C$444/'Série - IPCA'!$C$411","v":0},{"$f":"G1447*'Série - IPCA'!$C$444/'Série - IPCA'!$C$424","v":0},{"$f":"H1447*'Série - IPCA'!$C$444/'Série - IPCA'!$C$437","v":0},32.527416615829409,"Despesas Gerais e Administratias","N","SIM","NÃO","ENCARGOS DE GESTÃO","FIXO","DESPESAS_GERAIS",4600,"GERÊNCIA DE PESSOAS E CULTURA","Despesas Gerais e Administratias24,99"]
[null,null,null,4880,0,0,0,0,976,{"$f":"D1448*'Série - IPCA'!$C$444/'Série - IPCA'!$C$385","v":6351.8924804020617},{"$f":"E1448*'Série - IPCA'!$C$444/'Série - IPCA'!$C$398","v":0},{"$f":"F1448*'Série - IPCA'!$C$444/'Série - IPCA'!$C$411","v":0},{"$f":"G1448*'Série - IPCA'!$C$444/'Série - IPCA'!$C$424","v":0},{"$f":"H1448*'Série - IPCA'!$C$444/'Série - IPCA'!$C$437","v":0},1270.3784960804123,"Despesas Gerais e Administratias","N","SIM","NÃO","ENCARGOS DE GESTÃO","FIXO","DESPESAS_GERAIS",4600,"GERÊNCIA DE PESSOAS E CULTURA","Despesas Gerais e Administratias976"]
[null,null,null,5557.13,0,0,0,0,1111.4259999999999,{"$f":"D1449*'Série - IPCA'!$C$444/'Série - IPCA'!$C$385","v":7233.2566105771948},{"$f":"E1449*'Série - IPCA'!$C$444/'Série - IPCA'!$C$398","v":0},{"$f":"F1449*'Série - IPCA'!$C$444/'Série - IPCA'!$C$411","v":0},{"$f":"G1449*'Série - IPCA'!$C$444/'Série - IPCA'!$C$424","v":0},{"$f":"H1449*'Série - IPCA'!$C$444/'Série - IPCA'!$C$437","v":0},1446.6513221154389,"Custos","N","SIM","NÃO","OPEX","FIXO","DESPESAS_GERAIS",5100,"GERÊNCIA DE ENGENHARIA","Custos1111,426"]
[null,null,null,3966.32,0,0,0,0,793.26400000000001,{"$f":"D1450*'Série - IPCA'!$C$444/'Série - IPCA'!$C$385","v":5162.6307751779323},{"$f":"E1450*'Série - IPCA'!$C$444/'Série - IPCA'!$C$398","v":0},{"$f":"F1450*'Série - IPCA'!$C$444/'Série - IPCA'!$C$411","v":0},{"$f":"G1450*'Série - IPCA'!$C$444/'Série - IPCA'!$C$424","v":0},{"$f":"H1450*'Série - IPCA'!$C$444/'Série - IPCA'!$C$437","v":0},1032.5261550355865,"Custos","N","SIM","NÃO","OPEX","FIXO","DESPESAS_GERAIS",5200,"GERÊNCIA DE OPERAÇÕES","Custos793,264"]
[null,null,null,1634.87,0,0,0,0,326.97399999999999,{"$f":"D1451*'Série - IPCA'!$C$444/'Série - IPCA'!$C$385","v":2127.9750941464995},{"$f":"E1451*'Série - IPCA'!$C$444/'Série - IPCA'!$C$398","v":0},{"$f":"F1451*'Série - IPCA'!$C$444/'Série - IPCA'!$C$411","v":0},{"$f":"G1451*'Série - IPCA'!$C$444/'Série - IPCA'!$C$424","v":0},{"$f":"H1451*'Série - IPCA'!$C$444/'Série - IPCA'!$C$437","v":0},425.59501882929987,"Despesas com Vendas","N","SIM","NÃO","ENCARGOS DE COMERCIALIZAÇÃO","FIXO","DESPESAS_GERAIS",5400,"GERÊNCIA COMERCIAL (inativo)","Despesas com Vendas326,974"]
[null,null,null,1570.4,0,0,0,0,314.08000000000004,{"$f":"D1452*'Série - IPCA'!$C$444/'Série - IPCA'!$C$385","v":2044.0598260703684},{"$f":"E1452*'Série - IPCA'!$C$444/'Série - IPCA'!$C$398","v":0},{"$f":"F1452*'Série - IPCA'!$C$444/'Série - IPCA'!$C$411","v":0},{"$f":"G1452*'Série - IPCA'!$C$444/'Série - IPCA'!$C$424","v":0},{"$f":"H1452*'Série - IPCA'!$C$444/'Série - IPCA'!$C$437","v":0},408.81196521407367,"Despesas Gerais e Administratias","N","SIM","NÃO","ENCARGOS DE GESTÃO","FIXO","DESPESAS_GERAIS",2200,"DIRETORIA COLEGIADA - PRESIDÊNCIA","Despesas Gerais e Administratias314,08"]
[null,null,null,3252.9,0,0,0,0,650.58000000000004,{"$f":"D1453*'Série - IPCA'!$C$444/'Série - IPCA'!$C$385","v":4234.0309527663667},{"$f":"E1453*'Série - IPCA'!$C$444/'Série - IPCA'!$C$398","v":0},{"$f":"F1453*'Série - IPCA'!$C$444/'Série - IPCA'!$C$411","v":0},{"$f":"G1453*'Série - IPCA'!$C$444/'Série - IPCA'!$C$424","v":0},{"$f":"H1453*'Série - IPCA'!$C$444/'Série - IPCA'!$C$437","v":0},846.80619055327338,"Despesas Gerais e Administratias","N","SIM","NÃO","ENCARGOS DE GESTÃO","FIXO","DESPESAS_GERAIS",3200,"GERÊNCIA DE PLANEJAMENTO E MEIO AMBIENTE","Despesas Gerais e Administratias650,58"]
[null,null,null,6510.1,0,0,0,0,1302.02,{"$f":"D1454*'Série - IPCA'!$C$444/'Série - IPCA'!$C$385","v":8473.6588599724309},{"$f":"E1454*'Série - IPCA'!$C$444/'Série - IPCA'!$C$398","v":0},{"$f":"F1454*'Série - IPCA'!$C$444/'Série - IPCA'!$C$411","v":0},{"$f":"G1454*'Série - IPCA'!$C$444/'Série - IPCA'!$C$424","v":0},{"$f":"H1454*'Série - IPCA'!$C$444/'Série - IPCA'!$C$437","v":0},1694.7317719944863,"Despesas Gerais e Administratias","N","SIM","NÃO","ENCARGOS DE GESTÃO","FIXO","DESPESAS_GERAIS",3600,"GERÊNCIA DE GOVERNANÇA, RISCO E COMPLIANCE","Despesas Gerais e Administratias1302,02"]
[null,null,null,2629.71,0,0,0,0,525.94200000000001,{"$f":"D1455*'Série - IPCA'!$C$444/'Série - IPCA'!$C$385","v":3422.8760603766609},{"$f":"E1455*'Série - IPCA'!$C$444/'Série - IPCA'!$C$398","v":0},{"$f":"F1455*'Série - IPCA'!$C$444/'Série - IPCA'!$C$411","v":0},{"$f":"G1455*'Série - IPCA'!$C$444/'Série - IPCA'!$C$424","v":0},{"$f":"H1455*'Série - IPCA'!$C$444/'Série - IPCA'!$C$437","v":0},684.57521207533216,"Despesas Gerais e Administratias","N","SIM","NÃO","ENCARGOS DE GESTÃO","FIXO","DESPESAS_GERAIS",4500,"GERÊNCIA CONTÁBIL","Despesas Gerais e Administratias525,942"]
[null,null,null,133.62,0,0,0,0,26.724,{"$f":"D1456*'Série - IPCA'!$C$444/'Série - IPCA'!$C$385","v":173.92210517035321},{"$f":"E1456*'Série - IPCA'!$C$444/'Série - IPCA'!$C$398","v":0},{"$f":"F1456*'Série - IPCA'!$C$444/'Série - IPCA'!$C$411","v":0},{"$f":"G1456*'Série - IPCA'!$C$444/'Série - IPCA'!$C$424","v":0},{"$f":"H1456*'Série - IPCA'!$C$444/'Série - IPCA'!$C$437","v":0},34.78442103407064,"Custos","N","SIM","NÃO","OPEX","FIXO","DESPESAS_GERAIS",5100,"GERÊNCIA DE ENGENHARIA","Custos26,724"]
[null,null,null,0,0,0,0,18895.599999999999,3779.12,{"$f":"D1457*'Série - IPCA'!$C$444/'Série - IPCA'!$C$385","v":0},{"$f":"E1457*'Série - IPCA'!$C$444/'Série - IPCA'!$C$398","v":0},{"$f":"F1457*'Série - IPCA'!$C$444/'Série - IPCA'!$C$411","v":0},{"$f":"G1457*'Série - IPCA'!$C$444/'Série - IPCA'!$C$424","v":0},{"$f":"H1457*'Série - IPCA'!$C$444/'Série - IPCA'!$C$437","v":19318.689184766405},3863.7378369532807,"Despesas Gerais e Administratias","S",null,null,"ENCARGOS DE GESTÃO","FIXO","TRIBUTOS_E_TAXAS_FISCAIS",4200,"GERÊNCIA FINANCEIRA","Despesas Gerais e Administratias3779,12"]
[null,null,null,0,158897.47,268302.13,254657.76,240074.52,184386.37599999999,{"$f":"D1458*'Série - IPCA'!$C$444/'Série - IPCA'!$C$385","v":0},{"$f":"E1458*'Série - IPCA'!$C$444/'Série - IPCA'!$C$398","v":197884.3571935397},{"$f":"F1458*'Série - IPCA'!$C$444/'Série - IPCA'!$C$411","v":303588.43004897132},{"$f":"G1458*'Série - IPCA'!$C$444/'Série - IPCA'!$C$424","v":272391.49210008228},{"$f":"H1458*'Série - IPCA'!$C$444/'Série - IPCA'!$C$437","v":245450.0006912713},203862.85600677293,"Despesas Gerais e Administratias","S",null,null,"ENCARGOS DE GESTÃO","FIXO","TRIBUTOS_E_TAXAS_FISCAIS",4200,"GERÊNCIA FINANCEIRA","Despesas Gerais e Administratias184386,376"]
[null,null,null,0,10903.28,4397.6499999999996,4368.6499999999996,2339.2600000000002,4401.7680000000009,{"$f":"D1459*'Série - IPCA'!$C$444/'Série - IPCA'!$C$385","v":0},{"$f":"E1459*'Série - IPCA'!$C$444/'Série - IPCA'!$C$398","v":13578.495328472993},{"$f":"F1459*'Série - IPCA'!$C$444/'Série - IPCA'!$C$411","v":4976.0158795789603},{"$f":"G1459*'Série - IPCA'!$C$444/'Série - IPCA'!$C$424","v":4672.8719044847649},{"$f":"H1459*'Série - IPCA'!$C$444/'Série - IPCA'!$C$437","v":2391.638098941376},5123.8042422956187,"Despesas Gerais e Administratias","S",null,null,"ENCARGOS DE GESTÃO","FIXO","TRIBUTOS_E_TAXAS_FISCAIS",4200,"GERÊNCIA FINANCEIRA","Despesas Gerais e Administratias4401,768"]
[null,null,null,0,4991.33,15078.96,17496.29,18887.82,11290.880000000001,{"$f":"D1460*'Série - IPCA'!$C$444/'Série - IPCA'!$C$385","v":0},{"$f":"E1460*'Série - IPCA'!$C$444/'Série - IPCA'!$C$398","v":6215.9965705610703},{"$f":"F1460*'Série - IPCA'!$C$444/'Série - IPCA'!$C$411","v":17062.100077890682},{"$f":"G1460*'Série - IPCA'!$C$444/'Série - IPCA'!$C$424","v":18714.688055513205},{"$f":"H1460*'Série - IPCA'!$C$444/'Série - IPCA'!$C$437","v":19310.734983690098},12260.703937531011,"Despesas Gerais e Administratias","S",null,null,"ENCARGOS DE GESTÃO","FIXO","TRIBUTOS_E_TAXAS_FISCAIS",4200,"GERÊNCIA FINANCEIRA","Despesas Gerais e Administratias11290,88"]
[null,null,null,0,126.1,62.48,9571.56,13377.79,4627.5860000000002,{"$f":"D1461*'Série - IPCA'!$C$444/'Série - IPCA'!$C$385","v":0},{"$f":"E1461*'Série - IPCA'!$C$444/'Série - IPCA'!$C$398","v":157.03974041943746},{"$f":"F1461*'Série - IPCA'!$C$444/'Série - IPCA'!$C$411","v":70.697184213407951},{"$f":"G1461*'Série - IPCA'!$C$444/'Série - IPCA'!$C$424","v":10238.099597379098},{"$f":"H1461*'Série - IPCA'!$C$444/'Série - IPCA'!$C$437","v":13677.330541982059},4828.6334127988002,"Despesas Gerais e Administratias","S",null,null,"ENCARGOS DE GESTÃO","FIXO","TRIBUTOS_E_TAXAS_FISCAIS",4200,"GERÊNCIA FINANCEIRA","Despesas Gerais e Administratias4627,586"]
[null,null,null,0,14848.89,127106.87,335213.75,379132.65,171260.432,{"$f":"D1462*'Série - IPCA'!$C$444/'Série - IPCA'!$C$385","v":0},{"$f":"E1462*'Série - IPCA'!$C$444/'Série - IPCA'!$C$398","v":18492.195330029983},{"$f":"F1462*'Série - IPCA'!$C$444/'Série - IPCA'!$C$411","v":143823.58839916287},{"$f":"G1462*'Série - IPCA'!$C$444/'Série - IPCA'!$C$424","v":358557.20059331373},{"$f":"H1462*'Série - IPCA'!$C$444/'Série - IPCA'!$C$437","v":387621.76512769255},181698.9498900398,"Despesas Gerais e Administratias","S",null,null,"ENCARGOS DE GESTÃO","FIXO","TRIBUTOS_E_TAXAS_FISCAIS",4200,"GERÊNCIA FINANCEIRA","Despesas Gerais e Administratias171260,432"]
[null,null,null,0,9502.42,0,0,0,1900.4839999999999,{"$f":"D1463*'Série - IPCA'!$C$444/'Série - IPCA'!$C$385","v":0},{"$f":"E1463*'Série - IPCA'!$C$444/'Série - IPCA'!$C$398","v":11833.92204723609},{"$f":"F1463*'Série - IPCA'!$C$444/'Série - IPCA'!$C$411","v":0},{"$f":"G1463*'Série - IPCA'!$C$444/'Série - IPCA'!$C$424","v":0},{"$f":"H1463*'Série - IPCA'!$C$444/'Série - IPCA'!$C$437","v":0},2366.784409447218,"Despesas Gerais e Administratias","S",null,null,"ENCARGOS DE GESTÃO","FIXO","TRIBUTOS_E_TAXAS_FISCAIS",4200,"GERÊNCIA FINANCEIRA","Despesas Gerais e Administratias1900,484"]
[null,null,null,0,102313.77,23674.66,64922.98,251714.74,88525.23000000001,{"$f":"D1464*'Série - IPCA'!$C$444/'Série - IPCA'!$C$385","v":0},{"$f":"E1464*'Série - IPCA'!$C$444/'Série - IPCA'!$C$398","v":127417.35037378296},{"$f":"F1464*'Série - IPCA'!$C$444/'Série - IPCA'!$C$411","v":26788.28103728874},{"$f":"G1464*'Série - IPCA'!$C$444/'Série - IPCA'!$C$424","v":69444.05461582556},{"$f":"H1464*'Série - IPCA'!$C$444/'Série - IPCA'!$C$437","v":257350.85550521218},96200.108306421884,"Despesas Gerais e Administratias","S",null,null,"ENCARGOS DE GESTÃO","FIXO","TRIBUTOS_E_TAXAS_FISCAIS",4200,"GERÊNCIA FINANCEIRA","Despesas Gerais e Administratias88525,23"]
[null,null,null,0,0,0,18567.939999999999,3226.3,4358.848,{"$f":"D1465*'Série - IPCA'!$C$444/'Série - IPCA'!$C$385","v":0},{"$f":"E1465*'Série - IPCA'!$C$444/'Série - IPCA'!$C$398","v":0},{"$f":"F1465*'Série - IPCA'!$C$444/'Série - IPCA'!$C$411","v":0},{"$f":"G1465*'Série - IPCA'!$C$444/'Série - IPCA'!$C$424","v":19860.965092227314},{"$f":"H1465*'Série - IPCA'!$C$444/'Série - IPCA'!$C$437","v":3298.5397085465324},4631.9009601547696,"Despesas Gerais e Administratias","S",null,null,"ENCARGOS DE GESTÃO","FIXO","TRIBUTOS_E_TAXAS_FISCAIS",4200,"GERÊNCIA FINANCEIRA","Despesas Gerais e Administratias4358,848"]
[null,null,null,0,0,0,0,36172.74,7234.5479999999998,{"$f":"D1466*'Série - IPCA'!$C$444/'Série - IPCA'!$C$385","v":0},{"$f":"E1466*'Série - IPCA'!$C$444/'Série - IPCA'!$C$398","v":0},{"$f":"F1466*'Série - IPCA'!$C$444/'Série - IPCA'!$C$411","v":0},{"$f":"G1466*'Série - IPCA'!$C$444/'Série - IPCA'!$C$424","v":0},{"$f":"H1466*'Série - IPCA'!$C$444/'Série - IPCA'!$C$437","v":36982.679619666327},7396.5359239332656,"Despesas Gerais e Administratias","S",null,null,"ENCARGOS DE GESTÃO","FIXO","TRIBUTOS_E_TAXAS_FISCAIS",4200,"GERÊNCIA FINANCEIRA","Despesas Gerais e Administratias7234,548"]
[null,null,null,0,11732.7,13814.8,50538.06,50848.88,25386.887999999999,{"$f":"D1467*'Série - IPCA'!$C$444/'Série - IPCA'!$C$385","v":0},{"$f":"E1467*'Série - IPCA'!$C$444/'Série - IPCA'!$C$398","v":14611.420796345234},{"$f":"F1467*'Série - IPCA'!$C$444/'Série - IPCA'!$C$411","v":15631.681505624008},{"$f":"G1467*'Série - IPCA'!$C$444/'Série - IPCA'!$C$424","v":54057.404617253684},{"$f":"H1467*'Série - IPCA'!$C$444/'Série - IPCA'!$C$437","v":51987.431365687495},27257.587656982087,"Despesas Gerais e Administratias","S",null,null,"ENCARGOS DE GESTÃO","FIXO","TRIBUTOS_E_TAXAS_FISCAIS",4200,"GERÊNCIA FINANCEIRA","Despesas Gerais e Administratias25386,888"]
[null,null,null,0,2749.89,0,0,0,549.97799999999995,{"$f":"D1468*'Série - IPCA'!$C$444/'Série - IPCA'!$C$385","v":0},{"$f":"E1468*'Série - IPCA'!$C$444/'Série - IPCA'!$C$398","v":3424.5996176209906},{"$f":"F1468*'Série - IPCA'!$C$444/'Série - IPCA'!$C$411","v":0},{"$f":"G1468*'Série - IPCA'!$C$444/'Série - IPCA'!$C$424","v":0},{"$f":"H1468*'Série - IPCA'!$C$444/'Série - IPCA'!$C$437","v":0},684.91992352419811,"Despesas Gerais e Administratias","S",null,null,"ENCARGOS DE GESTÃO","FIXO","TRIBUTOS_E_TAXAS_FISCAIS",4200,"GERÊNCIA FINANCEIRA","Despesas Gerais e Administratias549,978"]
[null,null,null,0,250316.11,477745.37,1779941.3,828724.77,667345.51,{"$f":"D1469*'Série - IPCA'!$C$444/'Série - IPCA'!$C$385","v":0},{"$f":"E1469*'Série - IPCA'!$C$444/'Série - IPCA'!$C$398","v":311733.36191279424},{"$f":"F1469*'Série - IPCA'!$C$444/'Série - IPCA'!$C$411","v":540577.02352741256},{"$f":"G1469*'Série - IPCA'!$C$444/'Série - IPCA'!$C$424","v":1903891.9786208759},{"$f":"H1469*'Série - IPCA'!$C$444/'Série - IPCA'!$C$437","v":847280.65006387886},720696.60282499227,"Despesas Gerais e Administratias","S",null,null,"ENCARGOS DE GESTÃO","FIXO","TRIBUTOS_E_TAXAS_FISCAIS",4200,"GERÊNCIA FINANCEIRA","Despesas Gerais e Administratias667345,51"]
[null,null,null,0,47173.07,32615.84,39542.75,63700.34,36606.400000000001,{"$f":"D1470*'Série - IPCA'!$C$444/'Série - IPCA'!$C$385","v":0},{"$f":"E1470*'Série - IPCA'!$C$444/'Série - IPCA'!$C$398","v":58747.396253671315},{"$f":"F1470*'Série - IPCA'!$C$444/'Série - IPCA'!$C$411","v":36905.378501201019},{"$f":"G1470*'Série - IPCA'!$C$444/'Série - IPCA'!$C$424","v":42296.40861617776},{"$f":"H1470*'Série - IPCA'!$C$444/'Série - IPCA'!$C$437","v":65126.646913775839},40615.166056965187,"Despesas Gerais e Administratias","S",null,null,"ENCARGOS DE GESTÃO","FIXO","TRIBUTOS_E_TAXAS_FISCAIS",4200,"GERÊNCIA FINANCEIRA","Despesas Gerais e Administratias36606,4"]
[null,null,null,0,5870.42,6877.55,7499.6,6295.63,5308.64,{"$f":"D1471*'Série - IPCA'!$C$444/'Série - IPCA'!$C$385","v":0},{"$f":"E1471*'Série - IPCA'!$C$444/'Série - IPCA'!$C$398","v":7310.7790083511036},{"$f":"F1471*'Série - IPCA'!$C$444/'Série - IPCA'!$C$411","v":7782.0649693809837},{"$f":"G1471*'Série - IPCA'!$C$444/'Série - IPCA'!$C$424","v":8021.8534638558704},{"$f":"H1471*'Série - IPCA'!$C$444/'Série - IPCA'!$C$437","v":6436.5947200560413},5910.2584323288002,"Despesas Gerais e Administratias","S",null,null,"ENCARGOS DE GESTÃO","FIXO","TRIBUTOS_E_TAXAS_FISCAIS",4200,"GERÊNCIA FINANCEIRA","Despesas Gerais e Administratias5308,64"]
[null,null,null,0,17088.48,22879.07,17711.939999999999,16926.48,14921.194,{"$f":"D1472*'Série - IPCA'!$C$444/'Série - IPCA'!$C$385","v":0},{"$f":"E1472*'Série - IPCA'!$C$444/'Série - IPCA'!$C$398","v":21281.288369252568},{"$f":"F1472*'Série - IPCA'!$C$444/'Série - IPCA'!$C$411","v":25888.057401111641},{"$f":"G1472*'Série - IPCA'!$C$444/'Série - IPCA'!$C$424","v":18945.35538436814},{"$f":"H1472*'Série - IPCA'!$C$444/'Série - IPCA'!$C$437","v":17305.478847571121},16684.036000460696,"Despesas Gerais e Administratias","S",null,null,"ENCARGOS DE GESTÃO","FIXO","TRIBUTOS_E_TAXAS_FISCAIS",4200,"GERÊNCIA FINANCEIRA","Despesas Gerais e Administratias14921,194"]
[null,null,null,0,2448.54,1862.97,4866.5,6207,3077.002,{"$f":"D1473*'Série - IPCA'!$C$444/'Série - IPCA'!$C$385","v":0},{"$f":"E1473*'Série - IPCA'!$C$444/'Série - IPCA'!$C$398","v":3049.3107534227552},{"$f":"F1473*'Série - IPCA'!$C$444/'Série - IPCA'!$C$411","v":2107.9822867165908},{"$f":"G1473*'Série - IPCA'!$C$444/'Série - IPCA'!$C$424","v":5205.3909384306626},{"$f":"H1473*'Série - IPCA'!$C$444/'Série - IPCA'!$C$437","v":6345.9802160209292},3341.7328389181871,"Despesas Gerais e Administratias","S",null,null,"ENCARGOS DE GESTÃO","FIXO","TRIBUTOS_E_TAXAS_FISCAIS",4200,"GERÊNCIA FINANCEIRA","Despesas Gerais e Administratias3077,002"]
[null,null,null,0,0,57.62,9089.93,3176.09,2464.7280000000001,{"$f":"D1474*'Série - IPCA'!$C$444/'Série - IPCA'!$C$385","v":0},{"$f":"E1474*'Série - IPCA'!$C$444/'Série - IPCA'!$C$398","v":0},{"$f":"F1474*'Série - IPCA'!$C$444/'Série - IPCA'!$C$411","v":65.198011433683831},{"$f":"G1474*'Série - IPCA'!$C$444/'Série - IPCA'!$C$424","v":9722.9300838321233},{"$f":"H1474*'Série - IPCA'!$C$444/'Série - IPCA'!$C$437","v":3247.2054622687151},2607.0667115069045,"Despesas Gerais e Administratias","S",null,null,"ENCARGOS DE GESTÃO","FIXO","TRIBUTOS_E_TAXAS_FISCAIS",4200,"GERÊNCIA FINANCEIRA","Despesas Gerais e Administratias2464,728"]
[null,null,null,0,0,0.28999999999999998,0,0,5.7999999999999996E-2,{"$f":"D1475*'Série - IPCA'!$C$444/'Série - IPCA'!$C$385","v":0},{"$f":"E1475*'Série - IPCA'!$C$444/'Série - IPCA'!$C$398","v":0},{"$f":"F1475*'Série - IPCA'!$C$444/'Série - IPCA'!$C$411","v":0.32813993953086273},{"$f":"G1475*'Série - IPCA'!$C$444/'Série - IPCA'!$C$424","v":0},{"$f":"H1475*'Série - IPCA'!$C$444/'Série - IPCA'!$C$437","v":0},6.5627987906172552E-2,"Despesas Gerais e Administratias","S",null,null,"ENCARGOS DE GESTÃO","FIXO","TRIBUTOS_E_TAXAS_FISCAIS",4200,"GERÊNCIA FINANCEIRA","Despesas Gerais e Administratias0,058"]
[null,null,null,0,0,0,831.22,2532.46,672.7360000000001,{"$f":"D1476*'Série - IPCA'!$C$444/'Série - IPCA'!$C$385","v":0},{"$f":"E1476*'Série - IPCA'!$C$444/'Série - IPCA'!$C$398","v":0},{"$f":"F1476*'Série - IPCA'!$C$444/'Série - IPCA'!$C$411","v":0},{"$f":"G1476*'Série - IPCA'!$C$444/'Série - IPCA'!$C$424","v":889.10409038165722},{"$f":"H1476*'Série - IPCA'!$C$444/'Série - IPCA'!$C$437","v":2589.164017700075},695.65362161634641,"Despesas Gerais e Administratias","S",null,null,"ENCARGOS DE GESTÃO","FIXO","TRIBUTOS_E_TAXAS_FISCAIS",4200,"GERÊNCIA FINANCEIRA","Despesas Gerais e Administratias672,736"]
[null,null,null,0,588.58000000000004,212.05,24.72,23.73,{"$f":"AVERAGE(D1477:H1477)","v":169.81600000000003},{"$f":"D1477*'Série - IPCA'!$C$444/'Série - IPCA'!$C$385","v":0},{"$f":"E1477*'Série - IPCA'!$C$444/'Série - IPCA'!$C$398","v":732.99326261754572},{"$f":"F1477*'Série - IPCA'!$C$444/'Série - IPCA'!$C$411","v":239.93818681903258},{"$f":"G1477*'Série - IPCA'!$C$444/'Série - IPCA'!$C$424","v":26.441439226961052},{"$f":"H1477*'Série - IPCA'!$C$444/'Série - IPCA'!$C$437","v":24.261335673622792},{"$f":"AVERAGE(J1477:N1477)","v":204.72684486743242},"Despesas Gerais e Administratias","S",null,null,"ENCARGOS DE GESTÃO","FIXO","TRIBUTOS_E_TAXAS_FISCAIS",4200,"GERÊNCIA FINANCEIRA",{"$f":"B1477&C1477&P1477&I1477","v":"Despesas Gerais e Administratias169,816"}]
[null,null,null,0,42.45,163.81,291.97000000000003,46.94,109.03400000000002,{"$f":"D1478*'Série - IPCA'!$C$444/'Série - IPCA'!$C$385","v":0},{"$f":"E1478*'Série - IPCA'!$C$444/'Série - IPCA'!$C$398","v":52.865479625734501},{"$f":"F1478*'Série - IPCA'!$C$444/'Série - IPCA'!$C$411","v":185.35380515362283},{"$f":"G1478*'Série - IPCA'!$C$444/'Série - IPCA'!$C$424","v":312.3020635556561},{"$f":"H1478*'Série - IPCA'!$C$444/'Série - IPCA'!$C$437","v":47.991028087646598},119.70247528453201,"Despesas Gerais e Administratias","S",null,null,"ENCARGOS DE GESTÃO","FIXO","TRIBUTOS_E_TAXAS_FISCAIS",4200,"GERÊNCIA FINANCEIRA","Despesas Gerais e Administratias109,034"]
[null,null,null,0,0,69.650000000000006,457.88,1564.03,418.31200000000001,{"$f":"D1479*'Série - IPCA'!$C$444/'Série - IPCA'!$C$385","v":0},{"$f":"E1479*'Série - IPCA'!$C$444/'Série - IPCA'!$C$398","v":0},{"$f":"F1479*'Série - IPCA'!$C$444/'Série - IPCA'!$C$411","v":78.81016133905031},{"$f":"G1479*'Série - IPCA'!$C$444/'Série - IPCA'!$C$424","v":489.76562270392094},{"$f":"H1479*'Série - IPCA'!$C$444/'Série - IPCA'!$C$437","v":1599.050014058839},433.52515962036205,"Despesas Gerais e Administratias","S",null,null,"ENCARGOS DE GESTÃO","FIXO","TRIBUTOS_E_TAXAS_FISCAIS",4200,"GERÊNCIA FINANCEIRA","Despesas Gerais e Administratias418,312"]
[null,null,null,0,74721.070000000007,0,0,0,14944.214000000002,{"$f":"D1480*'Série - IPCA'!$C$444/'Série - IPCA'!$C$385","v":0},{"$f":"E1480*'Série - IPCA'!$C$444/'Série - IPCA'!$C$398","v":93054.539545302279},{"$f":"F1480*'Série - IPCA'!$C$444/'Série - IPCA'!$C$411","v":0},{"$f":"G1480*'Série - IPCA'!$C$444/'Série - IPCA'!$C$424","v":0},{"$f":"H1480*'Série - IPCA'!$C$444/'Série - IPCA'!$C$437","v":0},18610.907909060457,"Despesas Gerais e Administratias","S",null,null,"ENCARGOS DE GESTÃO","FIXO","TRIBUTOS_E_TAXAS_FISCAIS",4200,"GERÊNCIA FINANCEIRA","Despesas Gerais e Administratias14944,214"]
[null,null,null,0,-581748.27,-1691517.62,-2314823.19,-2749928.49,-1467603.514,{"$f":"D1481*'Série - IPCA'!$C$444/'Série - IPCA'!$C$385","v":0},{"$f":"E1481*'Série - IPCA'!$C$444/'Série - IPCA'!$C$398","v":-724485.30777364655},{"$f":"F1481*'Série - IPCA'!$C$444/'Série - IPCA'!$C$411","v":-1913980.9984213412},{"$f":"G1481*'Série - IPCA'!$C$444/'Série - IPCA'!$C$424","v":-2476021.7111466471},{"$f":"H1481*'Série - IPCA'!$C$444/'Série - IPCA'!$C$437","v":-2811501.8193994379},-1585197.9673482145,"Despesas Gerais e Administratias","S",null,null,"ENCARGOS DE GESTÃO","FIXO","TRIBUTOS_E_TAXAS_FISCAIS",4200,"GERÊNCIA FINANCEIRA","Despesas Gerais e Administratias-1467603,514"]
[null,null,null,14981.39,0,0,0,0,2996.2779999999998,{"$f":"D1482*'Série - IPCA'!$C$444/'Série - IPCA'!$C$385","v":19500.036575198901},{"$f":"E1482*'Série - IPCA'!$C$444/'Série - IPCA'!$C$398","v":0},{"$f":"F1482*'Série - IPCA'!$C$444/'Série - IPCA'!$C$411","v":0},{"$f":"G1482*'Série - IPCA'!$C$444/'Série - IPCA'!$C$424","v":0},{"$f":"H1482*'Série - IPCA'!$C$444/'Série - IPCA'!$C$437","v":0},3900.0073150397802,"Despesas Gerais e Administratias","S",null,null,"ENCARGOS DE GESTÃO","FIXO","TRIBUTOS_E_TAXAS_FISCAIS",4200,"GERÊNCIA FINANCEIRA","Despesas Gerais e Administratias2996,278"]
[null,null,null,93901.759999999995,0,0,0,0,18780.351999999999,{"$f":"D1483*'Série - IPCA'!$C$444/'Série - IPCA'!$C$385","v":122224.15640174571},{"$f":"E1483*'Série - IPCA'!$C$444/'Série - IPCA'!$C$398","v":0},{"$f":"F1483*'Série - IPCA'!$C$444/'Série - IPCA'!$C$411","v":0},{"$f":"G1483*'Série - IPCA'!$C$444/'Série - IPCA'!$C$424","v":0},{"$f":"H1483*'Série - IPCA'!$C$444/'Série - IPCA'!$C$437","v":0},24444.831280349143,"Despesas Gerais e Administratias","S",null,null,"ENCARGOS DE GESTÃO","FIXO","TRIBUTOS_E_TAXAS_FISCAIS",4200,"GERÊNCIA FINANCEIRA","Despesas Gerais e Administratias18780,352"]
[null,null,null,8232.89,0,0,0,0,1646.578,{"$f":"D1484*'Série - IPCA'!$C$444/'Série - IPCA'!$C$385","v":10716.072148151092},{"$f":"E1484*'Série - IPCA'!$C$444/'Série - IPCA'!$C$398","v":0},{"$f":"F1484*'Série - IPCA'!$C$444/'Série - IPCA'!$C$411","v":0},{"$f":"G1484*'Série - IPCA'!$C$444/'Série - IPCA'!$C$424","v":0},{"$f":"H1484*'Série - IPCA'!$C$444/'Série - IPCA'!$C$437","v":0},2143.2144296302185,"Despesas Gerais e Administratias","S",null,null,"ENCARGOS DE GESTÃO","FIXO","TRIBUTOS_E_TAXAS_FISCAIS",4200,"GERÊNCIA FINANCEIRA","Despesas Gerais e Administratias1646,578"]
[null,null,null,11416.9,0,0,0,0,2283.38,{"$f":"D1485*'Série - IPCA'!$C$444/'Série - IPCA'!$C$385","v":14860.434684324242},{"$f":"E1485*'Série - IPCA'!$C$444/'Série - IPCA'!$C$398","v":0},{"$f":"F1485*'Série - IPCA'!$C$444/'Série - IPCA'!$C$411","v":0},{"$f":"G1485*'Série - IPCA'!$C$444/'Série - IPCA'!$C$424","v":0},{"$f":"H1485*'Série - IPCA'!$C$444/'Série - IPCA'!$C$437","v":0},2972.0869368648482,"Despesas Gerais e Administratias","S",null,null,"ENCARGOS DE GESTÃO","FIXO","TRIBUTOS_E_TAXAS_FISCAIS",4200,"GERÊNCIA FINANCEIRA","Despesas Gerais e Administratias2283,38"]
[null,null,null,708.65,0,0,0,0,141.72999999999999,{"$f":"D1486*'Série - IPCA'!$C$444/'Série - IPCA'!$C$385","v":922.3911078354347},{"$f":"E1486*'Série - IPCA'!$C$444/'Série - IPCA'!$C$398","v":0},{"$f":"F1486*'Série - IPCA'!$C$444/'Série - IPCA'!$C$411","v":0},{"$f":"G1486*'Série - IPCA'!$C$444/'Série - IPCA'!$C$424","v":0},{"$f":"H1486*'Série - IPCA'!$C$444/'Série - IPCA'!$C$437","v":0},184.47822156708693,"Despesas Gerais e Administratias","S",null,null,"ENCARGOS DE GESTÃO","FIXO","TRIBUTOS_E_TAXAS_FISCAIS",4200,"GERÊNCIA FINANCEIRA","Despesas Gerais e Administratias141,73"]
[null,null,null,51542.559999999998,0,0,0,0,10308.511999999999,{"$f":"D1487*'Série - IPCA'!$C$444/'Série - IPCA'!$C$385","v":67088.688378006584},{"$f":"E1487*'Série - IPCA'!$C$444/'Série - IPCA'!$C$398","v":0},{"$f":"F1487*'Série - IPCA'!$C$444/'Série - IPCA'!$C$411","v":0},{"$f":"G1487*'Série - IPCA'!$C$444/'Série - IPCA'!$C$424","v":0},{"$f":"H1487*'Série - IPCA'!$C$444/'Série - IPCA'!$C$437","v":0},13417.737675601316,"Despesas Gerais e Administratias","S",null,null,"ENCARGOS DE GESTÃO","FIXO","TRIBUTOS_E_TAXAS_FISCAIS",4200,"GERÊNCIA FINANCEIRA","Despesas Gerais e Administratias10308,512"]
[null,null,null,408361.49,0,0,0,0,81672.297999999995,{"$f":"D1488*'Série - IPCA'!$C$444/'Série - IPCA'!$C$385","v":531530.38475753728},{"$f":"E1488*'Série - IPCA'!$C$444/'Série - IPCA'!$C$398","v":0},{"$f":"F1488*'Série - IPCA'!$C$444/'Série - IPCA'!$C$411","v":0},{"$f":"G1488*'Série - IPCA'!$C$444/'Série - IPCA'!$C$424","v":0},{"$f":"H1488*'Série - IPCA'!$C$444/'Série - IPCA'!$C$437","v":0},106306.07695150745,"Despesas Gerais e Administratias","S",null,null,"ENCARGOS DE GESTÃO","FIXO","TRIBUTOS_E_TAXAS_FISCAIS",4200,"GERÊNCIA FINANCEIRA","Despesas Gerais e Administratias81672,298"]
[null,null,null,23871.49,0,0,0,0,4774.2980000000007,{"$f":"D1489*'Série - IPCA'!$C$444/'Série - IPCA'!$C$385","v":31071.5446366789},{"$f":"E1489*'Série - IPCA'!$C$444/'Série - IPCA'!$C$398","v":0},{"$f":"F1489*'Série - IPCA'!$C$444/'Série - IPCA'!$C$411","v":0},{"$f":"G1489*'Série - IPCA'!$C$444/'Série - IPCA'!$C$424","v":0},{"$f":"H1489*'Série - IPCA'!$C$444/'Série - IPCA'!$C$437","v":0},6214.30892733578,"Despesas Gerais e Administratias","S",null,null,"ENCARGOS DE GESTÃO","FIXO","TRIBUTOS_E_TAXAS_FISCAIS",4200,"GERÊNCIA FINANCEIRA","Despesas Gerais e Administratias4774,298"]
[null,null,null,3672.38,0,0,0,0,734.476,{"$f":"D1490*'Série - IPCA'!$C$444/'Série - IPCA'!$C$385","v":4780.0333826186325},{"$f":"E1490*'Série - IPCA'!$C$444/'Série - IPCA'!$C$398","v":0},{"$f":"F1490*'Série - IPCA'!$C$444/'Série - IPCA'!$C$411","v":0},{"$f":"G1490*'Série - IPCA'!$C$444/'Série - IPCA'!$C$424","v":0},{"$f":"H1490*'Série - IPCA'!$C$444/'Série - IPCA'!$C$437","v":0},956.00667652372647,"Despesas Gerais e Administratias","S",null,null,"ENCARGOS DE GESTÃO","FIXO","TRIBUTOS_E_TAXAS_FISCAIS",4200,"GERÊNCIA FINANCEIRA","Despesas Gerais e Administratias734,476"]
[null,null,null,30029.99,0,0,0,0,6005.9980000000005,{"$f":"D1491*'Série - IPCA'!$C$444/'Série - IPCA'!$C$385","v":39087.55484990761},{"$f":"E1491*'Série - IPCA'!$C$444/'Série - IPCA'!$C$398","v":0},{"$f":"F1491*'Série - IPCA'!$C$444/'Série - IPCA'!$C$411","v":0},{"$f":"G1491*'Série - IPCA'!$C$444/'Série - IPCA'!$C$424","v":0},{"$f":"H1491*'Série - IPCA'!$C$444/'Série - IPCA'!$C$437","v":0},7817.5109699815221,"Despesas Gerais e Administratias","S",null,null,"ENCARGOS DE GESTÃO","FIXO","TRIBUTOS_E_TAXAS_FISCAIS",4200,"GERÊNCIA FINANCEIRA","Despesas Gerais e Administratias6005,998"]
[null,null,null,2455.34,0,0,0,0,491.06800000000004,{"$f":"D1492*'Série - IPCA'!$C$444/'Série - IPCA'!$C$385","v":3195.9130497603278},{"$f":"E1492*'Série - IPCA'!$C$444/'Série - IPCA'!$C$398","v":0},{"$f":"F1492*'Série - IPCA'!$C$444/'Série - IPCA'!$C$411","v":0},{"$f":"G1492*'Série - IPCA'!$C$444/'Série - IPCA'!$C$424","v":0},{"$f":"H1492*'Série - IPCA'!$C$444/'Série - IPCA'!$C$437","v":0},639.1826099520656,"Despesas Gerais e Administratias","S",null,null,"ENCARGOS DE GESTÃO","FIXO","TRIBUTOS_E_TAXAS_FISCAIS",4200,"GERÊNCIA FINANCEIRA","Despesas Gerais e Administratias491,068"]
[null,null,null,1860638.54,0,0,0,0,372127.70799999998,{"$f":"D1493*'Série - IPCA'!$C$444/'Série - IPCA'!$C$385","v":2421839.3342156294},{"$f":"E1493*'Série - IPCA'!$C$444/'Série - IPCA'!$C$398","v":0},{"$f":"F1493*'Série - IPCA'!$C$444/'Série - IPCA'!$C$411","v":0},{"$f":"G1493*'Série - IPCA'!$C$444/'Série - IPCA'!$C$424","v":0},{"$f":"H1493*'Série - IPCA'!$C$444/'Série - IPCA'!$C$437","v":0},484367.8668431259,"Despesas Gerais e Administratias","S",null,null,"ENCARGOS DE GESTÃO","FIXO","TRIBUTOS_E_TAXAS_FISCAIS",4200,"GERÊNCIA FINANCEIRA","Despesas Gerais e Administratias372127,708"]
[null,null,null,41009.65,0,0,0,0,8201.93,{"$f":"D1494*'Série - IPCA'!$C$444/'Série - IPCA'!$C$385","v":53378.870380926317},{"$f":"E1494*'Série - IPCA'!$C$444/'Série - IPCA'!$C$398","v":0},{"$f":"F1494*'Série - IPCA'!$C$444/'Série - IPCA'!$C$411","v":0},{"$f":"G1494*'Série - IPCA'!$C$444/'Série - IPCA'!$C$424","v":0},{"$f":"H1494*'Série - IPCA'!$C$444/'Série - IPCA'!$C$437","v":0},10675.774076185264,"Despesas Gerais e Administratias","S",null,null,"ENCARGOS DE GESTÃO","FIXO","TRIBUTOS_E_TAXAS_FISCAIS",4200,"GERÊNCIA FINANCEIRA","Despesas Gerais e Administratias8201,93"]
[null,null,null,4657.47,0,0,0,0,931.49400000000003,{"$f":"D1495*'Série - IPCA'!$C$444/'Série - IPCA'!$C$385","v":6062.2435800611056},{"$f":"E1495*'Série - IPCA'!$C$444/'Série - IPCA'!$C$398","v":0},{"$f":"F1495*'Série - IPCA'!$C$444/'Série - IPCA'!$C$411","v":0},{"$f":"G1495*'Série - IPCA'!$C$444/'Série - IPCA'!$C$424","v":0},{"$f":"H1495*'Série - IPCA'!$C$444/'Série - IPCA'!$C$437","v":0},1212.4487160122212,"Despesas Gerais e Administratias","S",null,null,"ENCARGOS DE GESTÃO","FIXO","TRIBUTOS_E_TAXAS_FISCAIS",4200,"GERÊNCIA FINANCEIRA","Despesas Gerais e Administratias931,494"]
[null,null,null,17184.12,0,0,0,0,3436.8239999999996,{"$f":"D1496*'Série - IPCA'!$C$444/'Série - IPCA'!$C$385","v":22367.148075886613},{"$f":"E1496*'Série - IPCA'!$C$444/'Série - IPCA'!$C$398","v":0},{"$f":"F1496*'Série - IPCA'!$C$444/'Série - IPCA'!$C$411","v":0},{"$f":"G1496*'Série - IPCA'!$C$444/'Série - IPCA'!$C$424","v":0},{"$f":"H1496*'Série - IPCA'!$C$444/'Série - IPCA'!$C$437","v":0},4473.4296151773224,"Despesas Gerais e Administratias","S",null,null,"ENCARGOS DE GESTÃO","FIXO","TRIBUTOS_E_TAXAS_FISCAIS",4200,"GERÊNCIA FINANCEIRA","Despesas Gerais e Administratias3436,824"]
[null,null,null,3761.63,0,0,0,0,752.32600000000002,{"$f":"D1497*'Série - IPCA'!$C$444/'Série - IPCA'!$C$385","v":4896.202727675166},{"$f":"E1497*'Série - IPCA'!$C$444/'Série - IPCA'!$C$398","v":0},{"$f":"F1497*'Série - IPCA'!$C$444/'Série - IPCA'!$C$411","v":0},{"$f":"G1497*'Série - IPCA'!$C$444/'Série - IPCA'!$C$424","v":0},{"$f":"H1497*'Série - IPCA'!$C$444/'Série - IPCA'!$C$437","v":0},979.24054553503322,"Despesas Gerais e Administratias","S",null,null,"ENCARGOS DE GESTÃO","FIXO","TRIBUTOS_E_TAXAS_FISCAIS",4200,"GERÊNCIA FINANCEIRA","Despesas Gerais e Administratias752,326"]
[null,null,null,549.46,0,0,0,0,109.89200000000001,{"$f":"D1498*'Série - IPCA'!$C$444/'Série - IPCA'!$C$385","v":715.18664800854867},{"$f":"E1498*'Série - IPCA'!$C$444/'Série - IPCA'!$C$398","v":0},{"$f":"F1498*'Série - IPCA'!$C$444/'Série - IPCA'!$C$411","v":0},{"$f":"G1498*'Série - IPCA'!$C$444/'Série - IPCA'!$C$424","v":0},{"$f":"H1498*'Série - IPCA'!$C$444/'Série - IPCA'!$C$437","v":0},143.03732960170973,"Despesas Gerais e Administratias","S",null,null,"ENCARGOS DE GESTÃO","FIXO","TRIBUTOS_E_TAXAS_FISCAIS",4200,"GERÊNCIA FINANCEIRA","Despesas Gerais e Administratias109,892"]
[null,null,null,484.23,0,0,0,0,96.846000000000004,{"$f":"D1499*'Série - IPCA'!$C$444/'Série - IPCA'!$C$385","v":630.28215077563334},{"$f":"E1499*'Série - IPCA'!$C$444/'Série - IPCA'!$C$398","v":0},{"$f":"F1499*'Série - IPCA'!$C$444/'Série - IPCA'!$C$411","v":0},{"$f":"G1499*'Série - IPCA'!$C$444/'Série - IPCA'!$C$424","v":0},{"$f":"H1499*'Série - IPCA'!$C$444/'Série - IPCA'!$C$437","v":0},126.05643015512666,"Despesas Gerais e Administratias","S",null,null,"ENCARGOS DE GESTÃO","FIXO","TRIBUTOS_E_TAXAS_FISCAIS",4200,"GERÊNCIA FINANCEIRA","Despesas Gerais e Administratias96,846"]
[null,null,null,165.9,0,0,0,0,33.18,{"$f":"D1500*'Série - IPCA'!$C$444/'Série - IPCA'!$C$385","v":215.93831198743896},{"$f":"E1500*'Série - IPCA'!$C$444/'Série - IPCA'!$C$398","v":0},{"$f":"F1500*'Série - IPCA'!$C$444/'Série - IPCA'!$C$411","v":0},{"$f":"G1500*'Série - IPCA'!$C$444/'Série - IPCA'!$C$424","v":0},{"$f":"H1500*'Série - IPCA'!$C$444/'Série - IPCA'!$C$437","v":0},43.187662397487792,"Despesas Gerais e Administratias","S",null,null,"ENCARGOS DE GESTÃO","FIXO","TRIBUTOS_E_TAXAS_FISCAIS",4200,"GERÊNCIA FINANCEIRA","Despesas Gerais e Administratias33,18"]
[null,null,null,5.05,0,0,0,0,1.01,{"$f":"D1501*'Série - IPCA'!$C$444/'Série - IPCA'!$C$385","v":6.573167423366888},{"$f":"E1501*'Série - IPCA'!$C$444/'Série - IPCA'!$C$398","v":0},{"$f":"F1501*'Série - IPCA'!$C$444/'Série - IPCA'!$C$411","v":0},{"$f":"G1501*'Série - IPCA'!$C$444/'Série - IPCA'!$C$424","v":0},{"$f":"H1501*'Série - IPCA'!$C$444/'Série - IPCA'!$C$437","v":0},1.3146334846733776,"Despesas Gerais e Administratias","S",null,null,"ENCARGOS DE GESTÃO","FIXO","TRIBUTOS_E_TAXAS_FISCAIS",4200,"GERÊNCIA FINANCEIRA","Despesas Gerais e Administratias1,01"]
[null,null,null,422.9,0,0,0,0,84.58,{"$f":"D1502*'Série - IPCA'!$C$444/'Série - IPCA'!$C$385","v":550.45396105779344},{"$f":"E1502*'Série - IPCA'!$C$444/'Série - IPCA'!$C$398","v":0},{"$f":"F1502*'Série - IPCA'!$C$444/'Série - IPCA'!$C$411","v":0},{"$f":"G1502*'Série - IPCA'!$C$444/'Série - IPCA'!$C$424","v":0},{"$f":"H1502*'Série - IPCA'!$C$444/'Série - IPCA'!$C$437","v":0},110.09079221155869,"Despesas Gerais e Administratias","S",null,null,"ENCARGOS DE GESTÃO","FIXO","TRIBUTOS_E_TAXAS_FISCAIS",4200,"GERÊNCIA FINANCEIRA","Despesas Gerais e Administratias84,58"]
[null,null,null,1823.06,0,0,0,0,364.61199999999997,{"$f":"D1503*'Série - IPCA'!$C$444/'Série - IPCA'!$C$385","v":2372.9264560085621},{"$f":"E1503*'Série - IPCA'!$C$444/'Série - IPCA'!$C$398","v":0},{"$f":"F1503*'Série - IPCA'!$C$444/'Série - IPCA'!$C$411","v":0},{"$f":"G1503*'Série - IPCA'!$C$444/'Série - IPCA'!$C$424","v":0},{"$f":"H1503*'Série - IPCA'!$C$444/'Série - IPCA'!$C$437","v":0},474.58529120171244,"Despesas Gerais e Administratias","S",null,null,"ENCARGOS DE GESTÃO","FIXO","TRIBUTOS_E_TAXAS_FISCAIS",4200,"GERÊNCIA FINANCEIRA","Despesas Gerais e Administratias364,612"]
[null,null,null,739.37,0,0,0,0,147.874,{"$f":"D1504*'Série - IPCA'!$C$444/'Série - IPCA'!$C$385","v":962.37679164649023},{"$f":"E1504*'Série - IPCA'!$C$444/'Série - IPCA'!$C$398","v":0},{"$f":"F1504*'Série - IPCA'!$C$444/'Série - IPCA'!$C$411","v":0},{"$f":"G1504*'Série - IPCA'!$C$444/'Série - IPCA'!$C$424","v":0},{"$f":"H1504*'Série - IPCA'!$C$444/'Série - IPCA'!$C$437","v":0},192.47535832929805,"Custos","N","SIM","NÃO","OPEX","FIXO","DESPESAS_GERAIS",5200,"GERÊNCIA DE OPERAÇÕES","Custos147,874"]
[null,null,null,56.95,0,0,0,0,11.39,{"$f":"D1505*'Série - IPCA'!$C$444/'Série - IPCA'!$C$385","v":74.127105893216694},{"$f":"E1505*'Série - IPCA'!$C$444/'Série - IPCA'!$C$398","v":0},{"$f":"F1505*'Série - IPCA'!$C$444/'Série - IPCA'!$C$411","v":0},{"$f":"G1505*'Série - IPCA'!$C$444/'Série - IPCA'!$C$424","v":0},{"$f":"H1505*'Série - IPCA'!$C$444/'Série - IPCA'!$C$437","v":0},14.825421178643339,"Despesas com Vendas","N","SIM","NÃO","ENCARGOS DE COMERCIALIZAÇÃO","FIXO","DESPESAS_GERAIS",5300,"GERÊNCIA COMERCIAL","Despesas com Vendas11,39"]
[null,null,null,24.48,0,0,0,0,4.8959999999999999,{"$f":"D1506*'Série - IPCA'!$C$444/'Série - IPCA'!$C$385","v":31.863591786934936},{"$f":"E1506*'Série - IPCA'!$C$444/'Série - IPCA'!$C$398","v":0},{"$f":"F1506*'Série - IPCA'!$C$444/'Série - IPCA'!$C$411","v":0},{"$f":"G1506*'Série - IPCA'!$C$444/'Série - IPCA'!$C$424","v":0},{"$f":"H1506*'Série - IPCA'!$C$444/'Série - IPCA'!$C$437","v":0},6.3727183573869874,"Despesas com Vendas","N","SIM","NÃO","ENCARGOS DE COMERCIALIZAÇÃO","FIXO","DESPESAS_GERAIS",5400,"GERÊNCIA COMERCIAL (inativo)","Despesas com Vendas4,896"]
[null,null,null,19.55,0,0,0,0,3.91,{"$f":"D1507*'Série - IPCA'!$C$444/'Série - IPCA'!$C$385","v":25.446618440954985},{"$f":"E1507*'Série - IPCA'!$C$444/'Série - IPCA'!$C$398","v":0},{"$f":"F1507*'Série - IPCA'!$C$444/'Série - IPCA'!$C$411","v":0},{"$f":"G1507*'Série - IPCA'!$C$444/'Série - IPCA'!$C$424","v":0},{"$f":"H1507*'Série - IPCA'!$C$444/'Série - IPCA'!$C$437","v":0},5.0893236881909969,"Despesas Gerais e Administratias","N","SIM","NÃO","ENCARGOS DE GESTÃO","FIXO","DESPESAS_GERAIS",1001,"CONSELHO DE ADMINISTRAÇÃO","Despesas Gerais e Administratias3,91"]
[null,null,null,354.99,0,0,0,0,70.998000000000005,{"$f":"D1508*'Série - IPCA'!$C$444/'Série - IPCA'!$C$385","v":462.06112942990336},{"$f":"E1508*'Série - IPCA'!$C$444/'Série - IPCA'!$C$398","v":0},{"$f":"F1508*'Série - IPCA'!$C$444/'Série - IPCA'!$C$411","v":0},{"$f":"G1508*'Série - IPCA'!$C$444/'Série - IPCA'!$C$424","v":0},{"$f":"H1508*'Série - IPCA'!$C$444/'Série - IPCA'!$C$437","v":0},92.412225885980675,"Despesas Gerais e Administratias","N","SIM","NÃO","ENCARGOS DE GESTÃO","FIXO","DESPESAS_GERAIS",2200,"DIRETORIA COLEGIADA - PRESIDÊNCIA","Despesas Gerais e Administratias70,998"]
[null,null,null,48.11,0,0,0,0,9.6219999999999999,{"$f":"D1509*'Série - IPCA'!$C$444/'Série - IPCA'!$C$385","v":62.620808859045738},{"$f":"E1509*'Série - IPCA'!$C$444/'Série - IPCA'!$C$398","v":0},{"$f":"F1509*'Série - IPCA'!$C$444/'Série - IPCA'!$C$411","v":0},{"$f":"G1509*'Série - IPCA'!$C$444/'Série - IPCA'!$C$424","v":0},{"$f":"H1509*'Série - IPCA'!$C$444/'Série - IPCA'!$C$437","v":0},12.524161771809148,"Despesas Gerais e Administratias","N","SIM","NÃO","ENCARGOS DE GESTÃO","FIXO","DESPESAS_GERAIS",2400,"DIRETORIA COLEGIADA - DTC","Despesas Gerais e Administratias9,622"]
[null,null,null,44.88,0,0,0,0,8.9760000000000009,{"$f":"D1510*'Série - IPCA'!$C$444/'Série - IPCA'!$C$385","v":58.416584942714053},{"$f":"E1510*'Série - IPCA'!$C$444/'Série - IPCA'!$C$398","v":0},{"$f":"F1510*'Série - IPCA'!$C$444/'Série - IPCA'!$C$411","v":0},{"$f":"G1510*'Série - IPCA'!$C$444/'Série - IPCA'!$C$424","v":0},{"$f":"H1510*'Série - IPCA'!$C$444/'Série - IPCA'!$C$437","v":0},11.68331698854281,"Despesas Gerais e Administratias","N","SIM","NÃO","ENCARGOS DE GESTÃO","FIXO","DESPESAS_GERAIS",3100,"SMS","Despesas Gerais e Administratias8,976"]
[null,null,null,274.55,0,0,0,0,54.910000000000004,{"$f":"D1511*'Série - IPCA'!$C$444/'Série - IPCA'!$C$385","v":357.35903288819389},{"$f":"E1511*'Série - IPCA'!$C$444/'Série - IPCA'!$C$398","v":0},{"$f":"F1511*'Série - IPCA'!$C$444/'Série - IPCA'!$C$411","v":0},{"$f":"G1511*'Série - IPCA'!$C$444/'Série - IPCA'!$C$424","v":0},{"$f":"H1511*'Série - IPCA'!$C$444/'Série - IPCA'!$C$437","v":0},71.471806577638773,"Despesas Gerais e Administratias","N","SIM","NÃO","ENCARGOS DE GESTÃO","FIXO","DESPESAS_GERAIS",3200,"GERÊNCIA DE PLANEJAMENTO E MEIO AMBIENTE","Despesas Gerais e Administratias54,91"]
[null,null,null,282.70999999999998,0,0,0,0,56.541999999999994,{"$f":"D1512*'Série - IPCA'!$C$444/'Série - IPCA'!$C$385","v":367.98023015050552},{"$f":"E1512*'Série - IPCA'!$C$444/'Série - IPCA'!$C$398","v":0},{"$f":"F1512*'Série - IPCA'!$C$444/'Série - IPCA'!$C$411","v":0},{"$f":"G1512*'Série - IPCA'!$C$444/'Série - IPCA'!$C$424","v":0},{"$f":"H1512*'Série - IPCA'!$C$444/'Série - IPCA'!$C$437","v":0},73.596046030101107,"Despesas Gerais e Administratias","N","SIM","NÃO","ENCARGOS DE GESTÃO","FIXO","DESPESAS_GERAIS",3400,"MARKETING","Despesas Gerais e Administratias56,542"]
[null,null,null,0,34497.480000000003,58249.8,55287.54,52121.42,40031.248,{"$f":"D1513*'Série - IPCA'!$C$444/'Série - IPCA'!$C$385","v":0},{"$f":"E1513*'Série - IPCA'!$C$444/'Série - IPCA'!$C$398","v":42961.739130251677},{"$f":"F1513*'Série - IPCA'!$C$444/'Série - IPCA'!$C$411","v":65910.640860982239},{"$f":"G1513*'Série - IPCA'!$C$444/'Série - IPCA'!$C$424","v":59137.626574359965},{"$f":"H1513*'Série - IPCA'!$C$444/'Série - IPCA'!$C$437","v":53288.464661014601},44259.694245321698,"Despesas Gerais e Administratias","S",null,null,"ENCARGOS DE GESTÃO","FIXO","TRIBUTOS_E_TAXAS_FISCAIS",4200,"GERÊNCIA FINANCEIRA","Despesas Gerais e Administratias40031,248"]
[null,null,null,0,2367.17,954.76,948.47,507.87,955.65400000000011,{"$f":"D1514*'Série - IPCA'!$C$444/'Série - IPCA'!$C$385","v":0},{"$f":"E1514*'Série - IPCA'!$C$444/'Série - IPCA'!$C$398","v":2947.9759106160177},{"$f":"F1514*'Série - IPCA'!$C$444/'Série - IPCA'!$C$411","v":1080.3272022982294},{"$f":"G1514*'Série - IPCA'!$C$444/'Série - IPCA'!$C$424","v":1014.5190883331614},{"$f":"H1514*'Série - IPCA'!$C$444/'Série - IPCA'!$C$437","v":519.24165817795222},1112.4127718850723,"Despesas Gerais e Administratias","S",null,null,"ENCARGOS DE GESTÃO","FIXO","TRIBUTOS_E_TAXAS_FISCAIS",4200,"GERÊNCIA FINANCEIRA","Despesas Gerais e Administratias955,654"]
[null,null,null,0,1083.6500000000001,3273.73,3798.55,4100.6400000000003,2451.3139999999999,{"$f":"D1515*'Série - IPCA'!$C$444/'Série - IPCA'!$C$385","v":0},{"$f":"E1515*'Série - IPCA'!$C$444/'Série - IPCA'!$C$398","v":1349.5330270065301},{"$f":"F1515*'Série - IPCA'!$C$444/'Série - IPCA'!$C$411","v":3704.2812560012808},{"$f":"G1515*'Série - IPCA'!$C$444/'Série - IPCA'!$C$424","v":4063.0715605005221},{"$f":"H1515*'Série - IPCA'!$C$444/'Série - IPCA'!$C$437","v":4192.4569539268678},2661.8685594870403,"Despesas Gerais e Administratias","S",null,null,"ENCARGOS DE GESTÃO","FIXO","TRIBUTOS_E_TAXAS_FISCAIS",4200,"GERÊNCIA FINANCEIRA","Despesas Gerais e Administratias2451,314"]
[null,null,null,0,27.38,13.56,2078.0300000000002,2904.39,1004.6720000000001,{"$f":"D1516*'Série - IPCA'!$C$444/'Série - IPCA'!$C$385","v":0},{"$f":"E1516*'Série - IPCA'!$C$444/'Série - IPCA'!$C$398","v":34.097923018907203},{"$f":"F1516*'Série - IPCA'!$C$444/'Série - IPCA'!$C$411","v":15.343370965649996},{"$f":"G1516*'Série - IPCA'!$C$444/'Série - IPCA'!$C$424","v":2222.7388332039595},{"$f":"H1516*'Série - IPCA'!$C$444/'Série - IPCA'!$C$437","v":2969.4218591282465},1048.3203972633526,"Despesas Gerais e Administratias","S",null,null,"ENCARGOS DE GESTÃO","FIXO","TRIBUTOS_E_TAXAS_FISCAIS",4200,"GERÊNCIA FINANCEIRA","Despesas Gerais e Administratias1004,672"]
[null,null,null,0,3223.78,27595.58,72776.679999999993,82311.7,37181.547999999995,{"$f":"D1517*'Série - IPCA'!$C$444/'Série - IPCA'!$C$385","v":0},{"$f":"E1517*'Série - IPCA'!$C$444/'Série - IPCA'!$C$398","v":4014.7626833415875},{"$f":"F1517*'Série - IPCA'!$C$444/'Série - IPCA'!$C$411","v":31224.868801789951},{"$f":"G1517*'Série - IPCA'!$C$444/'Série - IPCA'!$C$424","v":77844.666721682515},{"$f":"H1517*'Série - IPCA'!$C$444/'Série - IPCA'!$C$437","v":84154.731713718371},39447.805984106482,"Despesas Gerais e Administratias","S",null,null,"ENCARGOS DE GESTÃO","FIXO","TRIBUTOS_E_TAXAS_FISCAIS",4200,"GERÊNCIA FINANCEIRA","Despesas Gerais e Administratias37181,548"]
[null,null,null,0,1965.92,0,0,0,393.18400000000003,{"$f":"D1518*'Série - IPCA'!$C$444/'Série - IPCA'!$C$385","v":0},{"$f":"E1518*'Série - IPCA'!$C$444/'Série - IPCA'!$C$398","v":2448.2757056731207},{"$f":"F1518*'Série - IPCA'!$C$444/'Série - IPCA'!$C$411","v":0},{"$f":"G1518*'Série - IPCA'!$C$444/'Série - IPCA'!$C$424","v":0},{"$f":"H1518*'Série - IPCA'!$C$444/'Série - IPCA'!$C$437","v":0},489.65514113462416,"Despesas Gerais e Administratias","S",null,null,"ENCARGOS DE GESTÃO","FIXO","TRIBUTOS_E_TAXAS_FISCAIS",4200,"GERÊNCIA FINANCEIRA","Despesas Gerais e Administratias393,184"]
[null,null,null,0,22212.87,5139.8900000000003,14095.12,54648.61,19219.297999999999,{"$f":"D1519*'Série - IPCA'!$C$444/'Série - IPCA'!$C$385","v":0},{"$f":"E1519*'Série - IPCA'!$C$444/'Série - IPCA'!$C$398","v":27662.992377245915},{"$f":"F1519*'Série - IPCA'!$C$444/'Série - IPCA'!$C$411","v":5815.8730820527117},{"$f":"G1519*'Série - IPCA'!$C$444/'Série - IPCA'!$C$424","v":15076.669048411137},{"$f":"H1519*'Série - IPCA'!$C$444/'Série - IPCA'!$C$437","v":55872.240678756811},20885.555037293314,"Despesas Gerais e Administratias","S",null,null,"ENCARGOS DE GESTÃO","FIXO","TRIBUTOS_E_TAXAS_FISCAIS",4200,"GERÊNCIA FINANCEIRA","Despesas Gerais e Administratias19219,298"]
[null,null,null,0,97.1,0,4031.2,700.45,965.75,{"$f":"D1520*'Série - IPCA'!$C$444/'Série - IPCA'!$C$385","v":0},{"$f":"E1520*'Série - IPCA'!$C$444/'Série - IPCA'!$C$398","v":120.92433619926548},{"$f":"F1520*'Série - IPCA'!$C$444/'Série - IPCA'!$C$411","v":0},{"$f":"G1520*'Série - IPCA'!$C$444/'Série - IPCA'!$C$424","v":4311.9227270115452},{"$f":"H1520*'Série - IPCA'!$C$444/'Série - IPCA'!$C$437","v":716.13369458866771},1029.7961515598959,"Despesas Gerais e Administratias","S",null,null,"ENCARGOS DE GESTÃO","FIXO","TRIBUTOS_E_TAXAS_FISCAIS",4200,"GERÊNCIA FINANCEIRA","Despesas Gerais e Administratias965,75"]
[null,null,null,0,0,0,0,7853.29,1570.6579999999999,{"$f":"D1521*'Série - IPCA'!$C$444/'Série - IPCA'!$C$385","v":0},{"$f":"E1521*'Série - IPCA'!$C$444/'Série - IPCA'!$C$398","v":0},{"$f":"F1521*'Série - IPCA'!$C$444/'Série - IPCA'!$C$411","v":0},{"$f":"G1521*'Série - IPCA'!$C$444/'Série - IPCA'!$C$424","v":0},{"$f":"H1521*'Série - IPCA'!$C$444/'Série - IPCA'!$C$437","v":8029.1321041847923},1605.8264208369585,"Despesas Gerais e Administratias","S",null,null,"ENCARGOS DE GESTÃO","FIXO","TRIBUTOS_E_TAXAS_FISCAIS",4200,"GERÊNCIA FINANCEIRA","Despesas Gerais e Administratias1570,658"]
[null,null,null,0,2547.23,2999.25,10972.07,11039.54,5511.6180000000004,{"$f":"D1522*'Série - IPCA'!$C$444/'Série - IPCA'!$C$385","v":0},{"$f":"E1522*'Série - IPCA'!$C$444/'Série - IPCA'!$C$398","v":3172.2152100602993},{"$f":"F1522*'Série - IPCA'!$C$444/'Série - IPCA'!$C$411","v":3393.7024608204829},{"$f":"G1522*'Série - IPCA'!$C$444/'Série - IPCA'!$C$424","v":11736.137625362562},{"$f":"H1522*'Série - IPCA'!$C$444/'Série - IPCA'!$C$437","v":11286.725057833366},5917.7560708153414,"Despesas Gerais e Administratias","S",null,null,"ENCARGOS DE GESTÃO","FIXO","TRIBUTOS_E_TAXAS_FISCAIS",4200,"GERÊNCIA FINANCEIRA","Despesas Gerais e Administratias5511,618"]
[null,null,null,0,597.02,0,0,0,119.404,{"$f":"D1523*'Série - IPCA'!$C$444/'Série - IPCA'!$C$385","v":0},{"$f":"E1523*'Série - IPCA'!$C$444/'Série - IPCA'!$C$398","v":743.50409060438187},{"$f":"F1523*'Série - IPCA'!$C$444/'Série - IPCA'!$C$411","v":0},{"$f":"G1523*'Série - IPCA'!$C$444/'Série - IPCA'!$C$424","v":0},{"$f":"H1523*'Série - IPCA'!$C$444/'Série - IPCA'!$C$437","v":0},148.70081812087636,"Despesas Gerais e Administratias","S",null,null,"ENCARGOS DE GESTÃO","FIXO","TRIBUTOS_E_TAXAS_FISCAIS",4200,"GERÊNCIA FINANCEIRA","Despesas Gerais e Administratias119,404"]
[null,null,null,0,40676.379999999997,77633.64,289240.46999999997,134667.78,108443.65400000001,{"$f":"D1524*'Série - IPCA'!$C$444/'Série - IPCA'!$C$385","v":0},{"$f":"E1524*'Série - IPCA'!$C$444/'Série - IPCA'!$C$398","v":50656.686410804112},{"$f":"F1524*'Série - IPCA'!$C$444/'Série - IPCA'!$C$411","v":87843.785983312991},{"$f":"G1524*'Série - IPCA'!$C$444/'Série - IPCA'!$C$424","v":309382.45588522049},{"$f":"H1524*'Série - IPCA'!$C$444/'Série - IPCA'!$C$437","v":137683.11061953584},117113.20777977468,"Despesas Gerais e Administratias","S",null,null,"ENCARGOS DE GESTÃO","FIXO","TRIBUTOS_E_TAXAS_FISCAIS",4200,"GERÊNCIA FINANCEIRA","Despesas Gerais e Administratias108443,654"]
[null,null,null,0,7665.62,5300.07,6425.7,10351.290000000001,5948.5360000000001,{"$f":"D1525*'Série - IPCA'!$C$444/'Série - IPCA'!$C$385","v":0},{"$f":"E1525*'Série - IPCA'!$C$444/'Série - IPCA'!$C$398","v":9546.4470654563702},{"$f":"F1525*'Série - IPCA'!$C$444/'Série - IPCA'!$C$411","v":5997.1194803770331},{"$f":"G1525*'Série - IPCA'!$C$444/'Série - IPCA'!$C$424","v":6873.1697427461013},{"$f":"H1525*'Série - IPCA'!$C$444/'Série - IPCA'!$C$437","v":10583.064532027598},6599.9601641214203,"Despesas Gerais e Administratias","S",null,null,"ENCARGOS DE GESTÃO","FIXO","TRIBUTOS_E_TAXAS_FISCAIS",4200,"GERÊNCIA FINANCEIRA","Despesas Gerais e Administratias5948,536"]
[null,null,null,0,953.94,1117.5999999999999,1218.7,1023.04,862.65599999999995,{"$f":"D1526*'Série - IPCA'!$C$444/'Série - IPCA'!$C$385","v":0},{"$f":"E1526*'Série - IPCA'!$C$444/'Série - IPCA'!$C$398","v":1187.9975414410642},{"$f":"F1526*'Série - IPCA'!$C$444/'Série - IPCA'!$C$411","v":1264.5834359299729},{"$f":"G1526*'Série - IPCA'!$C$444/'Série - IPCA'!$C$424","v":1303.5672324392167},{"$f":"H1526*'Série - IPCA'!$C$444/'Série - IPCA'!$C$437","v":1045.946769807967},960.41899592364427,"Despesas Gerais e Administratias","S",null,null,"ENCARGOS DE GESTÃO","FIXO","TRIBUTOS_E_TAXAS_FISCAIS",4200,"GERÊNCIA FINANCEIRA","Despesas Gerais e Administratias862,656"]
[null,null,null,0,2776.87,3717.84,2878.19,2750.55,2424.69,{"$f":"D1527*'Série - IPCA'!$C$444/'Série - IPCA'!$C$385","v":0},{"$f":"E1527*'Série - IPCA'!$C$444/'Série - IPCA'!$C$398","v":3458.1993971334127},{"$f":"F1527*'Série - IPCA'!$C$444/'Série - IPCA'!$C$411","v":4206.7992854669756},{"$f":"G1527*'Série - IPCA'!$C$444/'Série - IPCA'!$C$424","v":3078.6199825504459},{"$f":"H1527*'Série - IPCA'!$C$444/'Série - IPCA'!$C$437","v":2812.1372455576557},2711.151182141698,"Despesas Gerais e Administratias","S",null,null,"ENCARGOS DE GESTÃO","FIXO","TRIBUTOS_E_TAXAS_FISCAIS",4200,"GERÊNCIA FINANCEIRA","Despesas Gerais e Administratias2424,69"]
[null,null,null,0,397.89,302.74,790.8,1008.64,500.01399999999995,{"$f":"D1528*'Série - IPCA'!$C$444/'Série - IPCA'!$C$385","v":0},{"$f":"E1528*'Série - IPCA'!$C$444/'Série - IPCA'!$C$398","v":495.51579948842169},{"$f":"F1528*'Série - IPCA'!$C$444/'Série - IPCA'!$C$411","v":342.55546652956343},{"$f":"G1528*'Série - IPCA'!$C$444/'Série - IPCA'!$C$424","v":845.86934226055007},{"$f":"H1528*'Série - IPCA'!$C$444/'Série - IPCA'!$C$437","v":1031.2243410806107},543.03298987182916,"Despesas Gerais e Administratias","S",null,null,"ENCARGOS DE GESTÃO","FIXO","TRIBUTOS_E_TAXAS_FISCAIS",4200,"GERÊNCIA FINANCEIRA","Despesas Gerais e Administratias500,014"]
[null,null,null,0,0,9.36,1477.12,516.12,400.52,{"$f":"D1529*'Série - IPCA'!$C$444/'Série - IPCA'!$C$385","v":0},{"$f":"E1529*'Série - IPCA'!$C$444/'Série - IPCA'!$C$398","v":0},{"$f":"F1529*'Série - IPCA'!$C$444/'Série - IPCA'!$C$411","v":10.590999427616811},{"$f":"G1529*'Série - IPCA'!$C$444/'Série - IPCA'!$C$424","v":1579.982957561841},{"$f":"H1529*'Série - IPCA'!$C$444/'Série - IPCA'!$C$437","v":527.67638296966686},423.65006799182493,"Despesas Gerais e Administratias","S",null,null,"ENCARGOS DE GESTÃO","FIXO","TRIBUTOS_E_TAXAS_FISCAIS",4200,"GERÊNCIA FINANCEIRA","Despesas Gerais e Administratias400,52"]
[null,null,null,0,0,0.04,0,0,8.0000000000000002E-3,{"$f":"D1530*'Série - IPCA'!$C$444/'Série - IPCA'!$C$385","v":0},{"$f":"E1530*'Série - IPCA'!$C$444/'Série - IPCA'!$C$398","v":0},{"$f":"F1530*'Série - IPCA'!$C$444/'Série - IPCA'!$C$411","v":4.5260681314601751E-2},{"$f":"G1530*'Série - IPCA'!$C$444/'Série - IPCA'!$C$424","v":0},{"$f":"H1530*'Série - IPCA'!$C$444/'Série - IPCA'!$C$437","v":0},9.052136262920351E-3,"Despesas Gerais e Administratias","S",null,null,"ENCARGOS DE GESTÃO","FIXO","TRIBUTOS_E_TAXAS_FISCAIS",4200,"GERÊNCIA FINANCEIRA","Despesas Gerais e Administratias0,008"]
[null,null,null,0,0,0,135.08000000000001,411.52,109.32000000000001,{"$f":"D1531*'Série - IPCA'!$C$444/'Série - IPCA'!$C$385","v":0},{"$f":"E1531*'Série - IPCA'!$C$444/'Série - IPCA'!$C$398","v":0},{"$f":"F1531*'Série - IPCA'!$C$444/'Série - IPCA'!$C$411","v":0},{"$f":"G1531*'Série - IPCA'!$C$444/'Série - IPCA'!$C$424","v":144.48663474020628},{"$f":"H1531*'Série - IPCA'!$C$444/'Série - IPCA'!$C$437","v":420.73429651956388},113.04418625195403,"Despesas Gerais e Administratias","S",null,null,"ENCARGOS DE GESTÃO","FIXO","TRIBUTOS_E_TAXAS_FISCAIS",4200,"GERÊNCIA FINANCEIRA","Despesas Gerais e Administratias109,32"]
[null,null,null,0,95.65,34.44,4.01,3.87,27.594000000000001,{"$f":"D1532*'Série - IPCA'!$C$444/'Série - IPCA'!$C$385","v":0},{"$f":"E1532*'Série - IPCA'!$C$444/'Série - IPCA'!$C$398","v":119.1185659882569},{"$f":"F1532*'Série - IPCA'!$C$444/'Série - IPCA'!$C$411","v":38.969446611872108},{"$f":"G1532*'Série - IPCA'!$C$444/'Série - IPCA'!$C$424","v":4.2892464118169018},{"$f":"H1532*'Série - IPCA'!$C$444/'Série - IPCA'!$C$437","v":3.9566527204770416},33.26678234648459,"Despesas Gerais e Administratias","S",null,null,"ENCARGOS DE GESTÃO","FIXO","TRIBUTOS_E_TAXAS_FISCAIS",4200,"GERÊNCIA FINANCEIRA","Despesas Gerais e Administratias27,594"]
[null,null,null,0,6.89,26.61,47.44,7.63,17.713999999999999,{"$f":"D1533*'Série - IPCA'!$C$444/'Série - IPCA'!$C$385","v":0},{"$f":"E1533*'Série - IPCA'!$C$444/'Série - IPCA'!$C$398","v":8.5805218992063779},{"$f":"F1533*'Série - IPCA'!$C$444/'Série - IPCA'!$C$411","v":30.10966824453882},{"$f":"G1533*'Série - IPCA'!$C$444/'Série - IPCA'!$C$424","v":50.743603435559564},{"$f":"H1533*'Série - IPCA'!$C$444/'Série - IPCA'!$C$437","v":7.8008424437312218},19.446927204607199,"Despesas Gerais e Administratias","S",null,null,"ENCARGOS DE GESTÃO","FIXO","TRIBUTOS_E_TAXAS_FISCAIS",4200,"GERÊNCIA FINANCEIRA","Despesas Gerais e Administratias17,714"]
[null,null,null,0,0,11.31,74.41,254.16,67.975999999999999,{"$f":"D1534*'Série - IPCA'!$C$444/'Série - IPCA'!$C$385","v":0},{"$f":"E1534*'Série - IPCA'!$C$444/'Série - IPCA'!$C$398","v":0},{"$f":"F1534*'Série - IPCA'!$C$444/'Série - IPCA'!$C$411","v":12.797457641703648},{"$f":"G1534*'Série - IPCA'!$C$444/'Série - IPCA'!$C$424","v":79.591727058178478},{"$f":"H1534*'Série - IPCA'!$C$444/'Série - IPCA'!$C$437","v":259.85086703784106},70.448010347544638,"Despesas Gerais e Administratias","S",null,null,"ENCARGOS DE GESTÃO","FIXO","TRIBUTOS_E_TAXAS_FISCAIS",4200,"GERÊNCIA FINANCEIRA","Despesas Gerais e Administratias67,976"]
[null,null,null,0,12142.17,0,0,0,2428.4340000000002,{"$f":"D1535*'Série - IPCA'!$C$444/'Série - IPCA'!$C$385","v":0},{"$f":"E1535*'Série - IPCA'!$C$444/'Série - IPCA'!$C$398","v":15121.357850346401},{"$f":"F1535*'Série - IPCA'!$C$444/'Série - IPCA'!$C$411","v":0},{"$f":"G1535*'Série - IPCA'!$C$444/'Série - IPCA'!$C$424","v":0},{"$f":"H1535*'Série - IPCA'!$C$444/'Série - IPCA'!$C$437","v":0},3024.2715700692802,"Despesas Gerais e Administratias","S",null,null,"ENCARGOS DE GESTÃO","FIXO","TRIBUTOS_E_TAXAS_FISCAIS",4200,"GERÊNCIA FINANCEIRA","Despesas Gerais e Administratias2428,434"]
[null,null,null,0,-126300.63,-367237.43,-502560.38,-597023.92000000004,-318624.47199999995,{"$f":"D1536*'Série - IPCA'!$C$444/'Série - IPCA'!$C$385","v":0},{"$f":"E1536*'Série - IPCA'!$C$444/'Série - IPCA'!$C$398","v":-157289.59674870275},{"$f":"F1536*'Série - IPCA'!$C$444/'Série - IPCA'!$C$411","v":-415535.40715058427},{"$f":"G1536*'Série - IPCA'!$C$444/'Série - IPCA'!$C$424","v":-537557.43307639379},{"$f":"H1536*'Série - IPCA'!$C$444/'Série - IPCA'!$C$437","v":-610391.81324492709},-344154.85004412162,"Despesas Gerais e Administratias","S",null,null,"ENCARGOS DE GESTÃO","FIXO","TRIBUTOS_E_TAXAS_FISCAIS",4200,"GERÊNCIA FINANCEIRA","Despesas Gerais e Administratias-318624,472"]
[null,null,null,3252.55,0,0,0,0,650.51,{"$f":"D1537*'Série - IPCA'!$C$444/'Série - IPCA'!$C$385","v":4233.5753867073217},{"$f":"E1537*'Série - IPCA'!$C$444/'Série - IPCA'!$C$398","v":0},{"$f":"F1537*'Série - IPCA'!$C$444/'Série - IPCA'!$C$411","v":0},{"$f":"G1537*'Série - IPCA'!$C$444/'Série - IPCA'!$C$424","v":0},{"$f":"H1537*'Série - IPCA'!$C$444/'Série - IPCA'!$C$437","v":0},846.71507734146439,"Despesas Gerais e Administratias","S",null,null,"ENCARGOS DE GESTÃO","FIXO","TRIBUTOS_E_TAXAS_FISCAIS",4200,"GERÊNCIA FINANCEIRA","Despesas Gerais e Administratias650,51"]
[null,null,null,20386.66,0,0,0,0,4077.3319999999999,{"$f":"D1538*'Série - IPCA'!$C$444/'Série - IPCA'!$C$385","v":26535.629580842935},{"$f":"E1538*'Série - IPCA'!$C$444/'Série - IPCA'!$C$398","v":0},{"$f":"F1538*'Série - IPCA'!$C$444/'Série - IPCA'!$C$411","v":0},{"$f":"G1538*'Série - IPCA'!$C$444/'Série - IPCA'!$C$424","v":0},{"$f":"H1538*'Série - IPCA'!$C$444/'Série - IPCA'!$C$437","v":0},5307.1259161685866,"Despesas Gerais e Administratias","S",null,null,"ENCARGOS DE GESTÃO","FIXO","TRIBUTOS_E_TAXAS_FISCAIS",4200,"GERÊNCIA FINANCEIRA","Despesas Gerais e Administratias4077,332"]
[null,null,null,1787.39,0,0,0,0,357.47800000000001,{"$f":"D1539*'Série - IPCA'!$C$444/'Série - IPCA'!$C$385","v":2326.4977665052957},{"$f":"E1539*'Série - IPCA'!$C$444/'Série - IPCA'!$C$398","v":0},{"$f":"F1539*'Série - IPCA'!$C$444/'Série - IPCA'!$C$411","v":0},{"$f":"G1539*'Série - IPCA'!$C$444/'Série - IPCA'!$C$424","v":0},{"$f":"H1539*'Série - IPCA'!$C$444/'Série - IPCA'!$C$437","v":0},465.29955330105912,"Despesas Gerais e Administratias","S",null,null,"ENCARGOS DE GESTÃO","FIXO","TRIBUTOS_E_TAXAS_FISCAIS",4200,"GERÊNCIA FINANCEIRA","Despesas Gerais e Administratias357,478"]
[null,null,null,2478.6799999999998,0,0,0,0,495.73599999999999,{"$f":"D1540*'Série - IPCA'!$C$444/'Série - IPCA'!$C$385","v":3226.2927978120865},{"$f":"E1540*'Série - IPCA'!$C$444/'Série - IPCA'!$C$398","v":0},{"$f":"F1540*'Série - IPCA'!$C$444/'Série - IPCA'!$C$411","v":0},{"$f":"G1540*'Série - IPCA'!$C$444/'Série - IPCA'!$C$424","v":0},{"$f":"H1540*'Série - IPCA'!$C$444/'Série - IPCA'!$C$437","v":0},645.2585595624173,"Despesas Gerais e Administratias","S",null,null,"ENCARGOS DE GESTÃO","FIXO","TRIBUTOS_E_TAXAS_FISCAIS",4200,"GERÊNCIA FINANCEIRA","Despesas Gerais e Administratias495,736"]
[null,null,null,153.85,0,0,0,0,{"$f":"AVERAGE(D1541:H1541)","v":30.77},{"$f":"D1541*'Série - IPCA'!$C$444/'Série - IPCA'!$C$385","v":200.25382338316749},{"$f":"E1541*'Série - IPCA'!$C$444/'Série - IPCA'!$C$398","v":0},{"$f":"F1541*'Série - IPCA'!$C$444/'Série - IPCA'!$C$411","v":0},{"$f":"G1541*'Série - IPCA'!$C$444/'Série - IPCA'!$C$424","v":0},{"$f":"H1541*'Série - IPCA'!$C$444/'Série - IPCA'!$C$437","v":0},{"$f":"AVERAGE(J1541:N1541)","v":40.050764676633499},"Despesas Gerais e Administratias","S",null,null,"ENCARGOS DE GESTÃO","FIXO","TRIBUTOS_E_TAXAS_FISCAIS",4200,"GERÊNCIA FINANCEIRA",{"$f":"B1541&C1541&P1541&I1541","v":"Despesas Gerais e Administratias30,77"}]
[null,null,null,11190.14,0,0,0,0,2238.0279999999998,{"$f":"D1542*'Série - IPCA'!$C$444/'Série - IPCA'!$C$385","v":14565.279942755395},{"$f":"E1542*'Série - IPCA'!$C$444/'Série - IPCA'!$C$398","v":0},{"$f":"F1542*'Série - IPCA'!$C$444/'Série - IPCA'!$C$411","v":0},{"$f":"G1542*'Série - IPCA'!$C$444/'Série - IPCA'!$C$424","v":0},{"$f":"H1542*'Série - IPCA'!$C$444/'Série - IPCA'!$C$437","v":0},2913.0559885510788,"Despesas Gerais e Administratias","S",null,null,"ENCARGOS DE GESTÃO","FIXO","TRIBUTOS_E_TAXAS_FISCAIS",4200,"GERÊNCIA FINANCEIRA","Despesas Gerais e Administratias2238,028"]
[null,null,null,88657.42,0,0,0,0,17731.484,{"$f":"D1543*'Série - IPCA'!$C$444/'Série - IPCA'!$C$385","v":115398.0326700507},{"$f":"E1543*'Série - IPCA'!$C$444/'Série - IPCA'!$C$398","v":0},{"$f":"F1543*'Série - IPCA'!$C$444/'Série - IPCA'!$C$411","v":0},{"$f":"G1543*'Série - IPCA'!$C$444/'Série - IPCA'!$C$424","v":0},{"$f":"H1543*'Série - IPCA'!$C$444/'Série - IPCA'!$C$437","v":0},23079.606534010141,"Despesas Gerais e Administratias","S",null,null,"ENCARGOS DE GESTÃO","FIXO","TRIBUTOS_E_TAXAS_FISCAIS",4200,"GERÊNCIA FINANCEIRA","Despesas Gerais e Administratias17731,484"]
[null,null,null,5182.63,0,0,0,0,1036.5260000000001,{"$f":"D1544*'Série - IPCA'!$C$444/'Série - IPCA'!$C$385","v":6745.8009273987991},{"$f":"E1544*'Série - IPCA'!$C$444/'Série - IPCA'!$C$398","v":0},{"$f":"F1544*'Série - IPCA'!$C$444/'Série - IPCA'!$C$411","v":0},{"$f":"G1544*'Série - IPCA'!$C$444/'Série - IPCA'!$C$424","v":0},{"$f":"H1544*'Série - IPCA'!$C$444/'Série - IPCA'!$C$437","v":0},1349.1601854797598,"Despesas Gerais e Administratias","S",null,null,"ENCARGOS DE GESTÃO","FIXO","TRIBUTOS_E_TAXAS_FISCAIS",4200,"GERÊNCIA FINANCEIRA","Despesas Gerais e Administratias1036,526"]
[null,null,null,797.29,0,0,0,0,159.458,{"$f":"D1545*'Série - IPCA'!$C$444/'Série - IPCA'!$C$385","v":1037.7664663319179},{"$f":"E1545*'Série - IPCA'!$C$444/'Série - IPCA'!$C$398","v":0},{"$f":"F1545*'Série - IPCA'!$C$444/'Série - IPCA'!$C$411","v":0},{"$f":"G1545*'Série - IPCA'!$C$444/'Série - IPCA'!$C$424","v":0},{"$f":"H1545*'Série - IPCA'!$C$444/'Série - IPCA'!$C$437","v":0},207.55329326638358,"Despesas Gerais e Administratias","S",null,null,"ENCARGOS DE GESTÃO","FIXO","TRIBUTOS_E_TAXAS_FISCAIS",4200,"GERÊNCIA FINANCEIRA","Despesas Gerais e Administratias159,458"]
[null,null,null,6519.67,0,0,0,0,1303.934,{"$f":"D1546*'Série - IPCA'!$C$444/'Série - IPCA'!$C$385","v":8486.1153376440398},{"$f":"E1546*'Série - IPCA'!$C$444/'Série - IPCA'!$C$398","v":0},{"$f":"F1546*'Série - IPCA'!$C$444/'Série - IPCA'!$C$411","v":0},{"$f":"G1546*'Série - IPCA'!$C$444/'Série - IPCA'!$C$424","v":0},{"$f":"H1546*'Série - IPCA'!$C$444/'Série - IPCA'!$C$437","v":0},1697.2230675288079,"Despesas Gerais e Administratias","S",null,null,"ENCARGOS DE GESTÃO","FIXO","TRIBUTOS_E_TAXAS_FISCAIS",4200,"GERÊNCIA FINANCEIRA","Despesas Gerais e Administratias1303,934"]
[null,null,null,533.08000000000004,0,0,0,0,106.61600000000001,{"$f":"D1547*'Série - IPCA'!$C$444/'Série - IPCA'!$C$385","v":693.86615644523181},{"$f":"E1547*'Série - IPCA'!$C$444/'Série - IPCA'!$C$398","v":0},{"$f":"F1547*'Série - IPCA'!$C$444/'Série - IPCA'!$C$411","v":0},{"$f":"G1547*'Série - IPCA'!$C$444/'Série - IPCA'!$C$424","v":0},{"$f":"H1547*'Série - IPCA'!$C$444/'Série - IPCA'!$C$437","v":0},138.77323128904635,"Despesas Gerais e Administratias","S",null,null,"ENCARGOS DE GESTÃO","FIXO","TRIBUTOS_E_TAXAS_FISCAIS",4200,"GERÊNCIA FINANCEIRA","Despesas Gerais e Administratias106,616"]
[null,null,null,302353.76,0,0,0,0,60470.752,{"$f":"D1548*'Série - IPCA'!$C$444/'Série - IPCA'!$C$385","v":393548.88823059219},{"$f":"E1548*'Série - IPCA'!$C$444/'Série - IPCA'!$C$398","v":0},{"$f":"F1548*'Série - IPCA'!$C$444/'Série - IPCA'!$C$411","v":0},{"$f":"G1548*'Série - IPCA'!$C$444/'Série - IPCA'!$C$424","v":0},{"$f":"H1548*'Série - IPCA'!$C$444/'Série - IPCA'!$C$437","v":0},78709.77764611844,"Despesas Gerais e Administratias","S",null,null,"ENCARGOS DE GESTÃO","FIXO","TRIBUTOS_E_TAXAS_FISCAIS",4200,"GERÊNCIA FINANCEIRA","Despesas Gerais e Administratias60470,752"]
[null,null,null,6664.07,0,0,0,0,1332.8139999999999,{"$f":"D1549*'Série - IPCA'!$C$444/'Série - IPCA'!$C$385","v":8674.0688774329847},{"$f":"E1549*'Série - IPCA'!$C$444/'Série - IPCA'!$C$398","v":0},{"$f":"F1549*'Série - IPCA'!$C$444/'Série - IPCA'!$C$411","v":0},{"$f":"G1549*'Série - IPCA'!$C$444/'Série - IPCA'!$C$424","v":0},{"$f":"H1549*'Série - IPCA'!$C$444/'Série - IPCA'!$C$437","v":0},1734.813775486597,"Despesas Gerais e Administratias","S",null,null,"ENCARGOS DE GESTÃO","FIXO","TRIBUTOS_E_TAXAS_FISCAIS",4200,"GERÊNCIA FINANCEIRA","Despesas Gerais e Administratias1332,814"]
[null,null,null,756.84,0,0,0,0,151.36799999999999,{"$f":"D1550*'Série - IPCA'!$C$444/'Série - IPCA'!$C$385","v":985.11604607940512},{"$f":"E1550*'Série - IPCA'!$C$444/'Série - IPCA'!$C$398","v":0},{"$f":"F1550*'Série - IPCA'!$C$444/'Série - IPCA'!$C$411","v":0},{"$f":"G1550*'Série - IPCA'!$C$444/'Série - IPCA'!$C$424","v":0},{"$f":"H1550*'Série - IPCA'!$C$444/'Série - IPCA'!$C$437","v":0},197.02320921588102,"Despesas Gerais e Administratias","S",null,null,"ENCARGOS DE GESTÃO","FIXO","TRIBUTOS_E_TAXAS_FISCAIS",4200,"GERÊNCIA FINANCEIRA","Despesas Gerais e Administratias151,368"]
[null,null,null,2792.43,0,0,0,0,558.48599999999999,{"$f":"D1551*'Série - IPCA'!$C$444/'Série - IPCA'!$C$385","v":3634.6752293133463},{"$f":"E1551*'Série - IPCA'!$C$444/'Série - IPCA'!$C$398","v":0},{"$f":"F1551*'Série - IPCA'!$C$444/'Série - IPCA'!$C$411","v":0},{"$f":"G1551*'Série - IPCA'!$C$444/'Série - IPCA'!$C$424","v":0},{"$f":"H1551*'Série - IPCA'!$C$444/'Série - IPCA'!$C$437","v":0},726.93504586266931,"Despesas Gerais e Administratias","S",null,null,"ENCARGOS DE GESTÃO","FIXO","TRIBUTOS_E_TAXAS_FISCAIS",4200,"GERÊNCIA FINANCEIRA","Despesas Gerais e Administratias558,486"]
[null,null,null,611.27,0,0,0,0,122.25399999999999,{"$f":"D1552*'Série - IPCA'!$C$444/'Série - IPCA'!$C$385","v":795.63961403593612},{"$f":"E1552*'Série - IPCA'!$C$444/'Série - IPCA'!$C$398","v":0},{"$f":"F1552*'Série - IPCA'!$C$444/'Série - IPCA'!$C$411","v":0},{"$f":"G1552*'Série - IPCA'!$C$444/'Série - IPCA'!$C$424","v":0},{"$f":"H1552*'Série - IPCA'!$C$444/'Série - IPCA'!$C$437","v":0},159.12792280718722,"Despesas Gerais e Administratias","S",null,null,"ENCARGOS DE GESTÃO","FIXO","TRIBUTOS_E_TAXAS_FISCAIS",4200,"GERÊNCIA FINANCEIRA","Despesas Gerais e Administratias122,254"]
[null,null,null,89.29,0,0,0,0,17.858000000000001,{"$f":"D1553*'Série - IPCA'!$C$444/'Série - IPCA'!$C$385","v":116.22140974899594},{"$f":"E1553*'Série - IPCA'!$C$444/'Série - IPCA'!$C$398","v":0},{"$f":"F1553*'Série - IPCA'!$C$444/'Série - IPCA'!$C$411","v":0},{"$f":"G1553*'Série - IPCA'!$C$444/'Série - IPCA'!$C$424","v":0},{"$f":"H1553*'Série - IPCA'!$C$444/'Série - IPCA'!$C$437","v":0},23.244281949799188,"Despesas Gerais e Administratias","S",null,null,"ENCARGOS DE GESTÃO","FIXO","TRIBUTOS_E_TAXAS_FISCAIS",4200,"GERÊNCIA FINANCEIRA","Despesas Gerais e Administratias17,858"]
[null,null,null,78.69,0,0,0,0,15.738,{"$f":"D1554*'Série - IPCA'!$C$444/'Série - IPCA'!$C$385","v":102.42426624648324},{"$f":"E1554*'Série - IPCA'!$C$444/'Série - IPCA'!$C$398","v":0},{"$f":"F1554*'Série - IPCA'!$C$444/'Série - IPCA'!$C$411","v":0},{"$f":"G1554*'Série - IPCA'!$C$444/'Série - IPCA'!$C$424","v":0},{"$f":"H1554*'Série - IPCA'!$C$444/'Série - IPCA'!$C$437","v":0},20.484853249296648,"Despesas Gerais e Administratias","S",null,null,"ENCARGOS DE GESTÃO","FIXO","TRIBUTOS_E_TAXAS_FISCAIS",4200,"GERÊNCIA FINANCEIRA","Despesas Gerais e Administratias15,738"]
[null,null,null,26.95,0,0,0,0,5.39,{"$f":"D1555*'Série - IPCA'!$C$444/'Série - IPCA'!$C$385","v":35.078586546482697},{"$f":"E1555*'Série - IPCA'!$C$444/'Série - IPCA'!$C$398","v":0},{"$f":"F1555*'Série - IPCA'!$C$444/'Série - IPCA'!$C$411","v":0},{"$f":"G1555*'Série - IPCA'!$C$444/'Série - IPCA'!$C$424","v":0},{"$f":"H1555*'Série - IPCA'!$C$444/'Série - IPCA'!$C$437","v":0},7.015717309296539,"Despesas Gerais e Administratias","S",null,null,"ENCARGOS DE GESTÃO","FIXO","TRIBUTOS_E_TAXAS_FISCAIS",4200,"GERÊNCIA FINANCEIRA","Despesas Gerais e Administratias5,39"]
[null,null,null,0.82,0,0,0,0,0.16399999999999998,{"$f":"D1556*'Série - IPCA'!$C$444/'Série - IPCA'!$C$385","v":1.0673261954773956},{"$f":"E1556*'Série - IPCA'!$C$444/'Série - IPCA'!$C$398","v":0},{"$f":"F1556*'Série - IPCA'!$C$444/'Série - IPCA'!$C$411","v":0},{"$f":"G1556*'Série - IPCA'!$C$444/'Série - IPCA'!$C$424","v":0},{"$f":"H1556*'Série - IPCA'!$C$444/'Série - IPCA'!$C$437","v":0},0.21346523909547913,"Despesas Gerais e Administratias","S",null,null,"ENCARGOS DE GESTÃO","FIXO","TRIBUTOS_E_TAXAS_FISCAIS",4200,"GERÊNCIA FINANCEIRA","Despesas Gerais e Administratias0,164"]
[null,null,null,68.72,0,0,0,0,13.744,{"$f":"D1557*'Série - IPCA'!$C$444/'Série - IPCA'!$C$385","v":89.447141650251993},{"$f":"E1557*'Série - IPCA'!$C$444/'Série - IPCA'!$C$398","v":0},{"$f":"F1557*'Série - IPCA'!$C$444/'Série - IPCA'!$C$411","v":0},{"$f":"G1557*'Série - IPCA'!$C$444/'Série - IPCA'!$C$424","v":0},{"$f":"H1557*'Série - IPCA'!$C$444/'Série - IPCA'!$C$437","v":0},17.8894283300504,"Despesas Gerais e Administratias","S",null,null,"ENCARGOS DE GESTÃO","FIXO","TRIBUTOS_E_TAXAS_FISCAIS",4200,"GERÊNCIA FINANCEIRA","Despesas Gerais e Administratias13,744"]
[null,null,null,296.24,0,0,0,0,59.248000000000005,{"$f":"D1558*'Série - IPCA'!$C$444/'Série - IPCA'!$C$385","v":385.59111237588257},{"$f":"E1558*'Série - IPCA'!$C$444/'Série - IPCA'!$C$398","v":0},{"$f":"F1558*'Série - IPCA'!$C$444/'Série - IPCA'!$C$411","v":0},{"$f":"G1558*'Série - IPCA'!$C$444/'Série - IPCA'!$C$424","v":0},{"$f":"H1558*'Série - IPCA'!$C$444/'Série - IPCA'!$C$437","v":0},77.118222475176509,"Despesas Gerais e Administratias","S",null,null,"ENCARGOS DE GESTÃO","FIXO","TRIBUTOS_E_TAXAS_FISCAIS",4200,"GERÊNCIA FINANCEIRA","Despesas Gerais e Administratias59,248"]
[null,null,null,42.67,0,0,0,0,8.5340000000000007,{"$f":"D1559*'Série - IPCA'!$C$444/'Série - IPCA'!$C$385","v":55.540010684171314},{"$f":"E1559*'Série - IPCA'!$C$444/'Série - IPCA'!$C$398","v":0},{"$f":"F1559*'Série - IPCA'!$C$444/'Série - IPCA'!$C$411","v":0},{"$f":"G1559*'Série - IPCA'!$C$444/'Série - IPCA'!$C$424","v":0},{"$f":"H1559*'Série - IPCA'!$C$444/'Série - IPCA'!$C$437","v":0},11.108002136834262,"Despesas Gerais e Administratias","N","SIM","NÃO","ENCARGOS DE GESTÃO","FIXO","DESPESAS_GERAIS",3300,"GERÊNCIA JURÍDICA","Despesas Gerais e Administratias8,534"]
[null,null,null,253.29,0,0,0,0,50.658000000000001,{"$f":"D1560*'Série - IPCA'!$C$444/'Série - IPCA'!$C$385","v":329.68664884447509},{"$f":"E1560*'Série - IPCA'!$C$444/'Série - IPCA'!$C$398","v":0},{"$f":"F1560*'Série - IPCA'!$C$444/'Série - IPCA'!$C$411","v":0},{"$f":"G1560*'Série - IPCA'!$C$444/'Série - IPCA'!$C$424","v":0},{"$f":"H1560*'Série - IPCA'!$C$444/'Série - IPCA'!$C$437","v":0},65.937329768895012,"Despesas Gerais e Administratias","N","SIM","NÃO","ENCARGOS DE GESTÃO","FIXO","DESPESAS_GERAIS",3600,"GERÊNCIA DE GOVERNANÇA, RISCO E COMPLIANCE","Despesas Gerais e Administratias50,658"]
[null,null,null,60.01,0,0,0,0,12.001999999999999,{"$f":"D1561*'Série - IPCA'!$C$444/'Série - IPCA'!$C$385","v":78.110054866583553},{"$f":"E1561*'Série - IPCA'!$C$444/'Série - IPCA'!$C$398","v":0},{"$f":"F1561*'Série - IPCA'!$C$444/'Série - IPCA'!$C$411","v":0},{"$f":"G1561*'Série - IPCA'!$C$444/'Série - IPCA'!$C$424","v":0},{"$f":"H1561*'Série - IPCA'!$C$444/'Série - IPCA'!$C$437","v":0},15.62201097331671,"Despesas Gerais e Administratias","N","SIM","NÃO","ENCARGOS DE GESTÃO","FIXO","DESPESAS_GERAIS",4500,"GERÊNCIA CONTÁBIL","Despesas Gerais e Administratias12,002"]
[null,null,null,996.48,0,0,0,0,199.29599999999999,{"$f":"D1562*'Série - IPCA'!$C$444/'Série - IPCA'!$C$385","v":1297.0356186211161},{"$f":"E1562*'Série - IPCA'!$C$444/'Série - IPCA'!$C$398","v":0},{"$f":"F1562*'Série - IPCA'!$C$444/'Série - IPCA'!$C$411","v":0},{"$f":"G1562*'Série - IPCA'!$C$444/'Série - IPCA'!$C$424","v":0},{"$f":"H1562*'Série - IPCA'!$C$444/'Série - IPCA'!$C$437","v":0},259.4071237242232,"Despesas Gerais e Administratias","N","SIM","NÃO","ENCARGOS DE GESTÃO","FIXO","DESPESAS_GERAIS",4600,"GERÊNCIA DE PESSOAS E CULTURA","Despesas Gerais e Administratias199,296"]
[null,null,null,0,1160.95,0,0,0,232.19,{"$f":"D1563*'Série - IPCA'!$C$444/'Série - IPCA'!$C$385","v":0},{"$f":"E1563*'Série - IPCA'!$C$444/'Série - IPCA'!$C$398","v":1445.7992596347815},{"$f":"F1563*'Série - IPCA'!$C$444/'Série - IPCA'!$C$411","v":0},{"$f":"G1563*'Série - IPCA'!$C$444/'Série - IPCA'!$C$424","v":0},{"$f":"H1563*'Série - IPCA'!$C$444/'Série - IPCA'!$C$437","v":0},289.15985192695632,"Custos","N","SIM","NÃO","OPEX","FIXO","DESPESAS_GERAIS",5100,"GERÊNCIA DE ENGENHARIA","Custos232,19"]
[null,null,null,0,0,0,1578.64,150,345.72800000000001,{"$f":"D1564*'Série - IPCA'!$C$444/'Série - IPCA'!$C$385","v":0},{"$f":"E1564*'Série - IPCA'!$C$444/'Série - IPCA'!$C$398","v":0},{"$f":"F1564*'Série - IPCA'!$C$444/'Série - IPCA'!$C$411","v":0},{"$f":"G1564*'Série - IPCA'!$C$444/'Série - IPCA'!$C$424","v":1688.5725574939238},{"$f":"H1564*'Série - IPCA'!$C$444/'Série - IPCA'!$C$437","v":153.3586325766295},368.38623801411069,"Despesas com Vendas","N","SIM","NÃO","ENCARGOS DE COMERCIALIZAÇÃO","FIXO","DESPESAS_GERAIS",5300,"GERÊNCIA COMERCIAL","Despesas com Vendas345,728"]
[null,null,null,0,576.55999999999995,0,0,0,115.31199999999998,{"$f":"D1565*'Série - IPCA'!$C$444/'Série - IPCA'!$C$385","v":0},{"$f":"E1565*'Série - IPCA'!$C$444/'Série - IPCA'!$C$398","v":718.02405024766745},{"$f":"F1565*'Série - IPCA'!$C$444/'Série - IPCA'!$C$411","v":0},{"$f":"G1565*'Série - IPCA'!$C$444/'Série - IPCA'!$C$424","v":0},{"$f":"H1565*'Série - IPCA'!$C$444/'Série - IPCA'!$C$437","v":0},143.60481004953348,"Despesas com Vendas","N","SIM","NÃO","ENCARGOS DE COMERCIALIZAÇÃO","FIXO","DESPESAS_GERAIS",5400,"GERÊNCIA COMERCIAL (inativo)","Despesas com Vendas115,312"]
[null,null,null,0,0,0,0,0,0,{"$f":"D1566*'Série - IPCA'!$C$444/'Série - IPCA'!$C$385","v":0},{"$f":"E1566*'Série - IPCA'!$C$444/'Série - IPCA'!$C$398","v":0},{"$f":"F1566*'Série - IPCA'!$C$444/'Série - IPCA'!$C$411","v":0},{"$f":"G1566*'Série - IPCA'!$C$444/'Série - IPCA'!$C$424","v":0},{"$f":"H1566*'Série - IPCA'!$C$444/'Série - IPCA'!$C$437","v":0},0,"Despesas Gerais e Administratias","N","SIM","NÃO","ENCARGOS DE GESTÃO","FIXO","DESPESAS_GERAIS",5200,"GERÊNCIA DE OPERAÇÕES","Despesas Gerais e Administratias0"]
[null,null,null,0,1205.4000000000001,0,0,0,241.08,{"$f":"D1567*'Série - IPCA'!$C$444/'Série - IPCA'!$C$385","v":0},{"$f":"E1567*'Série - IPCA'!$C$444/'Série - IPCA'!$C$398","v":1501.1554567929418},{"$f":"F1567*'Série - IPCA'!$C$444/'Série - IPCA'!$C$411","v":0},{"$f":"G1567*'Série - IPCA'!$C$444/'Série - IPCA'!$C$424","v":0},{"$f":"H1567*'Série - IPCA'!$C$444/'Série - IPCA'!$C$437","v":0},300.23109135858834,"Despesas Gerais e Administratias","N","SIM","NÃO","ENCARGOS DE GESTÃO","FIXO","DESPESAS_GERAIS",1005,"AUDITORIA INTERNA","Despesas Gerais e Administratias241,08"]
[null,null,null,0,0,0,32.64,0,6.5280000000000005,{"$f":"D1568*'Série - IPCA'!$C$444/'Série - IPCA'!$C$385","v":0},{"$f":"E1568*'Série - IPCA'!$C$444/'Série - IPCA'!$C$398","v":0},{"$f":"F1568*'Série - IPCA'!$C$444/'Série - IPCA'!$C$411","v":0},{"$f":"G1568*'Série - IPCA'!$C$444/'Série - IPCA'!$C$424","v":34.912968299676727},{"$f":"H1568*'Série - IPCA'!$C$444/'Série - IPCA'!$C$437","v":0},6.9825936599353451,"Despesas Gerais e Administratias","N","SIM","NÃO","ENCARGOS DE GESTÃO","FIXO","DESPESAS_GERAIS",2120,"ASSESSORIA DA PRESIDÊNCIA","Despesas Gerais e Administratias6,528"]
[null,null,null,0,0,42.26,1906.83,1010.94,592.00599999999997,{"$f":"D1569*'Série - IPCA'!$C$444/'Série - IPCA'!$C$385","v":0},{"$f":"E1569*'Série - IPCA'!$C$444/'Série - IPCA'!$C$398","v":0},{"$f":"F1569*'Série - IPCA'!$C$444/'Série - IPCA'!$C$411","v":47.817909808876756},{"$f":"G1569*'Série - IPCA'!$C$444/'Série - IPCA'!$C$424","v":2039.6168916321253},{"$f":"H1569*'Série - IPCA'!$C$444/'Série - IPCA'!$C$437","v":1033.5758401134524},624.20212831089088,"Despesas Gerais e Administratias","S",null,null,"ENCARGOS DE GESTÃO","FIXO","TRIBUTOS_E_TAXAS_FISCAIS",1005,"AUDITORIA INTERNA","Despesas Gerais e Administratias592,006"]
[null,null,null,3562.39,0,0,0,0,712.47799999999995,{"$f":"D1570*'Série - IPCA'!$C$444/'Série - IPCA'!$C$385","v":4636.8684945203895},{"$f":"E1570*'Série - IPCA'!$C$444/'Série - IPCA'!$C$398","v":0},{"$f":"F1570*'Série - IPCA'!$C$444/'Série - IPCA'!$C$411","v":0},{"$f":"G1570*'Série - IPCA'!$C$444/'Série - IPCA'!$C$424","v":0},{"$f":"H1570*'Série - IPCA'!$C$444/'Série - IPCA'!$C$437","v":0},927.37369890407786,"Despesas Gerais e Administratias","S",null,null,"ENCARGOS DE GESTÃO","FIXO","TRIBUTOS_E_TAXAS_FISCAIS",2100,"SECRETARIA","Despesas Gerais e Administratias712,478"]
[null,null,null,0,3259.81,85.16,3843.04,2037.43,1845.0880000000002,{"$f":"D1571*'Série - IPCA'!$C$444/'Série - IPCA'!$C$385","v":0},{"$f":"E1571*'Série - IPCA'!$C$444/'Série - IPCA'!$C$398","v":4059.6329596882351},{"$f":"F1571*'Série - IPCA'!$C$444/'Série - IPCA'!$C$411","v":96.359990518787129},{"$f":"G1571*'Série - IPCA'!$C$444/'Série - IPCA'!$C$424","v":4110.6597332839965},{"$f":"H1571*'Série - IPCA'!$C$444/'Série - IPCA'!$C$437","v":2083.049858470682},2069.9405083923402,"Despesas Gerais e Administratias","S",null,null,"ENCARGOS DE GESTÃO","FIXO","TRIBUTOS_E_TAXAS_FISCAIS",2110,"ASSESSORIA DA DIRETORIA EXECUTIVA","Despesas Gerais e Administratias1845,088"]
[null,null,null,0,0,127.42,5749.89,3048.37,1785.136,{"$f":"D1572*'Série - IPCA'!$C$444/'Série - IPCA'!$C$385","v":0},{"$f":"E1572*'Série - IPCA'!$C$444/'Série - IPCA'!$C$398","v":0},{"$f":"F1572*'Série - IPCA'!$C$444/'Série - IPCA'!$C$411","v":144.17790032766391},{"$f":"G1572*'Série - IPCA'!$C$444/'Série - IPCA'!$C$424","v":6150.2980176663068},{"$f":"H1572*'Série - IPCA'!$C$444/'Série - IPCA'!$C$437","v":3116.6256985841342},1882.220323315621,"Despesas Gerais e Administratias","S",null,null,"ENCARGOS DE GESTÃO","FIXO","TRIBUTOS_E_TAXAS_FISCAIS",2120,"ASSESSORIA DA PRESIDÊNCIA","Despesas Gerais e Administratias1785,136"]
[null,null,null,0,0,42.26,1906.83,1010.94,592.00599999999997,{"$f":"D1573*'Série - IPCA'!$C$444/'Série - IPCA'!$C$385","v":0},{"$f":"E1573*'Série - IPCA'!$C$444/'Série - IPCA'!$C$398","v":0},{"$f":"F1573*'Série - IPCA'!$C$444/'Série - IPCA'!$C$411","v":47.817909808876756},{"$f":"G1573*'Série - IPCA'!$C$444/'Série - IPCA'!$C$424","v":2039.6168916321253},{"$f":"H1573*'Série - IPCA'!$C$444/'Série - IPCA'!$C$437","v":1033.5758401134524},624.20212831089088,"Despesas Gerais e Administratias","S",null,null,"ENCARGOS DE GESTÃO","FIXO","TRIBUTOS_E_TAXAS_FISCAIS",2310,"ASSESSORIA DAF","Despesas Gerais e Administratias592,006"]
[null,null,null,8117.57,7428.03,0,0,0,3109.12,{"$f":"D1574*'Série - IPCA'!$C$444/'Série - IPCA'!$C$385","v":10565.969639782248},{"$f":"E1574*'Série - IPCA'!$C$444/'Série - IPCA'!$C$398","v":9250.5622761918639},{"$f":"F1574*'Série - IPCA'!$C$444/'Série - IPCA'!$C$411","v":0},{"$f":"G1574*'Série - IPCA'!$C$444/'Série - IPCA'!$C$424","v":0},{"$f":"H1574*'Série - IPCA'!$C$444/'Série - IPCA'!$C$437","v":0},3963.3063831948225,"Despesas Gerais e Administratias","S",null,null,"ENCARGOS DE GESTÃO","FIXO","TRIBUTOS_E_TAXAS_FISCAIS",2200,"DIRETORIA COLEGIADA - PRESIDÊNCIA","Despesas Gerais e Administratias3109,12"]
[null,null,null,2024.53,1852.56,0,0,0,775.41800000000001,{"$f":"D1575*'Série - IPCA'!$C$444/'Série - IPCA'!$C$385","v":2635.1632957681122},{"$f":"E1575*'Série - IPCA'!$C$444/'Série - IPCA'!$C$398","v":2307.1018359352347},{"$f":"F1575*'Série - IPCA'!$C$444/'Série - IPCA'!$C$411","v":0},{"$f":"G1575*'Série - IPCA'!$C$444/'Série - IPCA'!$C$424","v":0},{"$f":"H1575*'Série - IPCA'!$C$444/'Série - IPCA'!$C$437","v":0},988.45302634066934,"Despesas Gerais e Administratias","S",null,null,"ENCARGOS DE GESTÃO","FIXO","TRIBUTOS_E_TAXAS_FISCAIS",2300,"DIRETORIA COLEGIADA - DAF","Despesas Gerais e Administratias775,418"]
[null,null,null,2024.53,1852.56,0,0,0,775.41800000000001,{"$f":"D1576*'Série - IPCA'!$C$444/'Série - IPCA'!$C$385","v":2635.1632957681122},{"$f":"E1576*'Série - IPCA'!$C$444/'Série - IPCA'!$C$398","v":2307.1018359352347},{"$f":"F1576*'Série - IPCA'!$C$444/'Série - IPCA'!$C$411","v":0},{"$f":"G1576*'Série - IPCA'!$C$444/'Série - IPCA'!$C$424","v":0},{"$f":"H1576*'Série - IPCA'!$C$444/'Série - IPCA'!$C$437","v":0},988.45302634066934,"Despesas Gerais e Administratias","S",null,null,"ENCARGOS DE GESTÃO","FIXO","TRIBUTOS_E_TAXAS_FISCAIS",2400,"DIRETORIA COLEGIADA - DTC","Despesas Gerais e Administratias775,418"]
[null,null,null,22796.53,0,0,0,0,4559.3059999999996,{"$f":"D1577*'Série - IPCA'!$C$444/'Série - IPCA'!$C$385","v":29672.358091446724},{"$f":"E1577*'Série - IPCA'!$C$444/'Série - IPCA'!$C$398","v":0},{"$f":"F1577*'Série - IPCA'!$C$444/'Série - IPCA'!$C$411","v":0},{"$f":"G1577*'Série - IPCA'!$C$444/'Série - IPCA'!$C$424","v":0},{"$f":"H1577*'Série - IPCA'!$C$444/'Série - IPCA'!$C$437","v":0},5934.4716182893444,"Despesas Gerais e Administratias","S",null,null,"ENCARGOS DE GESTÃO","FIXO","TRIBUTOS_E_TAXAS_FISCAIS",3100,"SMS","Despesas Gerais e Administratias4559,306"]
[null,null,null,5080.79,14172.8,509.67,24599.21,48390.15,18550.523999999998,{"$f":"D1578*'Série - IPCA'!$C$444/'Série - IPCA'!$C$385","v":6613.2442203897526},{"$f":"E1578*'Série - IPCA'!$C$444/'Série - IPCA'!$C$398","v":17650.220721781152},{"$f":"F1578*'Série - IPCA'!$C$444/'Série - IPCA'!$C$411","v":576.70028614032697},{"$f":"G1578*'Série - IPCA'!$C$444/'Série - IPCA'!$C$424","v":26312.237712227048},{"$f":"H1578*'Série - IPCA'!$C$444/'Série - IPCA'!$C$437","v":49473.648227853264},20125.210233678306,"Despesas Gerais e Administratias","S",null,null,"ENCARGOS DE GESTÃO","FIXO","TRIBUTOS_E_TAXAS_FISCAIS",3200,"GERÊNCIA DE PLANEJAMENTO E MEIO AMBIENTE","Despesas Gerais e Administratias18550,524"]
[null,null,null,6093.04,5575.51,169.67,7656.74,4059.29,4710.8500000000004,{"$f":"D1579*'Série - IPCA'!$C$444/'Série - IPCA'!$C$385","v":7930.806344014135},{"$f":"E1579*'Série - IPCA'!$C$444/'Série - IPCA'!$C$398","v":6943.5102546072785},{"$f":"F1579*'Série - IPCA'!$C$444/'Série - IPCA'!$C$411","v":191.98449496621197},{"$f":"G1579*'Série - IPCA'!$C$444/'Série - IPCA'!$C$424","v":8189.9363020486144},{"$f":"H1579*'Série - IPCA'!$C$444/'Série - IPCA'!$C$437","v":4150.1810908799098},5481.2836973032299,"Despesas Gerais e Administratias","S",null,null,"ENCARGOS DE GESTÃO","FIXO","TRIBUTOS_E_TAXAS_FISCAIS",3300,"GERÊNCIA JURÍDICA","Despesas Gerais e Administratias4710,85"]
[null,null,null,7105.29,0,0,0,0,1421.058,{"$f":"D1580*'Série - IPCA'!$C$444/'Série - IPCA'!$C$385","v":9248.3684676385183},{"$f":"E1580*'Série - IPCA'!$C$444/'Série - IPCA'!$C$398","v":0},{"$f":"F1580*'Série - IPCA'!$C$444/'Série - IPCA'!$C$411","v":0},{"$f":"G1580*'Série - IPCA'!$C$444/'Série - IPCA'!$C$424","v":0},{"$f":"H1580*'Série - IPCA'!$C$444/'Série - IPCA'!$C$437","v":0},1849.6736935277036,"Despesas Gerais e Administratias","S",null,null,"ENCARGOS DE GESTÃO","FIXO","TRIBUTOS_E_TAXAS_FISCAIS",3400,"MARKETING","Despesas Gerais e Administratias1421,058"]
[null,null,null,0,6501.8,169.67,7656.74,4059.29,3677.5,{"$f":"D1581*'Série - IPCA'!$C$444/'Série - IPCA'!$C$385","v":0},{"$f":"E1581*'Série - IPCA'!$C$444/'Série - IPCA'!$C$398","v":8097.073626162558},{"$f":"F1581*'Série - IPCA'!$C$444/'Série - IPCA'!$C$411","v":191.98449496621197},{"$f":"G1581*'Série - IPCA'!$C$444/'Série - IPCA'!$C$424","v":8189.9363020486144},{"$f":"H1581*'Série - IPCA'!$C$444/'Série - IPCA'!$C$437","v":4150.1810908799098},4125.8351028114585,"Despesas Gerais e Administratias","S",null,null,"ENCARGOS DE GESTÃO","FIXO","TRIBUTOS_E_TAXAS_FISCAIS",3500,"ASSESSORIA DE COMUNICAÇÃO INSTITUCIONAL","Despesas Gerais e Administratias3677,5"]
[null,null,null,3056.27,2796.66,297.74,13435.96,7165.81,5350.4879999999994,{"$f":"D1582*'Série - IPCA'!$C$444/'Série - IPCA'!$C$385","v":3978.0939407947562},{"$f":"E1582*'Série - IPCA'!$C$444/'Série - IPCA'!$C$398","v":3482.8450471167644},{"$f":"F1582*'Série - IPCA'!$C$444/'Série - IPCA'!$C$411","v":336.89788136523822},{"$f":"G1582*'Série - IPCA'!$C$444/'Série - IPCA'!$C$424","v":14371.606787859206},{"$f":"H1582*'Série - IPCA'!$C$444/'Série - IPCA'!$C$437","v":7326.2588193595839},5899.1404952991097,"Despesas Gerais e Administratias","S",null,null,"ENCARGOS DE GESTÃO","FIXO","TRIBUTOS_E_TAXAS_FISCAIS",3600,"GERÊNCIA DE GOVERNANÇA, RISCO E COMPLIANCE","Despesas Gerais e Administratias5350,488"]
[null,null,null,34907.449999999997,47884.04,247281.09,37392.68,103480.48,94189.147999999986,{"$f":"D1583*'Série - IPCA'!$C$444/'Série - IPCA'!$C$385","v":45436.141222338309},{"$f":"E1583*'Série - IPCA'!$C$444/'Série - IPCA'!$C$398","v":59632.808975685657},{"$f":"F1583*'Série - IPCA'!$C$444/'Série - IPCA'!$C$411","v":279802.76524043392},{"$f":"G1583*'Série - IPCA'!$C$444/'Série - IPCA'!$C$424","v":39996.613096812383},{"$f":"H1583*'Série - IPCA'!$C$444/'Série - IPCA'!$C$437","v":105797.49940782173},106133.1655886184,"Despesas Gerais e Administratias","S",null,null,"ENCARGOS DE GESTÃO","FIXO","TRIBUTOS_E_TAXAS_FISCAIS",4100,"GERÊNCIA DE SERVIÇOS CORPORATIVOS","Despesas Gerais e Administratias94189,148"]
[null,null,null,11173.81,10224.719999999999,382.25,17521.18,9145.09,9689.41,{"$f":"D1584*'Série - IPCA'!$C$444/'Série - IPCA'!$C$385","v":14544.024532057656},{"$f":"E1584*'Série - IPCA'!$C$444/'Série - IPCA'!$C$398","v":12733.444684071615},{"$f":"F1584*'Série - IPCA'!$C$444/'Série - IPCA'!$C$411","v":432.522385812663},{"$f":"G1584*'Série - IPCA'!$C$444/'Série - IPCA'!$C$424","v":18741.311333116722},{"$f":"H1584*'Série - IPCA'!$C$444/'Série - IPCA'!$C$437","v":9349.8566479347264},11160.231916598677,"Despesas Gerais e Administratias","S",null,null,"ENCARGOS DE GESTÃO","FIXO","TRIBUTOS_E_TAXAS_FISCAIS",4200,"GERÊNCIA FINANCEIRA","Despesas Gerais e Administratias9689,41"]
[null,null,null,12614.34,11542.9,340,15342.82,8134.15,9594.8420000000006,{"$f":"D1585*'Série - IPCA'!$C$444/'Série - IPCA'!$C$385","v":16419.043317876014},{"$f":"E1585*'Série - IPCA'!$C$444/'Série - IPCA'!$C$398","v":14375.051702518038},{"$f":"F1585*'Série - IPCA'!$C$444/'Série - IPCA'!$C$411","v":384.715791174115},{"$f":"G1585*'Série - IPCA'!$C$444/'Série - IPCA'!$C$424","v":16411.255768616611},{"$f":"H1585*'Série - IPCA'!$C$444/'Série - IPCA'!$C$437","v":8316.2808078212729},11181.26947760121,"Despesas Gerais e Administratias","S",null,null,"ENCARGOS DE GESTÃO","FIXO","TRIBUTOS_E_TAXAS_FISCAIS",4300,"GERÊNCIA DE TECNOLOGIA E SISTEMAS DE INFORMAÇÃO","Despesas Gerais e Administratias9594,842"]
[null,null,null,8117.57,7428.05,254.84,11499.77,6133.32,6686.7100000000009,{"$f":"D1586*'Série - IPCA'!$C$444/'Série - IPCA'!$C$385","v":10565.969639782248},{"$f":"E1586*'Série - IPCA'!$C$444/'Série - IPCA'!$C$398","v":9250.5871833671899},{"$f":"F1586*'Série - IPCA'!$C$444/'Série - IPCA'!$C$411","v":288.35580065532781},{"$f":"G1586*'Série - IPCA'!$C$444/'Série - IPCA'!$C$424","v":12300.58533895752},{"$f":"H1586*'Série - IPCA'!$C$444/'Série - IPCA'!$C$437","v":6270.6504556992886},7735.2296836923151,"Despesas Gerais e Administratias","S",null,null,"ENCARGOS DE GESTÃO","FIXO","TRIBUTOS_E_TAXAS_FISCAIS",4500,"GERÊNCIA CONTÁBIL","Despesas Gerais e Administratias6686,71"]
[null,null,null,7105.29,0,0,0,0,1421.058,{"$f":"D1587*'Série - IPCA'!$C$444/'Série - IPCA'!$C$385","v":9248.3684676385183},{"$f":"E1587*'Série - IPCA'!$C$444/'Série - IPCA'!$C$398","v":0},{"$f":"F1587*'Série - IPCA'!$C$444/'Série - IPCA'!$C$411","v":0},{"$f":"G1587*'Série - IPCA'!$C$444/'Série - IPCA'!$C$424","v":0},{"$f":"H1587*'Série - IPCA'!$C$444/'Série - IPCA'!$C$437","v":0},1849.6736935277036,"Despesas Gerais e Administratias","S",null,null,"ENCARGOS DE GESTÃO","FIXO","TRIBUTOS_E_TAXAS_FISCAIS",4600,"GERÊNCIA DE PESSOAS E CULTURA","Despesas Gerais e Administratias1421,058"]
[null,null,null,2221.8000000000002,1516.09,0,0,0,747.57800000000009,{"$f":"D1588*'Série - IPCA'!$C$444/'Série - IPCA'!$C$385","v":2891.9333428191194},{"$f":"E1588*'Série - IPCA'!$C$444/'Série - IPCA'!$C$398","v":1888.0759718676047},{"$f":"F1588*'Série - IPCA'!$C$444/'Série - IPCA'!$C$411","v":0},{"$f":"G1588*'Série - IPCA'!$C$444/'Série - IPCA'!$C$424","v":0},{"$f":"H1588*'Série - IPCA'!$C$444/'Série - IPCA'!$C$437","v":0},956.00186293734475,"Despesas Gerais e Administratias","N","SIM","NÃO","ENCARGOS DE GESTÃO","FIXO","DESPESAS_GERAIS",2200,"DIRETORIA COLEGIADA - PRESIDÊNCIA","Despesas Gerais e Administratias747,578"]
[null,null,null,899.8,442.9,0,0,0,268.53999999999996,{"$f":"D1589*'Série - IPCA'!$C$444/'Série - IPCA'!$C$385","v":1171.1952569397081},{"$f":"E1589*'Série - IPCA'!$C$444/'Série - IPCA'!$C$398","v":551.569397555661},{"$f":"F1589*'Série - IPCA'!$C$444/'Série - IPCA'!$C$411","v":0},{"$f":"G1589*'Série - IPCA'!$C$444/'Série - IPCA'!$C$424","v":0},{"$f":"H1589*'Série - IPCA'!$C$444/'Série - IPCA'!$C$437","v":0},344.55293089907383,"Despesas Gerais e Administratias","N","SIM","NÃO","ENCARGOS DE GESTÃO","FIXO","DESPESAS_GERAIS",2400,"DIRETORIA COLEGIADA - DTC","Despesas Gerais e Administratias268,54"]
[null,null,null,0,722.16,0,0,0,144.43199999999999,{"$f":"D1590*'Série - IPCA'!$C$444/'Série - IPCA'!$C$385","v":0},{"$f":"E1590*'Série - IPCA'!$C$444/'Série - IPCA'!$C$398","v":899.34828660825497},{"$f":"F1590*'Série - IPCA'!$C$444/'Série - IPCA'!$C$411","v":0},{"$f":"G1590*'Série - IPCA'!$C$444/'Série - IPCA'!$C$424","v":0},{"$f":"H1590*'Série - IPCA'!$C$444/'Série - IPCA'!$C$437","v":0},179.869657321651,"Despesas Gerais e Administratias","N","SIM","NÃO","ENCARGOS DE GESTÃO","FIXO","DESPESAS_GERAIS",3300,"GERÊNCIA JURÍDICA","Despesas Gerais e Administratias144,432"]
[null,null,null,1139,523.12,0,0,0,332.42399999999998,{"$f":"D1591*'Série - IPCA'!$C$444/'Série - IPCA'!$C$385","v":1482.5421178643337},{"$f":"E1591*'Série - IPCA'!$C$444/'Série - IPCA'!$C$398","v":651.47207778125403},{"$f":"F1591*'Série - IPCA'!$C$444/'Série - IPCA'!$C$411","v":0},{"$f":"G1591*'Série - IPCA'!$C$444/'Série - IPCA'!$C$424","v":0},{"$f":"H1591*'Série - IPCA'!$C$444/'Série - IPCA'!$C$437","v":0},426.80283912911756,"Despesas Gerais e Administratias","N","SIM","NÃO","ENCARGOS DE GESTÃO","FIXO","DESPESAS_GERAIS",3600,"GERÊNCIA DE GOVERNANÇA, RISCO E COMPLIANCE","Despesas Gerais e Administratias332,424"]
[null,null,null,0,105768.64,258737.49,170573.36,170067.45,141029.38799999998,{"$f":"D1592*'Série - IPCA'!$C$444/'Série - IPCA'!$C$385","v":0},{"$f":"E1592*'Série - IPCA'!$C$444/'Série - IPCA'!$C$398","v":131719.90301440866},{"$f":"F1592*'Série - IPCA'!$C$444/'Série - IPCA'!$C$411","v":292765.87697574898},{"$f":"G1592*'Série - IPCA'!$C$444/'Série - IPCA'!$C$424","v":182451.66392308046},{"$f":"H1592*'Série - IPCA'!$C$444/'Série - IPCA'!$C$437","v":173875.41051862878},156162.57088637337,"Despesas Gerais e Administratias","N","SIM","NÃO","ENCARGOS DE GESTÃO","FIXO","DESPESAS_GERAIS",4100,"GERÊNCIA DE SERVIÇOS CORPORATIVOS","Despesas Gerais e Administratias141029,388"]
[null,null,null,108644.55,7603.52,0,0,0,23249.614000000001,{"$f":"D1593*'Série - IPCA'!$C$444/'Série - IPCA'!$C$385","v":141413.62708640692},{"$f":"E1593*'Série - IPCA'!$C$444/'Série - IPCA'!$C$398","v":9469.1102860745541},{"$f":"F1593*'Série - IPCA'!$C$444/'Série - IPCA'!$C$411","v":0},{"$f":"G1593*'Série - IPCA'!$C$444/'Série - IPCA'!$C$424","v":0},{"$f":"H1593*'Série - IPCA'!$C$444/'Série - IPCA'!$C$437","v":0},30176.547474496292,"Despesas Gerais e Administratias","N","SIM","NÃO","ENCARGOS DE GESTÃO","FIXO","DESPESAS_GERAIS",4600,"GERÊNCIA DE PESSOAS E CULTURA","Despesas Gerais e Administratias23249,614"]
[null,null,null,231954.85,0,0,0,0,46390.97,{"$f":"D1594*'Série - IPCA'!$C$444/'Série - IPCA'!$C$385","v":301916.4482597927},{"$f":"E1594*'Série - IPCA'!$C$444/'Série - IPCA'!$C$398","v":0},{"$f":"F1594*'Série - IPCA'!$C$444/'Série - IPCA'!$C$411","v":0},{"$f":"G1594*'Série - IPCA'!$C$444/'Série - IPCA'!$C$424","v":0},{"$f":"H1594*'Série - IPCA'!$C$444/'Série - IPCA'!$C$437","v":0},60383.289651958541,"Despesas com Vendas","N","SIM","NÃO","ENCARGOS DE COMERCIALIZAÇÃO","FUNCIONÁRIOS","PESSOAL",5400,"GERÊNCIA COMERCIAL (inativo)","Despesas com Vendas46390,97"]
[null,null,null,116088.6,0,0,0,0,23217.72,{"$f":"D1595*'Série - IPCA'!$C$444/'Série - IPCA'!$C$385","v":151102.93143450879},{"$f":"E1595*'Série - IPCA'!$C$444/'Série - IPCA'!$C$398","v":0},{"$f":"F1595*'Série - IPCA'!$C$444/'Série - IPCA'!$C$411","v":0},{"$f":"G1595*'Série - IPCA'!$C$444/'Série - IPCA'!$C$424","v":0},{"$f":"H1595*'Série - IPCA'!$C$444/'Série - IPCA'!$C$437","v":0},30220.586286901758,"Despesas com Vendas","N","SIM","NÃO","ENCARGOS DE COMERCIALIZAÇÃO","FUNCIONÁRIOS","PESSOAL",5500,"GERÊNCIA COMERCIAL (inativo)","Despesas com Vendas23217,72"]
[null,null,null,-1828271.72,0,0,0,0,-365654.34399999998,{"$f":"D1596*'Série - IPCA'!$C$444/'Série - IPCA'!$C$385","v":-2379710.1209835541},{"$f":"E1596*'Série - IPCA'!$C$444/'Série - IPCA'!$C$398","v":0},{"$f":"F1596*'Série - IPCA'!$C$444/'Série - IPCA'!$C$411","v":0},{"$f":"G1596*'Série - IPCA'!$C$444/'Série - IPCA'!$C$424","v":0},{"$f":"H1596*'Série - IPCA'!$C$444/'Série - IPCA'!$C$437","v":0},-475942.02419671079,"Outras Receitas e Despesas","S",null,null,"OPEX",null,"TRIBUTOS_E_TAXAS_FISCAIS",4200,"GERÊNCIA FINANCEIRA","Outras Receitas e Despesas-365654,344"]
[null,null,null,-396927.42,0,0,0,0,-79385.483999999997,{"$f":"D1597*'Série - IPCA'!$C$444/'Série - IPCA'!$C$385","v":-516647.60130397353},{"$f":"E1597*'Série - IPCA'!$C$444/'Série - IPCA'!$C$398","v":0},{"$f":"F1597*'Série - IPCA'!$C$444/'Série - IPCA'!$C$411","v":0},{"$f":"G1597*'Série - IPCA'!$C$444/'Série - IPCA'!$C$424","v":0},{"$f":"H1597*'Série - IPCA'!$C$444/'Série - IPCA'!$C$437","v":0},-103329.5202607947,"Outras Receitas e Despesas","S",null,null,"OPEX",null,"TRIBUTOS_E_TAXAS_FISCAIS",4200,"GERÊNCIA FINANCEIRA","Outras Receitas e Despesas-79385,484"]
[null,null,null,98519.65,0,0,0,0,19703.93,{"$f":"D1598*'Série - IPCA'!$C$444/'Série - IPCA'!$C$385","v":128234.88196861537},{"$f":"E1598*'Série - IPCA'!$C$444/'Série - IPCA'!$C$398","v":0},{"$f":"F1598*'Série - IPCA'!$C$444/'Série - IPCA'!$C$411","v":0},{"$f":"G1598*'Série - IPCA'!$C$444/'Série - IPCA'!$C$424","v":0},{"$f":"H1598*'Série - IPCA'!$C$444/'Série - IPCA'!$C$437","v":0},25646.976393723075,"Despesas Gerais e Administratias","N","SIM","NÃO","ENCARGOS DE GESTÃO","FUNCIONÁRIOS","PESSOAL",3100,"SMS","Despesas Gerais e Administratias19703,93"]
[null,null,null,81173.070000000007,0,0,0,0,16234.614000000001,{"$f":"D1599*'Série - IPCA'!$C$444/'Série - IPCA'!$C$385","v":105656.2731442931},{"$f":"E1599*'Série - IPCA'!$C$444/'Série - IPCA'!$C$398","v":0},{"$f":"F1599*'Série - IPCA'!$C$444/'Série - IPCA'!$C$411","v":0},{"$f":"G1599*'Série - IPCA'!$C$444/'Série - IPCA'!$C$424","v":0},{"$f":"H1599*'Série - IPCA'!$C$444/'Série - IPCA'!$C$437","v":0},21131.25462885862,"Despesas Gerais e Administratias","N","SIM","NÃO","ENCARGOS DE GESTÃO","FUNCIONÁRIOS","PESSOAL",3400,"MARKETING","Despesas Gerais e Administratias16234,614"]
[null,null,null,81173.070000000007,0,0,0,0,16234.614000000001,{"$f":"D1600*'Série - IPCA'!$C$444/'Série - IPCA'!$C$385","v":105656.2731442931},{"$f":"E1600*'Série - IPCA'!$C$444/'Série - IPCA'!$C$398","v":0},{"$f":"F1600*'Série - IPCA'!$C$444/'Série - IPCA'!$C$411","v":0},{"$f":"G1600*'Série - IPCA'!$C$444/'Série - IPCA'!$C$424","v":0},{"$f":"H1600*'Série - IPCA'!$C$444/'Série - IPCA'!$C$437","v":0},21131.25462885862,"Despesas Gerais e Administratias","N","SIM","NÃO","ENCARGOS DE GESTÃO","FUNCIONÁRIOS","PESSOAL",4600,"GERÊNCIA DE PESSOAS E CULTURA","Despesas Gerais e Administratias16234,614"]
[null,null,null,187501.1,229479.55,320432.78999999998,344166.07,362852.47,288886.39600000001,{"$f":"D1601*'Série - IPCA'!$C$444/'Série - IPCA'!$C$385","v":244054.67769613015},{"$f":"E1601*'Série - IPCA'!$C$444/'Série - IPCA'!$C$398","v":285784.36925907474},{"$f":"F1601*'Série - IPCA'!$C$444/'Série - IPCA'!$C$411","v":362575.15977346769},{"$f":"G1601*'Série - IPCA'!$C$444/'Série - IPCA'!$C$424","v":368132.93785950745},{"$f":"H1601*'Série - IPCA'!$C$444/'Série - IPCA'!$C$437","v":370977.05750834988},326304.84041930601,"Custos","N","SIM","NÃO","OPEX","FUNCIONÁRIOS","PESSOAL",5100,"GERÊNCIA DE ENGENHARIA","Custos288886,396"]
[null,null,null,0,-14320.32,-43592.84,-109551582.45999999,15803.82,-21918738.359999999,{"$f":"D1602*'Série - IPCA'!$C$444/'Série - IPCA'!$C$385","v":0},{"$f":"E1602*'Série - IPCA'!$C$444/'Série - IPCA'!$C$398","v":-17833.936046972871},{"$f":"F1602*'Série - IPCA'!$C$444/'Série - IPCA'!$C$411","v":-49326.040970960603},{"$f":"G1602*'Série - IPCA'!$C$444/'Série - IPCA'!$C$424","v":-117180481.78938116},{"$f":"H1602*'Série - IPCA'!$C$444/'Série - IPCA'!$C$437","v":16157.681497914595},-23446296.816980235,"Outras Receitas e Despesas","S",null,null,"OPEX",null,"DESPESAS_GERAIS",9999,"RATEIO","Outras Receitas e Despesas-21918738,36"]
[null,null,null,-1466.35,-11461.58,0,-28127.73,0,-8211.1320000000014,{"$f":"D1603*'Série - IPCA'!$C$444/'Série - IPCA'!$C$385","v":-1908.6265448027796},{"$f":"E1603*'Série - IPCA'!$C$444/'Série - IPCA'!$C$398","v":-14273.779127649612},{"$f":"F1603*'Série - IPCA'!$C$444/'Série - IPCA'!$C$411","v":0},{"$f":"G1603*'Série - IPCA'!$C$444/'Série - IPCA'!$C$424","v":-30086.475056123349},{"$f":"H1603*'Série - IPCA'!$C$444/'Série - IPCA'!$C$437","v":0},-9253.7761457151464,"Outras Receitas e Despesas","S",null,null,"OPEX",null,"DESPESAS_GERAIS",9999,"RATEIO","Outras Receitas e Despesas-8211,132"]
[null,null,null,0,-20000,0,0,-4333.5,-4866.7,{"$f":"D1604*'Série - IPCA'!$C$444/'Série - IPCA'!$C$385","v":0},{"$f":"E1604*'Série - IPCA'!$C$444/'Série - IPCA'!$C$398","v":-24907.175324256539},{"$f":"F1604*'Série - IPCA'!$C$444/'Série - IPCA'!$C$411","v":0},{"$f":"G1604*'Série - IPCA'!$C$444/'Série - IPCA'!$C$424","v":0},{"$f":"H1604*'Série - IPCA'!$C$444/'Série - IPCA'!$C$437","v":-4430.530895138827},-5867.5412438790736,"Outras Receitas e Despesas","S",null,null,"OPEX",null,"DESPESAS_GERAIS",9999,"RATEIO","Outras Receitas e Despesas-4866,7"]
[null,null,null,-105224725.44,-35251.5,-24178.95,0,0,{"$f":"AVERAGE(D1605:H1605)","v":-21056831.177999999},{"$f":"D1605*'Série - IPCA'!$C$444/'Série - IPCA'!$C$385","v":-136962324.2366204},{"$f":"E1605*'Série - IPCA'!$C$444/'Série - IPCA'!$C$398","v":-43900.76454715147},{"$f":"F1605*'Série - IPCA'!$C$444/'Série - IPCA'!$C$411","v":-27358.893761792253},{"$f":"G1605*'Série - IPCA'!$C$444/'Série - IPCA'!$C$424","v":0},{"$f":"H1605*'Série - IPCA'!$C$444/'Série - IPCA'!$C$437","v":0},{"$f":"AVERAGE(J1605:N1605)","v":-27406716.778985865},"Outras Receitas e Despesas","S",null,null,"OPEX",null,"DESPESAS_GERAIS",9999,"RATEIO",{"$f":"B1605&C1605&P1605&I1605","v":"Outras Receitas e Despesas-21056831,178"}]
[null,null,null,-32307.18,0,0,0,0,-6461.4359999999997,{"$f":"D1606*'Série - IPCA'!$C$444/'Série - IPCA'!$C$385","v":-42051.584775613912},{"$f":"E1606*'Série - IPCA'!$C$444/'Série - IPCA'!$C$398","v":0},{"$f":"F1606*'Série - IPCA'!$C$444/'Série - IPCA'!$C$411","v":0},{"$f":"G1606*'Série - IPCA'!$C$444/'Série - IPCA'!$C$424","v":0},{"$f":"H1606*'Série - IPCA'!$C$444/'Série - IPCA'!$C$437","v":0},-8410.316955122782,"Outras Receitas e Despesas","S",null,null,"OPEX",null,"DESPESAS_GERAIS",9999,"RATEIO","Outras Receitas e Despesas-6461,436"]
[null,null,null,0,0,4326.71,0,0,865.34199999999998,{"$f":"D1607*'Série - IPCA'!$C$444/'Série - IPCA'!$C$385","v":0},{"$f":"E1607*'Série - IPCA'!$C$444/'Série - IPCA'!$C$398","v":0},{"$f":"F1607*'Série - IPCA'!$C$444/'Série - IPCA'!$C$411","v":4895.7460612675141},{"$f":"G1607*'Série - IPCA'!$C$444/'Série - IPCA'!$C$424","v":0},{"$f":"H1607*'Série - IPCA'!$C$444/'Série - IPCA'!$C$437","v":0},979.14921225350281,"Outras Receitas e Despesas","S",null,null,"OPEX",null,"DESPESAS_GERAIS",5300,"GERÊNCIA COMERCIAL","Outras Receitas e Despesas865,342"]
[null,null,null,0,0,-622.92999999999995,0,0,-124.58599999999998,{"$f":"D1608*'Série - IPCA'!$C$444/'Série - IPCA'!$C$385","v":0},{"$f":"E1608*'Série - IPCA'!$C$444/'Série - IPCA'!$C$398","v":0},{"$f":"F1608*'Série - IPCA'!$C$444/'Série - IPCA'!$C$411","v":-704.85590528262173},{"$f":"G1608*'Série - IPCA'!$C$444/'Série - IPCA'!$C$424","v":0},{"$f":"H1608*'Série - IPCA'!$C$444/'Série - IPCA'!$C$437","v":0},-140.97118105652436,"Outras Receitas e Despesas","S",null,null,"OPEX",null,"DESPESAS_GERAIS",5300,"GERÊNCIA COMERCIAL","Outras Receitas e Despesas-124,586"]
[null,null,null,-9324.32,0,0,-885.13,0,-2041.8899999999999,{"$f":"D1609*'Série - IPCA'!$C$444/'Série - IPCA'!$C$385","v":-12136.696330504621},{"$f":"E1609*'Série - IPCA'!$C$444/'Série - IPCA'!$C$398","v":0},{"$f":"F1609*'Série - IPCA'!$C$444/'Série - IPCA'!$C$411","v":0},{"$f":"G1609*'Série - IPCA'!$C$444/'Série - IPCA'!$C$424","v":-946.76824850161961},{"$f":"H1609*'Série - IPCA'!$C$444/'Série - IPCA'!$C$437","v":0},-2616.6929158012481,"Outras Receitas e Despesas","S",null,null,"OPEX",null,"DESPESAS_GERAIS",9999,"RATEIO","Outras Receitas e Despesas-2041,89"]
[null,null,null,0,0,-31461.46,0,0,-6292.2919999999995,{"$f":"D1610*'Série - IPCA'!$C$444/'Série - IPCA'!$C$385","v":0},{"$f":"E1610*'Série - IPCA'!$C$444/'Série - IPCA'!$C$398","v":0},{"$f":"F1610*'Série - IPCA'!$C$444/'Série - IPCA'!$C$411","v":-35599.177868802268},{"$f":"G1610*'Série - IPCA'!$C$444/'Série - IPCA'!$C$424","v":0},{"$f":"H1610*'Série - IPCA'!$C$444/'Série - IPCA'!$C$437","v":0},-7119.8355737604534,"Outras Receitas e Despesas","S",null,null,"OPEX",null,"DESPESAS_GERAIS",5300,"GERÊNCIA COMERCIAL","Outras Receitas e Despesas-6292,292"]
[null,null,null,0,0,-907.23,0,0,-181.446,{"$f":"D1611*'Série - IPCA'!$C$444/'Série - IPCA'!$C$385","v":0},{"$f":"E1611*'Série - IPCA'!$C$444/'Série - IPCA'!$C$398","v":0},{"$f":"F1611*'Série - IPCA'!$C$444/'Série - IPCA'!$C$411","v":-1026.5461977261539},{"$f":"G1611*'Série - IPCA'!$C$444/'Série - IPCA'!$C$424","v":0},{"$f":"H1611*'Série - IPCA'!$C$444/'Série - IPCA'!$C$437","v":0},-205.30923954523078,"Outras Receitas e Despesas","S",null,null,"OPEX",null,"DESPESAS_GERAIS",5300,"GERÊNCIA COMERCIAL","Outras Receitas e Despesas-181,446"]
[null,null,null,464354.45,465945.65,523459.82,565362.81000000006,593500.41,522524.62800000003,{"$f":"D1612*'Série - IPCA'!$C$444/'Série - IPCA'!$C$385","v":604411.79081890068},{"$f":"E1612*'Série - IPCA'!$C$444/'Série - IPCA'!$C$398","v":580269.49980623368},{"$f":"F1612*'Série - IPCA'!$C$444/'Série - IPCA'!$C$411","v":592303.70235047},{"$f":"G1612*'Série - IPCA'!$C$444/'Série - IPCA'!$C$424","v":604733.26787212491},{"$f":"H1612*'Série - IPCA'!$C$444/'Série - IPCA'!$C$437","v":606789.40874179325},597701.5339179046,"Custos","N","SIM","NÃO","OPEX","FUNCIONÁRIOS","PESSOAL",5200,"GERÊNCIA DE OPERAÇÕES","Custos522524,628"]
[null,null,null,104524.24,367041.57,275855.59000000003,298292.56,313334.61,271809.71399999998,{"$f":"D1613*'Série - IPCA'!$C$444/'Série - IPCA'!$C$385","v":136050.56026142224},{"$f":"E1613*'Série - IPCA'!$C$444/'Série - IPCA'!$C$398","v":457098.43676401896},{"$f":"F1613*'Série - IPCA'!$C$444/'Série - IPCA'!$C$411","v":312135.2986960361},{"$f":"G1613*'Série - IPCA'!$C$444/'Série - IPCA'!$C$424","v":319064.91088570521},{"$f":"H1613*'Série - IPCA'!$C$444/'Série - IPCA'!$C$437","v":320350.4488568767},308939.93109281186,"Despesas com Vendas","N","SIM","NÃO","ENCARGOS DE COMERCIALIZAÇÃO","FUNCIONÁRIOS","PESSOAL",5300,"GERÊNCIA COMERCIAL","Despesas com Vendas271809,714"]
[null,null,null,0,5386.96,14484.12,15611.1,16401.53,10376.742,{"$f":"D1614*'Série - IPCA'!$C$444/'Série - IPCA'!$C$385","v":0},{"$f":"E1614*'Série - IPCA'!$C$444/'Série - IPCA'!$C$398","v":6708.6978592378509},{"$f":"F1614*'Série - IPCA'!$C$444/'Série - IPCA'!$C$411","v":16389.028486061241},{"$f":"G1614*'Série - IPCA'!$C$444/'Série - IPCA'!$C$424","v":16698.21811957976},{"$f":"H1614*'Série - IPCA'!$C$444/'Série - IPCA'!$C$437","v":16768.77475309711},11312.943843595192,"Despesas Gerais e Administratias","N","SIM","NÃO","ENCARGOS DE GESTÃO","FUNCIONÁRIOS","PESSOAL",1005,"AUDITORIA INTERNA","Despesas Gerais e Administratias10376,742"]
[null,null,null,40697.74,0,0,773.28,0,8294.2039999999997,{"$f":"D1615*'Série - IPCA'!$C$444/'Série - IPCA'!$C$385","v":52972.882925278318},{"$f":"E1615*'Série - IPCA'!$C$444/'Série - IPCA'!$C$398","v":0},{"$f":"F1615*'Série - IPCA'!$C$444/'Série - IPCA'!$C$411","v":0},{"$f":"G1615*'Série - IPCA'!$C$444/'Série - IPCA'!$C$424","v":827.12929309969422},{"$f":"H1615*'Série - IPCA'!$C$444/'Série - IPCA'!$C$437","v":0},10760.002443675603,"Despesas Gerais e Administratias","N","SIM","NÃO","ENCARGOS DE GESTÃO","FUNCIONÁRIOS","PESSOAL",2100,"SECRETARIA","Despesas Gerais e Administratias8294,204"]
[null,null,null,0,16243.76,43675.13,45732.77,49456.94,31021.72,{"$f":"D1616*'Série - IPCA'!$C$444/'Série - IPCA'!$C$385","v":0},{"$f":"E1616*'Série - IPCA'!$C$444/'Série - IPCA'!$C$398","v":20229.308912257271},{"$f":"F1616*'Série - IPCA'!$C$444/'Série - IPCA'!$C$411","v":49419.15350759506},{"$f":"G1616*'Série - IPCA'!$C$444/'Série - IPCA'!$C$424","v":48917.486190760013},{"$f":"H1616*'Série - IPCA'!$C$444/'Série - IPCA'!$C$437","v":50564.324598829415},33826.054641888346,"Despesas Gerais e Administratias","N","SIM","NÃO","ENCARGOS DE GESTÃO","FUNCIONÁRIOS","PESSOAL",2120,"ASSESSORIA DA PRESIDÊNCIA","Despesas Gerais e Administratias31021,72"]
[null,null,null,0,34660.53,29190.98,31462.41,33055.42,25673.867999999999,{"$f":"D1617*'Série - IPCA'!$C$444/'Série - IPCA'!$C$385","v":0},{"$f":"E1617*'Série - IPCA'!$C$444/'Série - IPCA'!$C$398","v":43164.794877082677},{"$f":"F1617*'Série - IPCA'!$C$444/'Série - IPCA'!$C$411","v":33030.091076022843},{"$f":"G1617*'Série - IPCA'!$C$444/'Série - IPCA'!$C$424","v":33653.373865239955},{"$f":"H1617*'Série - IPCA'!$C$444/'Série - IPCA'!$C$437","v":33795.560069641142},28728.763977597329,"Despesas Gerais e Administratias","N","SIM","NÃO","ENCARGOS DE GESTÃO","FUNCIONÁRIOS","PESSOAL",2110,"ASSESSORIA DA DIRETORIA EXECUTIVA","Despesas Gerais e Administratias25673,868"]
[null,null,null,0,5386.96,14484.12,15611.1,16401.53,10376.742,{"$f":"D1618*'Série - IPCA'!$C$444/'Série - IPCA'!$C$385","v":0},{"$f":"E1618*'Série - IPCA'!$C$444/'Série - IPCA'!$C$398","v":6708.6978592378509},{"$f":"F1618*'Série - IPCA'!$C$444/'Série - IPCA'!$C$411","v":16389.028486061241},{"$f":"G1618*'Série - IPCA'!$C$444/'Série - IPCA'!$C$424","v":16698.21811957976},{"$f":"H1618*'Série - IPCA'!$C$444/'Série - IPCA'!$C$437","v":16768.77475309711},11312.943843595192,"Despesas Gerais e Administratias","N","SIM","NÃO","ENCARGOS DE GESTÃO","FUNCIONÁRIOS","PESSOAL",2310,"ASSESSORIA DAF","Despesas Gerais e Administratias10376,742"]
[null,null,null,88555.62,54241.21,0,0,0,28559.365999999998,{"$f":"D1619*'Série - IPCA'!$C$444/'Série - IPCA'!$C$385","v":115265.52802773411},{"$f":"E1619*'Série - IPCA'!$C$444/'Série - IPCA'!$C$398","v":67549.766363490853},{"$f":"F1619*'Série - IPCA'!$C$444/'Série - IPCA'!$C$411","v":0},{"$f":"G1619*'Série - IPCA'!$C$444/'Série - IPCA'!$C$424","v":0},{"$f":"H1619*'Série - IPCA'!$C$444/'Série - IPCA'!$C$437","v":0},36563.058878244992,"Despesas Gerais e Administratias","N","SIM","NÃO","ENCARGOS DE GESTÃO","FUNCIONÁRIOS","PESSOAL",2200,"DIRETORIA COLEGIADA - PRESIDÊNCIA","Despesas Gerais e Administratias28559,366"]
[null,null,null,23128.78,13527.78,-927.35,0,0,7145.8419999999996,{"$f":"D1620*'Série - IPCA'!$C$444/'Série - IPCA'!$C$385","v":30104.8204432118},{"$f":"E1620*'Série - IPCA'!$C$444/'Série - IPCA'!$C$398","v":16846.939410398558},{"$f":"F1620*'Série - IPCA'!$C$444/'Série - IPCA'!$C$411","v":-1049.3123204273986},{"$f":"G1620*'Série - IPCA'!$C$444/'Série - IPCA'!$C$424","v":0},{"$f":"H1620*'Série - IPCA'!$C$444/'Série - IPCA'!$C$437","v":0},9180.4895066365916,"Despesas Gerais e Administratias","N","SIM","NÃO","ENCARGOS DE GESTÃO","FUNCIONÁRIOS","PESSOAL",2300,"DIRETORIA COLEGIADA - DAF","Despesas Gerais e Administratias7145,842"]
[null,null,null,23128.78,13527.78,0,192,73,7384.3119999999999,{"$f":"D1621*'Série - IPCA'!$C$444/'Série - IPCA'!$C$385","v":30104.8204432118},{"$f":"E1621*'Série - IPCA'!$C$444/'Série - IPCA'!$C$398","v":16846.939410398558},{"$f":"F1621*'Série - IPCA'!$C$444/'Série - IPCA'!$C$411","v":0},{"$f":"G1621*'Série - IPCA'!$C$444/'Série - IPCA'!$C$424","v":205.37040176280431},{"$f":"H1621*'Série - IPCA'!$C$444/'Série - IPCA'!$C$437","v":74.63453452062636},9446.3529579787592,"Despesas Gerais e Administratias","N","SIM","NÃO","ENCARGOS DE GESTÃO","FUNCIONÁRIOS","PESSOAL",2400,"DIRETORIA COLEGIADA - DTC","Despesas Gerais e Administratias7384,312"]
[null,null,null,58044.31,156547.70000000001,174700.51,188294.17,197827.79,155082.89600000001,{"$f":"D1622*'Série - IPCA'!$C$444/'Série - IPCA'!$C$385","v":75551.478733427502},{"$f":"E1622*'Série - IPCA'!$C$444/'Série - IPCA'!$C$398","v":194958.05052545579},{"$f":"F1622*'Série - IPCA'!$C$444/'Série - IPCA'!$C$411","v":197676.60271520997},{"$f":"G1622*'Série - IPCA'!$C$444/'Série - IPCA'!$C$424","v":201406.50699215505},{"$f":"H1622*'Série - IPCA'!$C$444/'Série - IPCA'!$C$437","v":202257.32906704416},174369.99360665851,"Despesas Gerais e Administratias","N","SIM","NÃO","ENCARGOS DE GESTÃO","FUNCIONÁRIOS","PESSOAL",3200,"GERÊNCIA DE PLANEJAMENTO E MEIO AMBIENTE","Despesas Gerais e Administratias155082,896"]
[null,null,null,69608.679999999993,60762.6,58159.25,62684.67,65858.490000000005,63414.737999999998,{"$f":"D1623*'Série - IPCA'!$C$444/'Série - IPCA'!$C$385","v":90603.862922687171},{"$f":"E1623*'Série - IPCA'!$C$444/'Série - IPCA'!$C$398","v":75671.236567883519},{"$f":"F1623*'Série - IPCA'!$C$444/'Série - IPCA'!$C$411","v":65808.181993656312},{"$f":"G1623*'Série - IPCA'!$C$444/'Série - IPCA'!$C$424","v":67049.874282650024},{"$f":"H1623*'Série - IPCA'!$C$444/'Série - IPCA'!$C$437","v":67333.119799744207},73293.255113324238,"Despesas Gerais e Administratias","N","SIM","NÃO","ENCARGOS DE GESTÃO","FUNCIONÁRIOS","PESSOAL",3300,"GERÊNCIA JURÍDICA","Despesas Gerais e Administratias63414,738"]
[null,null,null,0,69108.03,58159.25,62684.67,65858.490000000005,51162.088000000003,{"$f":"D1624*'Série - IPCA'!$C$444/'Série - IPCA'!$C$385","v":0},{"$f":"E1624*'Série - IPCA'!$C$444/'Série - IPCA'!$C$398","v":86064.29097619903},{"$f":"F1624*'Série - IPCA'!$C$444/'Série - IPCA'!$C$411","v":65808.181993656312},{"$f":"G1624*'Série - IPCA'!$C$444/'Série - IPCA'!$C$424","v":67049.874282650024},{"$f":"H1624*'Série - IPCA'!$C$444/'Série - IPCA'!$C$437","v":67333.119799744207},57251.093410449917,"Despesas Gerais e Administratias","N","SIM","NÃO","ENCARGOS DE GESTÃO","FUNCIONÁRIOS","PESSOAL",3500,"ASSESSORIA DE COMUNICAÇÃO INSTITUCIONAL","Despesas Gerais e Administratias51162,088"]
[null,null,null,0,0,-46510634.409999996,-23052944.960000001,-88978.4,-13930511.554000001,{"$f":"D1625*'Série - IPCA'!$C$444/'Série - IPCA'!$C$385","v":0},{"$f":"E1625*'Série - IPCA'!$C$444/'Série - IPCA'!$C$398","v":0},{"$f":"F1625*'Série - IPCA'!$C$444/'Série - IPCA'!$C$411","v":-52627575.044274002},{"$f":"G1625*'Série - IPCA'!$C$444/'Série - IPCA'!$C$424","v":-24658294.626307365},{"$f":"H1625*'Série - IPCA'!$C$444/'Série - IPCA'!$C$437","v":-90970.705019042478},-15475368.075120082,"Outras Receitas e Despesas","S",null,null,"OPEX",null,"SERVIÇOS",9999,"RATEIO","Outras Receitas e Despesas-13930511,554"]
[null,null,null,0,0,0,-108915,-59597.47,-33702.493999999999,{"$f":"D1626*'Série - IPCA'!$C$444/'Série - IPCA'!$C$385","v":0},{"$f":"E1626*'Série - IPCA'!$C$444/'Série - IPCA'!$C$398","v":0},{"$f":"F1626*'Série - IPCA'!$C$444/'Série - IPCA'!$C$411","v":0},{"$f":"G1626*'Série - IPCA'!$C$444/'Série - IPCA'!$C$424","v":-116499.56931247827},{"$f":"H1626*'Série - IPCA'!$C$444/'Série - IPCA'!$C$437","v":-60931.910028178005},-35486.295868131259,"Outras Receitas e Despesas","S",null,null,"OPEX",null,"DESPESAS_GERAIS",9999,"RATEIO","Outras Receitas e Despesas-33702,494"]
[null,null,null,0,-302894,1693.91,1623622.17,4102.34,265304.88399999996,{"$f":"D1627*'Série - IPCA'!$C$444/'Série - IPCA'!$C$385","v":0},{"$f":"E1627*'Série - IPCA'!$C$444/'Série - IPCA'!$C$398","v":-377211.69813326804},{"$f":"F1627*'Série - IPCA'!$C$444/'Série - IPCA'!$C$411","v":1916.6880171404268},{"$f":"G1627*'Série - IPCA'!$C$444/'Série - IPCA'!$C$424","v":1736687.1737702922},{"$f":"H1627*'Série - IPCA'!$C$444/'Série - IPCA'!$C$437","v":4194.1950184294028},273117.27173451881,"Outras Receitas e Despesas","S",null,null,"OPEX",null,"TRIBUTOS_E_TAXAS_FISCAIS",4200,"GERÊNCIA FINANCEIRA","Outras Receitas e Despesas265304,884"]
[null,null,null,0,-1395148.01,7802.25,7478502.1200000001,0,1218231.2720000001,{"$f":"D1628*'Série - IPCA'!$C$444/'Série - IPCA'!$C$385","v":0},{"$f":"E1628*'Série - IPCA'!$C$444/'Série - IPCA'!$C$398","v":-1737459.804417881},{"$f":"F1628*'Série - IPCA'!$C$444/'Série - IPCA'!$C$411","v":8828.3787696712898},{"$f":"G1628*'Série - IPCA'!$C$444/'Série - IPCA'!$C$424","v":7999286.380043664},{"$f":"H1628*'Série - IPCA'!$C$444/'Série - IPCA'!$C$437","v":0},1254130.990879091,"Outras Receitas e Despesas","S",null,null,"OPEX",null,"TRIBUTOS_E_TAXAS_FISCAIS",4200,"GERÊNCIA FINANCEIRA","Outras Receitas e Despesas1218231,272"]
[null,null,null,34915.480000000003,57687.16,102057.16,109998.39,115567.77,84045.19200000001,{"$f":"D1629*'Série - IPCA'!$C$444/'Série - IPCA'!$C$385","v":45446.593209350125},{"$f":"E1629*'Série - IPCA'!$C$444/'Série - IPCA'!$C$398","v":71841.210403921941},{"$f":"F1629*'Série - IPCA'!$C$444/'Série - IPCA'!$C$411","v":115479.41486583305},{"$f":"G1629*'Série - IPCA'!$C$444/'Série - IPCA'!$C$424","v":117658.40389355017},{"$f":"H1629*'Série - IPCA'!$C$444/'Série - IPCA'!$C$437","v":118155.43451420286},93716.211377371626,"Despesas Gerais e Administratias","N","SIM","NÃO","ENCARGOS DE GESTÃO","FUNCIONÁRIOS","PESSOAL",3600,"GERÊNCIA DE GOVERNANÇA, RISCO E COMPLIANCE","Despesas Gerais e Administratias84045,192"]
[null,null,null,150781.75,210320.06,272190.34000000003,298292.56,313395.55,248996.052,{"$f":"D1630*'Série - IPCA'!$C$444/'Série - IPCA'!$C$385","v":196260.13606698025},{"$f":"E1630*'Série - IPCA'!$C$444/'Série - IPCA'!$C$398","v":261923.93043140776},{"$f":"F1630*'Série - IPCA'!$C$444/'Série - IPCA'!$C$411","v":307988.00589132751},{"$f":"G1630*'Série - IPCA'!$C$444/'Série - IPCA'!$C$424","v":319064.91088570521},{"$f":"H1630*'Série - IPCA'!$C$444/'Série - IPCA'!$C$437","v":320412.7533573382},281129.94732655177,"Despesas Gerais e Administratias","N","SIM","NÃO","ENCARGOS DE GESTÃO","FUNCIONÁRIOS","PESSOAL",4100,"GERÊNCIA DE SERVIÇOS CORPORATIVOS","Despesas Gerais e Administratias248996,052"]
[null,null,null,127653,123394.21,131025.37,141220.62,148370.82999999999,134332.80600000001,{"$f":"D1631*'Série - IPCA'!$C$444/'Série - IPCA'!$C$385","v":166155.35467228779},{"$f":"E1631*'Série - IPCA'!$C$444/'Série - IPCA'!$C$398","v":153670.06112340649},{"$f":"F1631*'Série - IPCA'!$C$444/'Série - IPCA'!$C$411","v":148257.43789244452},{"$f":"G1631*'Série - IPCA'!$C$444/'Série - IPCA'!$C$424","v":151054.87222183496},{"$f":"H1631*'Série - IPCA'!$C$444/'Série - IPCA'!$C$437","v":151692.98402039707},154166.14198607416,"Despesas Gerais e Administratias","N","SIM","NÃO","ENCARGOS DE GESTÃO","FUNCIONÁRIOS","PESSOAL",4200,"GERÊNCIA FINANCEIRA","Despesas Gerais e Administratias134332,806"]
[null,null,null,143919.91,127632.77,116049.42,125609.53,131969.26999999999,129036.18000000001,{"$f":"D1632*'Série - IPCA'!$C$444/'Série - IPCA'!$C$385","v":187328.64633384047},{"$f":"E1632*'Série - IPCA'!$C$444/'Série - IPCA'!$C$398","v":158948.58897552552},{"$f":"F1632*'Série - IPCA'!$C$444/'Série - IPCA'!$C$411","v":131311.89538410929},{"$f":"G1632*'Série - IPCA'!$C$444/'Série - IPCA'!$C$424","v":134356.66479863029},{"$f":"H1632*'Série - IPCA'!$C$444/'Série - IPCA'!$C$437","v":134924.17859557344},149373.9948175358,"Despesas Gerais e Administratias","N","SIM","NÃO","ENCARGOS DE GESTÃO","FUNCIONÁRIOS","PESSOAL",4300,"GERÊNCIA DE TECNOLOGIA E SISTEMAS DE INFORMAÇÃO","Despesas Gerais e Administratias129036,18"]
[null,null,null,92737.47,86896.63,87350.25,94147.08,98913.89,92009.063999999998,{"$f":"D1633*'Série - IPCA'!$C$444/'Série - IPCA'!$C$385","v":120708.6963820721},{"$f":"E1633*'Série - IPCA'!$C$444/'Série - IPCA'!$C$398","v":108217.47992485252},{"$f":"F1633*'Série - IPCA'!$C$444/'Série - IPCA'!$C$411","v":98838.295700019808},{"$f":"G1633*'Série - IPCA'!$C$444/'Série - IPCA'!$C$424","v":100703.24814788999},{"$f":"H1633*'Série - IPCA'!$C$444/'Série - IPCA'!$C$437","v":101128.65942156766},105919.27591528041,"Despesas Gerais e Administratias","N","SIM","NÃO","ENCARGOS DE GESTÃO","FUNCIONÁRIOS","PESSOAL",4500,"GERÊNCIA CONTÁBIL","Despesas Gerais e Administratias92009,064"]
[null,null,null,1150.51,0,0,0,0,230.102,{"$f":"D1634*'Série - IPCA'!$C$444/'Série - IPCA'!$C$385","v":1497.5237331203641},{"$f":"E1634*'Série - IPCA'!$C$444/'Série - IPCA'!$C$398","v":0},{"$f":"F1634*'Série - IPCA'!$C$444/'Série - IPCA'!$C$411","v":0},{"$f":"G1634*'Série - IPCA'!$C$444/'Série - IPCA'!$C$424","v":0},{"$f":"H1634*'Série - IPCA'!$C$444/'Série - IPCA'!$C$437","v":0},299.50474662407282,"Despesas Gerais e Administratias","N","SIM","NÃO","ENCARGOS DE GESTÃO","FUNCIONÁRIOS","PESSOAL",4600,"GERÊNCIA DE PESSOAS E CULTURA","Despesas Gerais e Administratias230,102"]
[null,null,null,25092.87,37508.050000000003,45804.02,71290.240000000005,6456.68,37230.371999999996,{"$f":"D1635*'Série - IPCA'!$C$444/'Série - IPCA'!$C$385","v":32661.313988669364},{"$f":"E1635*'Série - IPCA'!$C$444/'Série - IPCA'!$C$398","v":46710.978871049025},{"$f":"F1635*'Série - IPCA'!$C$444/'Série - IPCA'!$C$411","v":51828.028803691122},{"$f":"G1635*'Série - IPCA'!$C$444/'Série - IPCA'!$C$424","v":76254.714742535114},{"$f":"H1635*'Série - IPCA'!$C$444/'Série - IPCA'!$C$437","v":6601.2507718991492},42811.257435568761,"Custos","N","SIM","NÃO","OPEX","EXTENSÃO","VEÍCULOS",5100,"GERÊNCIA DE ENGENHARIA","Custos37230,372"]
[null,null,null,139730.76,117699.24,177409.17,214146.38,147208.10999999999,159238.73200000002,{"$f":"D1636*'Série - IPCA'!$C$444/'Série - IPCA'!$C$385","v":181875.97617312815},{"$f":"E1636*'Série - IPCA'!$C$444/'Série - IPCA'!$C$398","v":146577.78031058743},{"$f":"F1636*'Série - IPCA'!$C$444/'Série - IPCA'!$C$411","v":200741.49764145017},{"$f":"G1636*'Série - IPCA'!$C$444/'Série - IPCA'!$C$424","v":229059.00050338623},{"$f":"H1636*'Série - IPCA'!$C$444/'Série - IPCA'!$C$437","v":150504.22969193372},181751.69686409715,"Custos","N","SIM","NÃO","OPEX","EXTENSÃO","VEÍCULOS",5200,"GERÊNCIA DE OPERAÇÕES","Custos159238,732"]
[null,null,null,709.88,0,0,388.84,33369.97,6893.7380000000003,{"$f":"D1637*'Série - IPCA'!$C$444/'Série - IPCA'!$C$385","v":923.9920971286507},{"$f":"E1637*'Série - IPCA'!$C$444/'Série - IPCA'!$C$398","v":0},{"$f":"F1637*'Série - IPCA'!$C$444/'Série - IPCA'!$C$411","v":0},{"$f":"G1637*'Série - IPCA'!$C$444/'Série - IPCA'!$C$424","v":415.91784907004592},{"$f":"H1637*'Série - IPCA'!$C$444/'Série - IPCA'!$C$437","v":34117.153122154334},7091.4126136706063,"Despesas com Vendas","N","SIM","NÃO","ENCARGOS DE COMERCIALIZAÇÃO","NÚMERO DE CLIENTES","VEÍCULOS",5300,"GERÊNCIA COMERCIAL","Despesas com Vendas6893,738"]
[null,null,null,128,0,0,0,4226.7700000000004,870.95400000000006,{"$f":"D1638*'Série - IPCA'!$C$444/'Série - IPCA'!$C$385","v":166.60701587939835},{"$f":"E1638*'Série - IPCA'!$C$444/'Série - IPCA'!$C$398","v":0},{"$f":"F1638*'Série - IPCA'!$C$444/'Série - IPCA'!$C$411","v":0},{"$f":"G1638*'Série - IPCA'!$C$444/'Série - IPCA'!$C$424","v":0},{"$f":"H1638*'Série - IPCA'!$C$444/'Série - IPCA'!$C$437","v":4321.4111161061364},897.60362639710695,"Despesas com Vendas","N","SIM","NÃO","ENCARGOS DE COMERCIALIZAÇÃO","NÚMERO DE CLIENTES","VEÍCULOS",5300,"GERÊNCIA COMERCIAL","Despesas com Vendas870,954"]
[null,null,null,0,0,838.25,608.6,0,289.37,{"$f":"D1639*'Série - IPCA'!$C$444/'Série - IPCA'!$C$385","v":0},{"$f":"E1639*'Série - IPCA'!$C$444/'Série - IPCA'!$C$398","v":0},{"$f":"F1639*'Série - IPCA'!$C$444/'Série - IPCA'!$C$411","v":948.49415279912307},{"$f":"G1639*'Série - IPCA'!$C$444/'Série - IPCA'!$C$424","v":650.98138808772239},{"$f":"H1639*'Série - IPCA'!$C$444/'Série - IPCA'!$C$437","v":0},319.89510817736908,"Despesas Gerais e Administratias","N","SIM","NÃO","ENCARGOS DE GESTÃO","FIXO","VEÍCULOS",2120,"ASSESSORIA DA PRESIDÊNCIA","Despesas Gerais e Administratias289,37"]
[null,null,null,0,0,0,253.14,0,50.628,{"$f":"D1640*'Série - IPCA'!$C$444/'Série - IPCA'!$C$385","v":0},{"$f":"E1640*'Série - IPCA'!$C$444/'Série - IPCA'!$C$398","v":0},{"$f":"F1640*'Série - IPCA'!$C$444/'Série - IPCA'!$C$411","v":0},{"$f":"G1640*'Série - IPCA'!$C$444/'Série - IPCA'!$C$424","v":270.76803907414728},{"$f":"H1640*'Série - IPCA'!$C$444/'Série - IPCA'!$C$437","v":0},54.153607814829456,"Despesas Gerais e Administratias","N","SIM","NÃO","ENCARGOS DE GESTÃO","FIXO","VEÍCULOS",2100,"SECRETARIA","Despesas Gerais e Administratias50,628"]
[null,null,null,0,0,0,0,255.21,51.042000000000002,{"$f":"D1641*'Série - IPCA'!$C$444/'Série - IPCA'!$C$385","v":0},{"$f":"E1641*'Série - IPCA'!$C$444/'Série - IPCA'!$C$398","v":0},{"$f":"F1641*'Série - IPCA'!$C$444/'Série - IPCA'!$C$411","v":0},{"$f":"G1641*'Série - IPCA'!$C$444/'Série - IPCA'!$C$424","v":0},{"$f":"H1641*'Série - IPCA'!$C$444/'Série - IPCA'!$C$437","v":260.92437746587746},52.18487549317549,"Despesas Gerais e Administratias","N","SIM","NÃO","ENCARGOS DE GESTÃO","FIXO","VEÍCULOS",2130,"ASSESSORIA DE RELAÇÕES INSTITUCIONAIS E NOVOS NEGÓCIOS","Despesas Gerais e Administratias51,042"]
[null,null,null,6798.65,9288.73,10009.16,18776.79,7985.91,10571.848000000002,{"$f":"D1642*'Série - IPCA'!$C$444/'Série - IPCA'!$C$385","v":8849.2405352224341},{"$f":"E1642*'Série - IPCA'!$C$444/'Série - IPCA'!$C$398","v":11567.801332484072},{"$f":"F1642*'Série - IPCA'!$C$444/'Série - IPCA'!$C$411","v":11325.535024671482},{"$f":"G1642*'Série - IPCA'!$C$444/'Série - IPCA'!$C$424","v":20084.358886019822},{"$f":"H1642*'Série - IPCA'!$C$444/'Série - IPCA'!$C$437","v":8164.7215832002094},11998.331472319605,"Despesas Gerais e Administratias","N","SIM","NÃO","ENCARGOS DE GESTÃO","FIXO","VEÍCULOS",2200,"DIRETORIA COLEGIADA - PRESIDÊNCIA","Despesas Gerais e Administratias10571,848"]
[null,null,null,2940.37,899.34,0,266.39999999999998,3321.45,1485.5119999999999,{"$f":"D1643*'Série - IPCA'!$C$444/'Série - IPCA'!$C$385","v":3827.2364943852072},{"$f":"E1643*'Série - IPCA'!$C$444/'Série - IPCA'!$C$398","v":1120.0009528058438},{"$f":"F1643*'Série - IPCA'!$C$444/'Série - IPCA'!$C$411","v":0},{"$f":"G1643*'Série - IPCA'!$C$444/'Série - IPCA'!$C$424","v":284.95143244589093},{"$f":"H1643*'Série - IPCA'!$C$444/'Série - IPCA'!$C$437","v":3395.8202011443077},1725.6018161562497,"Despesas Gerais e Administratias","N","SIM","NÃO","ENCARGOS DE GESTÃO","FIXO","VEÍCULOS",2300,"DIRETORIA COLEGIADA - DAF","Despesas Gerais e Administratias1485,512"]
[null,null,null,0,0,1020.91,0,0,204.18199999999999,{"$f":"D1644*'Série - IPCA'!$C$444/'Série - IPCA'!$C$385","v":0},{"$f":"E1644*'Série - IPCA'!$C$444/'Série - IPCA'!$C$398","v":0},{"$f":"F1644*'Série - IPCA'!$C$444/'Série - IPCA'!$C$411","v":1155.1770540222519},{"$f":"G1644*'Série - IPCA'!$C$444/'Série - IPCA'!$C$424","v":0},{"$f":"H1644*'Série - IPCA'!$C$444/'Série - IPCA'!$C$437","v":0},231.03541080445038,"Despesas Gerais e Administratias","N","SIM","NÃO","ENCARGOS DE GESTÃO","FIXO","VEÍCULOS",2310,"ASSESSORIA DAF","Despesas Gerais e Administratias204,182"]
[null,null,null,42.45,0,0,484.56,3117.65,728.93200000000002,{"$f":"D1645*'Série - IPCA'!$C$444/'Série - IPCA'!$C$385","v":55.253654875628591},{"$f":"E1645*'Série - IPCA'!$C$444/'Série - IPCA'!$C$398","v":0},{"$f":"F1645*'Série - IPCA'!$C$444/'Série - IPCA'!$C$411","v":0},{"$f":"G1645*'Série - IPCA'!$C$444/'Série - IPCA'!$C$424","v":518.30355144887733},{"$f":"H1645*'Série - IPCA'!$C$444/'Série - IPCA'!$C$437","v":3187.4569390168604},752.20282906827322,"Despesas Gerais e Administratias","N","SIM","NÃO","ENCARGOS DE GESTÃO","FIXO","VEÍCULOS",2400,"DIRETORIA COLEGIADA - DTC","Despesas Gerais e Administratias728,932"]
[null,null,null,0,25,66.86,4439.7,12102.85,3326.8820000000001,{"$f":"D1646*'Série - IPCA'!$C$444/'Série - IPCA'!$C$385","v":0},{"$f":"E1646*'Série - IPCA'!$C$444/'Série - IPCA'!$C$398","v":31.133969155320674},{"$f":"F1646*'Série - IPCA'!$C$444/'Série - IPCA'!$C$411","v":75.653228817356833},{"$f":"G1646*'Série - IPCA'!$C$444/'Série - IPCA'!$C$424","v":4748.8696495120939},{"$f":"H1646*'Série - IPCA'!$C$444/'Série - IPCA'!$C$437","v":12373.843508533737},3445.9000712037014,"Despesas Gerais e Administratias","N","SIM","NÃO","ENCARGOS DE GESTÃO","FIXO","VEÍCULOS",2410,"ASSESSORIA DE SEGURANÇA DO TRABALHO","Despesas Gerais e Administratias3326,882"]
[null,null,null,11146.82,3097.78,9495.18,5610.92,0,5870.1399999999994,{"$f":"D1647*'Série - IPCA'!$C$444/'Série - IPCA'!$C$385","v":14508.893880818712},{"$f":"E1647*'Série - IPCA'!$C$444/'Série - IPCA'!$C$398","v":3857.8474787987711},{"$f":"F1647*'Série - IPCA'!$C$444/'Série - IPCA'!$C$411","v":10743.957900119509},{"$f":"G1647*'Série - IPCA'!$C$444/'Série - IPCA'!$C$424","v":6001.6504930153851},{"$f":"H1647*'Série - IPCA'!$C$444/'Série - IPCA'!$C$437","v":0},7022.4699505504759,"Despesas Gerais e Administratias","N","SIM","NÃO","ENCARGOS DE GESTÃO","FIXO","VEÍCULOS",3100,"SMS","Despesas Gerais e Administratias5870,14"]
[null,null,null,54.69,3192.91,279.58999999999997,251.69,1411.74,1038.124,{"$f":"D1648*'Série - IPCA'!$C$444/'Série - IPCA'!$C$385","v":71.18545076909605},{"$f":"E1648*'Série - IPCA'!$C$444/'Série - IPCA'!$C$398","v":3976.3184582285971},{"$f":"F1648*'Série - IPCA'!$C$444/'Série - IPCA'!$C$411","v":316.3608472187376},{"$f":"G1648*'Série - IPCA'!$C$444/'Série - IPCA'!$C$424","v":269.21706468583443},{"$f":"H1648*'Série - IPCA'!$C$444/'Série - IPCA'!$C$437","v":1443.3501063582064},1215.2863854520942,"Despesas Gerais e Administratias","N","SIM","NÃO","ENCARGOS DE GESTÃO","FIXO","VEÍCULOS",3200,"GERÊNCIA DE PLANEJAMENTO E MEIO AMBIENTE","Despesas Gerais e Administratias1038,124"]
[null,null,null,18075.04,7506.42,9864.81,16301.22,13570.08,13063.513999999999,{"$f":"D1649*'Série - IPCA'!$C$444/'Série - IPCA'!$C$385","v":23526.784971099692},{"$f":"E1649*'Série - IPCA'!$C$444/'Série - IPCA'!$C$398","v":9348.1859498752874},{"$f":"F1649*'Série - IPCA'!$C$444/'Série - IPCA'!$C$411","v":11162.200540977412},{"$f":"G1649*'Série - IPCA'!$C$444/'Série - IPCA'!$C$424","v":17436.396357415939},{"$f":"H1649*'Série - IPCA'!$C$444/'Série - IPCA'!$C$437","v":13873.926085036457},15069.498780880956,"Despesas Gerais e Administratias","N","SIM","NÃO","ENCARGOS DE GESTÃO","FIXO","VEÍCULOS",4100,"GERÊNCIA DE SERVIÇOS CORPORATIVOS","Despesas Gerais e Administratias13063,514"]
[null,null,null,90.13,0,26.04,121.35,971.04,241.71199999999999,{"$f":"D1650*'Série - IPCA'!$C$444/'Série - IPCA'!$C$385","v":117.31476829070446},{"$f":"E1650*'Série - IPCA'!$C$444/'Série - IPCA'!$C$398","v":0},{"$f":"F1650*'Série - IPCA'!$C$444/'Série - IPCA'!$C$411","v":29.464703535805743},{"$f":"G1650*'Série - IPCA'!$C$444/'Série - IPCA'!$C$424","v":129.80051173914737},{"$f":"H1650*'Série - IPCA'!$C$444/'Série - IPCA'!$C$437","v":992.78244384806885},253.87248548274528,"Custos","N","SIM","NÃO","OPEX","EXTENSÃO","VEÍCULOS",5100,"GERÊNCIA DE ENGENHARIA","Custos241,712"]
[null,null,null,640.22,2553.02,737.15,-84.13,14716.96,3712.6439999999993,{"$f":"D1651*'Série - IPCA'!$C$444/'Série - IPCA'!$C$385","v":833.32143520553439},{"$f":"E1651*'Série - IPCA'!$C$444/'Série - IPCA'!$C$398","v":3179.4258373166713},{"$f":"F1651*'Série - IPCA'!$C$444/'Série - IPCA'!$C$411","v":834.09778077646718},{"$f":"G1651*'Série - IPCA'!$C$444/'Série - IPCA'!$C$424","v":-89.988603647420447},{"$f":"H1651*'Série - IPCA'!$C$444/'Série - IPCA'!$C$437","v":15046.485741899689},3960.6684383101879,"Custos","N","SIM","NÃO","OPEX","EXTENSÃO","VEÍCULOS",5200,"GERÊNCIA DE OPERAÇÕES","Custos3712,644"]
[null,null,null,70,30,293.45999999999998,104.13,736.16,246.75,{"$f":"D1652*'Série - IPCA'!$C$444/'Série - IPCA'!$C$385","v":91.113211809045964},{"$f":"E1652*'Série - IPCA'!$C$444/'Série - IPCA'!$C$398","v":37.360762986384806},{"$f":"F1652*'Série - IPCA'!$C$444/'Série - IPCA'!$C$411","v":332.05498846457573},{"$f":"G1652*'Série - IPCA'!$C$444/'Série - IPCA'!$C$424","v":111.38135383104587},{"$f":"H1652*'Série - IPCA'!$C$444/'Série - IPCA'!$C$437","v":752.6432730507438},264.91071802835921,"Despesas Gerais e Administratias","N","SIM","NÃO","ENCARGOS DE GESTÃO","FIXO","VEÍCULOS",2200,"DIRETORIA COLEGIADA - PRESIDÊNCIA","Despesas Gerais e Administratias246,75"]
[null,null,null,0,0,-2362.11,0,1977.32,-76.958000000000041,{"$f":"D1653*'Série - IPCA'!$C$444/'Série - IPCA'!$C$385","v":0},{"$f":"E1653*'Série - IPCA'!$C$444/'Série - IPCA'!$C$398","v":0},{"$f":"F1653*'Série - IPCA'!$C$444/'Série - IPCA'!$C$411","v":-2672.7676985008493},{"$f":"G1653*'Série - IPCA'!$C$444/'Série - IPCA'!$C$424","v":0},{"$f":"H1653*'Série - IPCA'!$C$444/'Série - IPCA'!$C$437","v":2021.593942442807},-130.23475121160845,"Despesas Gerais e Administratias","N","SIM","NÃO","ENCARGOS DE GESTÃO","FIXO","VEÍCULOS",2400,"DIRETORIA COLEGIADA - DTC","Despesas Gerais e Administratias-76,958"]
[null,null,null,0,300,750,1210,2505.27,953.05400000000009,{"$f":"D1654*'Série - IPCA'!$C$444/'Série - IPCA'!$C$385","v":0},{"$f":"E1654*'Série - IPCA'!$C$444/'Série - IPCA'!$C$398","v":373.60762986384805},{"$f":"F1654*'Série - IPCA'!$C$444/'Série - IPCA'!$C$411","v":848.63777464878297},{"$f":"G1654*'Série - IPCA'!$C$444/'Série - IPCA'!$C$424","v":1294.2613861093396},{"$f":"H1654*'Série - IPCA'!$C$444/'Série - IPCA'!$C$437","v":2561.365209568351},1015.5744000380644,"Despesas Gerais e Administratias","N","SIM","NÃO","ENCARGOS DE GESTÃO","FIXO","VEÍCULOS",2410,"ASSESSORIA DE SEGURANÇA DO TRABALHO","Despesas Gerais e Administratias953,054"]
[null,null,null,22,0,195.23,0,0,43.445999999999998,{"$f":"D1655*'Série - IPCA'!$C$444/'Série - IPCA'!$C$385","v":28.635580854271588},{"$f":"E1655*'Série - IPCA'!$C$444/'Série - IPCA'!$C$398","v":0},{"$f":"F1655*'Série - IPCA'!$C$444/'Série - IPCA'!$C$411","v":220.90607032624251},{"$f":"G1655*'Série - IPCA'!$C$444/'Série - IPCA'!$C$424","v":0},{"$f":"H1655*'Série - IPCA'!$C$444/'Série - IPCA'!$C$437","v":0},49.90833023610282,"Despesas Gerais e Administratias","N","SIM","NÃO","ENCARGOS DE GESTÃO","FIXO","VEÍCULOS",3200,"GERÊNCIA DE PLANEJAMENTO E MEIO AMBIENTE","Despesas Gerais e Administratias43,446"]
[null,null,null,158111.41,117378.46,101889.76,103453.83,108500.12,117866.71600000001,{"$f":"D1656*'Série - IPCA'!$C$444/'Série - IPCA'!$C$385","v":205800.548410813},{"$f":"E1656*'Série - IPCA'!$C$444/'Série - IPCA'!$C$398","v":146178.29412556166},{"$f":"F1656*'Série - IPCA'!$C$444/'Série - IPCA'!$C$411","v":115289.99891453143},{"$f":"G1656*'Série - IPCA'!$C$444/'Série - IPCA'!$C$424","v":110658.09703646279},{"$f":"H1656*'Série - IPCA'!$C$444/'Série - IPCA'!$C$437","v":110929.53358400142},137771.29441427407,"Despesas Gerais e Administratias","N","SIM","NÃO","ENCARGOS DE GESTÃO","FIXO","VEÍCULOS",4100,"GERÊNCIA DE SERVIÇOS CORPORATIVOS","Despesas Gerais e Administratias117866,716"]
[null,null,null,-69733.929999999993,0,0,0,0,-13946.785999999998,{"$f":"D1657*'Série - IPCA'!$C$444/'Série - IPCA'!$C$385","v":-90766.890490959777},{"$f":"E1657*'Série - IPCA'!$C$444/'Série - IPCA'!$C$398","v":0},{"$f":"F1657*'Série - IPCA'!$C$444/'Série - IPCA'!$C$411","v":0},{"$f":"G1657*'Série - IPCA'!$C$444/'Série - IPCA'!$C$424","v":0},{"$f":"H1657*'Série - IPCA'!$C$444/'Série - IPCA'!$C$437","v":0},-18153.378098191955,"Despesas Gerais e Administratias","S","NÃO","SIM","ENCARGOS DE GESTÃO","FIXO","DESPESAS_GERAIS",9999,"RATEIO","Despesas Gerais e Administratias-13946,786"]
[null,null,null,0,0,11153184.640000001,0,0,2230636.9280000003,{"$f":"D1658*'Série - IPCA'!$C$444/'Série - IPCA'!$C$385","v":0},{"$f":"E1658*'Série - IPCA'!$C$444/'Série - IPCA'!$C$398","v":0},{"$f":"F1658*'Série - IPCA'!$C$444/'Série - IPCA'!$C$411","v":12620018.390848784},{"$f":"G1658*'Série - IPCA'!$C$444/'Série - IPCA'!$C$424","v":0},{"$f":"H1658*'Série - IPCA'!$C$444/'Série - IPCA'!$C$437","v":0},2524003.6781697567,"Outras Receitas e Despesas","S",null,null,"OPEX",null,"SERVIÇOS",9999,"RATEIO","Outras Receitas e Despesas2230636,928"]
[null,null,null,0,22571787.719999999,0,0,4828295.5199999996,5480016.648,{"$f":"D1659*'Série - IPCA'!$C$444/'Série - IPCA'!$C$385","v":0},{"$f":"E1659*'Série - IPCA'!$C$444/'Série - IPCA'!$C$398","v":28109973.706197035},{"$f":"F1659*'Série - IPCA'!$C$444/'Série - IPCA'!$C$411","v":0},{"$f":"G1659*'Série - IPCA'!$C$444/'Série - IPCA'!$C$424","v":0},{"$f":"H1659*'Série - IPCA'!$C$444/'Série - IPCA'!$C$437","v":4936405.3241537753},6609275.806070162,"Outras Receitas e Despesas","S",null,null,"OPEX",null,"DESPESA GERAIS",4200,"GERÊNCIA FINANCEIRA","Outras Receitas e Despesas5480016,648"]
[null,null,null,90919.91,0,0,0,0,18183.982,{"$f":"D1660*'Série - IPCA'!$C$444/'Série - IPCA'!$C$385","v":118342.92882127712},{"$f":"E1660*'Série - IPCA'!$C$444/'Série - IPCA'!$C$398","v":0},{"$f":"F1660*'Série - IPCA'!$C$444/'Série - IPCA'!$C$411","v":0},{"$f":"G1660*'Série - IPCA'!$C$444/'Série - IPCA'!$C$424","v":0},{"$f":"H1660*'Série - IPCA'!$C$444/'Série - IPCA'!$C$437","v":0},23668.585764255426,"Despesas com Vendas","N","SIM","NÃO","ENCARGOS DE COMERCIALIZAÇÃO","FIXO","DESPESAS_GERAIS",5400,"GERÊNCIA COMERCIAL (inativo)","Despesas com Vendas18183,982"]
[null,null,null,45503.54,0,0,0,0,9100.7080000000005,{"$f":"D1661*'Série - IPCA'!$C$444/'Série - IPCA'!$C$385","v":59228.195401162797},{"$f":"E1661*'Série - IPCA'!$C$444/'Série - IPCA'!$C$398","v":0},{"$f":"F1661*'Série - IPCA'!$C$444/'Série - IPCA'!$C$411","v":0},{"$f":"G1661*'Série - IPCA'!$C$444/'Série - IPCA'!$C$424","v":0},{"$f":"H1661*'Série - IPCA'!$C$444/'Série - IPCA'!$C$437","v":0},11845.639080232559,"Despesas com Vendas","N","SIM","NÃO","ENCARGOS DE COMERCIALIZAÇÃO","FIXO","DESPESAS_GERAIS",5500,"GERÊNCIA COMERCIAL (inativo)","Despesas com Vendas9100,708"]
[null,null,null,15952.38,0,0,0,0,3190.4759999999997,{"$f":"D1662*'Série - IPCA'!$C$444/'Série - IPCA'!$C$385","v":20763.893968548411},{"$f":"E1662*'Série - IPCA'!$C$444/'Série - IPCA'!$C$398","v":0},{"$f":"F1662*'Série - IPCA'!$C$444/'Série - IPCA'!$C$411","v":0},{"$f":"G1662*'Série - IPCA'!$C$444/'Série - IPCA'!$C$424","v":0},{"$f":"H1662*'Série - IPCA'!$C$444/'Série - IPCA'!$C$437","v":0},4152.7787937096818,"Despesas Gerais e Administratias","N","SIM","NÃO","ENCARGOS DE GESTÃO","FIXO","DESPESAS_GERAIS",2100,"SECRETARIA","Despesas Gerais e Administratias3190,476"]
[null,null,null,38616.99,0,0,0,0,7723.3979999999992,{"$f":"D1663*'Série - IPCA'!$C$444/'Série - IPCA'!$C$385","v":50264.542704254432},{"$f":"E1663*'Série - IPCA'!$C$444/'Série - IPCA'!$C$398","v":0},{"$f":"F1663*'Série - IPCA'!$C$444/'Série - IPCA'!$C$411","v":0},{"$f":"G1663*'Série - IPCA'!$C$444/'Série - IPCA'!$C$424","v":0},{"$f":"H1663*'Série - IPCA'!$C$444/'Série - IPCA'!$C$437","v":0},10052.908540850887,"Despesas Gerais e Administratias","N","SIM","NÃO","ENCARGOS DE GESTÃO","FIXO","DESPESAS_GERAIS",3100,"SMS","Despesas Gerais e Administratias7723,398"]
[null,null,null,0,-95814.19,10955.45,105178.13,2449553.61,493974.6,{"$f":"D1664*'Série - IPCA'!$C$444/'Série - IPCA'!$C$385","v":0},{"$f":"E1664*'Série - IPCA'!$C$444/'Série - IPCA'!$C$398","v":-119323.04144408139},{"$f":"F1664*'Série - IPCA'!$C$444/'Série - IPCA'!$C$411","v":12396.278277701347},{"$f":"G1664*'Série - IPCA'!$C$444/'Série - IPCA'!$C$424","v":112502.47299354406},{"$f":"H1664*'Série - IPCA'!$C$444/'Série - IPCA'!$C$437","v":2504401.280351643},501995.39803576143,"Outras Receitas e Despesas","S",null,null,"OPEX",null,"DESPESA GERAIS",9999,"RATEIO","Outras Receitas e Despesas493974,6"]
[null,null,null,31817.59,0,0,0,0,6363.518,{"$f":"D1665*'Série - IPCA'!$C$444/'Série - IPCA'!$C$385","v":41414.325956048335},{"$f":"E1665*'Série - IPCA'!$C$444/'Série - IPCA'!$C$398","v":0},{"$f":"F1665*'Série - IPCA'!$C$444/'Série - IPCA'!$C$411","v":0},{"$f":"G1665*'Série - IPCA'!$C$444/'Série - IPCA'!$C$424","v":0},{"$f":"H1665*'Série - IPCA'!$C$444/'Série - IPCA'!$C$437","v":0},8282.8651912096666,"Despesas Gerais e Administratias","N","SIM","NÃO","ENCARGOS DE GESTÃO","FIXO","DESPESAS_GERAIS",3400,"MARKETING","Despesas Gerais e Administratias6363,518"]
[null,null,null,31817.61,0,0,0,0,6363.5219999999999,{"$f":"D1666*'Série - IPCA'!$C$444/'Série - IPCA'!$C$385","v":41414.351988394563},{"$f":"E1666*'Série - IPCA'!$C$444/'Série - IPCA'!$C$398","v":0},{"$f":"F1666*'Série - IPCA'!$C$444/'Série - IPCA'!$C$411","v":0},{"$f":"G1666*'Série - IPCA'!$C$444/'Série - IPCA'!$C$424","v":0},{"$f":"H1666*'Série - IPCA'!$C$444/'Série - IPCA'!$C$437","v":0},8282.8703976789129,"Despesas Gerais e Administratias","N","SIM","NÃO","ENCARGOS DE GESTÃO","FIXO","DESPESAS_GERAIS",4600,"GERÊNCIA DE PESSOAS E CULTURA","Despesas Gerais e Administratias6363,522"]
[null,null,null,{"$f":"SUM(D4:D1666)","v":535893728.31999934},483110935.45999914,603949114.43000257,1060197711.6,823865470.23999798,701403468.13999951,null,null,null,null,null,null,null,0,0,0,0,0]
[]
[null,"TOTAL",null,{"$f":"SUBTOTAL(9,D4:D1666)","v":535893728.31999934},483110935.45999914,603949114.43000257,1060197711.6,823865470.23999798,701403468.13999951,697528553.9365623,601646438.52839148,683378709.96130478,1134027239.4755061,842312546.28738749,791778697.63783169]

{"sheet":"DRIVER_OPEX","index":9,"n_rows":449,"n_cols":11,"rows_kept":449,"cut":false,"hidden":false,"merged":[]}
["Grupo de Gastos","Centro de Custo","Descrição do Centro de Custo",null,"Critérios","Orçamento Base","2024/2025","2025/2026","2026/2027","2027/2028","2028/2029"]
[null,null,null,null,null,{"$f":"SUMIF($C$3:$C$436,$C$3,F3:F436)","v":69466314.890104532},{"$f":"SUMIF($C$3:$C$436,$C$3,G3:G436)","v":75458204.512340441},81785596.936070234,89492669.233932748,92352025.21002084,93875377.156442836]
["ALUGUÉIS","TOTAL","TOTAL","ALOCAÇÃO",null,{"$f":"SUM(F4:F38)","v":2438344.053936962},{"$f":"SUM(G4:G38)","v":2438344.053936962},2438344.053936962,2438344.053936962,2438344.053936962,2438344.053936962]
["ALUGUÉIS",2130,{"$f":"VLOOKUP(B4,Centro_Custo!$A$2:$B$36,2,0)","v":"ASSESSORIA DE RELAÇÕES INSTITUCIONAIS E NOVOS NEGÓCIOS"},{"$f":"VLOOKUP(B4,Centro_Custo!$A$2:$C$36,3)","v":"Encargos de Gestão"},"Fixo",{"$f":"SUMIFS('Classificação OPEX'!$O$4:$O$1666,'Classificação OPEX'!$Q$4:$Q$1666,\"N\",'Classificação OPEX'!$S$4:$S$1666,\"NÃO\",'Classificação OPEX'!$V$4:$V$1666,DRIVER_OPEX!A4,'Classificação OPEX'!$W$4:$W$1666,DRIVER_OPEX!B4)","v":135.65082246844801},{"$f":"IF($F4=\"\",0,VLOOKUP($E4,Drivers!$A$26:$F$48,MATCH(G$1,Drivers!$A$25:$F$25,0),0)*$F4)","v":135.65082246844801},{"$f":"IF($F4=\"\",0,VLOOKUP($E4,Drivers!$A$26:$F$48,MATCH(H$1,Drivers!$A$25:$F$25,0),0)*$F4)","v":135.65082246844801},{"$f":"IF($F4=\"\",0,VLOOKUP($E4,Drivers!$A$26:$F$48,MATCH(I$1,Drivers!$A$25:$F$25,0),0)*$F4)","v":135.65082246844801},{"$f":"IF($F4=\"\",0,VLOOKUP($E4,Drivers!$A$26:$F$48,MATCH(J$1,Drivers!$A$25:$F$25,0),0)*$F4)","v":135.65082246844801},{"$f":"IF($F4=\"\",0,VLOOKUP($E4,Drivers!$A$26:$F$48,MATCH(K$1,Drivers!$A$25:$F$25,0),0)*$F4)","v":135.65082246844801}]
["ALUGUÉIS",2400,{"$f":"VLOOKUP(B5,Centro_Custo!$A$2:$B$36,2,0)","v":"DIRETORIA COLEGIADA - DTC"},{"$f":"VLOOKUP(B5,Centro_Custo!$A$2:$C$36,3)","v":"Encargos de Comercialização"},"Fixo",{"$f":"SUMIFS('Classificação OPEX'!$O$4:$O$1666,'Classificação OPEX'!$Q$4:$Q$1666,\"N\",'Classificação OPEX'!$S$4:$S$1666,\"NÃO\",'Classificação OPEX'!$V$4:$V$1666,DRIVER_OPEX!A5,'Classificação OPEX'!$W$4:$W$1666,DRIVER_OPEX!B5)","v":475.04415733246674},{"$f":"IF($F5=\"\",0,VLOOKUP($E5,Drivers!$A$26:$F$48,MATCH(G$1,Drivers!$A$25:$F$25,0),0)*$F5)","v":475.04415733246674},{"$f":"IF($F5=\"\",0,VLOOKUP($E5,Drivers!$A$26:$F$48,MATCH(H$1,Drivers!$A$25:$F$25,0),0)*$F5)","v":475.04415733246674},{"$f":"IF($F5=\"\",0,VLOOKUP($E5,Drivers!$A$26:$F$48,MATCH(I$1,Drivers!$A$25:$F$25,0),0)*$F5)","v":475.04415733246674},{"$f":"IF($F5=\"\",0,VLOOKUP($E5,Drivers!$A$26:$F$48,MATCH(J$1,Drivers!$A$25:$F$25,0),0)*$F5)","v":475.04415733246674},{"$f":"IF($F5=\"\",0,VLOOKUP($E5,Drivers!$A$26:$F$48,MATCH(K$1,Drivers!$A$25:$F$25,0),0)*$F5)","v":475.04415733246674}]
["ALUGUÉIS",4100,{"$f":"VLOOKUP(B6,Centro_Custo!$A$2:$B$36,2,0)","v":"GERÊNCIA DE SERVIÇOS CORPORATIVOS"},{"$f":"VLOOKUP(B6,Centro_Custo!$A$2:$C$36,3)","v":"Encargos de Gestão"},"Fixo",{"$f":"SUMIFS('Classificação OPEX'!$O$4:$O$1666,'Classificação OPEX'!$Q$4:$Q$1666,\"N\",'Classificação OPEX'!$S$4:$S$1666,\"NÃO\",'Classificação OPEX'!$V$4:$V$1666,DRIVER_OPEX!A6,'Classificação OPEX'!$W$4:$W$1666,DRIVER_OPEX!B6)","v":1998063.8273570712},{"$f":"IF($F6=\"\",0,VLOOKUP($E6,Drivers!$A$26:$F$48,MATCH(G$1,Drivers!$A$25:$F$25,0),0)*$F6)","v":1998063.8273570712},{"$f":"IF($F6=\"\",0,VLOOKUP($E6,Drivers!$A$26:$F$48,MATCH(H$1,Drivers!$A$25:$F$25,0),0)*$F6)","v":1998063.8273570712},{"$f":"IF($F6=\"\",0,VLOOKUP($E6,Drivers!$A$26:$F$48,MATCH(I$1,Drivers!$A$25:$F$25,0),0)*$F6)","v":1998063.8273570712},{"$f":"IF($F6=\"\",0,VLOOKUP($E6,Drivers!$A$26:$F$48,MATCH(J$1,Drivers!$A$25:$F$25,0),0)*$F6)","v":1998063.8273570712},{"$f":"IF($F6=\"\",0,VLOOKUP($E6,Drivers!$A$26:$F$48,MATCH(K$1,Drivers!$A$25:$F$25,0),0)*$F6)","v":1998063.8273570712}]
["ALUGUÉIS",4300,{"$f":"VLOOKUP(B7,Centro_Custo!$A$2:$B$36,2,0)","v":"GERÊNCIA DE TECNOLOGIA E SISTEMAS DE INFORMAÇÃO"},{"$f":"VLOOKUP(B7,Centro_Custo!$A$2:$C$36,3)","v":"Encargos de Gestão"},"Fixo",{"$f":"SUMIFS('Classificação OPEX'!$O$4:$O$1666,'Classificação OPEX'!$Q$4:$Q$1666,\"N\",'Classificação OPEX'!$S$4:$S$1666,\"NÃO\",'Classificação OPEX'!$V$4:$V$1666,DRIVER_OPEX!A7,'Classificação OPEX'!$W$4:$W$1666,DRIVER_OPEX!B7)","v":138429.03785538147},{"$f":"IF($F7=\"\",0,VLOOKUP($E7,Drivers!$A$26:$F$48,MATCH(G$1,Drivers!$A$25:$F$25,0),0)*$F7)","v":138429.03785538147},{"$f":"IF($F7=\"\",0,VLOOKUP($E7,Drivers!$A$26:$F$48,MATCH(H$1,Drivers!$A$25:$F$25,0),0)*$F7)","v":138429.03785538147},{"$f":"IF($F7=\"\",0,VLOOKUP($E7,Drivers!$A$26:$F$48,MATCH(I$1,Drivers!$A$25:$F$25,0),0)*$F7)","v":138429.03785538147},{"$f":"IF($F7=\"\",0,VLOOKUP($E7,Drivers!$A$26:$F$48,MATCH(J$1,Drivers!$A$25:$F$25,0),0)*$F7)","v":138429.03785538147},{"$f":"IF($F7=\"\",0,VLOOKUP($E7,Drivers!$A$26:$F$48,MATCH(K$1,Drivers!$A$25:$F$25,0),0)*$F7)","v":138429.03785538147}]
["ALUGUÉIS",5100,{"$f":"VLOOKUP(B8,Centro_Custo!$A$2:$B$36,2,0)","v":"GERÊNCIA DE ENGENHARIA"},{"$f":"VLOOKUP(B8,Centro_Custo!$A$2:$C$36,3)","v":"OPEX&ODESP"},"Fixo",{"$f":"SUMIFS('Classificação OPEX'!$O$4:$O$1666,'Classificação OPEX'!$Q$4:$Q$1666,\"N\",'Classificação OPEX'!$S$4:$S$1666,\"NÃO\",'Classificação OPEX'!$V$4:$V$1666,DRIVER_OPEX!A8,'Classificação OPEX'!$W$4:$W$1666,DRIVER_OPEX!B8)","v":50121.418334292313},{"$f":"IF($F8=\"\",0,VLOOKUP($E8,Drivers!$A$26:$F$48,MATCH(G$1,Drivers!$A$25:$F$25,0),0)*$F8)","v":50121.418334292313},{"$f":"IF($F8=\"\",0,VLOOKUP($E8,Drivers!$A$26:$F$48,MATCH(H$1,Drivers!$A$25:$F$25,0),0)*$F8)","v":50121.418334292313},{"$f":"IF($F8=\"\",0,VLOOKUP($E8,Drivers!$A$26:$F$48,MATCH(I$1,Drivers!$A$25:$F$25,0),0)*$F8)","v":50121.418334292313},{"$f":"IF($F8=\"\",0,VLOOKUP($E8,Drivers!$A$26:$F$48,MATCH(J$1,Drivers!$A$25:$F$25,0),0)*$F8)","v":50121.418334292313},{"$f":"IF($F8=\"\",0,VLOOKUP($E8,Drivers!$A$26:$F$48,MATCH(K$1,Drivers!$A$25:$F$25,0),0)*$F8)","v":50121.418334292313}]
["ALUGUÉIS",5200,{"$f":"VLOOKUP(B9,Centro_Custo!$A$2:$B$36,2,0)","v":"GERÊNCIA DE OPERAÇÕES"},{"$f":"VLOOKUP(B9,Centro_Custo!$A$2:$C$36,3)","v":"OPEX&ODESP"},"Fixo",{"$f":"SUMIFS('Classificação OPEX'!$O$4:$O$1666,'Classificação OPEX'!$Q$4:$Q$1666,\"N\",'Classificação OPEX'!$S$4:$S$1666,\"NÃO\",'Classificação OPEX'!$V$4:$V$1666,DRIVER_OPEX!A9,'Classificação OPEX'!$W$4:$W$1666,DRIVER_OPEX!B9)","v":86249.531952855919},{"$f":"IF($F9=\"\",0,VLOOKUP($E9,Drivers!$A$26:$F$48,MATCH(G$1,Drivers!$A$25:$F$25,0),0)*$F9)","v":86249.531952855919},{"$f":"IF($F9=\"\",0,VLOOKUP($E9,Drivers!$A$26:$F$48,MATCH(H$1,Drivers!$A$25:$F$25,0),0)*$F9)","v":86249.531952855919},{"$f":"IF($F9=\"\",0,VLOOKUP($E9,Drivers!$A$26:$F$48,MATCH(I$1,Drivers!$A$25:$F$25,0),0)*$F9)","v":86249.531952855919},{"$f":"IF($F9=\"\",0,VLOOKUP($E9,Drivers!$A$26:$F$48,MATCH(J$1,Drivers!$A$25:$F$25,0),0)*$F9)","v":86249.531952855919},{"$f":"IF($F9=\"\",0,VLOOKUP($E9,Drivers!$A$26:$F$48,MATCH(K$1,Drivers!$A$25:$F$25,0),0)*$F9)","v":86249.531952855919}]
["ALUGUÉIS",9999,{"$f":"VLOOKUP(B10,Centro_Custo!$A$2:$B$36,2,0)","v":"RATEIO"},{"$f":"VLOOKUP(B10,Centro_Custo!$A$2:$C$36,3)","v":"Encargos de Gestão"},"Município",{"$f":"SUMIFS('Classificação OPEX'!$O$4:$O$1666,'Classificação OPEX'!$Q$4:$Q$1666,\"N\",'Classificação OPEX'!$S$4:$S$1666,\"NÃO\",'Classificação OPEX'!$V$4:$V$1666,DRIVER_OPEX!A10,'Classificação OPEX'!$W$4:$W$1666,DRIVER_OPEX!B10)","v":0},{"$f":"IF($F10=\"\",0,VLOOKUP($E10,Drivers!$A$26:$F$48,MATCH(G$1,Drivers!$A$25:$F$25,0),0)*$F10)","v":0},{"$f":"IF($F10=\"\",0,VLOOKUP($E10,Drivers!$A$26:$F$48,MATCH(H$1,Drivers!$A$25:$F$25,0),0)*$F10)","v":0},{"$f":"IF($F10=\"\",0,VLOOKUP($E10,Drivers!$A$26:$F$48,MATCH(I$1,Drivers!$A$25:$F$25,0),0)*$F10)","v":0},{"$f":"IF($F10=\"\",0,VLOOKUP($E10,Drivers!$A$26:$F$48,MATCH(J$1,Drivers!$A$25:$F$25,0),0)*$F10)","v":0},{"$f":"IF($F10=\"\",0,VLOOKUP($E10,Drivers!$A$26:$F$48,MATCH(K$1,Drivers!$A$25:$F$25,0),0)*$F10)","v":0}]
["ALUGUÉIS",1001,"CONSELHO DE ADMINISTRAÇÃO",{"$f":"VLOOKUP(B11,Centro_Custo!$A$2:$C$36,3)","v":"Encargos de Gestão"},"Fixo",{"$f":"SUMIFS('Classificação OPEX'!$O$4:$O$1666,'Classificação OPEX'!$Q$4:$Q$1666,\"N\",'Classificação OPEX'!$S$4:$S$1666,\"NÃO\",'Classificação OPEX'!$V$4:$V$1666,DRIVER_OPEX!A11,'Classificação OPEX'!$W$4:$W$1666,DRIVER_OPEX!B11)","v":0},{"$f":"IF($F11=\"\",0,VLOOKUP($E11,Drivers!$A$26:$F$48,MATCH(G$1,Drivers!$A$25:$F$25,0),0)*$F11)","v":0},{"$f":"IF($F11=\"\",0,VLOOKUP($E11,Drivers!$A$26:$F$48,MATCH(H$1,Drivers!$A$25:$F$25,0),0)*$F11)","v":0},{"$f":"IF($F11=\"\",0,VLOOKUP($E11,Drivers!$A$26:$F$48,MATCH(I$1,Drivers!$A$25:$F$25,0),0)*$F11)","v":0},{"$f":"IF($F11=\"\",0,VLOOKUP($E11,Drivers!$A$26:$F$48,MATCH(J$1,Drivers!$A$25:$F$25,0),0)*$F11)","v":0},{"$f":"IF($F11=\"\",0,VLOOKUP($E11,Drivers!$A$26:$F$48,MATCH(K$1,Drivers!$A$25:$F$25,0),0)*$F11)","v":0}]
["ALUGUÉIS",1002,"CONSELHO FISCAL",{"$f":"VLOOKUP(B12,Centro_Custo!$A$2:$C$36,3)","v":"Encargos de Gestão"},"Fixo",{"$f":"SUMIFS('Classificação OPEX'!$O$4:$O$1666,'Classificação OPEX'!$Q$4:$Q$1666,\"N\",'Classificação OPEX'!$S$4:$S$1666,\"NÃO\",'Classificação OPEX'!$V$4:$V$1666,DRIVER_OPEX!A12,'Classificação OPEX'!$W$4:$W$1666,DRIVER_OPEX!B12)","v":0},{"$f":"IF($F12=\"\",0,VLOOKUP($E12,Drivers!$A$26:$F$48,MATCH(G$1,Drivers!$A$25:$F$25,0),0)*$F12)","v":0},{"$f":"IF($F12=\"\",0,VLOOKUP($E12,Drivers!$A$26:$F$48,MATCH(H$1,Drivers!$A$25:$F$25,0),0)*$F12)","v":0},{"$f":"IF($F12=\"\",0,VLOOKUP($E12,Drivers!$A$26:$F$48,MATCH(I$1,Drivers!$A$25:$F$25,0),0)*$F12)","v":0},{"$f":"IF($F12=\"\",0,VLOOKUP($E12,Drivers!$A$26:$F$48,MATCH(J$1,Drivers!$A$25:$F$25,0),0)*$F12)","v":0},{"$f":"IF($F12=\"\",0,VLOOKUP($E12,Drivers!$A$26:$F$48,MATCH(K$1,Drivers!$A$25:$F$25,0),0)*$F12)","v":0}]
["ALUGUÉIS",1003,"COMITÊ DE INDICAÇÃO E AVALIAÇÃO",{"$f":"VLOOKUP(B13,Centro_Custo!$A$2:$C$36,3)","v":"Encargos de Gestão"},"Fixo",{"$f":"SUMIFS('Classificação OPEX'!$O$4:$O$1666,'Classificação OPEX'!$Q$4:$Q$1666,\"N\",'Classificação OPEX'!$S$4:$S$1666,\"NÃO\",'Classificação OPEX'!$V$4:$V$1666,DRIVER_OPEX!A13,'Classificação OPEX'!$W$4:$W$1666,DRIVER_OPEX!B13)","v":0},{"$f":"IF($F13=\"\",0,VLOOKUP($E13,Drivers!$A$26:$F$48,MATCH(G$1,Drivers!$A$25:$F$25,0),0)*$F13)","v":0},{"$f":"IF($F13=\"\",0,VLOOKUP($E13,Drivers!$A$26:$F$48,MATCH(H$1,Drivers!$A$25:$F$25,0),0)*$F13)","v":0},{"$f":"IF($F13=\"\",0,VLOOKUP($E13,Drivers!$A$26:$F$48,MATCH(I$1,Drivers!$A$25:$F$25,0),0)*$F13)","v":0},{"$f":"IF($F13=\"\",0,VLOOKUP($E13,Drivers!$A$26:$F$48,MATCH(J$1,Drivers!$A$25:$F$25,0),0)*$F13)","v":0},{"$f":"IF($F13=\"\",0,VLOOKUP($E13,Drivers!$A$26:$F$48,MATCH(K$1,Drivers!$A$25:$F$25,0),0)*$F13)","v":0}]
["ALUGUÉIS",1004,"COMITÊ DE AUDITORIA ESTATUTÁRIA",{"$f":"VLOOKUP(B14,Centro_Custo!$A$2:$C$36,3)","v":"Encargos de Gestão"},"Fixo",{"$f":"SUMIFS('Classificação OPEX'!$O$4:$O$1666,'Classificação OPEX'!$Q$4:$Q$1666,\"N\",'Classificação OPEX'!$S$4:$S$1666,\"NÃO\",'Classificação OPEX'!$V$4:$V$1666,DRIVER_OPEX!A14,'Classificação OPEX'!$W$4:$W$1666,DRIVER_OPEX!B14)","v":0},{"$f":"IF($F14=\"\",0,VLOOKUP($E14,Drivers!$A$26:$F$48,MATCH(G$1,Drivers!$A$25:$F$25,0),0)*$F14)","v":0},{"$f":"IF($F14=\"\",0,VLOOKUP($E14,Drivers!$A$26:$F$48,MATCH(H$1,Drivers!$A$25:$F$25,0),0)*$F14)","v":0},{"$f":"IF($F14=\"\",0,VLOOKUP($E14,Drivers!$A$26:$F$48,MATCH(I$1,Drivers!$A$25:$F$25,0),0)*$F14)","v":0},{"$f":"IF($F14=\"\",0,VLOOKUP($E14,Drivers!$A$26:$F$48,MATCH(J$1,Drivers!$A$25:$F$25,0),0)*$F14)","v":0},{"$f":"IF($F14=\"\",0,VLOOKUP($E14,Drivers!$A$26:$F$48,MATCH(K$1,Drivers!$A$25:$F$25,0),0)*$F14)","v":0}]
["ALUGUÉIS",1005,"AUDITORIA INTERNA",{"$f":"VLOOKUP(B15,Centro_Custo!$A$2:$C$36,3)","v":"Encargos de Gestão"},"Fixo",{"$f":"SUMIFS('Classificação OPEX'!$O$4:$O$1666,'Classificação OPEX'!$Q$4:$Q$1666,\"N\",'Classificação OPEX'!$S$4:$S$1666,\"NÃO\",'Classificação OPEX'!$V$4:$V$1666,DRIVER_OPEX!A15,'Classificação OPEX'!$W$4:$W$1666,DRIVER_OPEX!B15)","v":1733.9688210466672},{"$f":"IF($F15=\"\",0,VLOOKUP($E15,Drivers!$A$26:$F$48,MATCH(G$1,Drivers!$A$25:$F$25,0),0)*$F15)","v":1733.9688210466672},{"$f":"IF($F15=\"\",0,VLOOKUP($E15,Drivers!$A$26:$F$48,MATCH(H$1,Drivers!$A$25:$F$25,0),0)*$F15)","v":1733.9688210466672},{"$f":"IF($F15=\"\",0,VLOOKUP($E15,Drivers!$A$26:$F$48,MATCH(I$1,Drivers!$A$25:$F$25,0),0)*$F15)","v":1733.9688210466672},{"$f":"IF($F15=\"\",0,VLOOKUP($E15,Drivers!$A$26:$F$48,MATCH(J$1,Drivers!$A$25:$F$25,0),0)*$F15)","v":1733.9688210466672},{"$f":"IF($F15=\"\",0,VLOOKUP($E15,Drivers!$A$26:$F$48,MATCH(K$1,Drivers!$A$25:$F$25,0),0)*$F15)","v":1733.9688210466672}]
["ALUGUÉIS",1010,"GOVERNANÇA SOCIETÁRIA",{"$f":"VLOOKUP(B16,Centro_Custo!$A$2:$C$36,3)","v":"Encargos de Gestão"},"Fixo",{"$f":"SUMIFS('Classificação OPEX'!$O$4:$O$1666,'Classificação OPEX'!$Q$4:$Q$1666,\"N\",'Classificação OPEX'!$S$4:$S$1666,\"NÃO\",'Classificação OPEX'!$V$4:$V$1666,DRIVER_OPEX!A16,'Classificação OPEX'!$W$4:$W$1666,DRIVER_OPEX!B16)","v":0},{"$f":"IF($F16=\"\",0,VLOOKUP($E16,Drivers!$A$26:$F$48,MATCH(G$1,Drivers!$A$25:$F$25,0),0)*$F16)","v":0},{"$f":"IF($F16=\"\",0,VLOOKUP($E16,Drivers!$A$26:$F$48,MATCH(H$1,Drivers!$A$25:$F$25,0),0)*$F16)","v":0},{"$f":"IF($F16=\"\",0,VLOOKUP($E16,Drivers!$A$26:$F$48,MATCH(I$1,Drivers!$A$25:$F$25,0),0)*$F16)","v":0},{"$f":"IF($F16=\"\",0,VLOOKUP($E16,Drivers!$A$26:$F$48,MATCH(J$1,Drivers!$A$25:$F$25,0),0)*$F16)","v":0},{"$f":"IF($F16=\"\",0,VLOOKUP($E16,Drivers!$A$26:$F$48,MATCH(K$1,Drivers!$A$25:$F$25,0),0)*$F16)","v":0}]
["ALUGUÉIS",2100,"SECRETARIA",{"$f":"VLOOKUP(B17,Centro_Custo!$A$2:$C$36,3)","v":"Encargos de Gestão"},"Fixo",{"$f":"SUMIFS('Classificação OPEX'!$O$4:$O$1666,'Classificação OPEX'!$Q$4:$Q$1666,\"N\",'Classificação OPEX'!$S$4:$S$1666,\"NÃO\",'Classificação OPEX'!$V$4:$V$1666,DRIVER_OPEX!A17,'Classificação OPEX'!$W$4:$W$1666,DRIVER_OPEX!B17)","v":270.57500025738898},{"$f":"IF($F17=\"\",0,VLOOKUP($E17,Drivers!$A$26:$F$48,MATCH(G$1,Drivers!$A$25:$F$25,0),0)*$F17)","v":270.57500025738898},{"$f":"IF($F17=\"\",0,VLOOKUP($E17,Drivers!$A$26:$F$48,MATCH(H$1,Drivers!$A$25:$F$25,0),0)*$F17)","v":270.57500025738898},{"$f":"IF($F17=\"\",0,VLOOKUP($E17,Drivers!$A$26:$F$48,MATCH(I$1,Drivers!$A$25:$F$25,0),0)*$F17)","v":270.57500025738898},{"$f":"IF($F17=\"\",0,VLOOKUP($E17,Drivers!$A$26:$F$48,MATCH(J$1,Drivers!$A$25:$F$25,0),0)*$F17)","v":270.57500025738898},{"$f":"IF($F17=\"\",0,VLOOKUP($E17,Drivers!$A$26:$F$48,MATCH(K$1,Drivers!$A$25:$F$25,0),0)*$F17)","v":270.57500025738898}]
["ALUGUÉIS",2110,"ASSESSORIA DA DIRETORIA EXECUTIVA",{"$f":"VLOOKUP(B18,Centro_Custo!$A$2:$C$36,3)","v":"Encargos de Gestão"},"Fixo",{"$f":"SUMIFS('Classificação OPEX'!$O$4:$O$1666,'Classificação OPEX'!$Q$4:$Q$1666,\"N\",'Classificação OPEX'!$S$4:$S$1666,\"NÃO\",'Classificação OPEX'!$V$4:$V$1666,DRIVER_OPEX!A18,'Classificação OPEX'!$W$4:$W$1666,DRIVER_OPEX!B18)","v":4253.2888006922603},{"$f":"IF($F18=\"\",0,VLOOKUP($E18,Drivers!$A$26:$F$48,MATCH(G$1,Drivers!$A$25:$F$25,0),0)*$F18)","v":4253.2888006922603},{"$f":"IF($F18=\"\",0,VLOOKUP($E18,Drivers!$A$26:$F$48,MATCH(H$1,Drivers!$A$25:$F$25,0),0)*$F18)","v":4253.2888006922603},{"$f":"IF($F18=\"\",0,VLOOKUP($E18,Drivers!$A$26:$F$48,MATCH(I$1,Drivers!$A$25:$F$25,0),0)*$F18)","v":4253.2888006922603},{"$f":"IF($F18=\"\",0,VLOOKUP($E18,Drivers!$A$26:$F$48,MATCH(J$1,Drivers!$A$25:$F$25,0),0)*$F18)","v":4253.2888006922603},{"$f":"IF($F18=\"\",0,VLOOKUP($E18,Drivers!$A$26:$F$48,MATCH(K$1,Drivers!$A$25:$F$25,0),0)*$F18)","v":4253.2888006922603}]
["ALUGUÉIS",2120,"ASSESSORIA DA PRESIDÊNCIA",{"$f":"VLOOKUP(B19,Centro_Custo!$A$2:$C$36,3)","v":"Encargos de Gestão"},"Fixo",{"$f":"SUMIFS('Classificação OPEX'!$O$4:$O$1666,'Classificação OPEX'!$Q$4:$Q$1666,\"N\",'Classificação OPEX'!$S$4:$S$1666,\"NÃO\",'Classificação OPEX'!$V$4:$V$1666,DRIVER_OPEX!A19,'Classificação OPEX'!$W$4:$W$1666,DRIVER_OPEX!B19)","v":5259.0739080685107},{"$f":"IF($F19=\"\",0,VLOOKUP($E19,Drivers!$A$26:$F$48,MATCH(G$1,Drivers!$A$25:$F$25,0),0)*$F19)","v":5259.0739080685107},{"$f":"IF($F19=\"\",0,VLOOKUP($E19,Drivers!$A$26:$F$48,MATCH(H$1,Drivers!$A$25:$F$25,0),0)*$F19)","v":5259.0739080685107},{"$f":"IF($F19=\"\",0,VLOOKUP($E19,Drivers!$A$26:$F$48,MATCH(I$1,Drivers!$A$25:$F$25,0),0)*$F19)","v":5259.0739080685107},{"$f":"IF($F19=\"\",0,VLOOKUP($E19,Drivers!$A$26:$F$48,MATCH(J$1,Drivers!$A$25:$F$25,0),0)*$F19)","v":5259.0739080685107},{"$f":"IF($F19=\"\",0,VLOOKUP($E19,Drivers!$A$26:$F$48,MATCH(K$1,Drivers!$A$25:$F$25,0),0)*$F19)","v":5259.0739080685107}]
["ALUGUÉIS",2140,"ASSESSORIA DTC",{"$f":"VLOOKUP(B20,Centro_Custo!$A$2:$C$36,3)","v":"Encargos de Comercialização"},"Fixo",{"$f":"SUMIFS('Classificação OPEX'!$O$4:$O$1666,'Classificação OPEX'!$Q$4:$Q$1666,\"N\",'Classificação OPEX'!$S$4:$S$1666,\"NÃO\",'Classificação OPEX'!$V$4:$V$1666,DRIVER_OPEX!A20,'Classificação OPEX'!$W$4:$W$1666,DRIVER_OPEX!B20)","v":0},{"$f":"IF($F20=\"\",0,VLOOKUP($E20,Drivers!$A$26:$F$48,MATCH(G$1,Drivers!$A$25:$F$25,0),0)*$F20)","v":0},{"$f":"IF($F20=\"\",0,VLOOKUP($E20,Drivers!$A$26:$F$48,MATCH(H$1,Drivers!$A$25:$F$25,0),0)*$F20)","v":0},{"$f":"IF($F20=\"\",0,VLOOKUP($E20,Drivers!$A$26:$F$48,MATCH(I$1,Drivers!$A$25:$F$25,0),0)*$F20)","v":0},{"$f":"IF($F20=\"\",0,VLOOKUP($E20,Drivers!$A$26:$F$48,MATCH(J$1,Drivers!$A$25:$F$25,0),0)*$F20)","v":0},{"$f":"IF($F20=\"\",0,VLOOKUP($E20,Drivers!$A$26:$F$48,MATCH(K$1,Drivers!$A$25:$F$25,0),0)*$F20)","v":0}]
["ALUGUÉIS",2200,"DIRETORIA COLEGIADA - PRESIDÊNCIA",{"$f":"VLOOKUP(B21,Centro_Custo!$A$2:$C$36,3)","v":"Encargos de Gestão"},"Fixo",{"$f":"SUMIFS('Classificação OPEX'!$O$4:$O$1666,'Classificação OPEX'!$Q$4:$Q$1666,\"N\",'Classificação OPEX'!$S$4:$S$1666,\"NÃO\",'Classificação OPEX'!$V$4:$V$1666,DRIVER_OPEX!A21,'Classificação OPEX'!$W$4:$W$1666,DRIVER_OPEX!B21)","v":-652.72755130306155},{"$f":"IF($F21=\"\",0,VLOOKUP($E21,Drivers!$A$26:$F$48,MATCH(G$1,Drivers!$A$25:$F$25,0),0)*$F21)","v":-652.72755130306155},{"$f":"IF($F21=\"\",0,VLOOKUP($E21,Drivers!$A$26:$F$48,MATCH(H$1,Drivers!$A$25:$F$25,0),0)*$F21)","v":-652.72755130306155},{"$f":"IF($F21=\"\",0,VLOOKUP($E21,Drivers!$A$26:$F$48,MATCH(I$1,Drivers!$A$25:$F$25,0),0)*$F21)","v":-652.72755130306155},{"$f":"IF($F21=\"\",0,VLOOKUP($E21,Drivers!$A$26:$F$48,MATCH(J$1,Drivers!$A$25:$F$25,0),0)*$F21)","v":-652.72755130306155},{"$f":"IF($F21=\"\",0,VLOOKUP($E21,Drivers!$A$26:$F$48,MATCH(K$1,Drivers!$A$25:$F$25,0),0)*$F21)","v":-652.72755130306155}]
["ALUGUÉIS",2300,"DIRETORIA COLEGIADA - DAF",{"$f":"VLOOKUP(B22,Centro_Custo!$A$2:$C$36,3)","v":"Encargos de Gestão"},"Fixo",{"$f":"SUMIFS('Classificação OPEX'!$O$4:$O$1666,'Classificação OPEX'!$Q$4:$Q$1666,\"N\",'Classificação OPEX'!$S$4:$S$1666,\"NÃO\",'Classificação OPEX'!$V$4:$V$1666,DRIVER_OPEX!A22,'Classificação OPEX'!$W$4:$W$1666,DRIVER_OPEX!B22)","v":430.17960056761569},{"$f":"IF($F22=\"\",0,VLOOKUP($E22,Drivers!$A$26:$F$48,MATCH(G$1,Drivers!$A$25:$F$25,0),0)*$F22)","v":430.17960056761569},{"$f":"IF($F22=\"\",0,VLOOKUP($E22,Drivers!$A$26:$F$48,MATCH(H$1,Drivers!$A$25:$F$25,0),0)*$F22)","v":430.17960056761569},{"$f":"IF($F22=\"\",0,VLOOKUP($E22,Drivers!$A$26:$F$48,MATCH(I$1,Drivers!$A$25:$F$25,0),0)*$F22)","v":430.17960056761569},{"$f":"IF($F22=\"\",0,VLOOKUP($E22,Drivers!$A$26:$F$48,MATCH(J$1,Drivers!$A$25:$F$25,0),0)*$F22)","v":430.17960056761569},{"$f":"IF($F22=\"\",0,VLOOKUP($E22,Drivers!$A$26:$F$48,MATCH(K$1,Drivers!$A$25:$F$25,0),0)*$F22)","v":430.17960056761569}]
["ALUGUÉIS",2310,"ASSESSORIA DAF",{"$f":"VLOOKUP(B23,Centro_Custo!$A$2:$C$36,3)","v":"Encargos de Gestão"},"Fixo",{"$f":"SUMIFS('Classificação OPEX'!$O$4:$O$1666,'Classificação OPEX'!$Q$4:$Q$1666,\"N\",'Classificação OPEX'!$S$4:$S$1666,\"NÃO\",'Classificação OPEX'!$V$4:$V$1666,DRIVER_OPEX!A23,'Classificação OPEX'!$W$4:$W$1666,DRIVER_OPEX!B23)","v":1733.9733471147988},{"$f":"IF($F23=\"\",0,VLOOKUP($E23,Drivers!$A$26:$F$48,MATCH(G$1,Drivers!$A$25:$F$25,0),0)*$F23)","v":1733.9733471147988},{"$f":"IF($F23=\"\",0,VLOOKUP($E23,Drivers!$A$26:$F$48,MATCH(H$1,Drivers!$A$25:$F$25,0),0)*$F23)","v":1733.9733471147988},{"$f":"IF($F23=\"\",0,VLOOKUP($E23,Drivers!$A$26:$F$48,MATCH(I$1,Drivers!$A$25:$F$25,0),0)*$F23)","v":1733.9733471147988},{"$f":"IF($F23=\"\",0,VLOOKUP($E23,Drivers!$A$26:$F$48,MATCH(J$1,Drivers!$A$25:$F$25,0),0)*$F23)","v":1733.9733471147988},{"$f":"IF($F23=\"\",0,VLOOKUP($E23,Drivers!$A$26:$F$48,MATCH(K$1,Drivers!$A$25:$F$25,0),0)*$F23)","v":1733.9733471147988}]
["ALUGUÉIS",2410,"ASSESSORIA DE SEGURANÇA DO TRABALHO",{"$f":"VLOOKUP(B24,Centro_Custo!$A$2:$C$36,3)","v":"OPEX&ODESP"},"Fixo",{"$f":"SUMIFS('Classificação OPEX'!$O$4:$O$1666,'Classificação OPEX'!$Q$4:$Q$1666,\"N\",'Classificação OPEX'!$S$4:$S$1666,\"NÃO\",'Classificação OPEX'!$V$4:$V$1666,DRIVER_OPEX!A24,'Classificação OPEX'!$W$4:$W$1666,DRIVER_OPEX!B24)","v":0},{"$f":"IF($F24=\"\",0,VLOOKUP($E24,Drivers!$A$26:$F$48,MATCH(G$1,Drivers!$A$25:$F$25,0),0)*$F24)","v":0},{"$f":"IF($F24=\"\",0,VLOOKUP($E24,Drivers!$A$26:$F$48,MATCH(H$1,Drivers!$A$25:$F$25,0),0)*$F24)","v":0},{"$f":"IF($F24=\"\",0,VLOOKUP($E24,Drivers!$A$26:$F$48,MATCH(I$1,Drivers!$A$25:$F$25,0),0)*$F24)","v":0},{"$f":"IF($F24=\"\",0,VLOOKUP($E24,Drivers!$A$26:$F$48,MATCH(J$1,Drivers!$A$25:$F$25,0),0)*$F24)","v":0},{"$f":"IF($F24=\"\",0,VLOOKUP($E24,Drivers!$A$26:$F$48,MATCH(K$1,Drivers!$A$25:$F$25,0),0)*$F24)","v":0}]
["ALUGUÉIS",3100,"SMS",{"$f":"VLOOKUP(B25,Centro_Custo!$A$2:$C$36,3)","v":"OPEX&ODESP"},"Fixo",{"$f":"SUMIFS('Classificação OPEX'!$O$4:$O$1666,'Classificação OPEX'!$Q$4:$Q$1666,\"N\",'Classificação OPEX'!$S$4:$S$1666,\"NÃO\",'Classificação OPEX'!$V$4:$V$1666,DRIVER_OPEX!A25,'Classificação OPEX'!$W$4:$W$1666,DRIVER_OPEX!B25)","v":105.12902701990015},{"$f":"IF($F25=\"\",0,VLOOKUP($E25,Drivers!$A$26:$F$48,MATCH(G$1,Drivers!$A$25:$F$25,0),0)*$F25)","v":105.12902701990015},{"$f":"IF($F25=\"\",0,VLOOKUP($E25,Drivers!$A$26:$F$48,MATCH(H$1,Drivers!$A$25:$F$25,0),0)*$F25)","v":105.12902701990015},{"$f":"IF($F25=\"\",0,VLOOKUP($E25,Drivers!$A$26:$F$48,MATCH(I$1,Drivers!$A$25:$F$25,0),0)*$F25)","v":105.12902701990015},{"$f":"IF($F25=\"\",0,VLOOKUP($E25,Drivers!$A$26:$F$48,MATCH(J$1,Drivers!$A$25:$F$25,0),0)*$F25)","v":105.12902701990015},{"$f":"IF($F25=\"\",0,VLOOKUP($E25,Drivers!$A$26:$F$48,MATCH(K$1,Drivers!$A$25:$F$25,0),0)*$F25)","v":105.12902701990015}]
["ALUGUÉIS",3200,"GERÊNCIA DE PLANEJAMENTO E MEIO AMBIENTE",{"$f":"VLOOKUP(B26,Centro_Custo!$A$2:$C$36,3)","v":"OPEX&ODESP"},"Fixo",{"$f":"SUMIFS('Classificação OPEX'!$O$4:$O$1666,'Classificação OPEX'!$Q$4:$Q$1666,\"N\",'Classificação OPEX'!$S$4:$S$1666,\"NÃO\",'Classificação OPEX'!$V$4:$V$1666,DRIVER_OPEX!A26,'Classificação OPEX'!$W$4:$W$1666,DRIVER_OPEX!B26)","v":24820.181415578154},{"$f":"IF($F26=\"\",0,VLOOKUP($E26,Drivers!$A$26:$F$48,MATCH(G$1,Drivers!$A$25:$F$25,0),0)*$F26)","v":24820.181415578154},{"$f":"IF($F26=\"\",0,VLOOKUP($E26,Drivers!$A$26:$F$48,MATCH(H$1,Drivers!$A$25:$F$25,0),0)*$F26)","v":24820.181415578154},{"$f":"IF($F26=\"\",0,VLOOKUP($E26,Drivers!$A$26:$F$48,MATCH(I$1,Drivers!$A$25:$F$25,0),0)*$F26)","v":24820.181415578154},{"$f":"IF($F26=\"\",0,VLOOKUP($E26,Drivers!$A$26:$F$48,MATCH(J$1,Drivers!$A$25:$F$25,0),0)*$F26)","v":24820.181415578154},{"$f":"IF($F26=\"\",0,VLOOKUP($E26,Drivers!$A$26:$F$48,MATCH(K$1,Drivers!$A$25:$F$25,0),0)*$F26)","v":24820.181415578154}]
["ALUGUÉIS",3300,"GERÊNCIA JURÍDICA",{"$f":"VLOOKUP(B27,Centro_Custo!$A$2:$C$36,3)","v":"Encargos de Gestão"},"Fixo",{"$f":"SUMIFS('Classificação OPEX'!$O$4:$O$1666,'Classificação OPEX'!$Q$4:$Q$1666,\"N\",'Classificação OPEX'!$S$4:$S$1666,\"NÃO\",'Classificação OPEX'!$V$4:$V$1666,DRIVER_OPEX!A27,'Classificação OPEX'!$W$4:$W$1666,DRIVER_OPEX!B27)","v":8751.4929912657572},{"$f":"IF($F27=\"\",0,VLOOKUP($E27,Drivers!$A$26:$F$48,MATCH(G$1,Drivers!$A$25:$F$25,0),0)*$F27)","v":8751.4929912657572},{"$f":"IF($F27=\"\",0,VLOOKUP($E27,Drivers!$A$26:$F$48,MATCH(H$1,Drivers!$A$25:$F$25,0),0)*$F27)","v":8751.4929912657572},{"$f":"IF($F27=\"\",0,VLOOKUP($E27,Drivers!$A$26:$F$48,MATCH(I$1,Drivers!$A$25:$F$25,0),0)*$F27)","v":8751.4929912657572},{"$f":"IF($F27=\"\",0,VLOOKUP($E27,Drivers!$A$26:$F$48,MATCH(J$1,Drivers!$A$25:$F$25,0),0)*$F27)","v":8751.4929912657572},{"$f":"IF($F27=\"\",0,VLOOKUP($E27,Drivers!$A$26:$F$48,MATCH(K$1,Drivers!$A$25:$F$25,0),0)*$F27)","v":8751.4929912657572}]
["ALUGUÉIS",3400,"MARKETING",{"$f":"VLOOKUP(B28,Centro_Custo!$A$2:$C$36,3)","v":"Encargos de Comercialização"},"Fixo",{"$f":"SUMIFS('Classificação OPEX'!$O$4:$O$1666,'Classificação OPEX'!$Q$4:$Q$1666,\"N\",'Classificação OPEX'!$S$4:$S$1666,\"NÃO\",'Classificação OPEX'!$V$4:$V$1666,DRIVER_OPEX!A28,'Classificação OPEX'!$W$4:$W$1666,DRIVER_OPEX!B28)","v":2066.6506961297659},{"$f":"IF($F28=\"\",0,VLOOKUP($E28,Drivers!$A$26:$F$48,MATCH(G$1,Drivers!$A$25:$F$25,0),0)*$F28)","v":2066.6506961297659},{"$f":"IF($F28=\"\",0,VLOOKUP($E28,Drivers!$A$26:$F$48,MATCH(H$1,Drivers!$A$25:$F$25,0),0)*$F28)","v":2066.6506961297659},{"$f":"IF($F28=\"\",0,VLOOKUP($E28,Drivers!$A$26:$F$48,MATCH(I$1,Drivers!$A$25:$F$25,0),0)*$F28)","v":2066.6506961297659},{"$f":"IF($F28=\"\",0,VLOOKUP($E28,Drivers!$A$26:$F$48,MATCH(J$1,Drivers!$A$25:$F$25,0),0)*$F28)","v":2066.6506961297659},{"$f":"IF($F28=\"\",0,VLOOKUP($E28,Drivers!$A$26:$F$48,MATCH(K$1,Drivers!$A$25:$F$25,0),0)*$F28)","v":2066.6506961297659}]
["ALUGUÉIS",3500,"ASSESSORIA DE COMUNICAÇÃO INSTITUCIONAL",{"$f":"VLOOKUP(B29,Centro_Custo!$A$2:$C$36,3)","v":"Encargos de Gestão"},"Fixo",{"$f":"SUMIFS('Classificação OPEX'!$O$4:$O$1666,'Classificação OPEX'!$Q$4:$Q$1666,\"N\",'Classificação OPEX'!$S$4:$S$1666,\"NÃO\",'Classificação OPEX'!$V$4:$V$1666,DRIVER_OPEX!A29,'Classificação OPEX'!$W$4:$W$1666,DRIVER_OPEX!B29)","v":9353.2374241228899},{"$f":"IF($F29=\"\",0,VLOOKUP($E29,Drivers!$A$26:$F$48,MATCH(G$1,Drivers!$A$25:$F$25,0),0)*$F29)","v":9353.2374241228899},{"$f":"IF($F29=\"\",0,VLOOKUP($E29,Drivers!$A$26:$F$48,MATCH(H$1,Drivers!$A$25:$F$25,0),0)*$F29)","v":9353.2374241228899},{"$f":"IF($F29=\"\",0,VLOOKUP($E29,Drivers!$A$26:$F$48,MATCH(I$1,Drivers!$A$25:$F$25,0),0)*$F29)","v":9353.2374241228899},{"$f":"IF($F29=\"\",0,VLOOKUP($E29,Drivers!$A$26:$F$48,MATCH(J$1,Drivers!$A$25:$F$25,0),0)*$F29)","v":9353.2374241228899},{"$f":"IF($F29=\"\",0,VLOOKUP($E29,Drivers!$A$26:$F$48,MATCH(K$1,Drivers!$A$25:$F$25,0),0)*$F29)","v":9353.2374241228899}]
["ALUGUÉIS",3600,"GERÊNCIA DE GOVERNANÇA, RISCO E COMPLIANCE",{"$f":"VLOOKUP(B30,Centro_Custo!$A$2:$C$36,3)","v":"Encargos de Gestão"},"Fixo",{"$f":"SUMIFS('Classificação OPEX'!$O$4:$O$1666,'Classificação OPEX'!$Q$4:$Q$1666,\"N\",'Classificação OPEX'!$S$4:$S$1666,\"NÃO\",'Classificação OPEX'!$V$4:$V$1666,DRIVER_OPEX!A30,'Classificação OPEX'!$W$4:$W$1666,DRIVER_OPEX!B30)","v":11597.461832564048},{"$f":"IF($F30=\"\",0,VLOOKUP($E30,Drivers!$A$26:$F$48,MATCH(G$1,Drivers!$A$25:$F$25,0),0)*$F30)","v":11597.461832564048},{"$f":"IF($F30=\"\",0,VLOOKUP($E30,Drivers!$A$26:$F$48,MATCH(H$1,Drivers!$A$25:$F$25,0),0)*$F30)","v":11597.461832564048},{"$f":"IF($F30=\"\",0,VLOOKUP($E30,Drivers!$A$26:$F$48,MATCH(I$1,Drivers!$A$25:$F$25,0),0)*$F30)","v":11597.461832564048},{"$f":"IF($F30=\"\",0,VLOOKUP($E30,Drivers!$A$26:$F$48,MATCH(J$1,Drivers!$A$25:$F$25,0),0)*$F30)","v":11597.461832564048},{"$f":"IF($F30=\"\",0,VLOOKUP($E30,Drivers!$A$26:$F$48,MATCH(K$1,Drivers!$A$25:$F$25,0),0)*$F30)","v":11597.461832564048}]
["ALUGUÉIS",3700,"GERÊNCIA DE REGULAÇÃO",{"$f":"VLOOKUP(B31,Centro_Custo!$A$2:$C$36,3)","v":"Encargos de Gestão"},"Fixo",{"$f":"SUMIFS('Classificação OPEX'!$O$4:$O$1666,'Classificação OPEX'!$Q$4:$Q$1666,\"N\",'Classificação OPEX'!$S$4:$S$1666,\"NÃO\",'Classificação OPEX'!$V$4:$V$1666,DRIVER_OPEX!A31,'Classificação OPEX'!$W$4:$W$1666,DRIVER_OPEX!B31)","v":0},{"$f":"IF($F31=\"\",0,VLOOKUP($E31,Drivers!$A$26:$F$48,MATCH(G$1,Drivers!$A$25:$F$25,0),0)*$F31)","v":0},{"$f":"IF($F31=\"\",0,VLOOKUP($E31,Drivers!$A$26:$F$48,MATCH(H$1,Drivers!$A$25:$F$25,0),0)*$F31)","v":0},{"$f":"IF($F31=\"\",0,VLOOKUP($E31,Drivers!$A$26:$F$48,MATCH(I$1,Drivers!$A$25:$F$25,0),0)*$F31)","v":0},{"$f":"IF($F31=\"\",0,VLOOKUP($E31,Drivers!$A$26:$F$48,MATCH(J$1,Drivers!$A$25:$F$25,0),0)*$F31)","v":0},{"$f":"IF($F31=\"\",0,VLOOKUP($E31,Drivers!$A$26:$F$48,MATCH(K$1,Drivers!$A$25:$F$25,0),0)*$F31)","v":0}]
["ALUGUÉIS",4200,"GERÊNCIA FINANCEIRA",{"$f":"VLOOKUP(B32,Centro_Custo!$A$2:$C$36,3)","v":"Encargos de Gestão"},"Fixo",{"$f":"SUMIFS('Classificação OPEX'!$O$4:$O$1666,'Classificação OPEX'!$Q$4:$Q$1666,\"N\",'Classificação OPEX'!$S$4:$S$1666,\"NÃO\",'Classificação OPEX'!$V$4:$V$1666,DRIVER_OPEX!A32,'Classificação OPEX'!$W$4:$W$1666,DRIVER_OPEX!B32)","v":21852.338703578887},{"$f":"IF($F32=\"\",0,VLOOKUP($E32,Drivers!$A$26:$F$48,MATCH(G$1,Drivers!$A$25:$F$25,0),0)*$F32)","v":21852.338703578887},{"$f":"IF($F32=\"\",0,VLOOKUP($E32,Drivers!$A$26:$F$48,MATCH(H$1,Drivers!$A$25:$F$25,0),0)*$F32)","v":21852.338703578887},{"$f":"IF($F32=\"\",0,VLOOKUP($E32,Drivers!$A$26:$F$48,MATCH(I$1,Drivers!$A$25:$F$25,0),0)*$F32)","v":21852.338703578887},{"$f":"IF($F32=\"\",0,VLOOKUP($E32,Drivers!$A$26:$F$48,MATCH(J$1,Drivers!$A$25:$F$25,0),0)*$F32)","v":21852.338703578887},{"$f":"IF($F32=\"\",0,VLOOKUP($E32,Drivers!$A$26:$F$48,MATCH(K$1,Drivers!$A$25:$F$25,0),0)*$F32)","v":21852.338703578887}]
["ALUGUÉIS",4500,"GERÊNCIA CONTÁBIL",{"$f":"VLOOKUP(B33,Centro_Custo!$A$2:$C$36,3)","v":"Encargos de Gestão"},"Fixo",{"$f":"SUMIFS('Classificação OPEX'!$O$4:$O$1666,'Classificação OPEX'!$Q$4:$Q$1666,\"N\",'Classificação OPEX'!$S$4:$S$1666,\"NÃO\",'Classificação OPEX'!$V$4:$V$1666,DRIVER_OPEX!A33,'Classificação OPEX'!$W$4:$W$1666,DRIVER_OPEX!B33)","v":14628.47581979747},{"$f":"IF($F33=\"\",0,VLOOKUP($E33,Drivers!$A$26:$F$48,MATCH(G$1,Drivers!$A$25:$F$25,0),0)*$F33)","v":14628.47581979747},{"$f":"IF($F33=\"\",0,VLOOKUP($E33,Drivers!$A$26:$F$48,MATCH(H$1,Drivers!$A$25:$F$25,0),0)*$F33)","v":14628.47581979747},{"$f":"IF($F33=\"\",0,VLOOKUP($E33,Drivers!$A$26:$F$48,MATCH(I$1,Drivers!$A$25:$F$25,0),0)*$F33)","v":14628.47581979747},{"$f":"IF($F33=\"\",0,VLOOKUP($E33,Drivers!$A$26:$F$48,MATCH(J$1,Drivers!$A$25:$F$25,0),0)*$F33)","v":14628.47581979747},{"$f":"IF($F33=\"\",0,VLOOKUP($E33,Drivers!$A$26:$F$48,MATCH(K$1,Drivers!$A$25:$F$25,0),0)*$F33)","v":14628.47581979747}]
["ALUGUÉIS",4600,"GERÊNCIA DE PESSOAS E CULTURA",{"$f":"VLOOKUP(B34,Centro_Custo!$A$2:$C$36,3)","v":"Encargos de Gestão"},"Fixo",{"$f":"SUMIFS('Classificação OPEX'!$O$4:$O$1666,'Classificação OPEX'!$Q$4:$Q$1666,\"N\",'Classificação OPEX'!$S$4:$S$1666,\"NÃO\",'Classificação OPEX'!$V$4:$V$1666,DRIVER_OPEX!A34,'Classificação OPEX'!$W$4:$W$1666,DRIVER_OPEX!B34)","v":2066.6506961297659},{"$f":"IF($F34=\"\",0,VLOOKUP($E34,Drivers!$A$26:$F$48,MATCH(G$1,Drivers!$A$25:$F$25,0),0)*$F34)","v":2066.6506961297659},{"$f":"IF($F34=\"\",0,VLOOKUP($E34,Drivers!$A$26:$F$48,MATCH(H$1,Drivers!$A$25:$F$25,0),0)*$F34)","v":2066.6506961297659},{"$f":"IF($F34=\"\",0,VLOOKUP($E34,Drivers!$A$26:$F$48,MATCH(I$1,Drivers!$A$25:$F$25,0),0)*$F34)","v":2066.6506961297659},{"$f":"IF($F34=\"\",0,VLOOKUP($E34,Drivers!$A$26:$F$48,MATCH(J$1,Drivers!$A$25:$F$25,0),0)*$F34)","v":2066.6506961297659},{"$f":"IF($F34=\"\",0,VLOOKUP($E34,Drivers!$A$26:$F$48,MATCH(K$1,Drivers!$A$25:$F$25,0),0)*$F34)","v":2066.6506961297659}]
["ALUGUÉIS",5300,"GERÊNCIA COMERCIAL",{"$f":"VLOOKUP(B35,Centro_Custo!$A$2:$C$36,3)","v":"Encargos de Comercialização"},"Fixo",{"$f":"SUMIFS('Classificação OPEX'!$O$4:$O$1666,'Classificação OPEX'!$Q$4:$Q$1666,\"N\",'Classificação OPEX'!$S$4:$S$1666,\"NÃO\",'Classificação OPEX'!$V$4:$V$1666,DRIVER_OPEX!A35,'Classificação OPEX'!$W$4:$W$1666,DRIVER_OPEX!B35)","v":48097.303690572429},{"$f":"IF($F35=\"\",0,VLOOKUP($E35,Drivers!$A$26:$F$48,MATCH(G$1,Drivers!$A$25:$F$25,0),0)*$F35)","v":48097.303690572429},{"$f":"IF($F35=\"\",0,VLOOKUP($E35,Drivers!$A$26:$F$48,MATCH(H$1,Drivers!$A$25:$F$25,0),0)*$F35)","v":48097.303690572429},{"$f":"IF($F35=\"\",0,VLOOKUP($E35,Drivers!$A$26:$F$48,MATCH(I$1,Drivers!$A$25:$F$25,0),0)*$F35)","v":48097.303690572429},{"$f":"IF($F35=\"\",0,VLOOKUP($E35,Drivers!$A$26:$F$48,MATCH(J$1,Drivers!$A$25:$F$25,0),0)*$F35)","v":48097.303690572429},{"$f":"IF($F35=\"\",0,VLOOKUP($E35,Drivers!$A$26:$F$48,MATCH(K$1,Drivers!$A$25:$F$25,0),0)*$F35)","v":48097.303690572429}]
["ALUGUÉIS","0000","RATEIO",{"$f":"VLOOKUP(B36,Centro_Custo!$A$2:$C$36,3)","v":"Encargos de Gestão"},"Município",{"$f":"SUMIFS('Classificação OPEX'!$O$4:$O$1666,'Classificação OPEX'!$Q$4:$Q$1666,\"N\",'Classificação OPEX'!$S$4:$S$1666,\"NÃO\",'Classificação OPEX'!$V$4:$V$1666,DRIVER_OPEX!A36,'Classificação OPEX'!$W$4:$W$1666,DRIVER_OPEX!B36)","v":0},{"$f":"IF($F36=\"\",0,VLOOKUP($E36,Drivers!$A$26:$F$48,MATCH(G$1,Drivers!$A$25:$F$25,0),0)*$F36)","v":0},{"$f":"IF($F36=\"\",0,VLOOKUP($E36,Drivers!$A$26:$F$48,MATCH(H$1,Drivers!$A$25:$F$25,0),0)*$F36)","v":0},{"$f":"IF($F36=\"\",0,VLOOKUP($E36,Drivers!$A$26:$F$48,MATCH(I$1,Drivers!$A$25:$F$25,0),0)*$F36)","v":0},{"$f":"IF($F36=\"\",0,VLOOKUP($E36,Drivers!$A$26:$F$48,MATCH(J$1,Drivers!$A$25:$F$25,0),0)*$F36)","v":0},{"$f":"IF($F36=\"\",0,VLOOKUP($E36,Drivers!$A$26:$F$48,MATCH(K$1,Drivers!$A$25:$F$25,0),0)*$F36)","v":0}]
["ALUGUÉIS","5400","GERÊNCIA COMERCIAL",{"$f":"VLOOKUP(B37,Centro_Custo!$A$2:$C$36,3)","v":"Encargos de Gestão"},"Fixo",{"$f":"SUMIFS('Classificação OPEX'!$O$4:$O$1666,'Classificação OPEX'!$Q$4:$Q$1666,\"N\",'Classificação OPEX'!$S$4:$S$1666,\"NÃO\",'Classificação OPEX'!$V$4:$V$1666,DRIVER_OPEX!A37,'Classificação OPEX'!$W$4:$W$1666,DRIVER_OPEX!B37)","v":8049.2326934889097},{"$f":"IF($F37=\"\",0,VLOOKUP($E37,Drivers!$A$26:$F$48,MATCH(G$1,Drivers!$A$25:$F$25,0),0)*$F37)","v":8049.2326934889097},{"$f":"IF($F37=\"\",0,VLOOKUP($E37,Drivers!$A$26:$F$48,MATCH(H$1,Drivers!$A$25:$F$25,0),0)*$F37)","v":8049.2326934889097},{"$f":"IF($F37=\"\",0,VLOOKUP($E37,Drivers!$A$26:$F$48,MATCH(I$1,Drivers!$A$25:$F$25,0),0)*$F37)","v":8049.2326934889097},{"$f":"IF($F37=\"\",0,VLOOKUP($E37,Drivers!$A$26:$F$48,MATCH(J$1,Drivers!$A$25:$F$25,0),0)*$F37)","v":8049.2326934889097},{"$f":"IF($F37=\"\",0,VLOOKUP($E37,Drivers!$A$26:$F$48,MATCH(K$1,Drivers!$A$25:$F$25,0),0)*$F37)","v":8049.2326934889097}]
["ALUGUÉIS","5500","GERÊNCIA COMERCIAL",{"$f":"VLOOKUP(B38,Centro_Custo!$A$2:$C$36,3)","v":"Encargos de Gestão"},"Fixo",{"$f":"SUMIFS('Classificação OPEX'!$O$4:$O$1666,'Classificação OPEX'!$Q$4:$Q$1666,\"N\",'Classificação OPEX'!$S$4:$S$1666,\"NÃO\",'Classificação OPEX'!$V$4:$V$1666,DRIVER_OPEX!A38,'Classificação OPEX'!$W$4:$W$1666,DRIVER_OPEX!B38)","v":453.05654086854611},{"$f":"IF($F38=\"\",0,VLOOKUP($E38,Drivers!$A$26:$F$48,MATCH(G$1,Drivers!$A$25:$F$25,0),0)*$F38)","v":453.05654086854611},{"$f":"IF($F38=\"\",0,VLOOKUP($E38,Drivers!$A$26:$F$48,MATCH(H$1,Drivers!$A$25:$F$25,0),0)*$F38)","v":453.05654086854611},{"$f":"IF($F38=\"\",0,VLOOKUP($E38,Drivers!$A$26:$F$48,MATCH(I$1,Drivers!$A$25:$F$25,0),0)*$F38)","v":453.05654086854611},{"$f":"IF($F38=\"\",0,VLOOKUP($E38,Drivers!$A$26:$F$48,MATCH(J$1,Drivers!$A$25:$F$25,0),0)*$F38)","v":453.05654086854611},{"$f":"IF($F38=\"\",0,VLOOKUP($E38,Drivers!$A$26:$F$48,MATCH(K$1,Drivers!$A$25:$F$25,0),0)*$F38)","v":453.05654086854611}]
["CUSTO_ODORIZAÇAO","TOTAL","TOTAL",null,null,{"$f":"SUM(F40:F74)","v":230980.76932017101},{"$f":"SUM(G40:G74)","v":229748.48198941918},{"$f":"SUM(H40:H74)","v":247828.338699591},267338.35031707166,312685.03653740656,353730.11592643784]
["CUSTO_ODORIZAÇAO",5200,{"$f":"VLOOKUP(B40,Centro_Custo!$A$2:$B$36,2,0)","v":"GERÊNCIA DE OPERAÇÕES"},{"$f":"VLOOKUP(B40,Centro_Custo!$A$2:$C$36,3)","v":"OPEX&ODESP"},"Volume distribuído - Sem Termoelétrica",{"$f":"SUMIFS('Classificação OPEX'!$O$4:$O$1666,'Classificação OPEX'!$Q$4:$Q$1666,\"N\",'Classificação OPEX'!$S$4:$S$1666,\"NÃO\",'Classificação OPEX'!$V$4:$V$1666,DRIVER_OPEX!A40,'Classificação OPEX'!$W$4:$W$1666,DRIVER_OPEX!B40)","v":230980.76932017101},{"$f":"IF($F40=\"\",0,VLOOKUP($E40,Drivers!$A$26:$F$48,MATCH(G$1,Drivers!$A$25:$F$25,0),0)*$F40)","v":229748.48198941918},{"$f":"IF($F40=\"\",0,VLOOKUP($E40,Drivers!$A$26:$F$48,MATCH(H$1,Drivers!$A$25:$F$25,0),0)*$F40)","v":247828.338699591},{"$f":"IF($F40=\"\",0,VLOOKUP($E40,Drivers!$A$26:$F$48,MATCH(I$1,Drivers!$A$25:$F$25,0),0)*$F40)","v":267338.35031707166},{"$f":"IF($F40=\"\",0,VLOOKUP($E40,Drivers!$A$26:$F$48,MATCH(J$1,Drivers!$A$25:$F$25,0),0)*$F40)","v":312685.03653740656},{"$f":"IF($F40=\"\",0,VLOOKUP($E40,Drivers!$A$26:$F$48,MATCH(K$1,Drivers!$A$25:$F$25,0),0)*$F40)","v":353730.11592643784}]
["CUSTO_ODORIZAÇAO","0000","RATEIO",{"$f":"VLOOKUP(B41,Centro_Custo!$A$2:$C$36,3)","v":"Encargos de Gestão"},"Fixo",{"$f":"SUMIFS('Classificação OPEX'!$O$4:$O$1666,'Classificação OPEX'!$Q$4:$Q$1666,\"N\",'Classificação OPEX'!$S$4:$S$1666,\"NÃO\",'Classificação OPEX'!$V$4:$V$1666,DRIVER_OPEX!A41,'Classificação OPEX'!$W$4:$W$1666,DRIVER_OPEX!B41)","v":0},{"$f":"IF($F41=\"\",0,VLOOKUP($E41,Drivers!$A$26:$F$48,MATCH(G$1,Drivers!$A$25:$F$25,0),0)*$F41)","v":0},{"$f":"IF($F41=\"\",0,VLOOKUP($E41,Drivers!$A$26:$F$48,MATCH(H$1,Drivers!$A$25:$F$25,0),0)*$F41)","v":0},{"$f":"IF($F41=\"\",0,VLOOKUP($E41,Drivers!$A$26:$F$48,MATCH(I$1,Drivers!$A$25:$F$25,0),0)*$F41)","v":0},{"$f":"IF($F41=\"\",0,VLOOKUP($E41,Drivers!$A$26:$F$48,MATCH(J$1,Drivers!$A$25:$F$25,0),0)*$F41)","v":0},{"$f":"IF($F41=\"\",0,VLOOKUP($E41,Drivers!$A$26:$F$48,MATCH(K$1,Drivers!$A$25:$F$25,0),0)*$F41)","v":0}]
["CUSTO_ODORIZAÇAO",1001,"CONSELHO DE ADMINISTRAÇÃO",{"$f":"VLOOKUP(B42,Centro_Custo!$A$2:$C$36,3)","v":"Encargos de Gestão"},"Fixo",{"$f":"SUMIFS('Classificação OPEX'!$O$4:$O$1666,'Classificação OPEX'!$Q$4:$Q$1666,\"N\",'Classificação OPEX'!$S$4:$S$1666,\"NÃO\",'Classificação OPEX'!$V$4:$V$1666,DRIVER_OPEX!A42,'Classificação OPEX'!$W$4:$W$1666,DRIVER_OPEX!B42)","v":0},{"$f":"IF($F42=\"\",0,VLOOKUP($E42,Drivers!$A$26:$F$48,MATCH(G$1,Drivers!$A$25:$F$25,0),0)*$F42)","v":0},{"$f":"IF($F42=\"\",0,VLOOKUP($E42,Drivers!$A$26:$F$48,MATCH(H$1,Drivers!$A$25:$F$25,0),0)*$F42)","v":0},{"$f":"IF($F42=\"\",0,VLOOKUP($E42,Drivers!$A$26:$F$48,MATCH(I$1,Drivers!$A$25:$F$25,0),0)*$F42)","v":0},{"$f":"IF($F42=\"\",0,VLOOKUP($E42,Drivers!$A$26:$F$48,MATCH(J$1,Drivers!$A$25:$F$25,0),0)*$F42)","v":0},{"$f":"IF($F42=\"\",0,VLOOKUP($E42,Drivers!$A$26:$F$48,MATCH(K$1,Drivers!$A$25:$F$25,0),0)*$F42)","v":0}]
["CUSTO_ODORIZAÇAO",1002,"CONSELHO FISCAL",{"$f":"VLOOKUP(B43,Centro_Custo!$A$2:$C$36,3)","v":"Encargos de Gestão"},"Fixo",{"$f":"SUMIFS('Classificação OPEX'!$O$4:$O$1666,'Classificação OPEX'!$Q$4:$Q$1666,\"N\",'Classificação OPEX'!$S$4:$S$1666,\"NÃO\",'Classificação OPEX'!$V$4:$V$1666,DRIVER_OPEX!A43,'Classificação OPEX'!$W$4:$W$1666,DRIVER_OPEX!B43)","v":0},{"$f":"IF($F43=\"\",0,VLOOKUP($E43,Drivers!$A$26:$F$48,MATCH(G$1,Drivers!$A$25:$F$25,0),0)*$F43)","v":0},{"$f":"IF($F43=\"\",0,VLOOKUP($E43,Drivers!$A$26:$F$48,MATCH(H$1,Drivers!$A$25:$F$25,0),0)*$F43)","v":0},{"$f":"IF($F43=\"\",0,VLOOKUP($E43,Drivers!$A$26:$F$48,MATCH(I$1,Drivers!$A$25:$F$25,0),0)*$F43)","v":0},{"$f":"IF($F43=\"\",0,VLOOKUP($E43,Drivers!$A$26:$F$48,MATCH(J$1,Drivers!$A$25:$F$25,0),0)*$F43)","v":0},{"$f":"IF($F43=\"\",0,VLOOKUP($E43,Drivers!$A$26:$F$48,MATCH(K$1,Drivers!$A$25:$F$25,0),0)*$F43)","v":0}]
["CUSTO_ODORIZAÇAO",1003,"COMITÊ DE INDICAÇÃO E AVALIAÇÃO",{"$f":"VLOOKUP(B44,Centro_Custo!$A$2:$C$36,3)","v":"Encargos de Gestão"},"Fixo",{"$f":"SUMIFS('Classificação OPEX'!$O$4:$O$1666,'Classificação OPEX'!$Q$4:$Q$1666,\"N\",'Classificação OPEX'!$S$4:$S$1666,\"NÃO\",'Classificação OPEX'!$V$4:$V$1666,DRIVER_OPEX!A44,'Classificação OPEX'!$W$4:$W$1666,DRIVER_OPEX!B44)","v":0},{"$f":"IF($F44=\"\",0,VLOOKUP($E44,Drivers!$A$26:$F$48,MATCH(G$1,Drivers!$A$25:$F$25,0),0)*$F44)","v":0},{"$f":"IF($F44=\"\",0,VLOOKUP($E44,Drivers!$A$26:$F$48,MATCH(H$1,Drivers!$A$25:$F$25,0),0)*$F44)","v":0},{"$f":"IF($F44=\"\",0,VLOOKUP($E44,Drivers!$A$26:$F$48,MATCH(I$1,Drivers!$A$25:$F$25,0),0)*$F44)","v":0},{"$f":"IF($F44=\"\",0,VLOOKUP($E44,Drivers!$A$26:$F$48,MATCH(J$1,Drivers!$A$25:$F$25,0),0)*$F44)","v":0},{"$f":"IF($F44=\"\",0,VLOOKUP($E44,Drivers!$A$26:$F$48,MATCH(K$1,Drivers!$A$25:$F$25,0),0)*$F44)","v":0}]
["CUSTO_ODORIZAÇAO",1004,"COMITÊ DE AUDITORIA ESTATUTÁRIA",{"$f":"VLOOKUP(B45,Centro_Custo!$A$2:$C$36,3)","v":"Encargos de Gestão"},"Fixo",{"$f":"SUMIFS('Classificação OPEX'!$O$4:$O$1666,'Classificação OPEX'!$Q$4:$Q$1666,\"N\",'Classificação OPEX'!$S$4:$S$1666,\"NÃO\",'Classificação OPEX'!$V$4:$V$1666,DRIVER_OPEX!A45,'Classificação OPEX'!$W$4:$W$1666,DRIVER_OPEX!B45)","v":0},{"$f":"IF($F45=\"\",0,VLOOKUP($E45,Drivers!$A$26:$F$48,MATCH(G$1,Drivers!$A$25:$F$25,0),0)*$F45)","v":0},{"$f":"IF($F45=\"\",0,VLOOKUP($E45,Drivers!$A$26:$F$48,MATCH(H$1,Drivers!$A$25:$F$25,0),0)*$F45)","v":0},{"$f":"IF($F45=\"\",0,VLOOKUP($E45,Drivers!$A$26:$F$48,MATCH(I$1,Drivers!$A$25:$F$25,0),0)*$F45)","v":0},{"$f":"IF($F45=\"\",0,VLOOKUP($E45,Drivers!$A$26:$F$48,MATCH(J$1,Drivers!$A$25:$F$25,0),0)*$F45)","v":0},{"$f":"IF($F45=\"\",0,VLOOKUP($E45,Drivers!$A$26:$F$48,MATCH(K$1,Drivers!$A$25:$F$25,0),0)*$F45)","v":0}]
["CUSTO_ODORIZAÇAO",1005,"AUDITORIA INTERNA",{"$f":"VLOOKUP(B46,Centro_Custo!$A$2:$C$36,3)","v":"Encargos de Gestão"},"Fixo",{"$f":"SUMIFS('Classificação OPEX'!$O$4:$O$1666,'Classificação OPEX'!$Q$4:$Q$1666,\"N\",'Classificação OPEX'!$S$4:$S$1666,\"NÃO\",'Classificação OPEX'!$V$4:$V$1666,DRIVER_OPEX!A46,'Classificação OPEX'!$W$4:$W$1666,DRIVER_OPEX!B46)","v":0},{"$f":"IF($F46=\"\",0,VLOOKUP($E46,Drivers!$A$26:$F$48,MATCH(G$1,Drivers!$A$25:$F$25,0),0)*$F46)","v":0},{"$f":"IF($F46=\"\",0,VLOOKUP($E46,Drivers!$A$26:$F$48,MATCH(H$1,Drivers!$A$25:$F$25,0),0)*$F46)","v":0},{"$f":"IF($F46=\"\",0,VLOOKUP($E46,Drivers!$A$26:$F$48,MATCH(I$1,Drivers!$A$25:$F$25,0),0)*$F46)","v":0},{"$f":"IF($F46=\"\",0,VLOOKUP($E46,Drivers!$A$26:$F$48,MATCH(J$1,Drivers!$A$25:$F$25,0),0)*$F46)","v":0},{"$f":"IF($F46=\"\",0,VLOOKUP($E46,Drivers!$A$26:$F$48,MATCH(K$1,Drivers!$A$25:$F$25,0),0)*$F46)","v":0}]
["CUSTO_ODORIZAÇAO",1010,"GOVERNANÇA SOCIETÁRIA",{"$f":"VLOOKUP(B47,Centro_Custo!$A$2:$C$36,3)","v":"Encargos de Gestão"},"Fixo",{"$f":"SUMIFS('Classificação OPEX'!$O$4:$O$1666,'Classificação OPEX'!$Q$4:$Q$1666,\"N\",'Classificação OPEX'!$S$4:$S$1666,\"NÃO\",'Classificação OPEX'!$V$4:$V$1666,DRIVER_OPEX!A47,'Classificação OPEX'!$W$4:$W$1666,DRIVER_OPEX!B47)","v":0},{"$f":"IF($F47=\"\",0,VLOOKUP($E47,Drivers!$A$26:$F$48,MATCH(G$1,Drivers!$A$25:$F$25,0),0)*$F47)","v":0},{"$f":"IF($F47=\"\",0,VLOOKUP($E47,Drivers!$A$26:$F$48,MATCH(H$1,Drivers!$A$25:$F$25,0),0)*$F47)","v":0},{"$f":"IF($F47=\"\",0,VLOOKUP($E47,Drivers!$A$26:$F$48,MATCH(I$1,Drivers!$A$25:$F$25,0),0)*$F47)","v":0},{"$f":"IF($F47=\"\",0,VLOOKUP($E47,Drivers!$A$26:$F$48,MATCH(J$1,Drivers!$A$25:$F$25,0),0)*$F47)","v":0},{"$f":"IF($F47=\"\",0,VLOOKUP($E47,Drivers!$A$26:$F$48,MATCH(K$1,Drivers!$A$25:$F$25,0),0)*$F47)","v":0}]
["CUSTO_ODORIZAÇAO",2100,"SECRETARIA",{"$f":"VLOOKUP(B48,Centro_Custo!$A$2:$C$36,3)","v":"Encargos de Gestão"},"Fixo",{"$f":"SUMIFS('Classificação OPEX'!$O$4:$O$1666,'Classificação OPEX'!$Q$4:$Q$1666,\"N\",'Classificação OPEX'!$S$4:$S$1666,\"NÃO\",'Classificação OPEX'!$V$4:$V$1666,DRIVER_OPEX!A48,'Classificação OPEX'!$W$4:$W$1666,DRIVER_OPEX!B48)","v":0},{"$f":"IF($F48=\"\",0,VLOOKUP($E48,Drivers!$A$26:$F$48,MATCH(G$1,Drivers!$A$25:$F$25,0),0)*$F48)","v":0},{"$f":"IF($F48=\"\",0,VLOOKUP($E48,Drivers!$A$26:$F$48,MATCH(H$1,Drivers!$A$25:$F$25,0),0)*$F48)","v":0},{"$f":"IF($F48=\"\",0,VLOOKUP($E48,Drivers!$A$26:$F$48,MATCH(I$1,Drivers!$A$25:$F$25,0),0)*$F48)","v":0},{"$f":"IF($F48=\"\",0,VLOOKUP($E48,Drivers!$A$26:$F$48,MATCH(J$1,Drivers!$A$25:$F$25,0),0)*$F48)","v":0},{"$f":"IF($F48=\"\",0,VLOOKUP($E48,Drivers!$A$26:$F$48,MATCH(K$1,Drivers!$A$25:$F$25,0),0)*$F48)","v":0}]
["CUSTO_ODORIZAÇAO",2110,"ASSESSORIA DA DIRETORIA EXECUTIVA",{"$f":"VLOOKUP(B49,Centro_Custo!$A$2:$C$36,3)","v":"Encargos de Gestão"},"Fixo",{"$f":"SUMIFS('Classificação OPEX'!$O$4:$O$1666,'Classificação OPEX'!$Q$4:$Q$1666,\"N\",'Classificação OPEX'!$S$4:$S$1666,\"NÃO\",'Classificação OPEX'!$V$4:$V$1666,DRIVER_OPEX!A49,'Classificação OPEX'!$W$4:$W$1666,DRIVER_OPEX!B49)","v":0},{"$f":"IF($F49=\"\",0,VLOOKUP($E49,Drivers!$A$26:$F$48,MATCH(G$1,Drivers!$A$25:$F$25,0),0)*$F49)","v":0},{"$f":"IF($F49=\"\",0,VLOOKUP($E49,Drivers!$A$26:$F$48,MATCH(H$1,Drivers!$A$25:$F$25,0),0)*$F49)","v":0},{"$f":"IF($F49=\"\",0,VLOOKUP($E49,Drivers!$A$26:$F$48,MATCH(I$1,Drivers!$A$25:$F$25,0),0)*$F49)","v":0},{"$f":"IF($F49=\"\",0,VLOOKUP($E49,Drivers!$A$26:$F$48,MATCH(J$1,Drivers!$A$25:$F$25,0),0)*$F49)","v":0},{"$f":"IF($F49=\"\",0,VLOOKUP($E49,Drivers!$A$26:$F$48,MATCH(K$1,Drivers!$A$25:$F$25,0),0)*$F49)","v":0}]
["CUSTO_ODORIZAÇAO",2120,"ASSESSORIA DA PRESIDÊNCIA",{"$f":"VLOOKUP(B50,Centro_Custo!$A$2:$C$36,3)","v":"Encargos de Gestão"},"Fixo",{"$f":"SUMIFS('Classificação OPEX'!$O$4:$O$1666,'Classificação OPEX'!$Q$4:$Q$1666,\"N\",'Classificação OPEX'!$S$4:$S$1666,\"NÃO\",'Classificação OPEX'!$V$4:$V$1666,DRIVER_OPEX!A50,'Classificação OPEX'!$W$4:$W$1666,DRIVER_OPEX!B50)","v":0},{"$f":"IF($F50=\"\",0,VLOOKUP($E50,Drivers!$A$26:$F$48,MATCH(G$1,Drivers!$A$25:$F$25,0),0)*$F50)","v":0},{"$f":"IF($F50=\"\",0,VLOOKUP($E50,Drivers!$A$26:$F$48,MATCH(H$1,Drivers!$A$25:$F$25,0),0)*$F50)","v":0},{"$f":"IF($F50=\"\",0,VLOOKUP($E50,Drivers!$A$26:$F$48,MATCH(I$1,Drivers!$A$25:$F$25,0),0)*$F50)","v":0},{"$f":"IF($F50=\"\",0,VLOOKUP($E50,Drivers!$A$26:$F$48,MATCH(J$1,Drivers!$A$25:$F$25,0),0)*$F50)","v":0},{"$f":"IF($F50=\"\",0,VLOOKUP($E50,Drivers!$A$26:$F$48,MATCH(K$1,Drivers!$A$25:$F$25,0),0)*$F50)","v":0}]
["CUSTO_ODORIZAÇAO",2130,"ASSESSORIA DE RELAÇÕES INSTITUCIONAIS E NOVOS NEGÓCIOS",{"$f":"VLOOKUP(B51,Centro_Custo!$A$2:$C$36,3)","v":"Encargos de Gestão"},"Fixo",{"$f":"SUMIFS('Classificação OPEX'!$O$4:$O$1666,'Classificação OPEX'!$Q$4:$Q$1666,\"N\",'Classificação OPEX'!$S$4:$S$1666,\"NÃO\",'Classificação OPEX'!$V$4:$V$1666,DRIVER_OPEX!A51,'Classificação OPEX'!$W$4:$W$1666,DRIVER_OPEX!B51)","v":0},{"$f":"IF($F51=\"\",0,VLOOKUP($E51,Drivers!$A$26:$F$48,MATCH(G$1,Drivers!$A$25:$F$25,0),0)*$F51)","v":0},{"$f":"IF($F51=\"\",0,VLOOKUP($E51,Drivers!$A$26:$F$48,MATCH(H$1,Drivers!$A$25:$F$25,0),0)*$F51)","v":0},{"$f":"IF($F51=\"\",0,VLOOKUP($E51,Drivers!$A$26:$F$48,MATCH(I$1,Drivers!$A$25:$F$25,0),0)*$F51)","v":0},{"$f":"IF($F51=\"\",0,VLOOKUP($E51,Drivers!$A$26:$F$48,MATCH(J$1,Drivers!$A$25:$F$25,0),0)*$F51)","v":0},{"$f":"IF($F51=\"\",0,VLOOKUP($E51,Drivers!$A$26:$F$48,MATCH(K$1,Drivers!$A$25:$F$25,0),0)*$F51)","v":0}]
["CUSTO_ODORIZAÇAO",2140,"ASSESSORIA DTC",{"$f":"VLOOKUP(B52,Centro_Custo!$A$2:$C$36,3)","v":"Encargos de Comercialização"},"Fixo",{"$f":"SUMIFS('Classificação OPEX'!$O$4:$O$1666,'Classificação OPEX'!$Q$4:$Q$1666,\"N\",'Classificação OPEX'!$S$4:$S$1666,\"NÃO\",'Classificação OPEX'!$V$4:$V$1666,DRIVER_OPEX!A52,'Classificação OPEX'!$W$4:$W$1666,DRIVER_OPEX!B52)","v":0},{"$f":"IF($F52=\"\",0,VLOOKUP($E52,Drivers!$A$26:$F$48,MATCH(G$1,Drivers!$A$25:$F$25,0),0)*$F52)","v":0},{"$f":"IF($F52=\"\",0,VLOOKUP($E52,Drivers!$A$26:$F$48,MATCH(H$1,Drivers!$A$25:$F$25,0),0)*$F52)","v":0},{"$f":"IF($F52=\"\",0,VLOOKUP($E52,Drivers!$A$26:$F$48,MATCH(I$1,Drivers!$A$25:$F$25,0),0)*$F52)","v":0},{"$f":"IF($F52=\"\",0,VLOOKUP($E52,Drivers!$A$26:$F$48,MATCH(J$1,Drivers!$A$25:$F$25,0),0)*$F52)","v":0},{"$f":"IF($F52=\"\",0,VLOOKUP($E52,Drivers!$A$26:$F$48,MATCH(K$1,Drivers!$A$25:$F$25,0),0)*$F52)","v":0}]
["CUSTO_ODORIZAÇAO",2200,"DIRETORIA COLEGIADA - PRESIDÊNCIA",{"$f":"VLOOKUP(B53,Centro_Custo!$A$2:$C$36,3)","v":"Encargos de Gestão"},"Fixo",{"$f":"SUMIFS('Classificação OPEX'!$O$4:$O$1666,'Classificação OPEX'!$Q$4:$Q$1666,\"N\",'Classificação OPEX'!$S$4:$S$1666,\"NÃO\",'Classificação OPEX'!$V$4:$V$1666,DRIVER_OPEX!A53,'Classificação OPEX'!$W$4:$W$1666,DRIVER_OPEX!B53)","v":0},{"$f":"IF($F53=\"\",0,VLOOKUP($E53,Drivers!$A$26:$F$48,MATCH(G$1,Drivers!$A$25:$F$25,0),0)*$F53)","v":0},{"$f":"IF($F53=\"\",0,VLOOKUP($E53,Drivers!$A$26:$F$48,MATCH(H$1,Drivers!$A$25:$F$25,0),0)*$F53)","v":0},{"$f":"IF($F53=\"\",0,VLOOKUP($E53,Drivers!$A$26:$F$48,MATCH(I$1,Drivers!$A$25:$F$25,0),0)*$F53)","v":0},{"$f":"IF($F53=\"\",0,VLOOKUP($E53,Drivers!$A$26:$F$48,MATCH(J$1,Drivers!$A$25:$F$25,0),0)*$F53)","v":0},{"$f":"IF($F53=\"\",0,VLOOKUP($E53,Drivers!$A$26:$F$48,MATCH(K$1,Drivers!$A$25:$F$25,0),0)*$F53)","v":0}]
["CUSTO_ODORIZAÇAO",2300,"DIRETORIA COLEGIADA - DAF",{"$f":"VLOOKUP(B54,Centro_Custo!$A$2:$C$36,3)","v":"Encargos de Gestão"},"Fixo",{"$f":"SUMIFS('Classificação OPEX'!$O$4:$O$1666,'Classificação OPEX'!$Q$4:$Q$1666,\"N\",'Classificação OPEX'!$S$4:$S$1666,\"NÃO\",'Classificação OPEX'!$V$4:$V$1666,DRIVER_OPEX!A54,'Classificação OPEX'!$W$4:$W$1666,DRIVER_OPEX!B54)","v":0},{"$f":"IF($F54=\"\",0,VLOOKUP($E54,Drivers!$A$26:$F$48,MATCH(G$1,Drivers!$A$25:$F$25,0),0)*$F54)","v":0},{"$f":"IF($F54=\"\",0,VLOOKUP($E54,Drivers!$A$26:$F$48,MATCH(H$1,Drivers!$A$25:$F$25,0),0)*$F54)","v":0},{"$f":"IF($F54=\"\",0,VLOOKUP($E54,Drivers!$A$26:$F$48,MATCH(I$1,Drivers!$A$25:$F$25,0),0)*$F54)","v":0},{"$f":"IF($F54=\"\",0,VLOOKUP($E54,Drivers!$A$26:$F$48,MATCH(J$1,Drivers!$A$25:$F$25,0),0)*$F54)","v":0},{"$f":"IF($F54=\"\",0,VLOOKUP($E54,Drivers!$A$26:$F$48,MATCH(K$1,Drivers!$A$25:$F$25,0),0)*$F54)","v":0}]
["CUSTO_ODORIZAÇAO",2310,"ASSESSORIA DAF",{"$f":"VLOOKUP(B55,Centro_Custo!$A$2:$C$36,3)","v":"Encargos de Gestão"},"Fixo",{"$f":"SUMIFS('Classificação OPEX'!$O$4:$O$1666,'Classificação OPEX'!$Q$4:$Q$1666,\"N\",'Classificação OPEX'!$S$4:$S$1666,\"NÃO\",'Classificação OPEX'!$V$4:$V$1666,DRIVER_OPEX!A55,'Classificação OPEX'!$W$4:$W$1666,DRIVER_OPEX!B55)","v":0},{"$f":"IF($F55=\"\",0,VLOOKUP($E55,Drivers!$A$26:$F$48,MATCH(G$1,Drivers!$A$25:$F$25,0),0)*$F55)","v":0},{"$f":"IF($F55=\"\",0,VLOOKUP($E55,Drivers!$A$26:$F$48,MATCH(H$1,Drivers!$A$25:$F$25,0),0)*$F55)","v":0},{"$f":"IF($F55=\"\",0,VLOOKUP($E55,Drivers!$A$26:$F$48,MATCH(I$1,Drivers!$A$25:$F$25,0),0)*$F55)","v":0},{"$f":"IF($F55=\"\",0,VLOOKUP($E55,Drivers!$A$26:$F$48,MATCH(J$1,Drivers!$A$25:$F$25,0),0)*$F55)","v":0},{"$f":"IF($F55=\"\",0,VLOOKUP($E55,Drivers!$A$26:$F$48,MATCH(K$1,Drivers!$A$25:$F$25,0),0)*$F55)","v":0}]
["CUSTO_ODORIZAÇAO",2400,"DIRETORIA COLEGIADA - DTC",{"$f":"VLOOKUP(B56,Centro_Custo!$A$2:$C$36,3)","v":"Encargos de Comercialização"},"Fixo",{"$f":"SUMIFS('Classificação OPEX'!$O$4:$O$1666,'Classificação OPEX'!$Q$4:$Q$1666,\"N\",'Classificação OPEX'!$S$4:$S$1666,\"NÃO\",'Classificação OPEX'!$V$4:$V$1666,DRIVER_OPEX!A56,'Classificação OPEX'!$W$4:$W$1666,DRIVER_OPEX!B56)","v":0},{"$f":"IF($F56=\"\",0,VLOOKUP($E56,Drivers!$A$26:$F$48,MATCH(G$1,Drivers!$A$25:$F$25,0),0)*$F56)","v":0},{"$f":"IF($F56=\"\",0,VLOOKUP($E56,Drivers!$A$26:$F$48,MATCH(H$1,Drivers!$A$25:$F$25,0),0)*$F56)","v":0},{"$f":"IF($F56=\"\",0,VLOOKUP($E56,Drivers!$A$26:$F$48,MATCH(I$1,Drivers!$A$25:$F$25,0),0)*$F56)","v":0},{"$f":"IF($F56=\"\",0,VLOOKUP($E56,Drivers!$A$26:$F$48,MATCH(J$1,Drivers!$A$25:$F$25,0),0)*$F56)","v":0},{"$f":"IF($F56=\"\",0,VLOOKUP($E56,Drivers!$A$26:$F$48,MATCH(K$1,Drivers!$A$25:$F$25,0),0)*$F56)","v":0}]
["CUSTO_ODORIZAÇAO",2410,"ASSESSORIA DE SEGURANÇA DO TRABALHO",{"$f":"VLOOKUP(B57,Centro_Custo!$A$2:$C$36,3)","v":"OPEX&ODESP"},"Fixo",{"$f":"SUMIFS('Classificação OPEX'!$O$4:$O$1666,'Classificação OPEX'!$Q$4:$Q$1666,\"N\",'Classificação OPEX'!$S$4:$S$1666,\"NÃO\",'Classificação OPEX'!$V$4:$V$1666,DRIVER_OPEX!A57,'Classificação OPEX'!$W$4:$W$1666,DRIVER_OPEX!B57)","v":0},{"$f":"IF($F57=\"\",0,VLOOKUP($E57,Drivers!$A$26:$F$48,MATCH(G$1,Drivers!$A$25:$F$25,0),0)*$F57)","v":0},{"$f":"IF($F57=\"\",0,VLOOKUP($E57,Drivers!$A$26:$F$48,MATCH(H$1,Drivers!$A$25:$F$25,0),0)*$F57)","v":0},{"$f":"IF($F57=\"\",0,VLOOKUP($E57,Drivers!$A$26:$F$48,MATCH(I$1,Drivers!$A$25:$F$25,0),0)*$F57)","v":0},{"$f":"IF($F57=\"\",0,VLOOKUP($E57,Drivers!$A$26:$F$48,MATCH(J$1,Drivers!$A$25:$F$25,0),0)*$F57)","v":0},{"$f":"IF($F57=\"\",0,VLOOKUP($E57,Drivers!$A$26:$F$48,MATCH(K$1,Drivers!$A$25:$F$25,0),0)*$F57)","v":0}]
["CUSTO_ODORIZAÇAO",3100,"SMS",{"$f":"VLOOKUP(B58,Centro_Custo!$A$2:$C$36,3)","v":"OPEX&ODESP"},"Fixo",{"$f":"SUMIFS('Classificação OPEX'!$O$4:$O$1666,'Classificação OPEX'!$Q$4:$Q$1666,\"N\",'Classificação OPEX'!$S$4:$S$1666,\"NÃO\",'Classificação OPEX'!$V$4:$V$1666,DRIVER_OPEX!A58,'Classificação OPEX'!$W$4:$W$1666,DRIVER_OPEX!B58)","v":0},{"$f":"IF($F58=\"\",0,VLOOKUP($E58,Drivers!$A$26:$F$48,MATCH(G$1,Drivers!$A$25:$F$25,0),0)*$F58)","v":0},{"$f":"IF($F58=\"\",0,VLOOKUP($E58,Drivers!$A$26:$F$48,MATCH(H$1,Drivers!$A$25:$F$25,0),0)*$F58)","v":0},{"$f":"IF($F58=\"\",0,VLOOKUP($E58,Drivers!$A$26:$F$48,MATCH(I$1,Drivers!$A$25:$F$25,0),0)*$F58)","v":0},{"$f":"IF($F58=\"\",0,VLOOKUP($E58,Drivers!$A$26:$F$48,MATCH(J$1,Drivers!$A$25:$F$25,0),0)*$F58)","v":0},{"$f":"IF($F58=\"\",0,VLOOKUP($E58,Drivers!$A$26:$F$48,MATCH(K$1,Drivers!$A$25:$F$25,0),0)*$F58)","v":0}]
["CUSTO_ODORIZAÇAO",3200,"GERÊNCIA DE PLANEJAMENTO E MEIO AMBIENTE",{"$f":"VLOOKUP(B59,Centro_Custo!$A$2:$C$36,3)","v":"OPEX&ODESP"},"Fixo",{"$f":"SUMIFS('Classificação OPEX'!$O$4:$O$1666,'Classificação OPEX'!$Q$4:$Q$1666,\"N\",'Classificação OPEX'!$S$4:$S$1666,\"NÃO\",'Classificação OPEX'!$V$4:$V$1666,DRIVER_OPEX!A59,'Classificação OPEX'!$W$4:$W$1666,DRIVER_OPEX!B59)","v":0},{"$f":"IF($F59=\"\",0,VLOOKUP($E59,Drivers!$A$26:$F$48,MATCH(G$1,Drivers!$A$25:$F$25,0),0)*$F59)","v":0},{"$f":"IF($F59=\"\",0,VLOOKUP($E59,Drivers!$A$26:$F$48,MATCH(H$1,Drivers!$A$25:$F$25,0),0)*$F59)","v":0},{"$f":"IF($F59=\"\",0,VLOOKUP($E59,Drivers!$A$26:$F$48,MATCH(I$1,Drivers!$A$25:$F$25,0),0)*$F59)","v":0},{"$f":"IF($F59=\"\",0,VLOOKUP($E59,Drivers!$A$26:$F$48,MATCH(J$1,Drivers!$A$25:$F$25,0),0)*$F59)","v":0},{"$f":"IF($F59=\"\",0,VLOOKUP($E59,Drivers!$A$26:$F$48,MATCH(K$1,Drivers!$A$25:$F$25,0),0)*$F59)","v":0}]
["CUSTO_ODORIZAÇAO",3300,"GERÊNCIA JURÍDICA",{"$f":"VLOOKUP(B60,Centro_Custo!$A$2:$C$36,3)","v":"Encargos de Gestão"},"Fixo",{"$f":"SUMIFS('Classificação OPEX'!$O$4:$O$1666,'Classificação OPEX'!$Q$4:$Q$1666,\"N\",'Classificação OPEX'!$S$4:$S$1666,\"NÃO\",'Classificação OPEX'!$V$4:$V$1666,DRIVER_OPEX!A60,'Classificação OPEX'!$W$4:$W$1666,DRIVER_OPEX!B60)","v":0},{"$f":"IF($F60=\"\",0,VLOOKUP($E60,Drivers!$A$26:$F$48,MATCH(G$1,Drivers!$A$25:$F$25,0),0)*$F60)","v":0},{"$f":"IF($F60=\"\",0,VLOOKUP($E60,Drivers!$A$26:$F$48,MATCH(H$1,Drivers!$A$25:$F$25,0),0)*$F60)","v":0},{"$f":"IF($F60=\"\",0,VLOOKUP($E60,Drivers!$A$26:$F$48,MATCH(I$1,Drivers!$A$25:$F$25,0),0)*$F60)","v":0},{"$f":"IF($F60=\"\",0,VLOOKUP($E60,Drivers!$A$26:$F$48,MATCH(J$1,Drivers!$A$25:$F$25,0),0)*$F60)","v":0},{"$f":"IF($F60=\"\",0,VLOOKUP($E60,Drivers!$A$26:$F$48,MATCH(K$1,Drivers!$A$25:$F$25,0),0)*$F60)","v":0}]
["CUSTO_ODORIZAÇAO",3400,"MARKETING",{"$f":"VLOOKUP(B61,Centro_Custo!$A$2:$C$36,3)","v":"Encargos de Comercialização"},"Fixo",{"$f":"SUMIFS('Classificação OPEX'!$O$4:$O$1666,'Classificação OPEX'!$Q$4:$Q$1666,\"N\",'Classificação OPEX'!$S$4:$S$1666,\"NÃO\",'Classificação OPEX'!$V$4:$V$1666,DRIVER_OPEX!A61,'Classificação OPEX'!$W$4:$W$1666,DRIVER_OPEX!B61)","v":0},{"$f":"IF($F61=\"\",0,VLOOKUP($E61,Drivers!$A$26:$F$48,MATCH(G$1,Drivers!$A$25:$F$25,0),0)*$F61)","v":0},{"$f":"IF($F61=\"\",0,VLOOKUP($E61,Drivers!$A$26:$F$48,MATCH(H$1,Drivers!$A$25:$F$25,0),0)*$F61)","v":0},{"$f":"IF($F61=\"\",0,VLOOKUP($E61,Drivers!$A$26:$F$48,MATCH(I$1,Drivers!$A$25:$F$25,0),0)*$F61)","v":0},{"$f":"IF($F61=\"\",0,VLOOKUP($E61,Drivers!$A$26:$F$48,MATCH(J$1,Drivers!$A$25:$F$25,0),0)*$F61)","v":0},{"$f":"IF($F61=\"\",0,VLOOKUP($E61,Drivers!$A$26:$F$48,MATCH(K$1,Drivers!$A$25:$F$25,0),0)*$F61)","v":0}]
["CUSTO_ODORIZAÇAO",3500,"ASSESSORIA DE COMUNICAÇÃO INSTITUCIONAL",{"$f":"VLOOKUP(B62,Centro_Custo!$A$2:$C$36,3)","v":"Encargos de Gestão"},"Fixo",{"$f":"SUMIFS('Classificação OPEX'!$O$4:$O$1666,'Classificação OPEX'!$Q$4:$Q$1666,\"N\",'Classificação OPEX'!$S$4:$S$1666,\"NÃO\",'Classificação OPEX'!$V$4:$V$1666,DRIVER_OPEX!A62,'Classificação OPEX'!$W$4:$W$1666,DRIVER_OPEX!B62)","v":0},{"$f":"IF($F62=\"\",0,VLOOKUP($E62,Drivers!$A$26:$F$48,MATCH(G$1,Drivers!$A$25:$F$25,0),0)*$F62)","v":0},{"$f":"IF($F62=\"\",0,VLOOKUP($E62,Drivers!$A$26:$F$48,MATCH(H$1,Drivers!$A$25:$F$25,0),0)*$F62)","v":0},{"$f":"IF($F62=\"\",0,VLOOKUP($E62,Drivers!$A$26:$F$48,MATCH(I$1,Drivers!$A$25:$F$25,0),0)*$F62)","v":0},{"$f":"IF($F62=\"\",0,VLOOKUP($E62,Drivers!$A$26:$F$48,MATCH(J$1,Drivers!$A$25:$F$25,0),0)*$F62)","v":0},{"$f":"IF($F62=\"\",0,VLOOKUP($E62,Drivers!$A$26:$F$48,MATCH(K$1,Drivers!$A$25:$F$25,0),0)*$F62)","v":0}]
["CUSTO_ODORIZAÇAO",3600,"GERÊNCIA DE GOVERNANÇA, RISCO E COMPLIANCE",{"$f":"VLOOKUP(B63,Centro_Custo!$A$2:$C$36,3)","v":"Encargos de Gestão"},"Fixo",{"$f":"SUMIFS('Classificação OPEX'!$O$4:$O$1666,'Classificação OPEX'!$Q$4:$Q$1666,\"N\",'Classificação OPEX'!$S$4:$S$1666,\"NÃO\",'Classificação OPEX'!$V$4:$V$1666,DRIVER_OPEX!A63,'Classificação OPEX'!$W$4:$W$1666,DRIVER_OPEX!B63)","v":0},{"$f":"IF($F63=\"\",0,VLOOKUP($E63,Drivers!$A$26:$F$48,MATCH(G$1,Drivers!$A$25:$F$25,0),0)*$F63)","v":0},{"$f":"IF($F63=\"\",0,VLOOKUP($E63,Drivers!$A$26:$F$48,MATCH(H$1,Drivers!$A$25:$F$25,0),0)*$F63)","v":0},{"$f":"IF($F63=\"\",0,VLOOKUP($E63,Drivers!$A$26:$F$48,MATCH(I$1,Drivers!$A$25:$F$25,0),0)*$F63)","v":0},{"$f":"IF($F63=\"\",0,VLOOKUP($E63,Drivers!$A$26:$F$48,MATCH(J$1,Drivers!$A$25:$F$25,0),0)*$F63)","v":0},{"$f":"IF($F63=\"\",0,VLOOKUP($E63,Drivers!$A$26:$F$48,MATCH(K$1,Drivers!$A$25:$F$25,0),0)*$F63)","v":0}]
["CUSTO_ODORIZAÇAO",3700,"GERÊNCIA DE REGULAÇÃO",{"$f":"VLOOKUP(B64,Centro_Custo!$A$2:$C$36,3)","v":"Encargos de Gestão"},"Fixo",{"$f":"SUMIFS('Classificação OPEX'!$O$4:$O$1666,'Classificação OPEX'!$Q$4:$Q$1666,\"N\",'Classificação OPEX'!$S$4:$S$1666,\"NÃO\",'Classificação OPEX'!$V$4:$V$1666,DRIVER_OPEX!A64,'Classificação OPEX'!$W$4:$W$1666,DRIVER_OPEX!B64)","v":0},{"$f":"IF($F64=\"\",0,VLOOKUP($E64,Drivers!$A$26:$F$48,MATCH(G$1,Drivers!$A$25:$F$25,0),0)*$F64)","v":0},{"$f":"IF($F64=\"\",0,VLOOKUP($E64,Drivers!$A$26:$F$48,MATCH(H$1,Drivers!$A$25:$F$25,0),0)*$F64)","v":0},{"$f":"IF($F64=\"\",0,VLOOKUP($E64,Drivers!$A$26:$F$48,MATCH(I$1,Drivers!$A$25:$F$25,0),0)*$F64)","v":0},{"$f":"IF($F64=\"\",0,VLOOKUP($E64,Drivers!$A$26:$F$48,MATCH(J$1,Drivers!$A$25:$F$25,0),0)*$F64)","v":0},{"$f":"IF($F64=\"\",0,VLOOKUP($E64,Drivers!$A$26:$F$48,MATCH(K$1,Drivers!$A$25:$F$25,0),0)*$F64)","v":0}]
["CUSTO_ODORIZAÇAO",4100,"GERÊNCIA DE SERVIÇOS CORPORATIVOS",{"$f":"VLOOKUP(B65,Centro_Custo!$A$2:$C$36,3)","v":"Encargos de Gestão"},"Fixo",{"$f":"SUMIFS('Classificação OPEX'!$O$4:$O$1666,'Classificação OPEX'!$Q$4:$Q$1666,\"N\",'Classificação OPEX'!$S$4:$S$1666,\"NÃO\",'Classificação OPEX'!$V$4:$V$1666,DRIVER_OPEX!A65,'Classificação OPEX'!$W$4:$W$1666,DRIVER_OPEX!B65)","v":0},{"$f":"IF($F65=\"\",0,VLOOKUP($E65,Drivers!$A$26:$F$48,MATCH(G$1,Drivers!$A$25:$F$25,0),0)*$F65)","v":0},{"$f":"IF($F65=\"\",0,VLOOKUP($E65,Drivers!$A$26:$F$48,MATCH(H$1,Drivers!$A$25:$F$25,0),0)*$F65)","v":0},{"$f":"IF($F65=\"\",0,VLOOKUP($E65,Drivers!$A$26:$F$48,MATCH(I$1,Drivers!$A$25:$F$25,0),0)*$F65)","v":0},{"$f":"IF($F65=\"\",0,VLOOKUP($E65,Drivers!$A$26:$F$48,MATCH(J$1,Drivers!$A$25:$F$25,0),0)*$F65)","v":0},{"$f":"IF($F65=\"\",0,VLOOKUP($E65,Drivers!$A$26:$F$48,MATCH(K$1,Drivers!$A$25:$F$25,0),0)*$F65)","v":0}]
["CUSTO_ODORIZAÇAO",4200,"GERÊNCIA FINANCEIRA",{"$f":"VLOOKUP(B66,Centro_Custo!$A$2:$C$36,3)","v":"Encargos de Gestão"},"Fixo",{"$f":"SUMIFS('Classificação OPEX'!$O$4:$O$1666,'Classificação OPEX'!$Q$4:$Q$1666,\"N\",'Classificação OPEX'!$S$4:$S$1666,\"NÃO\",'Classificação OPEX'!$V$4:$V$1666,DRIVER_OPEX!A66,'Classificação OPEX'!$W$4:$W$1666,DRIVER_OPEX!B66)","v":0},{"$f":"IF($F66=\"\",0,VLOOKUP($E66,Drivers!$A$26:$F$48,MATCH(G$1,Drivers!$A$25:$F$25,0),0)*$F66)","v":0},{"$f":"IF($F66=\"\",0,VLOOKUP($E66,Drivers!$A$26:$F$48,MATCH(H$1,Drivers!$A$25:$F$25,0),0)*$F66)","v":0},{"$f":"IF($F66=\"\",0,VLOOKUP($E66,Drivers!$A$26:$F$48,MATCH(I$1,Drivers!$A$25:$F$25,0),0)*$F66)","v":0},{"$f":"IF($F66=\"\",0,VLOOKUP($E66,Drivers!$A$26:$F$48,MATCH(J$1,Drivers!$A$25:$F$25,0),0)*$F66)","v":0},{"$f":"IF($F66=\"\",0,VLOOKUP($E66,Drivers!$A$26:$F$48,MATCH(K$1,Drivers!$A$25:$F$25,0),0)*$F66)","v":0}]
["CUSTO_ODORIZAÇAO",4300,"GERÊNCIA DE TECNOLOGIA E SISTEMAS DE INFORMAÇÃO",{"$f":"VLOOKUP(B67,Centro_Custo!$A$2:$C$36,3)","v":"Encargos de Gestão"},"Fixo",{"$f":"SUMIFS('Classificação OPEX'!$O$4:$O$1666,'Classificação OPEX'!$Q$4:$Q$1666,\"N\",'Classificação OPEX'!$S$4:$S$1666,\"NÃO\",'Classificação OPEX'!$V$4:$V$1666,DRIVER_OPEX!A67,'Classificação OPEX'!$W$4:$W$1666,DRIVER_OPEX!B67)","v":0},{"$f":"IF($F67=\"\",0,VLOOKUP($E67,Drivers!$A$26:$F$48,MATCH(G$1,Drivers!$A$25:$F$25,0),0)*$F67)","v":0},{"$f":"IF($F67=\"\",0,VLOOKUP($E67,Drivers!$A$26:$F$48,MATCH(H$1,Drivers!$A$25:$F$25,0),0)*$F67)","v":0},{"$f":"IF($F67=\"\",0,VLOOKUP($E67,Drivers!$A$26:$F$48,MATCH(I$1,Drivers!$A$25:$F$25,0),0)*$F67)","v":0},{"$f":"IF($F67=\"\",0,VLOOKUP($E67,Drivers!$A$26:$F$48,MATCH(J$1,Drivers!$A$25:$F$25,0),0)*$F67)","v":0},{"$f":"IF($F67=\"\",0,VLOOKUP($E67,Drivers!$A$26:$F$48,MATCH(K$1,Drivers!$A$25:$F$25,0),0)*$F67)","v":0}]
["CUSTO_ODORIZAÇAO",4500,"GERÊNCIA CONTÁBIL",{"$f":"VLOOKUP(B68,Centro_Custo!$A$2:$C$36,3)","v":"Encargos de Gestão"},"Fixo",{"$f":"SUMIFS('Classificação OPEX'!$O$4:$O$1666,'Classificação OPEX'!$Q$4:$Q$1666,\"N\",'Classificação OPEX'!$S$4:$S$1666,\"NÃO\",'Classificação OPEX'!$V$4:$V$1666,DRIVER_OPEX!A68,'Classificação OPEX'!$W$4:$W$1666,DRIVER_OPEX!B68)","v":0},{"$f":"IF($F68=\"\",0,VLOOKUP($E68,Drivers!$A$26:$F$48,MATCH(G$1,Drivers!$A$25:$F$25,0),0)*$F68)","v":0},{"$f":"IF($F68=\"\",0,VLOOKUP($E68,Drivers!$A$26:$F$48,MATCH(H$1,Drivers!$A$25:$F$25,0),0)*$F68)","v":0},{"$f":"IF($F68=\"\",0,VLOOKUP($E68,Drivers!$A$26:$F$48,MATCH(I$1,Drivers!$A$25:$F$25,0),0)*$F68)","v":0},{"$f":"IF($F68=\"\",0,VLOOKUP($E68,Drivers!$A$26:$F$48,MATCH(J$1,Drivers!$A$25:$F$25,0),0)*$F68)","v":0},{"$f":"IF($F68=\"\",0,VLOOKUP($E68,Drivers!$A$26:$F$48,MATCH(K$1,Drivers!$A$25:$F$25,0),0)*$F68)","v":0}]
["CUSTO_ODORIZAÇAO",4600,"GERÊNCIA DE PESSOAS E CULTURA",{"$f":"VLOOKUP(B69,Centro_Custo!$A$2:$C$36,3)","v":"Encargos de Gestão"},"Fixo",{"$f":"SUMIFS('Classificação OPEX'!$O$4:$O$1666,'Classificação OPEX'!$Q$4:$Q$1666,\"N\",'Classificação OPEX'!$S$4:$S$1666,\"NÃO\",'Classificação OPEX'!$V$4:$V$1666,DRIVER_OPEX!A69,'Classificação OPEX'!$W$4:$W$1666,DRIVER_OPEX!B69)","v":0},{"$f":"IF($F69=\"\",0,VLOOKUP($E69,Drivers!$A$26:$F$48,MATCH(G$1,Drivers!$A$25:$F$25,0),0)*$F69)","v":0},{"$f":"IF($F69=\"\",0,VLOOKUP($E69,Drivers!$A$26:$F$48,MATCH(H$1,Drivers!$A$25:$F$25,0),0)*$F69)","v":0},{"$f":"IF($F69=\"\",0,VLOOKUP($E69,Drivers!$A$26:$F$48,MATCH(I$1,Drivers!$A$25:$F$25,0),0)*$F69)","v":0},{"$f":"IF($F69=\"\",0,VLOOKUP($E69,Drivers!$A$26:$F$48,MATCH(J$1,Drivers!$A$25:$F$25,0),0)*$F69)","v":0},{"$f":"IF($F69=\"\",0,VLOOKUP($E69,Drivers!$A$26:$F$48,MATCH(K$1,Drivers!$A$25:$F$25,0),0)*$F69)","v":0}]
["CUSTO_ODORIZAÇAO",5100,"GERÊNCIA DE ENGENHARIA",{"$f":"VLOOKUP(B70,Centro_Custo!$A$2:$C$36,3)","v":"OPEX&ODESP"},"Fixo",{"$f":"SUMIFS('Classificação OPEX'!$O$4:$O$1666,'Classificação OPEX'!$Q$4:$Q$1666,\"N\",'Classificação OPEX'!$S$4:$S$1666,\"NÃO\",'Classificação OPEX'!$V$4:$V$1666,DRIVER_OPEX!A70,'Classificação OPEX'!$W$4:$W$1666,DRIVER_OPEX!B70)","v":0},{"$f":"IF($F70=\"\",0,VLOOKUP($E70,Drivers!$A$26:$F$48,MATCH(G$1,Drivers!$A$25:$F$25,0),0)*$F70)","v":0},{"$f":"IF($F70=\"\",0,VLOOKUP($E70,Drivers!$A$26:$F$48,MATCH(H$1,Drivers!$A$25:$F$25,0),0)*$F70)","v":0},{"$f":"IF($F70=\"\",0,VLOOKUP($E70,Drivers!$A$26:$F$48,MATCH(I$1,Drivers!$A$25:$F$25,0),0)*$F70)","v":0},{"$f":"IF($F70=\"\",0,VLOOKUP($E70,Drivers!$A$26:$F$48,MATCH(J$1,Drivers!$A$25:$F$25,0),0)*$F70)","v":0},{"$f":"IF($F70=\"\",0,VLOOKUP($E70,Drivers!$A$26:$F$48,MATCH(K$1,Drivers!$A$25:$F$25,0),0)*$F70)","v":0}]
["CUSTO_ODORIZAÇAO",5300,"GERÊNCIA COMERCIAL",{"$f":"VLOOKUP(B71,Centro_Custo!$A$2:$C$36,3)","v":"Encargos de Comercialização"},"Fixo",{"$f":"SUMIFS('Classificação OPEX'!$O$4:$O$1666,'Classificação OPEX'!$Q$4:$Q$1666,\"N\",'Classificação OPEX'!$S$4:$S$1666,\"NÃO\",'Classificação OPEX'!$V$4:$V$1666,DRIVER_OPEX!A71,'Classificação OPEX'!$W$4:$W$1666,DRIVER_OPEX!B71)","v":0},{"$f":"IF($F71=\"\",0,VLOOKUP($E71,Drivers!$A$26:$F$48,MATCH(G$1,Drivers!$A$25:$F$25,0),0)*$F71)","v":0},{"$f":"IF($F71=\"\",0,VLOOKUP($E71,Drivers!$A$26:$F$48,MATCH(H$1,Drivers!$A$25:$F$25,0),0)*$F71)","v":0},{"$f":"IF($F71=\"\",0,VLOOKUP($E71,Drivers!$A$26:$F$48,MATCH(I$1,Drivers!$A$25:$F$25,0),0)*$F71)","v":0},{"$f":"IF($F71=\"\",0,VLOOKUP($E71,Drivers!$A$26:$F$48,MATCH(J$1,Drivers!$A$25:$F$25,0),0)*$F71)","v":0},{"$f":"IF($F71=\"\",0,VLOOKUP($E71,Drivers!$A$26:$F$48,MATCH(K$1,Drivers!$A$25:$F$25,0),0)*$F71)","v":0}]
["CUSTO_ODORIZAÇAO",9999,"RATEIO",{"$f":"VLOOKUP(B72,Centro_Custo!$A$2:$C$36,3)","v":"Encargos de Gestão"},"Fixo",{"$f":"SUMIFS('Classificação OPEX'!$O$4:$O$1666,'Classificação OPEX'!$Q$4:$Q$1666,\"N\",'Classificação OPEX'!$S$4:$S$1666,\"NÃO\",'Classificação OPEX'!$V$4:$V$1666,DRIVER_OPEX!A72,'Classificação OPEX'!$W$4:$W$1666,DRIVER_OPEX!B72)","v":0},{"$f":"IF($F72=\"\",0,VLOOKUP($E72,Drivers!$A$26:$F$48,MATCH(G$1,Drivers!$A$25:$F$25,0),0)*$F72)","v":0},{"$f":"IF($F72=\"\",0,VLOOKUP($E72,Drivers!$A$26:$F$48,MATCH(H$1,Drivers!$A$25:$F$25,0),0)*$F72)","v":0},{"$f":"IF($F72=\"\",0,VLOOKUP($E72,Drivers!$A$26:$F$48,MATCH(I$1,Drivers!$A$25:$F$25,0),0)*$F72)","v":0},{"$f":"IF($F72=\"\",0,VLOOKUP($E72,Drivers!$A$26:$F$48,MATCH(J$1,Drivers!$A$25:$F$25,0),0)*$F72)","v":0},{"$f":"IF($F72=\"\",0,VLOOKUP($E72,Drivers!$A$26:$F$48,MATCH(K$1,Drivers!$A$25:$F$25,0),0)*$F72)","v":0}]
["CUSTO_ODORIZAÇAO","5400","GERÊNCIA COMERCIAL",{"$f":"VLOOKUP(B73,Centro_Custo!$A$2:$C$36,3)","v":"Encargos de Gestão"},"Fixo",{"$f":"SUMIFS('Classificação OPEX'!$O$4:$O$1666,'Classificação OPEX'!$Q$4:$Q$1666,\"N\",'Classificação OPEX'!$S$4:$S$1666,\"NÃO\",'Classificação OPEX'!$V$4:$V$1666,DRIVER_OPEX!A73,'Classificação OPEX'!$W$4:$W$1666,DRIVER_OPEX!B73)","v":0},{"$f":"IF($F73=\"\",0,VLOOKUP($E73,Drivers!$A$26:$F$48,MATCH(G$1,Drivers!$A$25:$F$25,0),0)*$F73)","v":0},{"$f":"IF($F73=\"\",0,VLOOKUP($E73,Drivers!$A$26:$F$48,MATCH(H$1,Drivers!$A$25:$F$25,0),0)*$F73)","v":0},{"$f":"IF($F73=\"\",0,VLOOKUP($E73,Drivers!$A$26:$F$48,MATCH(I$1,Drivers!$A$25:$F$25,0),0)*$F73)","v":0},{"$f":"IF($F73=\"\",0,VLOOKUP($E73,Drivers!$A$26:$F$48,MATCH(J$1,Drivers!$A$25:$F$25,0),0)*$F73)","v":0},{"$f":"IF($F73=\"\",0,VLOOKUP($E73,Drivers!$A$26:$F$48,MATCH(K$1,Drivers!$A$25:$F$25,0),0)*$F73)","v":0}]
["CUSTO_ODORIZAÇAO","5500","GERÊNCIA COMERCIAL",{"$f":"VLOOKUP(B74,Centro_Custo!$A$2:$C$36,3)","v":"Encargos de Gestão"},"Fixo",{"$f":"SUMIFS('Classificação OPEX'!$O$4:$O$1666,'Classificação OPEX'!$Q$4:$Q$1666,\"N\",'Classificação OPEX'!$S$4:$S$1666,\"NÃO\",'Classificação OPEX'!$V$4:$V$1666,DRIVER_OPEX!A74,'Classificação OPEX'!$W$4:$W$1666,DRIVER_OPEX!B74)","v":0},{"$f":"IF($F74=\"\",0,VLOOKUP($E74,Drivers!$A$26:$F$48,MATCH(G$1,Drivers!$A$25:$F$25,0),0)*$F74)","v":0},{"$f":"IF($F74=\"\",0,VLOOKUP($E74,Drivers!$A$26:$F$48,MATCH(H$1,Drivers!$A$25:$F$25,0),0)*$F74)","v":0},{"$f":"IF($F74=\"\",0,VLOOKUP($E74,Drivers!$A$26:$F$48,MATCH(I$1,Drivers!$A$25:$F$25,0),0)*$F74)","v":0},{"$f":"IF($F74=\"\",0,VLOOKUP($E74,Drivers!$A$26:$F$48,MATCH(J$1,Drivers!$A$25:$F$25,0),0)*$F74)","v":0},{"$f":"IF($F74=\"\",0,VLOOKUP($E74,Drivers!$A$26:$F$48,MATCH(K$1,Drivers!$A$25:$F$25,0),0)*$F74)","v":0}]
["DESPESAS_GERAIS","TOTAL","TOTAL",null,null,{"$f":"SUM(F76:F110)","v":6204113.4645096045},{"$f":"SUM(G76:G110)","v":6414643.3143351823},6709918.7190849399,6943121.9129734738,7096478.6976833036,7276702.7642673794]
["DESPESAS_GERAIS",1004,{"$f":"VLOOKUP(B76,Centro_Custo!$A$2:$B$36,2,0)","v":"COMITÊ DE AUDITORIA ESTATUTÁRIA"},{"$f":"VLOOKUP(B76,Centro_Custo!$A$2:$C$36,3)","v":"Encargos de Gestão"},"Fixo",{"$f":"SUMIFS('Classificação OPEX'!$O$4:$O$1666,'Classificação OPEX'!$Q$4:$Q$1666,\"N\",'Classificação OPEX'!$S$4:$S$1666,\"NÃO\",'Classificação OPEX'!$V$4:$V$1666,DRIVER_OPEX!A76,'Classificação OPEX'!$W$4:$W$1666,DRIVER_OPEX!B76)","v":0},{"$f":"IF($F76=\"\",0,VLOOKUP($E76,Drivers!$A$26:$F$48,MATCH(G$1,Drivers!$A$25:$F$25,0),0)*$F76)","v":0},{"$f":"IF($F76=\"\",0,VLOOKUP($E76,Drivers!$A$26:$F$48,MATCH(H$1,Drivers!$A$25:$F$25,0),0)*$F76)","v":0},{"$f":"IF($F76=\"\",0,VLOOKUP($E76,Drivers!$A$26:$F$48,MATCH(I$1,Drivers!$A$25:$F$25,0),0)*$F76)","v":0},{"$f":"IF($F76=\"\",0,VLOOKUP($E76,Drivers!$A$26:$F$48,MATCH(J$1,Drivers!$A$25:$F$25,0),0)*$F76)","v":0},{"$f":"IF($F76=\"\",0,VLOOKUP($E76,Drivers!$A$26:$F$48,MATCH(K$1,Drivers!$A$25:$F$25,0),0)*$F76)","v":0}]
["DESPESAS_GERAIS",1005,{"$f":"VLOOKUP(B77,Centro_Custo!$A$2:$B$36,2,0)","v":"AUDITORIA INTERNA"},{"$f":"VLOOKUP(B77,Centro_Custo!$A$2:$C$36,3)","v":"Encargos de Gestão"},"Fixo",{"$f":"SUMIFS('Classificação OPEX'!$O$4:$O$1666,'Classificação OPEX'!$Q$4:$Q$1666,\"N\",'Classificação OPEX'!$S$4:$S$1666,\"NÃO\",'Classificação OPEX'!$V$4:$V$1666,DRIVER_OPEX!A77,'Classificação OPEX'!$W$4:$W$1666,DRIVER_OPEX!B77)","v":4322.82301186732},{"$f":"IF($F77=\"\",0,VLOOKUP($E77,Drivers!$A$26:$F$48,MATCH(G$1,Drivers!$A$25:$F$25,0),0)*$F77)","v":4322.82301186732},{"$f":"IF($F77=\"\",0,VLOOKUP($E77,Drivers!$A$26:$F$48,MATCH(H$1,Drivers!$A$25:$F$25,0),0)*$F77)","v":4322.82301186732},{"$f":"IF($F77=\"\",0,VLOOKUP($E77,Drivers!$A$26:$F$48,MATCH(I$1,Drivers!$A$25:$F$25,0),0)*$F77)","v":4322.82301186732},{"$f":"IF($F77=\"\",0,VLOOKUP($E77,Drivers!$A$26:$F$48,MATCH(J$1,Drivers!$A$25:$F$25,0),0)*$F77)","v":4322.82301186732},{"$f":"IF($F77=\"\",0,VLOOKUP($E77,Drivers!$A$26:$F$48,MATCH(K$1,Drivers!$A$25:$F$25,0),0)*$F77)","v":4322.82301186732}]
["DESPESAS_GERAIS",1010,{"$f":"VLOOKUP(B78,Centro_Custo!$A$2:$B$36,2,0)","v":"GOVERNANÇA SOCIETÁRIA"},{"$f":"VLOOKUP(B78,Centro_Custo!$A$2:$C$36,3)","v":"Encargos de Gestão"},"Fixo",{"$f":"SUMIFS('Classificação OPEX'!$O$4:$O$1666,'Classificação OPEX'!$Q$4:$Q$1666,\"N\",'Classificação OPEX'!$S$4:$S$1666,\"NÃO\",'Classificação OPEX'!$V$4:$V$1666,DRIVER_OPEX!A78,'Classificação OPEX'!$W$4:$W$1666,DRIVER_OPEX!B78)","v":37.646355990044057},{"$f":"IF($F78=\"\",0,VLOOKUP($E78,Drivers!$A$26:$F$48,MATCH(G$1,Drivers!$A$25:$F$25,0),0)*$F78)","v":37.646355990044057},{"$f":"IF($F78=\"\",0,VLOOKUP($E78,Drivers!$A$26:$F$48,MATCH(H$1,Drivers!$A$25:$F$25,0),0)*$F78)","v":37.646355990044057},{"$f":"IF($F78=\"\",0,VLOOKUP($E78,Drivers!$A$26:$F$48,MATCH(I$1,Drivers!$A$25:$F$25,0),0)*$F78)","v":37.646355990044057},{"$f":"IF($F78=\"\",0,VLOOKUP($E78,Drivers!$A$26:$F$48,MATCH(J$1,Drivers!$A$25:$F$25,0),0)*$F78)","v":37.646355990044057},{"$f":"IF($F78=\"\",0,VLOOKUP($E78,Drivers!$A$26:$F$48,MATCH(K$1,Drivers!$A$25:$F$25,0),0)*$F78)","v":37.646355990044057}]
["DESPESAS_GERAIS",2110,{"$f":"VLOOKUP(B79,Centro_Custo!$A$2:$B$36,2,0)","v":"ASSESSORIA DA DIRETORIA EXECUTIVA"},{"$f":"VLOOKUP(B79,Centro_Custo!$A$2:$C$36,3)","v":"Encargos de Gestão"},"Fixo",{"$f":"SUMIFS('Classificação OPEX'!$O$4:$O$1666,'Classificação OPEX'!$Q$4:$Q$1666,\"N\",'Classificação OPEX'!$S$4:$S$1666,\"NÃO\",'Classificação OPEX'!$V$4:$V$1666,DRIVER_OPEX!A79,'Classificação OPEX'!$W$4:$W$1666,DRIVER_OPEX!B79)","v":8660.9557653055017},{"$f":"IF($F79=\"\",0,VLOOKUP($E79,Drivers!$A$26:$F$48,MATCH(G$1,Drivers!$A$25:$F$25,0),0)*$F79)","v":8660.9557653055017},{"$f":"IF($F79=\"\",0,VLOOKUP($E79,Drivers!$A$26:$F$48,MATCH(H$1,Drivers!$A$25:$F$25,0),0)*$F79)","v":8660.9557653055017},{"$f":"IF($F79=\"\",0,VLOOKUP($E79,Drivers!$A$26:$F$48,MATCH(I$1,Drivers!$A$25:$F$25,0),0)*$F79)","v":8660.9557653055017},{"$f":"IF($F79=\"\",0,VLOOKUP($E79,Drivers!$A$26:$F$48,MATCH(J$1,Drivers!$A$25:$F$25,0),0)*$F79)","v":8660.9557653055017},{"$f":"IF($F79=\"\",0,VLOOKUP($E79,Drivers!$A$26:$F$48,MATCH(K$1,Drivers!$A$25:$F$25,0),0)*$F79)","v":8660.9557653055017}]
["DESPESAS_GERAIS",2120,{"$f":"VLOOKUP(B80,Centro_Custo!$A$2:$B$36,2,0)","v":"ASSESSORIA DA PRESIDÊNCIA"},{"$f":"VLOOKUP(B80,Centro_Custo!$A$2:$C$36,3)","v":"Encargos de Gestão"},"Fixo",{"$f":"SUMIFS('Classificação OPEX'!$O$4:$O$1666,'Classificação OPEX'!$Q$4:$Q$1666,\"N\",'Classificação OPEX'!$S$4:$S$1666,\"NÃO\",'Classificação OPEX'!$V$4:$V$1666,DRIVER_OPEX!A80,'Classificação OPEX'!$W$4:$W$1666,DRIVER_OPEX!B80)","v":34669.047995708803},{"$f":"IF($F80=\"\",0,VLOOKUP($E80,Drivers!$A$26:$F$48,MATCH(G$1,Drivers!$A$25:$F$25,0),0)*$F80)","v":34669.047995708803},{"$f":"IF($F80=\"\",0,VLOOKUP($E80,Drivers!$A$26:$F$48,MATCH(H$1,Drivers!$A$25:$F$25,0),0)*$F80)","v":34669.047995708803},{"$f":"IF($F80=\"\",0,VLOOKUP($E80,Drivers!$A$26:$F$48,MATCH(I$1,Drivers!$A$25:$F$25,0),0)*$F80)","v":34669.047995708803},{"$f":"IF($F80=\"\",0,VLOOKUP($E80,Drivers!$A$26:$F$48,MATCH(J$1,Drivers!$A$25:$F$25,0),0)*$F80)","v":34669.047995708803},{"$f":"IF($F80=\"\",0,VLOOKUP($E80,Drivers!$A$26:$F$48,MATCH(K$1,Drivers!$A$25:$F$25,0),0)*$F80)","v":34669.047995708803}]
["DESPESAS_GERAIS",2130,{"$f":"VLOOKUP(B81,Centro_Custo!$A$2:$B$36,2,0)","v":"ASSESSORIA DE RELAÇÕES INSTITUCIONAIS E NOVOS NEGÓCIOS"},{"$f":"VLOOKUP(B81,Centro_Custo!$A$2:$C$36,3)","v":"Encargos de Gestão"},"Fixo",{"$f":"SUMIFS('Classificação OPEX'!$O$4:$O$1666,'Classificação OPEX'!$Q$4:$Q$1666,\"N\",'Classificação OPEX'!$S$4:$S$1666,\"NÃO\",'Classificação OPEX'!$V$4:$V$1666,DRIVER_OPEX!A81,'Classificação OPEX'!$W$4:$W$1666,DRIVER_OPEX!B81)","v":0},{"$f":"IF($F81=\"\",0,VLOOKUP($E81,Drivers!$A$26:$F$48,MATCH(G$1,Drivers!$A$25:$F$25,0),0)*$F81)","v":0},{"$f":"IF($F81=\"\",0,VLOOKUP($E81,Drivers!$A$26:$F$48,MATCH(H$1,Drivers!$A$25:$F$25,0),0)*$F81)","v":0},{"$f":"IF($F81=\"\",0,VLOOKUP($E81,Drivers!$A$26:$F$48,MATCH(I$1,Drivers!$A$25:$F$25,0),0)*$F81)","v":0},{"$f":"IF($F81=\"\",0,VLOOKUP($E81,Drivers!$A$26:$F$48,MATCH(J$1,Drivers!$A$25:$F$25,0),0)*$F81)","v":0},{"$f":"IF($F81=\"\",0,VLOOKUP($E81,Drivers!$A$26:$F$48,MATCH(K$1,Drivers!$A$25:$F$25,0),0)*$F81)","v":0}]
["DESPESAS_GERAIS",2140,{"$f":"VLOOKUP(B82,Centro_Custo!$A$2:$B$36,2,0)","v":"ASSESSORIA DTC"},{"$f":"VLOOKUP(B82,Centro_Custo!$A$2:$C$36,3)","v":"Encargos de Comercialização"},"Fixo",{"$f":"SUMIFS('Classificação OPEX'!$O$4:$O$1666,'Classificação OPEX'!$Q$4:$Q$1666,\"N\",'Classificação OPEX'!$S$4:$S$1666,\"NÃO\",'Classificação OPEX'!$V$4:$V$1666,DRIVER_OPEX!A82,'Classificação OPEX'!$W$4:$W$1666,DRIVER_OPEX!B82)","v":0},{"$f":"IF($F82=\"\",0,VLOOKUP($E82,Drivers!$A$26:$F$48,MATCH(G$1,Drivers!$A$25:$F$25,0),0)*$F82)","v":0},{"$f":"IF($F82=\"\",0,VLOOKUP($E82,Drivers!$A$26:$F$48,MATCH(H$1,Drivers!$A$25:$F$25,0),0)*$F82)","v":0},{"$f":"IF($F82=\"\",0,VLOOKUP($E82,Drivers!$A$26:$F$48,MATCH(I$1,Drivers!$A$25:$F$25,0),0)*$F82)","v":0},{"$f":"IF($F82=\"\",0,VLOOKUP($E82,Drivers!$A$26:$F$48,MATCH(J$1,Drivers!$A$25:$F$25,0),0)*$F82)","v":0},{"$f":"IF($F82=\"\",0,VLOOKUP($E82,Drivers!$A$26:$F$48,MATCH(K$1,Drivers!$A$25:$F$25,0),0)*$F82)","v":0}]
["DESPESAS_GERAIS",2200,{"$f":"VLOOKUP(B83,Centro_Custo!$A$2:$B$36,2,0)","v":"DIRETORIA COLEGIADA - PRESIDÊNCIA"},{"$f":"VLOOKUP(B83,Centro_Custo!$A$2:$C$36,3)","v":"Encargos de Gestão"},"Fixo",{"$f":"SUMIFS('Classificação OPEX'!$O$4:$O$1666,'Classificação OPEX'!$Q$4:$Q$1666,\"N\",'Classificação OPEX'!$S$4:$S$1666,\"NÃO\",'Classificação OPEX'!$V$4:$V$1666,DRIVER_OPEX!A83,'Classificação OPEX'!$W$4:$W$1666,DRIVER_OPEX!B83)","v":13438.284965124218},{"$f":"IF($F83=\"\",0,VLOOKUP($E83,Drivers!$A$26:$F$48,MATCH(G$1,Drivers!$A$25:$F$25,0),0)*$F83)","v":13438.284965124218},{"$f":"IF($F83=\"\",0,VLOOKUP($E83,Drivers!$A$26:$F$48,MATCH(H$1,Drivers!$A$25:$F$25,0),0)*$F83)","v":13438.284965124218},{"$f":"IF($F83=\"\",0,VLOOKUP($E83,Drivers!$A$26:$F$48,MATCH(I$1,Drivers!$A$25:$F$25,0),0)*$F83)","v":13438.284965124218},{"$f":"IF($F83=\"\",0,VLOOKUP($E83,Drivers!$A$26:$F$48,MATCH(J$1,Drivers!$A$25:$F$25,0),0)*$F83)","v":13438.284965124218},{"$f":"IF($F83=\"\",0,VLOOKUP($E83,Drivers!$A$26:$F$48,MATCH(K$1,Drivers!$A$25:$F$25,0),0)*$F83)","v":13438.284965124218}]
["DESPESAS_GERAIS",2300,{"$f":"VLOOKUP(B84,Centro_Custo!$A$2:$B$36,2,0)","v":"DIRETORIA COLEGIADA - DAF"},{"$f":"VLOOKUP(B84,Centro_Custo!$A$2:$C$36,3)","v":"Encargos de Gestão"},"Fixo",{"$f":"SUMIFS('Classificação OPEX'!$O$4:$O$1666,'Classificação OPEX'!$Q$4:$Q$1666,\"N\",'Classificação OPEX'!$S$4:$S$1666,\"NÃO\",'Classificação OPEX'!$V$4:$V$1666,DRIVER_OPEX!A84,'Classificação OPEX'!$W$4:$W$1666,DRIVER_OPEX!B84)","v":754497.99108203559},{"$f":"IF($F84=\"\",0,VLOOKUP($E84,Drivers!$A$26:$F$48,MATCH(G$1,Drivers!$A$25:$F$25,0),0)*$F84)","v":754497.99108203559},{"$f":"IF($F84=\"\",0,VLOOKUP($E84,Drivers!$A$26:$F$48,MATCH(H$1,Drivers!$A$25:$F$25,0),0)*$F84)","v":754497.99108203559},{"$f":"IF($F84=\"\",0,VLOOKUP($E84,Drivers!$A$26:$F$48,MATCH(I$1,Drivers!$A$25:$F$25,0),0)*$F84)","v":754497.99108203559},{"$f":"IF($F84=\"\",0,VLOOKUP($E84,Drivers!$A$26:$F$48,MATCH(J$1,Drivers!$A$25:$F$25,0),0)*$F84)","v":754497.99108203559},{"$f":"IF($F84=\"\",0,VLOOKUP($E84,Drivers!$A$26:$F$48,MATCH(K$1,Drivers!$A$25:$F$25,0),0)*$F84)","v":754497.99108203559}]
["DESPESAS_GERAIS",2310,{"$f":"VLOOKUP(B85,Centro_Custo!$A$2:$B$36,2,0)","v":"ASSESSORIA DAF"},{"$f":"VLOOKUP(B85,Centro_Custo!$A$2:$C$36,3)","v":"Encargos de Gestão"},"Fixo",{"$f":"SUMIFS('Classificação OPEX'!$O$4:$O$1666,'Classificação OPEX'!$Q$4:$Q$1666,\"N\",'Classificação OPEX'!$S$4:$S$1666,\"NÃO\",'Classificação OPEX'!$V$4:$V$1666,DRIVER_OPEX!A85,'Classificação OPEX'!$W$4:$W$1666,DRIVER_OPEX!B85)","v":5387.3709778925058},{"$f":"IF($F85=\"\",0,VLOOKUP($E85,Drivers!$A$26:$F$48,MATCH(G$1,Drivers!$A$25:$F$25,0),0)*$F85)","v":5387.3709778925058},{"$f":"IF($F85=\"\",0,VLOOKUP($E85,Drivers!$A$26:$F$48,MATCH(H$1,Drivers!$A$25:$F$25,0),0)*$F85)","v":5387.3709778925058},{"$f":"IF($F85=\"\",0,VLOOKUP($E85,Drivers!$A$26:$F$48,MATCH(I$1,Drivers!$A$25:$F$25,0),0)*$F85)","v":5387.3709778925058},{"$f":"IF($F85=\"\",0,VLOOKUP($E85,Drivers!$A$26:$F$48,MATCH(J$1,Drivers!$A$25:$F$25,0),0)*$F85)","v":5387.3709778925058},{"$f":"IF($F85=\"\",0,VLOOKUP($E85,Drivers!$A$26:$F$48,MATCH(K$1,Drivers!$A$25:$F$25,0),0)*$F85)","v":5387.3709778925058}]
["DESPESAS_GERAIS",2400,{"$f":"VLOOKUP(B86,Centro_Custo!$A$2:$B$36,2,0)","v":"DIRETORIA COLEGIADA - DTC"},{"$f":"VLOOKUP(B86,Centro_Custo!$A$2:$C$36,3)","v":"Encargos de Comercialização"},"Fixo",{"$f":"SUMIFS('Classificação OPEX'!$O$4:$O$1666,'Classificação OPEX'!$Q$4:$Q$1666,\"N\",'Classificação OPEX'!$S$4:$S$1666,\"NÃO\",'Classificação OPEX'!$V$4:$V$1666,DRIVER_OPEX!A86,'Classificação OPEX'!$W$4:$W$1666,DRIVER_OPEX!B86)","v":672596.84739519912},{"$f":"IF($F86=\"\",0,VLOOKUP($E86,Drivers!$A$26:$F$48,MATCH(G$1,Drivers!$A$25:$F$25,0),0)*$F86)","v":672596.84739519912},{"$f":"IF($F86=\"\",0,VLOOKUP($E86,Drivers!$A$26:$F$48,MATCH(H$1,Drivers!$A$25:$F$25,0),0)*$F86)","v":672596.84739519912},{"$f":"IF($F86=\"\",0,VLOOKUP($E86,Drivers!$A$26:$F$48,MATCH(I$1,Drivers!$A$25:$F$25,0),0)*$F86)","v":672596.84739519912},{"$f":"IF($F86=\"\",0,VLOOKUP($E86,Drivers!$A$26:$F$48,MATCH(J$1,Drivers!$A$25:$F$25,0),0)*$F86)","v":672596.84739519912},{"$f":"IF($F86=\"\",0,VLOOKUP($E86,Drivers!$A$26:$F$48,MATCH(K$1,Drivers!$A$25:$F$25,0),0)*$F86)","v":672596.84739519912}]
["DESPESAS_GERAIS",2410,{"$f":"VLOOKUP(B87,Centro_Custo!$A$2:$B$36,2,0)","v":"ASSESSORIA DE SEGURANÇA DO TRABALHO"},{"$f":"VLOOKUP(B87,Centro_Custo!$A$2:$C$36,3)","v":"OPEX&ODESP"},"Fixo",{"$f":"SUMIFS('Classificação OPEX'!$O$4:$O$1666,'Classificação OPEX'!$Q$4:$Q$1666,\"N\",'Classificação OPEX'!$S$4:$S$1666,\"NÃO\",'Classificação OPEX'!$V$4:$V$1666,DRIVER_OPEX!A87,'Classificação OPEX'!$W$4:$W$1666,DRIVER_OPEX!B87)","v":1687.8884945195409},{"$f":"IF($F87=\"\",0,VLOOKUP($E87,Drivers!$A$26:$F$48,MATCH(G$1,Drivers!$A$25:$F$25,0),0)*$F87)","v":1687.8884945195409},{"$f":"IF($F87=\"\",0,VLOOKUP($E87,Drivers!$A$26:$F$48,MATCH(H$1,Drivers!$A$25:$F$25,0),0)*$F87)","v":1687.8884945195409},{"$f":"IF($F87=\"\",0,VLOOKUP($E87,Drivers!$A$26:$F$48,MATCH(I$1,Drivers!$A$25:$F$25,0),0)*$F87)","v":1687.8884945195409},{"$f":"IF($F87=\"\",0,VLOOKUP($E87,Drivers!$A$26:$F$48,MATCH(J$1,Drivers!$A$25:$F$25,0),0)*$F87)","v":1687.8884945195409},{"$f":"IF($F87=\"\",0,VLOOKUP($E87,Drivers!$A$26:$F$48,MATCH(K$1,Drivers!$A$25:$F$25,0),0)*$F87)","v":1687.8884945195409}]
["DESPESAS_GERAIS",3100,{"$f":"VLOOKUP(B88,Centro_Custo!$A$2:$B$36,2,0)","v":"SMS"},{"$f":"VLOOKUP(B88,Centro_Custo!$A$2:$C$36,3)","v":"OPEX&ODESP"},"Fixo",{"$f":"SUMIFS('Classificação OPEX'!$O$4:$O$1666,'Classificação OPEX'!$Q$4:$Q$1666,\"N\",'Classificação OPEX'!$S$4:$S$1666,\"NÃO\",'Classificação OPEX'!$V$4:$V$1666,DRIVER_OPEX!A88,'Classificação OPEX'!$W$4:$W$1666,DRIVER_OPEX!B88)","v":18104.181741312968},{"$f":"IF($F88=\"\",0,VLOOKUP($E88,Drivers!$A$26:$F$48,MATCH(G$1,Drivers!$A$25:$F$25,0),0)*$F88)","v":18104.181741312968},{"$f":"IF($F88=\"\",0,VLOOKUP($E88,Drivers!$A$26:$F$48,MATCH(H$1,Drivers!$A$25:$F$25,0),0)*$F88)","v":18104.181741312968},{"$f":"IF($F88=\"\",0,VLOOKUP($E88,Drivers!$A$26:$F$48,MATCH(I$1,Drivers!$A$25:$F$25,0),0)*$F88)","v":18104.181741312968},{"$f":"IF($F88=\"\",0,VLOOKUP($E88,Drivers!$A$26:$F$48,MATCH(J$1,Drivers!$A$25:$F$25,0),0)*$F88)","v":18104.181741312968},{"$f":"IF($F88=\"\",0,VLOOKUP($E88,Drivers!$A$26:$F$48,MATCH(K$1,Drivers!$A$25:$F$25,0),0)*$F88)","v":18104.181741312968}]
["DESPESAS_GERAIS",3200,{"$f":"VLOOKUP(B89,Centro_Custo!$A$2:$B$36,2,0)","v":"GERÊNCIA DE PLANEJAMENTO E MEIO AMBIENTE"},{"$f":"VLOOKUP(B89,Centro_Custo!$A$2:$C$36,3)","v":"OPEX&ODESP"},"Fixo",{"$f":"SUMIFS('Classificação OPEX'!$O$4:$O$1666,'Classificação OPEX'!$Q$4:$Q$1666,\"N\",'Classificação OPEX'!$S$4:$S$1666,\"NÃO\",'Classificação OPEX'!$V$4:$V$1666,DRIVER_OPEX!A89,'Classificação OPEX'!$W$4:$W$1666,DRIVER_OPEX!B89)","v":68017.511330675319},{"$f":"IF($F89=\"\",0,VLOOKUP($E89,Drivers!$A$26:$F$48,MATCH(G$1,Drivers!$A$25:$F$25,0),0)*$F89)","v":68017.511330675319},{"$f":"IF($F89=\"\",0,VLOOKUP($E89,Drivers!$A$26:$F$48,MATCH(H$1,Drivers!$A$25:$F$25,0),0)*$F89)","v":68017.511330675319},{"$f":"IF($F89=\"\",0,VLOOKUP($E89,Drivers!$A$26:$F$48,MATCH(I$1,Drivers!$A$25:$F$25,0),0)*$F89)","v":68017.511330675319},{"$f":"IF($F89=\"\",0,VLOOKUP($E89,Drivers!$A$26:$F$48,MATCH(J$1,Drivers!$A$25:$F$25,0),0)*$F89)","v":68017.511330675319},{"$f":"IF($F89=\"\",0,VLOOKUP($E89,Drivers!$A$26:$F$48,MATCH(K$1,Drivers!$A$25:$F$25,0),0)*$F89)","v":68017.511330675319}]
["DESPESAS_GERAIS",3300,{"$f":"VLOOKUP(B90,Centro_Custo!$A$2:$B$36,2,0)","v":"GERÊNCIA JURÍDICA"},{"$f":"VLOOKUP(B90,Centro_Custo!$A$2:$C$36,3)","v":"Encargos de Gestão"},"Fixo",{"$f":"SUMIFS('Classificação OPEX'!$O$4:$O$1666,'Classificação OPEX'!$Q$4:$Q$1666,\"N\",'Classificação OPEX'!$S$4:$S$1666,\"NÃO\",'Classificação OPEX'!$V$4:$V$1666,DRIVER_OPEX!A90,'Classificação OPEX'!$W$4:$W$1666,DRIVER_OPEX!B90)","v":23441.014734955894},{"$f":"IF($F90=\"\",0,VLOOKUP($E90,Drivers!$A$26:$F$48,MATCH(G$1,Drivers!$A$25:$F$25,0),0)*$F90)","v":23441.014734955894},{"$f":"IF($F90=\"\",0,VLOOKUP($E90,Drivers!$A$26:$F$48,MATCH(H$1,Drivers!$A$25:$F$25,0),0)*$F90)","v":23441.014734955894},{"$f":"IF($F90=\"\",0,VLOOKUP($E90,Drivers!$A$26:$F$48,MATCH(I$1,Drivers!$A$25:$F$25,0),0)*$F90)","v":23441.014734955894},{"$f":"IF($F90=\"\",0,VLOOKUP($E90,Drivers!$A$26:$F$48,MATCH(J$1,Drivers!$A$25:$F$25,0),0)*$F90)","v":23441.014734955894},{"$f":"IF($F90=\"\",0,VLOOKUP($E90,Drivers!$A$26:$F$48,MATCH(K$1,Drivers!$A$25:$F$25,0),0)*$F90)","v":23441.014734955894}]
["DESPESAS_GERAIS",3500,{"$f":"VLOOKUP(B91,Centro_Custo!$A$2:$B$36,2,0)","v":"ASSESSORIA DE COMUNICAÇÃO INSTITUCIONAL"},{"$f":"VLOOKUP(B91,Centro_Custo!$A$2:$C$36,3)","v":"Encargos de Gestão"},"Fixo",{"$f":"SUMIFS('Classificação OPEX'!$O$4:$O$1666,'Classificação OPEX'!$Q$4:$Q$1666,\"N\",'Classificação OPEX'!$S$4:$S$1666,\"NÃO\",'Classificação OPEX'!$V$4:$V$1666,DRIVER_OPEX!A91,'Classificação OPEX'!$W$4:$W$1666,DRIVER_OPEX!B91)","v":45848.904490422676},{"$f":"IF($F91=\"\",0,VLOOKUP($E91,Drivers!$A$26:$F$48,MATCH(G$1,Drivers!$A$25:$F$25,0),0)*$F91)","v":45848.904490422676},{"$f":"IF($F91=\"\",0,VLOOKUP($E91,Drivers!$A$26:$F$48,MATCH(H$1,Drivers!$A$25:$F$25,0),0)*$F91)","v":45848.904490422676},{"$f":"IF($F91=\"\",0,VLOOKUP($E91,Drivers!$A$26:$F$48,MATCH(I$1,Drivers!$A$25:$F$25,0),0)*$F91)","v":45848.904490422676},{"$f":"IF($F91=\"\",0,VLOOKUP($E91,Drivers!$A$26:$F$48,MATCH(J$1,Drivers!$A$25:$F$25,0),0)*$F91)","v":45848.904490422676},{"$f":"IF($F91=\"\",0,VLOOKUP($E91,Drivers!$A$26:$F$48,MATCH(K$1,Drivers!$A$25:$F$25,0),0)*$F91)","v":45848.904490422676}]
["DESPESAS_GERAIS",3600,{"$f":"VLOOKUP(B92,Centro_Custo!$A$2:$B$36,2,0)","v":"GERÊNCIA DE GOVERNANÇA, RISCO E COMPLIANCE"},{"$f":"VLOOKUP(B92,Centro_Custo!$A$2:$C$36,3)","v":"Encargos de Gestão"},"Fixo",{"$f":"SUMIFS('Classificação OPEX'!$O$4:$O$1666,'Classificação OPEX'!$Q$4:$Q$1666,\"N\",'Classificação OPEX'!$S$4:$S$1666,\"NÃO\",'Classificação OPEX'!$V$4:$V$1666,DRIVER_OPEX!A92,'Classificação OPEX'!$W$4:$W$1666,DRIVER_OPEX!B92)","v":37715.048883057134},{"$f":"IF($F92=\"\",0,VLOOKUP($E92,Drivers!$A$26:$F$48,MATCH(G$1,Drivers!$A$25:$F$25,0),0)*$F92)","v":37715.048883057134},{"$f":"IF($F92=\"\",0,VLOOKUP($E92,Drivers!$A$26:$F$48,MATCH(H$1,Drivers!$A$25:$F$25,0),0)*$F92)","v":37715.048883057134},{"$f":"IF($F92=\"\",0,VLOOKUP($E92,Drivers!$A$26:$F$48,MATCH(I$1,Drivers!$A$25:$F$25,0),0)*$F92)","v":37715.048883057134},{"$f":"IF($F92=\"\",0,VLOOKUP($E92,Drivers!$A$26:$F$48,MATCH(J$1,Drivers!$A$25:$F$25,0),0)*$F92)","v":37715.048883057134},{"$f":"IF($F92=\"\",0,VLOOKUP($E92,Drivers!$A$26:$F$48,MATCH(K$1,Drivers!$A$25:$F$25,0),0)*$F92)","v":37715.048883057134}]
["DESPESAS_GERAIS",3700,{"$f":"VLOOKUP(B93,Centro_Custo!$A$2:$B$36,2,0)","v":"GERÊNCIA DE REGULAÇÃO"},{"$f":"VLOOKUP(B93,Centro_Custo!$A$2:$C$36,3)","v":"Encargos de Gestão"},"Fixo",{"$f":"SUMIFS('Classificação OPEX'!$O$4:$O$1666,'Classificação OPEX'!$Q$4:$Q$1666,\"N\",'Classificação OPEX'!$S$4:$S$1666,\"NÃO\",'Classificação OPEX'!$V$4:$V$1666,DRIVER_OPEX!A93,'Classificação OPEX'!$W$4:$W$1666,DRIVER_OPEX!B93)","v":648.04887594929289},{"$f":"IF($F93=\"\",0,VLOOKUP($E93,Drivers!$A$26:$F$48,MATCH(G$1,Drivers!$A$25:$F$25,0),0)*$F93)","v":648.04887594929289},{"$f":"IF($F93=\"\",0,VLOOKUP($E93,Drivers!$A$26:$F$48,MATCH(H$1,Drivers!$A$25:$F$25,0),0)*$F93)","v":648.04887594929289},{"$f":"IF($F93=\"\",0,VLOOKUP($E93,Drivers!$A$26:$F$48,MATCH(I$1,Drivers!$A$25:$F$25,0),0)*$F93)","v":648.04887594929289},{"$f":"IF($F93=\"\",0,VLOOKUP($E93,Drivers!$A$26:$F$48,MATCH(J$1,Drivers!$A$25:$F$25,0),0)*$F93)","v":648.04887594929289},{"$f":"IF($F93=\"\",0,VLOOKUP($E93,Drivers!$A$26:$F$48,MATCH(K$1,Drivers!$A$25:$F$25,0),0)*$F93)","v":648.04887594929289}]
["DESPESAS_GERAIS",4100,{"$f":"VLOOKUP(B94,Centro_Custo!$A$2:$B$36,2,0)","v":"GERÊNCIA DE SERVIÇOS CORPORATIVOS"},{"$f":"VLOOKUP(B94,Centro_Custo!$A$2:$C$36,3)","v":"Encargos de Gestão"},"Município",{"$f":"SUMIFS('Classificação OPEX'!$O$4:$O$1666,'Classificação OPEX'!$Q$4:$Q$1666,\"N\",'Classificação OPEX'!$S$4:$S$1666,\"NÃO\",'Classificação OPEX'!$V$4:$V$1666,DRIVER_OPEX!A94,'Classificação OPEX'!$W$4:$W$1666,DRIVER_OPEX!B94)","v":656376.59251379606},{"$f":"IF($F94=\"\",0,VLOOKUP($E94,Drivers!$A$26:$F$48,MATCH(G$1,Drivers!$A$25:$F$25,0),0)*$F94)","v":700135.03201471583},{"$f":"IF($F94=\"\",0,VLOOKUP($E94,Drivers!$A$26:$F$48,MATCH(H$1,Drivers!$A$25:$F$25,0),0)*$F94)","v":831410.35051747493},{"$f":"IF($F94=\"\",0,VLOOKUP($E94,Drivers!$A$26:$F$48,MATCH(I$1,Drivers!$A$25:$F$25,0),0)*$F94)","v":875168.79001839471},{"$f":"IF($F94=\"\",0,VLOOKUP($E94,Drivers!$A$26:$F$48,MATCH(J$1,Drivers!$A$25:$F$25,0),0)*$F94)","v":875168.79001839471},{"$f":"IF($F94=\"\",0,VLOOKUP($E94,Drivers!$A$26:$F$48,MATCH(K$1,Drivers!$A$25:$F$25,0),0)*$F94)","v":875168.79001839471}]
["DESPESAS_GERAIS",4200,{"$f":"VLOOKUP(B95,Centro_Custo!$A$2:$B$36,2,0)","v":"GERÊNCIA FINANCEIRA"},{"$f":"VLOOKUP(B95,Centro_Custo!$A$2:$C$36,3)","v":"Encargos de Gestão"},"Fixo",{"$f":"SUMIFS('Classificação OPEX'!$O$4:$O$1666,'Classificação OPEX'!$Q$4:$Q$1666,\"N\",'Classificação OPEX'!$S$4:$S$1666,\"NÃO\",'Classificação OPEX'!$V$4:$V$1666,DRIVER_OPEX!A95,'Classificação OPEX'!$W$4:$W$1666,DRIVER_OPEX!B95)","v":976870.5835889352},{"$f":"IF($F95=\"\",0,VLOOKUP($E95,Drivers!$A$26:$F$48,MATCH(G$1,Drivers!$A$25:$F$25,0),0)*$F95)","v":976870.5835889352},{"$f":"IF($F95=\"\",0,VLOOKUP($E95,Drivers!$A$26:$F$48,MATCH(H$1,Drivers!$A$25:$F$25,0),0)*$F95)","v":976870.5835889352},{"$f":"IF($F95=\"\",0,VLOOKUP($E95,Drivers!$A$26:$F$48,MATCH(I$1,Drivers!$A$25:$F$25,0),0)*$F95)","v":976870.5835889352},{"$f":"IF($F95=\"\",0,VLOOKUP($E95,Drivers!$A$26:$F$48,MATCH(J$1,Drivers!$A$25:$F$25,0),0)*$F95)","v":976870.5835889352},{"$f":"IF($F95=\"\",0,VLOOKUP($E95,Drivers!$A$26:$F$48,MATCH(K$1,Drivers!$A$25:$F$25,0),0)*$F95)","v":976870.5835889352}]
["DESPESAS_GERAIS",4300,{"$f":"VLOOKUP(B96,Centro_Custo!$A$2:$B$36,2,0)","v":"GERÊNCIA DE TECNOLOGIA E SISTEMAS DE INFORMAÇÃO"},{"$f":"VLOOKUP(B96,Centro_Custo!$A$2:$C$36,3)","v":"Encargos de Gestão"},"Funcionário",{"$f":"SUMIFS('Classificação OPEX'!$O$4:$O$1666,'Classificação OPEX'!$Q$4:$Q$1666,\"N\",'Classificação OPEX'!$S$4:$S$1666,\"NÃO\",'Classificação OPEX'!$V$4:$V$1666,DRIVER_OPEX!A96,'Classificação OPEX'!$W$4:$W$1666,DRIVER_OPEX!B96)","v":152535.91953893084},{"$f":"IF($F96=\"\",0,VLOOKUP($E96,Drivers!$A$26:$F$48,MATCH(G$1,Drivers!$A$25:$F$25,0),0)*$F96)","v":162571.17740333421},{"$f":"IF($F96=\"\",0,VLOOKUP($E96,Drivers!$A$26:$F$48,MATCH(H$1,Drivers!$A$25:$F$25,0),0)*$F96)","v":166585.28054909551},{"$f":"IF($F96=\"\",0,VLOOKUP($E96,Drivers!$A$26:$F$48,MATCH(I$1,Drivers!$A$25:$F$25,0),0)*$F96)","v":167588.80633553586},{"$f":"IF($F96=\"\",0,VLOOKUP($E96,Drivers!$A$26:$F$48,MATCH(J$1,Drivers!$A$25:$F$25,0),0)*$F96)","v":167588.80633553586},{"$f":"IF($F96=\"\",0,VLOOKUP($E96,Drivers!$A$26:$F$48,MATCH(K$1,Drivers!$A$25:$F$25,0),0)*$F96)","v":167588.80633553586}]
["DESPESAS_GERAIS",4500,{"$f":"VLOOKUP(B97,Centro_Custo!$A$2:$B$36,2,0)","v":"GERÊNCIA CONTÁBIL"},{"$f":"VLOOKUP(B97,Centro_Custo!$A$2:$C$36,3)","v":"Encargos de Gestão"},"Fixo",{"$f":"SUMIFS('Classificação OPEX'!$O$4:$O$1666,'Classificação OPEX'!$Q$4:$Q$1666,\"N\",'Classificação OPEX'!$S$4:$S$1666,\"NÃO\",'Classificação OPEX'!$V$4:$V$1666,DRIVER_OPEX!A97,'Classificação OPEX'!$W$4:$W$1666,DRIVER_OPEX!B97)","v":41908.369613707095},{"$f":"IF($F97=\"\",0,VLOOKUP($E97,Drivers!$A$26:$F$48,MATCH(G$1,Drivers!$A$25:$F$25,0),0)*$F97)","v":41908.369613707095},{"$f":"IF($F97=\"\",0,VLOOKUP($E97,Drivers!$A$26:$F$48,MATCH(H$1,Drivers!$A$25:$F$25,0),0)*$F97)","v":41908.369613707095},{"$f":"IF($F97=\"\",0,VLOOKUP($E97,Drivers!$A$26:$F$48,MATCH(I$1,Drivers!$A$25:$F$25,0),0)*$F97)","v":41908.369613707095},{"$f":"IF($F97=\"\",0,VLOOKUP($E97,Drivers!$A$26:$F$48,MATCH(J$1,Drivers!$A$25:$F$25,0),0)*$F97)","v":41908.369613707095},{"$f":"IF($F97=\"\",0,VLOOKUP($E97,Drivers!$A$26:$F$48,MATCH(K$1,Drivers!$A$25:$F$25,0),0)*$F97)","v":41908.369613707095}]
["DESPESAS_GERAIS",5100,{"$f":"VLOOKUP(B98,Centro_Custo!$A$2:$B$36,2,0)","v":"GERÊNCIA DE ENGENHARIA"},{"$f":"VLOOKUP(B98,Centro_Custo!$A$2:$C$36,3)","v":"OPEX&ODESP"},"Extensão de Rede",{"$f":"SUMIFS('Classificação OPEX'!$O$4:$O$1666,'Classificação OPEX'!$Q$4:$Q$1666,\"N\",'Classificação OPEX'!$S$4:$S$1666,\"NÃO\",'Classificação OPEX'!$V$4:$V$1666,DRIVER_OPEX!A98,'Classificação OPEX'!$W$4:$W$1666,DRIVER_OPEX!B98)","v":139004.01261031243},{"$f":"IF($F98=\"\",0,VLOOKUP($E98,Drivers!$A$26:$F$48,MATCH(G$1,Drivers!$A$25:$F$25,0),0)*$F98)","v":148787.36855539982},{"$f":"IF($F98=\"\",0,VLOOKUP($E98,Drivers!$A$26:$F$48,MATCH(H$1,Drivers!$A$25:$F$25,0),0)*$F98)","v":162276.29073976071},{"$f":"IF($F98=\"\",0,VLOOKUP($E98,Drivers!$A$26:$F$48,MATCH(I$1,Drivers!$A$25:$F$25,0),0)*$F98)","v":167077.19150575993},{"$f":"IF($F98=\"\",0,VLOOKUP($E98,Drivers!$A$26:$F$48,MATCH(J$1,Drivers!$A$25:$F$25,0),0)*$F98)","v":173987.49278604591},{"$f":"IF($F98=\"\",0,VLOOKUP($E98,Drivers!$A$26:$F$48,MATCH(K$1,Drivers!$A$25:$F$25,0),0)*$F98)","v":179428.32404514338}]
["DESPESAS_GERAIS",5200,{"$f":"VLOOKUP(B99,Centro_Custo!$A$2:$B$36,2,0)","v":"GERÊNCIA DE OPERAÇÕES"},{"$f":"VLOOKUP(B99,Centro_Custo!$A$2:$C$36,3)","v":"OPEX&ODESP"},"Extensão de Rede",{"$f":"SUMIFS('Classificação OPEX'!$O$4:$O$1666,'Classificação OPEX'!$Q$4:$Q$1666,\"N\",'Classificação OPEX'!$S$4:$S$1666,\"NÃO\",'Classificação OPEX'!$V$4:$V$1666,DRIVER_OPEX!A99,'Classificação OPEX'!$W$4:$W$1666,DRIVER_OPEX!B99)","v":173266.08575951817},{"$f":"IF($F99=\"\",0,VLOOKUP($E99,Drivers!$A$26:$F$48,MATCH(G$1,Drivers!$A$25:$F$25,0),0)*$F99)","v":185460.86890545193},{"$f":"IF($F99=\"\",0,VLOOKUP($E99,Drivers!$A$26:$F$48,MATCH(H$1,Drivers!$A$25:$F$25,0),0)*$F99)","v":202274.57596404623},{"$f":"IF($F99=\"\",0,VLOOKUP($E99,Drivers!$A$26:$F$48,MATCH(I$1,Drivers!$A$25:$F$25,0),0)*$F99)","v":208258.81532680869},{"$f":"IF($F99=\"\",0,VLOOKUP($E99,Drivers!$A$26:$F$48,MATCH(J$1,Drivers!$A$25:$F$25,0),0)*$F99)","v":216872.38576819398},{"$f":"IF($F99=\"\",0,VLOOKUP($E99,Drivers!$A$26:$F$48,MATCH(K$1,Drivers!$A$25:$F$25,0),0)*$F99)","v":223654.28736829147}]
["DESPESAS_GERAIS",5300,{"$f":"VLOOKUP(B100,Centro_Custo!$A$2:$B$36,2,0)","v":"GERÊNCIA COMERCIAL"},{"$f":"VLOOKUP(B100,Centro_Custo!$A$2:$C$36,3)","v":"Encargos de Comercialização"},"Usuários total",{"$f":"SUMIFS('Classificação OPEX'!$O$4:$O$1666,'Classificação OPEX'!$Q$4:$Q$1666,\"N\",'Classificação OPEX'!$S$4:$S$1666,\"NÃO\",'Classificação OPEX'!$V$4:$V$1666,DRIVER_OPEX!A100,'Classificação OPEX'!$W$4:$W$1666,DRIVER_OPEX!B100)","v":1178181.118322493},{"$f":"IF($F100=\"\",0,VLOOKUP($E100,Drivers!$A$26:$F$48,MATCH(G$1,Drivers!$A$25:$F$25,0),0)*$F100)","v":1312939.1316917269},{"$f":"IF($F100=\"\",0,VLOOKUP($E100,Drivers!$A$26:$F$48,MATCH(H$1,Drivers!$A$25:$F$25,0),0)*$F100)","v":1442622.4855500085},{"$f":"IF($F100=\"\",0,VLOOKUP($E100,Drivers!$A$26:$F$48,MATCH(I$1,Drivers!$A$25:$F$25,0),0)*$F100)","v":1620278.5740224209},{"$f":"IF($F100=\"\",0,VLOOKUP($E100,Drivers!$A$26:$F$48,MATCH(J$1,Drivers!$A$25:$F$25,0),0)*$F100)","v":1758111.4870105796},{"$f":"IF($F100=\"\",0,VLOOKUP($E100,Drivers!$A$26:$F$48,MATCH(K$1,Drivers!$A$25:$F$25,0),0)*$F100)","v":1926112.8207354597}]
["DESPESAS_GERAIS",9999,{"$f":"VLOOKUP(B101,Centro_Custo!$A$2:$B$36,2,0)","v":"RATEIO"},{"$f":"VLOOKUP(B101,Centro_Custo!$A$2:$C$36,3)","v":"Encargos de Gestão"},"Fixo",{"$f":"SUMIFS('Classificação OPEX'!$O$4:$O$1666,'Classificação OPEX'!$Q$4:$Q$1666,\"N\",'Classificação OPEX'!$S$4:$S$1666,\"NÃO\",'Classificação OPEX'!$V$4:$V$1666,DRIVER_OPEX!A101,'Classificação OPEX'!$W$4:$W$1666,DRIVER_OPEX!B101)","v":249.04136546991163},{"$f":"IF($F101=\"\",0,VLOOKUP($E101,Drivers!$A$26:$F$48,MATCH(G$1,Drivers!$A$25:$F$25,0),0)*$F101)","v":249.04136546991163},{"$f":"IF($F101=\"\",0,VLOOKUP($E101,Drivers!$A$26:$F$48,MATCH(H$1,Drivers!$A$25:$F$25,0),0)*$F101)","v":249.04136546991163},{"$f":"IF($F101=\"\",0,VLOOKUP($E101,Drivers!$A$26:$F$48,MATCH(I$1,Drivers!$A$25:$F$25,0),0)*$F101)","v":249.04136546991163},{"$f":"IF($F101=\"\",0,VLOOKUP($E101,Drivers!$A$26:$F$48,MATCH(J$1,Drivers!$A$25:$F$25,0),0)*$F101)","v":249.04136546991163},{"$f":"IF($F101=\"\",0,VLOOKUP($E101,Drivers!$A$26:$F$48,MATCH(K$1,Drivers!$A$25:$F$25,0),0)*$F101)","v":249.04136546991163}]
["DESPESAS_GERAIS",1001,"CONSELHO DE ADMINISTRAÇÃO",{"$f":"VLOOKUP(B102,Centro_Custo!$A$2:$C$36,3)","v":"Encargos de Gestão"},"Fixo",{"$f":"SUMIFS('Classificação OPEX'!$O$4:$O$1666,'Classificação OPEX'!$Q$4:$Q$1666,\"N\",'Classificação OPEX'!$S$4:$S$1666,\"NÃO\",'Classificação OPEX'!$V$4:$V$1666,DRIVER_OPEX!A102,'Classificação OPEX'!$W$4:$W$1666,DRIVER_OPEX!B102)","v":18.574041085167718},{"$f":"IF($F102=\"\",0,VLOOKUP($E102,Drivers!$A$26:$F$48,MATCH(G$1,Drivers!$A$25:$F$25,0),0)*$F102)","v":18.574041085167718},{"$f":"IF($F102=\"\",0,VLOOKUP($E102,Drivers!$A$26:$F$48,MATCH(H$1,Drivers!$A$25:$F$25,0),0)*$F102)","v":18.574041085167718},{"$f":"IF($F102=\"\",0,VLOOKUP($E102,Drivers!$A$26:$F$48,MATCH(I$1,Drivers!$A$25:$F$25,0),0)*$F102)","v":18.574041085167718},{"$f":"IF($F102=\"\",0,VLOOKUP($E102,Drivers!$A$26:$F$48,MATCH(J$1,Drivers!$A$25:$F$25,0),0)*$F102)","v":18.574041085167718},{"$f":"IF($F102=\"\",0,VLOOKUP($E102,Drivers!$A$26:$F$48,MATCH(K$1,Drivers!$A$25:$F$25,0),0)*$F102)","v":18.574041085167718}]
["DESPESAS_GERAIS",1002,"CONSELHO FISCAL",{"$f":"VLOOKUP(B103,Centro_Custo!$A$2:$C$36,3)","v":"Encargos de Gestão"},"Fixo",{"$f":"SUMIFS('Classificação OPEX'!$O$4:$O$1666,'Classificação OPEX'!$Q$4:$Q$1666,\"N\",'Classificação OPEX'!$S$4:$S$1666,\"NÃO\",'Classificação OPEX'!$V$4:$V$1666,DRIVER_OPEX!A103,'Classificação OPEX'!$W$4:$W$1666,DRIVER_OPEX!B103)","v":114.19348997758888},{"$f":"IF($F103=\"\",0,VLOOKUP($E103,Drivers!$A$26:$F$48,MATCH(G$1,Drivers!$A$25:$F$25,0),0)*$F103)","v":114.19348997758888},{"$f":"IF($F103=\"\",0,VLOOKUP($E103,Drivers!$A$26:$F$48,MATCH(H$1,Drivers!$A$25:$F$25,0),0)*$F103)","v":114.19348997758888},{"$f":"IF($F103=\"\",0,VLOOKUP($E103,Drivers!$A$26:$F$48,MATCH(I$1,Drivers!$A$25:$F$25,0),0)*$F103)","v":114.19348997758888},{"$f":"IF($F103=\"\",0,VLOOKUP($E103,Drivers!$A$26:$F$48,MATCH(J$1,Drivers!$A$25:$F$25,0),0)*$F103)","v":114.19348997758888},{"$f":"IF($F103=\"\",0,VLOOKUP($E103,Drivers!$A$26:$F$48,MATCH(K$1,Drivers!$A$25:$F$25,0),0)*$F103)","v":114.19348997758888}]
["DESPESAS_GERAIS",1003,"COMITÊ DE INDICAÇÃO E AVALIAÇÃO",{"$f":"VLOOKUP(B104,Centro_Custo!$A$2:$C$36,3)","v":"Encargos de Gestão"},"Fixo",{"$f":"SUMIFS('Classificação OPEX'!$O$4:$O$1666,'Classificação OPEX'!$Q$4:$Q$1666,\"N\",'Classificação OPEX'!$S$4:$S$1666,\"NÃO\",'Classificação OPEX'!$V$4:$V$1666,DRIVER_OPEX!A104,'Classificação OPEX'!$W$4:$W$1666,DRIVER_OPEX!B104)","v":0},{"$f":"IF($F104=\"\",0,VLOOKUP($E104,Drivers!$A$26:$F$48,MATCH(G$1,Drivers!$A$25:$F$25,0),0)*$F104)","v":0},{"$f":"IF($F104=\"\",0,VLOOKUP($E104,Drivers!$A$26:$F$48,MATCH(H$1,Drivers!$A$25:$F$25,0),0)*$F104)","v":0},{"$f":"IF($F104=\"\",0,VLOOKUP($E104,Drivers!$A$26:$F$48,MATCH(I$1,Drivers!$A$25:$F$25,0),0)*$F104)","v":0},{"$f":"IF($F104=\"\",0,VLOOKUP($E104,Drivers!$A$26:$F$48,MATCH(J$1,Drivers!$A$25:$F$25,0),0)*$F104)","v":0},{"$f":"IF($F104=\"\",0,VLOOKUP($E104,Drivers!$A$26:$F$48,MATCH(K$1,Drivers!$A$25:$F$25,0),0)*$F104)","v":0}]
["DESPESAS_GERAIS",2100,"SECRETARIA",{"$f":"VLOOKUP(B105,Centro_Custo!$A$2:$C$36,3)","v":"Encargos de Gestão"},"Fixo",{"$f":"SUMIFS('Classificação OPEX'!$O$4:$O$1666,'Classificação OPEX'!$Q$4:$Q$1666,\"N\",'Classificação OPEX'!$S$4:$S$1666,\"NÃO\",'Classificação OPEX'!$V$4:$V$1666,DRIVER_OPEX!A105,'Classificação OPEX'!$W$4:$W$1666,DRIVER_OPEX!B105)","v":43340.087515353262},{"$f":"IF($F105=\"\",0,VLOOKUP($E105,Drivers!$A$26:$F$48,MATCH(G$1,Drivers!$A$25:$F$25,0),0)*$F105)","v":43340.087515353262},{"$f":"IF($F105=\"\",0,VLOOKUP($E105,Drivers!$A$26:$F$48,MATCH(H$1,Drivers!$A$25:$F$25,0),0)*$F105)","v":43340.087515353262},{"$f":"IF($F105=\"\",0,VLOOKUP($E105,Drivers!$A$26:$F$48,MATCH(I$1,Drivers!$A$25:$F$25,0),0)*$F105)","v":43340.087515353262},{"$f":"IF($F105=\"\",0,VLOOKUP($E105,Drivers!$A$26:$F$48,MATCH(J$1,Drivers!$A$25:$F$25,0),0)*$F105)","v":43340.087515353262},{"$f":"IF($F105=\"\",0,VLOOKUP($E105,Drivers!$A$26:$F$48,MATCH(K$1,Drivers!$A$25:$F$25,0),0)*$F105)","v":43340.087515353262}]
["DESPESAS_GERAIS",3400,"MARKETING",{"$f":"VLOOKUP(B106,Centro_Custo!$A$2:$C$36,3)","v":"Encargos de Comercialização"},"Fixo",{"$f":"SUMIFS('Classificação OPEX'!$O$4:$O$1666,'Classificação OPEX'!$Q$4:$Q$1666,\"N\",'Classificação OPEX'!$S$4:$S$1666,\"NÃO\",'Classificação OPEX'!$V$4:$V$1666,DRIVER_OPEX!A106,'Classificação OPEX'!$W$4:$W$1666,DRIVER_OPEX!B106)","v":66725.73400293327},{"$f":"IF($F106=\"\",0,VLOOKUP($E106,Drivers!$A$26:$F$48,MATCH(G$1,Drivers!$A$25:$F$25,0),0)*$F106)","v":66725.73400293327},{"$f":"IF($F106=\"\",0,VLOOKUP($E106,Drivers!$A$26:$F$48,MATCH(H$1,Drivers!$A$25:$F$25,0),0)*$F106)","v":66725.73400293327},{"$f":"IF($F106=\"\",0,VLOOKUP($E106,Drivers!$A$26:$F$48,MATCH(I$1,Drivers!$A$25:$F$25,0),0)*$F106)","v":66725.73400293327},{"$f":"IF($F106=\"\",0,VLOOKUP($E106,Drivers!$A$26:$F$48,MATCH(J$1,Drivers!$A$25:$F$25,0),0)*$F106)","v":66725.73400293327},{"$f":"IF($F106=\"\",0,VLOOKUP($E106,Drivers!$A$26:$F$48,MATCH(K$1,Drivers!$A$25:$F$25,0),0)*$F106)","v":66725.73400293327}]
["DESPESAS_GERAIS",4600,"GERÊNCIA DE PESSOAS E CULTURA",{"$f":"VLOOKUP(B107,Centro_Custo!$A$2:$C$36,3)","v":"Encargos de Gestão"},"Fixo",{"$f":"SUMIFS('Classificação OPEX'!$O$4:$O$1666,'Classificação OPEX'!$Q$4:$Q$1666,\"N\",'Classificação OPEX'!$S$4:$S$1666,\"NÃO\",'Classificação OPEX'!$V$4:$V$1666,DRIVER_OPEX!A107,'Classificação OPEX'!$W$4:$W$1666,DRIVER_OPEX!B107)","v":44841.322016036291},{"$f":"IF($F107=\"\",0,VLOOKUP($E107,Drivers!$A$26:$F$48,MATCH(G$1,Drivers!$A$25:$F$25,0),0)*$F107)","v":44841.322016036291},{"$f":"IF($F107=\"\",0,VLOOKUP($E107,Drivers!$A$26:$F$48,MATCH(H$1,Drivers!$A$25:$F$25,0),0)*$F107)","v":44841.322016036291},{"$f":"IF($F107=\"\",0,VLOOKUP($E107,Drivers!$A$26:$F$48,MATCH(I$1,Drivers!$A$25:$F$25,0),0)*$F107)","v":44841.322016036291},{"$f":"IF($F107=\"\",0,VLOOKUP($E107,Drivers!$A$26:$F$48,MATCH(J$1,Drivers!$A$25:$F$25,0),0)*$F107)","v":44841.322016036291},{"$f":"IF($F107=\"\",0,VLOOKUP($E107,Drivers!$A$26:$F$48,MATCH(K$1,Drivers!$A$25:$F$25,0),0)*$F107)","v":44841.322016036291}]
["DESPESAS_GERAIS","0000","RATEIO",{"$f":"VLOOKUP(B108,Centro_Custo!$A$2:$C$36,3)","v":"Encargos de Gestão"},"Fixo",{"$f":"SUMIFS('Classificação OPEX'!$O$4:$O$1666,'Classificação OPEX'!$Q$4:$Q$1666,\"N\",'Classificação OPEX'!$S$4:$S$1666,\"NÃO\",'Classificação OPEX'!$V$4:$V$1666,DRIVER_OPEX!A108,'Classificação OPEX'!$W$4:$W$1666,DRIVER_OPEX!B108)","v":0},{"$f":"IF($F108=\"\",0,VLOOKUP($E108,Drivers!$A$26:$F$48,MATCH(G$1,Drivers!$A$25:$F$25,0),0)*$F108)","v":0},{"$f":"IF($F108=\"\",0,VLOOKUP($E108,Drivers!$A$26:$F$48,MATCH(H$1,Drivers!$A$25:$F$25,0),0)*$F108)","v":0},{"$f":"IF($F108=\"\",0,VLOOKUP($E108,Drivers!$A$26:$F$48,MATCH(I$1,Drivers!$A$25:$F$25,0),0)*$F108)","v":0},{"$f":"IF($F108=\"\",0,VLOOKUP($E108,Drivers!$A$26:$F$48,MATCH(J$1,Drivers!$A$25:$F$25,0),0)*$F108)","v":0},{"$f":"IF($F108=\"\",0,VLOOKUP($E108,Drivers!$A$26:$F$48,MATCH(K$1,Drivers!$A$25:$F$25,0),0)*$F108)","v":0}]
["DESPESAS_GERAIS","5400","GERÊNCIA COMERCIAL",{"$f":"VLOOKUP(B109,Centro_Custo!$A$2:$C$36,3)","v":"Encargos de Gestão"},"Fixo",{"$f":"SUMIFS('Classificação OPEX'!$O$4:$O$1666,'Classificação OPEX'!$Q$4:$Q$1666,\"N\",'Classificação OPEX'!$S$4:$S$1666,\"NÃO\",'Classificação OPEX'!$V$4:$V$1666,DRIVER_OPEX!A109,'Classificação OPEX'!$W$4:$W$1666,DRIVER_OPEX!B109)","v":1024832.1597586676},{"$f":"IF($F109=\"\",0,VLOOKUP($E109,Drivers!$A$26:$F$48,MATCH(G$1,Drivers!$A$25:$F$25,0),0)*$F109)","v":1024832.1597586676},{"$f":"IF($F109=\"\",0,VLOOKUP($E109,Drivers!$A$26:$F$48,MATCH(H$1,Drivers!$A$25:$F$25,0),0)*$F109)","v":1024832.1597586676},{"$f":"IF($F109=\"\",0,VLOOKUP($E109,Drivers!$A$26:$F$48,MATCH(I$1,Drivers!$A$25:$F$25,0),0)*$F109)","v":1024832.1597586676},{"$f":"IF($F109=\"\",0,VLOOKUP($E109,Drivers!$A$26:$F$48,MATCH(J$1,Drivers!$A$25:$F$25,0),0)*$F109)","v":1024832.1597586676},{"$f":"IF($F109=\"\",0,VLOOKUP($E109,Drivers!$A$26:$F$48,MATCH(K$1,Drivers!$A$25:$F$25,0),0)*$F109)","v":1024832.1597586676}]
["DESPESAS_GERAIS","5500","GERÊNCIA COMERCIAL",{"$f":"VLOOKUP(B110,Centro_Custo!$A$2:$C$36,3)","v":"Encargos de Gestão"},"Fixo",{"$f":"SUMIFS('Classificação OPEX'!$O$4:$O$1666,'Classificação OPEX'!$Q$4:$Q$1666,\"N\",'Classificação OPEX'!$S$4:$S$1666,\"NÃO\",'Classificação OPEX'!$V$4:$V$1666,DRIVER_OPEX!A110,'Classificação OPEX'!$W$4:$W$1666,DRIVER_OPEX!B110)","v":16776.10427237329},{"$f":"IF($F110=\"\",0,VLOOKUP($E110,Drivers!$A$26:$F$48,MATCH(G$1,Drivers!$A$25:$F$25,0),0)*$F110)","v":16776.10427237329},{"$f":"IF($F110=\"\",0,VLOOKUP($E110,Drivers!$A$26:$F$48,MATCH(H$1,Drivers!$A$25:$F$25,0),0)*$F110)","v":16776.10427237329},{"$f":"IF($F110=\"\",0,VLOOKUP($E110,Drivers!$A$26:$F$48,MATCH(I$1,Drivers!$A$25:$F$25,0),0)*$F110)","v":16776.10427237329},{"$f":"IF($F110=\"\",0,VLOOKUP($E110,Drivers!$A$26:$F$48,MATCH(J$1,Drivers!$A$25:$F$25,0),0)*$F110)","v":16776.10427237329},{"$f":"IF($F110=\"\",0,VLOOKUP($E110,Drivers!$A$26:$F$48,MATCH(K$1,Drivers!$A$25:$F$25,0),0)*$F110)","v":16776.10427237329}]
["DESPESAS_INSTITUCIONAIS","TOTAL","TOTAL",null,null,{"$f":"SUM(F112:F146)","v":2647911.111801682},{"$f":"SUM(G112:G146)","v":2750292.6980432272},2848818.8423902453,2983791.9819351076,3088509.7045788462,3216147.7025531875]
["DESPESAS_INSTITUCIONAIS",3500,{"$f":"VLOOKUP(B112,Centro_Custo!$A$2:$B$36,2,0)","v":"ASSESSORIA DE COMUNICAÇÃO INSTITUCIONAL"},{"$f":"VLOOKUP(B112,Centro_Custo!$A$2:$C$36,3)","v":"Encargos de Gestão"},"Usuários total",{"$f":"SUMIFS('Classificação OPEX'!$O$4:$O$1666,'Classificação OPEX'!$Q$4:$Q$1666,\"N\",'Classificação OPEX'!$S$4:$S$1666,\"NÃO\",'Classificação OPEX'!$V$4:$V$1666,DRIVER_OPEX!A112,'Classificação OPEX'!$W$4:$W$1666,DRIVER_OPEX!B112)","v":814098.79914892337},{"$f":"IF($F112=\"\",0,VLOOKUP($E112,Drivers!$A$26:$F$48,MATCH(G$1,Drivers!$A$25:$F$25,0),0)*$F112)","v":907213.80086936243},{"$f":"IF($F112=\"\",0,VLOOKUP($E112,Drivers!$A$26:$F$48,MATCH(H$1,Drivers!$A$25:$F$25,0),0)*$F112)","v":996822.31776356534},{"$f":"IF($F112=\"\",0,VLOOKUP($E112,Drivers!$A$26:$F$48,MATCH(I$1,Drivers!$A$25:$F$25,0),0)*$F112)","v":1119579.0026549436},{"$f":"IF($F112=\"\",0,VLOOKUP($E112,Drivers!$A$26:$F$48,MATCH(J$1,Drivers!$A$25:$F$25,0),0)*$F112)","v":1214818.6964522973},{"$f":"IF($F112=\"\",0,VLOOKUP($E112,Drivers!$A$26:$F$48,MATCH(K$1,Drivers!$A$25:$F$25,0),0)*$F112)","v":1330904.1453818954}]
["DESPESAS_INSTITUCIONAIS",4100,{"$f":"VLOOKUP(B113,Centro_Custo!$A$2:$B$36,2,0)","v":"GERÊNCIA DE SERVIÇOS CORPORATIVOS"},{"$f":"VLOOKUP(B113,Centro_Custo!$A$2:$C$36,3)","v":"Encargos de Gestão"},"Fixo",{"$f":"SUMIFS('Classificação OPEX'!$O$4:$O$1666,'Classificação OPEX'!$Q$4:$Q$1666,\"N\",'Classificação OPEX'!$S$4:$S$1666,\"NÃO\",'Classificação OPEX'!$V$4:$V$1666,DRIVER_OPEX!A113,'Classificação OPEX'!$W$4:$W$1666,DRIVER_OPEX!B113)","v":156334.45372755412},{"$f":"IF($F113=\"\",0,VLOOKUP($E113,Drivers!$A$26:$F$48,MATCH(G$1,Drivers!$A$25:$F$25,0),0)*$F113)","v":156334.45372755412},{"$f":"IF($F113=\"\",0,VLOOKUP($E113,Drivers!$A$26:$F$48,MATCH(H$1,Drivers!$A$25:$F$25,0),0)*$F113)","v":156334.45372755412},{"$f":"IF($F113=\"\",0,VLOOKUP($E113,Drivers!$A$26:$F$48,MATCH(I$1,Drivers!$A$25:$F$25,0),0)*$F113)","v":156334.45372755412},{"$f":"IF($F113=\"\",0,VLOOKUP($E113,Drivers!$A$26:$F$48,MATCH(J$1,Drivers!$A$25:$F$25,0),0)*$F113)","v":156334.45372755412},{"$f":"IF($F113=\"\",0,VLOOKUP($E113,Drivers!$A$26:$F$48,MATCH(K$1,Drivers!$A$25:$F$25,0),0)*$F113)","v":156334.45372755412}]
["DESPESAS_INSTITUCIONAIS",5300,{"$f":"VLOOKUP(B114,Centro_Custo!$A$2:$B$36,2,0)","v":"GERÊNCIA COMERCIAL"},{"$f":"VLOOKUP(B114,Centro_Custo!$A$2:$C$36,3)","v":"Encargos de Comercialização"},"Usuários total",{"$f":"SUMIFS('Classificação OPEX'!$O$4:$O$1666,'Classificação OPEX'!$Q$4:$Q$1666,\"N\",'Classificação OPEX'!$S$4:$S$1666,\"NÃO\",'Classificação OPEX'!$V$4:$V$1666,DRIVER_OPEX!A114,'Classificação OPEX'!$W$4:$W$1666,DRIVER_OPEX!B114)","v":81017.185109378639},{"$f":"IF($F114=\"\",0,VLOOKUP($E114,Drivers!$A$26:$F$48,MATCH(G$1,Drivers!$A$25:$F$25,0),0)*$F114)","v":90283.769630485287},{"$f":"IF($F114=\"\",0,VLOOKUP($E114,Drivers!$A$26:$F$48,MATCH(H$1,Drivers!$A$25:$F$25,0),0)*$F114)","v":99201.397083300719},{"$f":"IF($F114=\"\",0,VLOOKUP($E114,Drivers!$A$26:$F$48,MATCH(I$1,Drivers!$A$25:$F$25,0),0)*$F114)","v":111417.85173678455},{"$f":"IF($F114=\"\",0,VLOOKUP($E114,Drivers!$A$26:$F$48,MATCH(J$1,Drivers!$A$25:$F$25,0),0)*$F114)","v":120895.88058316938},{"$f":"IF($F114=\"\",0,VLOOKUP($E114,Drivers!$A$26:$F$48,MATCH(K$1,Drivers!$A$25:$F$25,0),0)*$F114)","v":132448.42962791267}]
["DESPESAS_INSTITUCIONAIS","0000","RATEIO",{"$f":"VLOOKUP(B115,Centro_Custo!$A$2:$C$36,3)","v":"Encargos de Gestão"},"Fixo",{"$f":"SUMIFS('Classificação OPEX'!$O$4:$O$1666,'Classificação OPEX'!$Q$4:$Q$1666,\"N\",'Classificação OPEX'!$S$4:$S$1666,\"NÃO\",'Classificação OPEX'!$V$4:$V$1666,DRIVER_OPEX!A115,'Classificação OPEX'!$W$4:$W$1666,DRIVER_OPEX!B115)","v":0},{"$f":"IF($F115=\"\",0,VLOOKUP($E115,Drivers!$A$26:$F$48,MATCH(G$1,Drivers!$A$25:$F$25,0),0)*$F115)","v":0},{"$f":"IF($F115=\"\",0,VLOOKUP($E115,Drivers!$A$26:$F$48,MATCH(H$1,Drivers!$A$25:$F$25,0),0)*$F115)","v":0},{"$f":"IF($F115=\"\",0,VLOOKUP($E115,Drivers!$A$26:$F$48,MATCH(I$1,Drivers!$A$25:$F$25,0),0)*$F115)","v":0},{"$f":"IF($F115=\"\",0,VLOOKUP($E115,Drivers!$A$26:$F$48,MATCH(J$1,Drivers!$A$25:$F$25,0),0)*$F115)","v":0},{"$f":"IF($F115=\"\",0,VLOOKUP($E115,Drivers!$A$26:$F$48,MATCH(K$1,Drivers!$A$25:$F$25,0),0)*$F115)","v":0}]
["DESPESAS_INSTITUCIONAIS",1001,"CONSELHO DE ADMINISTRAÇÃO",{"$f":"VLOOKUP(B116,Centro_Custo!$A$2:$C$36,3)","v":"Encargos de Gestão"},"Fixo",{"$f":"SUMIFS('Classificação OPEX'!$O$4:$O$1666,'Classificação OPEX'!$Q$4:$Q$1666,\"N\",'Classificação OPEX'!$S$4:$S$1666,\"NÃO\",'Classificação OPEX'!$V$4:$V$1666,DRIVER_OPEX!A116,'Classificação OPEX'!$W$4:$W$1666,DRIVER_OPEX!B116)","v":831604.27789200738},{"$f":"IF($F116=\"\",0,VLOOKUP($E116,Drivers!$A$26:$F$48,MATCH(G$1,Drivers!$A$25:$F$25,0),0)*$F116)","v":831604.27789200738},{"$f":"IF($F116=\"\",0,VLOOKUP($E116,Drivers!$A$26:$F$48,MATCH(H$1,Drivers!$A$25:$F$25,0),0)*$F116)","v":831604.27789200738},{"$f":"IF($F116=\"\",0,VLOOKUP($E116,Drivers!$A$26:$F$48,MATCH(I$1,Drivers!$A$25:$F$25,0),0)*$F116)","v":831604.27789200738},{"$f":"IF($F116=\"\",0,VLOOKUP($E116,Drivers!$A$26:$F$48,MATCH(J$1,Drivers!$A$25:$F$25,0),0)*$F116)","v":831604.27789200738},{"$f":"IF($F116=\"\",0,VLOOKUP($E116,Drivers!$A$26:$F$48,MATCH(K$1,Drivers!$A$25:$F$25,0),0)*$F116)","v":831604.27789200738}]
["DESPESAS_INSTITUCIONAIS",1002,"CONSELHO FISCAL",{"$f":"VLOOKUP(B117,Centro_Custo!$A$2:$C$36,3)","v":"Encargos de Gestão"},"Fixo",{"$f":"SUMIFS('Classificação OPEX'!$O$4:$O$1666,'Classificação OPEX'!$Q$4:$Q$1666,\"N\",'Classificação OPEX'!$S$4:$S$1666,\"NÃO\",'Classificação OPEX'!$V$4:$V$1666,DRIVER_OPEX!A117,'Classificação OPEX'!$W$4:$W$1666,DRIVER_OPEX!B117)","v":198661.05922401106},{"$f":"IF($F117=\"\",0,VLOOKUP($E117,Drivers!$A$26:$F$48,MATCH(G$1,Drivers!$A$25:$F$25,0),0)*$F117)","v":198661.05922401106},{"$f":"IF($F117=\"\",0,VLOOKUP($E117,Drivers!$A$26:$F$48,MATCH(H$1,Drivers!$A$25:$F$25,0),0)*$F117)","v":198661.05922401106},{"$f":"IF($F117=\"\",0,VLOOKUP($E117,Drivers!$A$26:$F$48,MATCH(I$1,Drivers!$A$25:$F$25,0),0)*$F117)","v":198661.05922401106},{"$f":"IF($F117=\"\",0,VLOOKUP($E117,Drivers!$A$26:$F$48,MATCH(J$1,Drivers!$A$25:$F$25,0),0)*$F117)","v":198661.05922401106},{"$f":"IF($F117=\"\",0,VLOOKUP($E117,Drivers!$A$26:$F$48,MATCH(K$1,Drivers!$A$25:$F$25,0),0)*$F117)","v":198661.05922401106}]
["DESPESAS_INSTITUCIONAIS",1003,"COMITÊ DE INDICAÇÃO E AVALIAÇÃO",{"$f":"VLOOKUP(B118,Centro_Custo!$A$2:$C$36,3)","v":"Encargos de Gestão"},"Fixo",{"$f":"SUMIFS('Classificação OPEX'!$O$4:$O$1666,'Classificação OPEX'!$Q$4:$Q$1666,\"N\",'Classificação OPEX'!$S$4:$S$1666,\"NÃO\",'Classificação OPEX'!$V$4:$V$1666,DRIVER_OPEX!A118,'Classificação OPEX'!$W$4:$W$1666,DRIVER_OPEX!B118)","v":0},{"$f":"IF($F118=\"\",0,VLOOKUP($E118,Drivers!$A$26:$F$48,MATCH(G$1,Drivers!$A$25:$F$25,0),0)*$F118)","v":0},{"$f":"IF($F118=\"\",0,VLOOKUP($E118,Drivers!$A$26:$F$48,MATCH(H$1,Drivers!$A$25:$F$25,0),0)*$F118)","v":0},{"$f":"IF($F118=\"\",0,VLOOKUP($E118,Drivers!$A$26:$F$48,MATCH(I$1,Drivers!$A$25:$F$25,0),0)*$F118)","v":0},{"$f":"IF($F118=\"\",0,VLOOKUP($E118,Drivers!$A$26:$F$48,MATCH(J$1,Drivers!$A$25:$F$25,0),0)*$F118)","v":0},{"$f":"IF($F118=\"\",0,VLOOKUP($E118,Drivers!$A$26:$F$48,MATCH(K$1,Drivers!$A$25:$F$25,0),0)*$F118)","v":0}]
["DESPESAS_INSTITUCIONAIS",1004,"COMITÊ DE AUDITORIA ESTATUTÁRIA",{"$f":"VLOOKUP(B119,Centro_Custo!$A$2:$C$36,3)","v":"Encargos de Gestão"},"Fixo",{"$f":"SUMIFS('Classificação OPEX'!$O$4:$O$1666,'Classificação OPEX'!$Q$4:$Q$1666,\"N\",'Classificação OPEX'!$S$4:$S$1666,\"NÃO\",'Classificação OPEX'!$V$4:$V$1666,DRIVER_OPEX!A119,'Classificação OPEX'!$W$4:$W$1666,DRIVER_OPEX!B119)","v":0},{"$f":"IF($F119=\"\",0,VLOOKUP($E119,Drivers!$A$26:$F$48,MATCH(G$1,Drivers!$A$25:$F$25,0),0)*$F119)","v":0},{"$f":"IF($F119=\"\",0,VLOOKUP($E119,Drivers!$A$26:$F$48,MATCH(H$1,Drivers!$A$25:$F$25,0),0)*$F119)","v":0},{"$f":"IF($F119=\"\",0,VLOOKUP($E119,Drivers!$A$26:$F$48,MATCH(I$1,Drivers!$A$25:$F$25,0),0)*$F119)","v":0},{"$f":"IF($F119=\"\",0,VLOOKUP($E119,Drivers!$A$26:$F$48,MATCH(J$1,Drivers!$A$25:$F$25,0),0)*$F119)","v":0},{"$f":"IF($F119=\"\",0,VLOOKUP($E119,Drivers!$A$26:$F$48,MATCH(K$1,Drivers!$A$25:$F$25,0),0)*$F119)","v":0}]
["DESPESAS_INSTITUCIONAIS",1005,"AUDITORIA INTERNA",{"$f":"VLOOKUP(B120,Centro_Custo!$A$2:$C$36,3)","v":"Encargos de Gestão"},"Fixo",{"$f":"SUMIFS('Classificação OPEX'!$O$4:$O$1666,'Classificação OPEX'!$Q$4:$Q$1666,\"N\",'Classificação OPEX'!$S$4:$S$1666,\"NÃO\",'Classificação OPEX'!$V$4:$V$1666,DRIVER_OPEX!A120,'Classificação OPEX'!$W$4:$W$1666,DRIVER_OPEX!B120)","v":0},{"$f":"IF($F120=\"\",0,VLOOKUP($E120,Drivers!$A$26:$F$48,MATCH(G$1,Drivers!$A$25:$F$25,0),0)*$F120)","v":0},{"$f":"IF($F120=\"\",0,VLOOKUP($E120,Drivers!$A$26:$F$48,MATCH(H$1,Drivers!$A$25:$F$25,0),0)*$F120)","v":0},{"$f":"IF($F120=\"\",0,VLOOKUP($E120,Drivers!$A$26:$F$48,MATCH(I$1,Drivers!$A$25:$F$25,0),0)*$F120)","v":0},{"$f":"IF($F120=\"\",0,VLOOKUP($E120,Drivers!$A$26:$F$48,MATCH(J$1,Drivers!$A$25:$F$25,0),0)*$F120)","v":0},{"$f":"IF($F120=\"\",0,VLOOKUP($E120,Drivers!$A$26:$F$48,MATCH(K$1,Drivers!$A$25:$F$25,0),0)*$F120)","v":0}]
["DESPESAS_INSTITUCIONAIS",1010,"GOVERNANÇA SOCIETÁRIA",{"$f":"VLOOKUP(B121,Centro_Custo!$A$2:$C$36,3)","v":"Encargos de Gestão"},"Fixo",{"$f":"SUMIFS('Classificação OPEX'!$O$4:$O$1666,'Classificação OPEX'!$Q$4:$Q$1666,\"N\",'Classificação OPEX'!$S$4:$S$1666,\"NÃO\",'Classificação OPEX'!$V$4:$V$1666,DRIVER_OPEX!A121,'Classificação OPEX'!$W$4:$W$1666,DRIVER_OPEX!B121)","v":1087.7216613218411},{"$f":"IF($F121=\"\",0,VLOOKUP($E121,Drivers!$A$26:$F$48,MATCH(G$1,Drivers!$A$25:$F$25,0),0)*$F121)","v":1087.7216613218411},{"$f":"IF($F121=\"\",0,VLOOKUP($E121,Drivers!$A$26:$F$48,MATCH(H$1,Drivers!$A$25:$F$25,0),0)*$F121)","v":1087.7216613218411},{"$f":"IF($F121=\"\",0,VLOOKUP($E121,Drivers!$A$26:$F$48,MATCH(I$1,Drivers!$A$25:$F$25,0),0)*$F121)","v":1087.7216613218411},{"$f":"IF($F121=\"\",0,VLOOKUP($E121,Drivers!$A$26:$F$48,MATCH(J$1,Drivers!$A$25:$F$25,0),0)*$F121)","v":1087.7216613218411},{"$f":"IF($F121=\"\",0,VLOOKUP($E121,Drivers!$A$26:$F$48,MATCH(K$1,Drivers!$A$25:$F$25,0),0)*$F121)","v":1087.7216613218411}]
["DESPESAS_INSTITUCIONAIS",2100,"SECRETARIA",{"$f":"VLOOKUP(B122,Centro_Custo!$A$2:$C$36,3)","v":"Encargos de Gestão"},"Fixo",{"$f":"SUMIFS('Classificação OPEX'!$O$4:$O$1666,'Classificação OPEX'!$Q$4:$Q$1666,\"N\",'Classificação OPEX'!$S$4:$S$1666,\"NÃO\",'Classificação OPEX'!$V$4:$V$1666,DRIVER_OPEX!A122,'Classificação OPEX'!$W$4:$W$1666,DRIVER_OPEX!B122)","v":10136.422676477245},{"$f":"IF($F122=\"\",0,VLOOKUP($E122,Drivers!$A$26:$F$48,MATCH(G$1,Drivers!$A$25:$F$25,0),0)*$F122)","v":10136.422676477245},{"$f":"IF($F122=\"\",0,VLOOKUP($E122,Drivers!$A$26:$F$48,MATCH(H$1,Drivers!$A$25:$F$25,0),0)*$F122)","v":10136.422676477245},{"$f":"IF($F122=\"\",0,VLOOKUP($E122,Drivers!$A$26:$F$48,MATCH(I$1,Drivers!$A$25:$F$25,0),0)*$F122)","v":10136.422676477245},{"$f":"IF($F122=\"\",0,VLOOKUP($E122,Drivers!$A$26:$F$48,MATCH(J$1,Drivers!$A$25:$F$25,0),0)*$F122)","v":10136.422676477245},{"$f":"IF($F122=\"\",0,VLOOKUP($E122,Drivers!$A$26:$F$48,MATCH(K$1,Drivers!$A$25:$F$25,0),0)*$F122)","v":10136.422676477245}]
["DESPESAS_INSTITUCIONAIS",2110,"ASSESSORIA DA DIRETORIA EXECUTIVA",{"$f":"VLOOKUP(B123,Centro_Custo!$A$2:$C$36,3)","v":"Encargos de Gestão"},"Fixo",{"$f":"SUMIFS('Classificação OPEX'!$O$4:$O$1666,'Classificação OPEX'!$Q$4:$Q$1666,\"N\",'Classificação OPEX'!$S$4:$S$1666,\"NÃO\",'Classificação OPEX'!$V$4:$V$1666,DRIVER_OPEX!A123,'Classificação OPEX'!$W$4:$W$1666,DRIVER_OPEX!B123)","v":5974.9430610701993},{"$f":"IF($F123=\"\",0,VLOOKUP($E123,Drivers!$A$26:$F$48,MATCH(G$1,Drivers!$A$25:$F$25,0),0)*$F123)","v":5974.9430610701993},{"$f":"IF($F123=\"\",0,VLOOKUP($E123,Drivers!$A$26:$F$48,MATCH(H$1,Drivers!$A$25:$F$25,0),0)*$F123)","v":5974.9430610701993},{"$f":"IF($F123=\"\",0,VLOOKUP($E123,Drivers!$A$26:$F$48,MATCH(I$1,Drivers!$A$25:$F$25,0),0)*$F123)","v":5974.9430610701993},{"$f":"IF($F123=\"\",0,VLOOKUP($E123,Drivers!$A$26:$F$48,MATCH(J$1,Drivers!$A$25:$F$25,0),0)*$F123)","v":5974.9430610701993},{"$f":"IF($F123=\"\",0,VLOOKUP($E123,Drivers!$A$26:$F$48,MATCH(K$1,Drivers!$A$25:$F$25,0),0)*$F123)","v":5974.9430610701993}]
["DESPESAS_INSTITUCIONAIS",2120,"ASSESSORIA DA PRESIDÊNCIA",{"$f":"VLOOKUP(B124,Centro_Custo!$A$2:$C$36,3)","v":"Encargos de Gestão"},"Fixo",{"$f":"SUMIFS('Classificação OPEX'!$O$4:$O$1666,'Classificação OPEX'!$Q$4:$Q$1666,\"N\",'Classificação OPEX'!$S$4:$S$1666,\"NÃO\",'Classificação OPEX'!$V$4:$V$1666,DRIVER_OPEX!A124,'Classificação OPEX'!$W$4:$W$1666,DRIVER_OPEX!B124)","v":24.823650659737098},{"$f":"IF($F124=\"\",0,VLOOKUP($E124,Drivers!$A$26:$F$48,MATCH(G$1,Drivers!$A$25:$F$25,0),0)*$F124)","v":24.823650659737098},{"$f":"IF($F124=\"\",0,VLOOKUP($E124,Drivers!$A$26:$F$48,MATCH(H$1,Drivers!$A$25:$F$25,0),0)*$F124)","v":24.823650659737098},{"$f":"IF($F124=\"\",0,VLOOKUP($E124,Drivers!$A$26:$F$48,MATCH(I$1,Drivers!$A$25:$F$25,0),0)*$F124)","v":24.823650659737098},{"$f":"IF($F124=\"\",0,VLOOKUP($E124,Drivers!$A$26:$F$48,MATCH(J$1,Drivers!$A$25:$F$25,0),0)*$F124)","v":24.823650659737098},{"$f":"IF($F124=\"\",0,VLOOKUP($E124,Drivers!$A$26:$F$48,MATCH(K$1,Drivers!$A$25:$F$25,0),0)*$F124)","v":24.823650659737098}]
["DESPESAS_INSTITUCIONAIS",2130,"ASSESSORIA DE RELAÇÕES INSTITUCIONAIS E NOVOS NEGÓCIOS",{"$f":"VLOOKUP(B125,Centro_Custo!$A$2:$C$36,3)","v":"Encargos de Gestão"},"Fixo",{"$f":"SUMIFS('Classificação OPEX'!$O$4:$O$1666,'Classificação OPEX'!$Q$4:$Q$1666,\"N\",'Classificação OPEX'!$S$4:$S$1666,\"NÃO\",'Classificação OPEX'!$V$4:$V$1666,DRIVER_OPEX!A125,'Classificação OPEX'!$W$4:$W$1666,DRIVER_OPEX!B125)","v":0},{"$f":"IF($F125=\"\",0,VLOOKUP($E125,Drivers!$A$26:$F$48,MATCH(G$1,Drivers!$A$25:$F$25,0),0)*$F125)","v":0},{"$f":"IF($F125=\"\",0,VLOOKUP($E125,Drivers!$A$26:$F$48,MATCH(H$1,Drivers!$A$25:$F$25,0),0)*$F125)","v":0},{"$f":"IF($F125=\"\",0,VLOOKUP($E125,Drivers!$A$26:$F$48,MATCH(I$1,Drivers!$A$25:$F$25,0),0)*$F125)","v":0},{"$f":"IF($F125=\"\",0,VLOOKUP($E125,Drivers!$A$26:$F$48,MATCH(J$1,Drivers!$A$25:$F$25,0),0)*$F125)","v":0},{"$f":"IF($F125=\"\",0,VLOOKUP($E125,Drivers!$A$26:$F$48,MATCH(K$1,Drivers!$A$25:$F$25,0),0)*$F125)","v":0}]
["DESPESAS_INSTITUCIONAIS",2140,"ASSESSORIA DTC",{"$f":"VLOOKUP(B126,Centro_Custo!$A$2:$C$36,3)","v":"Encargos de Comercialização"},"Fixo",{"$f":"SUMIFS('Classificação OPEX'!$O$4:$O$1666,'Classificação OPEX'!$Q$4:$Q$1666,\"N\",'Classificação OPEX'!$S$4:$S$1666,\"NÃO\",'Classificação OPEX'!$V$4:$V$1666,DRIVER_OPEX!A126,'Classificação OPEX'!$W$4:$W$1666,DRIVER_OPEX!B126)","v":0},{"$f":"IF($F126=\"\",0,VLOOKUP($E126,Drivers!$A$26:$F$48,MATCH(G$1,Drivers!$A$25:$F$25,0),0)*$F126)","v":0},{"$f":"IF($F126=\"\",0,VLOOKUP($E126,Drivers!$A$26:$F$48,MATCH(H$1,Drivers!$A$25:$F$25,0),0)*$F126)","v":0},{"$f":"IF($F126=\"\",0,VLOOKUP($E126,Drivers!$A$26:$F$48,MATCH(I$1,Drivers!$A$25:$F$25,0),0)*$F126)","v":0},{"$f":"IF($F126=\"\",0,VLOOKUP($E126,Drivers!$A$26:$F$48,MATCH(J$1,Drivers!$A$25:$F$25,0),0)*$F126)","v":0},{"$f":"IF($F126=\"\",0,VLOOKUP($E126,Drivers!$A$26:$F$48,MATCH(K$1,Drivers!$A$25:$F$25,0),0)*$F126)","v":0}]
["DESPESAS_INSTITUCIONAIS",2200,"DIRETORIA COLEGIADA - PRESIDÊNCIA",{"$f":"VLOOKUP(B127,Centro_Custo!$A$2:$C$36,3)","v":"Encargos de Gestão"},"Fixo",{"$f":"SUMIFS('Classificação OPEX'!$O$4:$O$1666,'Classificação OPEX'!$Q$4:$Q$1666,\"N\",'Classificação OPEX'!$S$4:$S$1666,\"NÃO\",'Classificação OPEX'!$V$4:$V$1666,DRIVER_OPEX!A127,'Classificação OPEX'!$W$4:$W$1666,DRIVER_OPEX!B127)","v":18298.334322976709},{"$f":"IF($F127=\"\",0,VLOOKUP($E127,Drivers!$A$26:$F$48,MATCH(G$1,Drivers!$A$25:$F$25,0),0)*$F127)","v":18298.334322976709},{"$f":"IF($F127=\"\",0,VLOOKUP($E127,Drivers!$A$26:$F$48,MATCH(H$1,Drivers!$A$25:$F$25,0),0)*$F127)","v":18298.334322976709},{"$f":"IF($F127=\"\",0,VLOOKUP($E127,Drivers!$A$26:$F$48,MATCH(I$1,Drivers!$A$25:$F$25,0),0)*$F127)","v":18298.334322976709},{"$f":"IF($F127=\"\",0,VLOOKUP($E127,Drivers!$A$26:$F$48,MATCH(J$1,Drivers!$A$25:$F$25,0),0)*$F127)","v":18298.334322976709},{"$f":"IF($F127=\"\",0,VLOOKUP($E127,Drivers!$A$26:$F$48,MATCH(K$1,Drivers!$A$25:$F$25,0),0)*$F127)","v":18298.334322976709}]
["DESPESAS_INSTITUCIONAIS",2300,"DIRETORIA COLEGIADA - DAF",{"$f":"VLOOKUP(B128,Centro_Custo!$A$2:$C$36,3)","v":"Encargos de Gestão"},"Fixo",{"$f":"SUMIFS('Classificação OPEX'!$O$4:$O$1666,'Classificação OPEX'!$Q$4:$Q$1666,\"N\",'Classificação OPEX'!$S$4:$S$1666,\"NÃO\",'Classificação OPEX'!$V$4:$V$1666,DRIVER_OPEX!A128,'Classificação OPEX'!$W$4:$W$1666,DRIVER_OPEX!B128)","v":3120.9751455497808},{"$f":"IF($F128=\"\",0,VLOOKUP($E128,Drivers!$A$26:$F$48,MATCH(G$1,Drivers!$A$25:$F$25,0),0)*$F128)","v":3120.9751455497808},{"$f":"IF($F128=\"\",0,VLOOKUP($E128,Drivers!$A$26:$F$48,MATCH(H$1,Drivers!$A$25:$F$25,0),0)*$F128)","v":3120.9751455497808},{"$f":"IF($F128=\"\",0,VLOOKUP($E128,Drivers!$A$26:$F$48,MATCH(I$1,Drivers!$A$25:$F$25,0),0)*$F128)","v":3120.9751455497808},{"$f":"IF($F128=\"\",0,VLOOKUP($E128,Drivers!$A$26:$F$48,MATCH(J$1,Drivers!$A$25:$F$25,0),0)*$F128)","v":3120.9751455497808},{"$f":"IF($F128=\"\",0,VLOOKUP($E128,Drivers!$A$26:$F$48,MATCH(K$1,Drivers!$A$25:$F$25,0),0)*$F128)","v":3120.9751455497808}]
["DESPESAS_INSTITUCIONAIS",2310,"ASSESSORIA DAF",{"$f":"VLOOKUP(B129,Centro_Custo!$A$2:$C$36,3)","v":"Encargos de Gestão"},"Fixo",{"$f":"SUMIFS('Classificação OPEX'!$O$4:$O$1666,'Classificação OPEX'!$Q$4:$Q$1666,\"N\",'Classificação OPEX'!$S$4:$S$1666,\"NÃO\",'Classificação OPEX'!$V$4:$V$1666,DRIVER_OPEX!A129,'Classificação OPEX'!$W$4:$W$1666,DRIVER_OPEX!B129)","v":18.918964789503534},{"$f":"IF($F129=\"\",0,VLOOKUP($E129,Drivers!$A$26:$F$48,MATCH(G$1,Drivers!$A$25:$F$25,0),0)*$F129)","v":18.918964789503534},{"$f":"IF($F129=\"\",0,VLOOKUP($E129,Drivers!$A$26:$F$48,MATCH(H$1,Drivers!$A$25:$F$25,0),0)*$F129)","v":18.918964789503534},{"$f":"IF($F129=\"\",0,VLOOKUP($E129,Drivers!$A$26:$F$48,MATCH(I$1,Drivers!$A$25:$F$25,0),0)*$F129)","v":18.918964789503534},{"$f":"IF($F129=\"\",0,VLOOKUP($E129,Drivers!$A$26:$F$48,MATCH(J$1,Drivers!$A$25:$F$25,0),0)*$F129)","v":18.918964789503534},{"$f":"IF($F129=\"\",0,VLOOKUP($E129,Drivers!$A$26:$F$48,MATCH(K$1,Drivers!$A$25:$F$25,0),0)*$F129)","v":18.918964789503534}]
["DESPESAS_INSTITUCIONAIS",2400,"DIRETORIA COLEGIADA - DTC",{"$f":"VLOOKUP(B130,Centro_Custo!$A$2:$C$36,3)","v":"Encargos de Comercialização"},"Fixo",{"$f":"SUMIFS('Classificação OPEX'!$O$4:$O$1666,'Classificação OPEX'!$Q$4:$Q$1666,\"N\",'Classificação OPEX'!$S$4:$S$1666,\"NÃO\",'Classificação OPEX'!$V$4:$V$1666,DRIVER_OPEX!A130,'Classificação OPEX'!$W$4:$W$1666,DRIVER_OPEX!B130)","v":2650.8553637882196},{"$f":"IF($F130=\"\",0,VLOOKUP($E130,Drivers!$A$26:$F$48,MATCH(G$1,Drivers!$A$25:$F$25,0),0)*$F130)","v":2650.8553637882196},{"$f":"IF($F130=\"\",0,VLOOKUP($E130,Drivers!$A$26:$F$48,MATCH(H$1,Drivers!$A$25:$F$25,0),0)*$F130)","v":2650.8553637882196},{"$f":"IF($F130=\"\",0,VLOOKUP($E130,Drivers!$A$26:$F$48,MATCH(I$1,Drivers!$A$25:$F$25,0),0)*$F130)","v":2650.8553637882196},{"$f":"IF($F130=\"\",0,VLOOKUP($E130,Drivers!$A$26:$F$48,MATCH(J$1,Drivers!$A$25:$F$25,0),0)*$F130)","v":2650.8553637882196},{"$f":"IF($F130=\"\",0,VLOOKUP($E130,Drivers!$A$26:$F$48,MATCH(K$1,Drivers!$A$25:$F$25,0),0)*$F130)","v":2650.8553637882196}]
["DESPESAS_INSTITUCIONAIS",2410,"ASSESSORIA DE SEGURANÇA DO TRABALHO",{"$f":"VLOOKUP(B131,Centro_Custo!$A$2:$C$36,3)","v":"OPEX&ODESP"},"Fixo",{"$f":"SUMIFS('Classificação OPEX'!$O$4:$O$1666,'Classificação OPEX'!$Q$4:$Q$1666,\"N\",'Classificação OPEX'!$S$4:$S$1666,\"NÃO\",'Classificação OPEX'!$V$4:$V$1666,DRIVER_OPEX!A131,'Classificação OPEX'!$W$4:$W$1666,DRIVER_OPEX!B131)","v":1516.4731945862409},{"$f":"IF($F131=\"\",0,VLOOKUP($E131,Drivers!$A$26:$F$48,MATCH(G$1,Drivers!$A$25:$F$25,0),0)*$F131)","v":1516.4731945862409},{"$f":"IF($F131=\"\",0,VLOOKUP($E131,Drivers!$A$26:$F$48,MATCH(H$1,Drivers!$A$25:$F$25,0),0)*$F131)","v":1516.4731945862409},{"$f":"IF($F131=\"\",0,VLOOKUP($E131,Drivers!$A$26:$F$48,MATCH(I$1,Drivers!$A$25:$F$25,0),0)*$F131)","v":1516.4731945862409},{"$f":"IF($F131=\"\",0,VLOOKUP($E131,Drivers!$A$26:$F$48,MATCH(J$1,Drivers!$A$25:$F$25,0),0)*$F131)","v":1516.4731945862409},{"$f":"IF($F131=\"\",0,VLOOKUP($E131,Drivers!$A$26:$F$48,MATCH(K$1,Drivers!$A$25:$F$25,0),0)*$F131)","v":1516.4731945862409}]
["DESPESAS_INSTITUCIONAIS",3100,"SMS",{"$f":"VLOOKUP(B132,Centro_Custo!$A$2:$C$36,3)","v":"OPEX&ODESP"},"Fixo",{"$f":"SUMIFS('Classificação OPEX'!$O$4:$O$1666,'Classificação OPEX'!$Q$4:$Q$1666,\"N\",'Classificação OPEX'!$S$4:$S$1666,\"NÃO\",'Classificação OPEX'!$V$4:$V$1666,DRIVER_OPEX!A132,'Classificação OPEX'!$W$4:$W$1666,DRIVER_OPEX!B132)","v":7468.3077487695309},{"$f":"IF($F132=\"\",0,VLOOKUP($E132,Drivers!$A$26:$F$48,MATCH(G$1,Drivers!$A$25:$F$25,0),0)*$F132)","v":7468.3077487695309},{"$f":"IF($F132=\"\",0,VLOOKUP($E132,Drivers!$A$26:$F$48,MATCH(H$1,Drivers!$A$25:$F$25,0),0)*$F132)","v":7468.3077487695309},{"$f":"IF($F132=\"\",0,VLOOKUP($E132,Drivers!$A$26:$F$48,MATCH(I$1,Drivers!$A$25:$F$25,0),0)*$F132)","v":7468.3077487695309},{"$f":"IF($F132=\"\",0,VLOOKUP($E132,Drivers!$A$26:$F$48,MATCH(J$1,Drivers!$A$25:$F$25,0),0)*$F132)","v":7468.3077487695309},{"$f":"IF($F132=\"\",0,VLOOKUP($E132,Drivers!$A$26:$F$48,MATCH(K$1,Drivers!$A$25:$F$25,0),0)*$F132)","v":7468.3077487695309}]
["DESPESAS_INSTITUCIONAIS",3200,"GERÊNCIA DE PLANEJAMENTO E MEIO AMBIENTE",{"$f":"VLOOKUP(B133,Centro_Custo!$A$2:$C$36,3)","v":"OPEX&ODESP"},"Fixo",{"$f":"SUMIFS('Classificação OPEX'!$O$4:$O$1666,'Classificação OPEX'!$Q$4:$Q$1666,\"N\",'Classificação OPEX'!$S$4:$S$1666,\"NÃO\",'Classificação OPEX'!$V$4:$V$1666,DRIVER_OPEX!A133,'Classificação OPEX'!$W$4:$W$1666,DRIVER_OPEX!B133)","v":6405.1795961638873},{"$f":"IF($F133=\"\",0,VLOOKUP($E133,Drivers!$A$26:$F$48,MATCH(G$1,Drivers!$A$25:$F$25,0),0)*$F133)","v":6405.1795961638873},{"$f":"IF($F133=\"\",0,VLOOKUP($E133,Drivers!$A$26:$F$48,MATCH(H$1,Drivers!$A$25:$F$25,0),0)*$F133)","v":6405.1795961638873},{"$f":"IF($F133=\"\",0,VLOOKUP($E133,Drivers!$A$26:$F$48,MATCH(I$1,Drivers!$A$25:$F$25,0),0)*$F133)","v":6405.1795961638873},{"$f":"IF($F133=\"\",0,VLOOKUP($E133,Drivers!$A$26:$F$48,MATCH(J$1,Drivers!$A$25:$F$25,0),0)*$F133)","v":6405.1795961638873},{"$f":"IF($F133=\"\",0,VLOOKUP($E133,Drivers!$A$26:$F$48,MATCH(K$1,Drivers!$A$25:$F$25,0),0)*$F133)","v":6405.1795961638873}]
["DESPESAS_INSTITUCIONAIS",3300,"GERÊNCIA JURÍDICA",{"$f":"VLOOKUP(B134,Centro_Custo!$A$2:$C$36,3)","v":"Encargos de Gestão"},"Fixo",{"$f":"SUMIFS('Classificação OPEX'!$O$4:$O$1666,'Classificação OPEX'!$Q$4:$Q$1666,\"N\",'Classificação OPEX'!$S$4:$S$1666,\"NÃO\",'Classificação OPEX'!$V$4:$V$1666,DRIVER_OPEX!A134,'Classificação OPEX'!$W$4:$W$1666,DRIVER_OPEX!B134)","v":112221.90685228883},{"$f":"IF($F134=\"\",0,VLOOKUP($E134,Drivers!$A$26:$F$48,MATCH(G$1,Drivers!$A$25:$F$25,0),0)*$F134)","v":112221.90685228883},{"$f":"IF($F134=\"\",0,VLOOKUP($E134,Drivers!$A$26:$F$48,MATCH(H$1,Drivers!$A$25:$F$25,0),0)*$F134)","v":112221.90685228883},{"$f":"IF($F134=\"\",0,VLOOKUP($E134,Drivers!$A$26:$F$48,MATCH(I$1,Drivers!$A$25:$F$25,0),0)*$F134)","v":112221.90685228883},{"$f":"IF($F134=\"\",0,VLOOKUP($E134,Drivers!$A$26:$F$48,MATCH(J$1,Drivers!$A$25:$F$25,0),0)*$F134)","v":112221.90685228883},{"$f":"IF($F134=\"\",0,VLOOKUP($E134,Drivers!$A$26:$F$48,MATCH(K$1,Drivers!$A$25:$F$25,0),0)*$F134)","v":112221.90685228883}]
["DESPESAS_INSTITUCIONAIS",3400,"MARKETING",{"$f":"VLOOKUP(B135,Centro_Custo!$A$2:$C$36,3)","v":"Encargos de Comercialização"},"Fixo",{"$f":"SUMIFS('Classificação OPEX'!$O$4:$O$1666,'Classificação OPEX'!$Q$4:$Q$1666,\"N\",'Classificação OPEX'!$S$4:$S$1666,\"NÃO\",'Classificação OPEX'!$V$4:$V$1666,DRIVER_OPEX!A135,'Classificação OPEX'!$W$4:$W$1666,DRIVER_OPEX!B135)","v":43156.545378652503},{"$f":"IF($F135=\"\",0,VLOOKUP($E135,Drivers!$A$26:$F$48,MATCH(G$1,Drivers!$A$25:$F$25,0),0)*$F135)","v":43156.545378652503},{"$f":"IF($F135=\"\",0,VLOOKUP($E135,Drivers!$A$26:$F$48,MATCH(H$1,Drivers!$A$25:$F$25,0),0)*$F135)","v":43156.545378652503},{"$f":"IF($F135=\"\",0,VLOOKUP($E135,Drivers!$A$26:$F$48,MATCH(I$1,Drivers!$A$25:$F$25,0),0)*$F135)","v":43156.545378652503},{"$f":"IF($F135=\"\",0,VLOOKUP($E135,Drivers!$A$26:$F$48,MATCH(J$1,Drivers!$A$25:$F$25,0),0)*$F135)","v":43156.545378652503},{"$f":"IF($F135=\"\",0,VLOOKUP($E135,Drivers!$A$26:$F$48,MATCH(K$1,Drivers!$A$25:$F$25,0),0)*$F135)","v":43156.545378652503}]
["DESPESAS_INSTITUCIONAIS",3600,"GERÊNCIA DE GOVERNANÇA, RISCO E COMPLIANCE",{"$f":"VLOOKUP(B136,Centro_Custo!$A$2:$C$36,3)","v":"Encargos de Gestão"},"Fixo",{"$f":"SUMIFS('Classificação OPEX'!$O$4:$O$1666,'Classificação OPEX'!$Q$4:$Q$1666,\"N\",'Classificação OPEX'!$S$4:$S$1666,\"NÃO\",'Classificação OPEX'!$V$4:$V$1666,DRIVER_OPEX!A136,'Classificação OPEX'!$W$4:$W$1666,DRIVER_OPEX!B136)","v":3016.4180837146741},{"$f":"IF($F136=\"\",0,VLOOKUP($E136,Drivers!$A$26:$F$48,MATCH(G$1,Drivers!$A$25:$F$25,0),0)*$F136)","v":3016.4180837146741},{"$f":"IF($F136=\"\",0,VLOOKUP($E136,Drivers!$A$26:$F$48,MATCH(H$1,Drivers!$A$25:$F$25,0),0)*$F136)","v":3016.4180837146741},{"$f":"IF($F136=\"\",0,VLOOKUP($E136,Drivers!$A$26:$F$48,MATCH(I$1,Drivers!$A$25:$F$25,0),0)*$F136)","v":3016.4180837146741},{"$f":"IF($F136=\"\",0,VLOOKUP($E136,Drivers!$A$26:$F$48,MATCH(J$1,Drivers!$A$25:$F$25,0),0)*$F136)","v":3016.4180837146741},{"$f":"IF($F136=\"\",0,VLOOKUP($E136,Drivers!$A$26:$F$48,MATCH(K$1,Drivers!$A$25:$F$25,0),0)*$F136)","v":3016.4180837146741}]
["DESPESAS_INSTITUCIONAIS",3700,"GERÊNCIA DE REGULAÇÃO",{"$f":"VLOOKUP(B137,Centro_Custo!$A$2:$C$36,3)","v":"Encargos de Gestão"},"Fixo",{"$f":"SUMIFS('Classificação OPEX'!$O$4:$O$1666,'Classificação OPEX'!$Q$4:$Q$1666,\"N\",'Classificação OPEX'!$S$4:$S$1666,\"NÃO\",'Classificação OPEX'!$V$4:$V$1666,DRIVER_OPEX!A137,'Classificação OPEX'!$W$4:$W$1666,DRIVER_OPEX!B137)","v":1317.5559273981962},{"$f":"IF($F137=\"\",0,VLOOKUP($E137,Drivers!$A$26:$F$48,MATCH(G$1,Drivers!$A$25:$F$25,0),0)*$F137)","v":1317.5559273981962},{"$f":"IF($F137=\"\",0,VLOOKUP($E137,Drivers!$A$26:$F$48,MATCH(H$1,Drivers!$A$25:$F$25,0),0)*$F137)","v":1317.5559273981962},{"$f":"IF($F137=\"\",0,VLOOKUP($E137,Drivers!$A$26:$F$48,MATCH(I$1,Drivers!$A$25:$F$25,0),0)*$F137)","v":1317.5559273981962},{"$f":"IF($F137=\"\",0,VLOOKUP($E137,Drivers!$A$26:$F$48,MATCH(J$1,Drivers!$A$25:$F$25,0),0)*$F137)","v":1317.5559273981962},{"$f":"IF($F137=\"\",0,VLOOKUP($E137,Drivers!$A$26:$F$48,MATCH(K$1,Drivers!$A$25:$F$25,0),0)*$F137)","v":1317.5559273981962}]
["DESPESAS_INSTITUCIONAIS",4200,"GERÊNCIA FINANCEIRA",{"$f":"VLOOKUP(B138,Centro_Custo!$A$2:$C$36,3)","v":"Encargos de Gestão"},"Fixo",{"$f":"SUMIFS('Classificação OPEX'!$O$4:$O$1666,'Classificação OPEX'!$Q$4:$Q$1666,\"N\",'Classificação OPEX'!$S$4:$S$1666,\"NÃO\",'Classificação OPEX'!$V$4:$V$1666,DRIVER_OPEX!A138,'Classificação OPEX'!$W$4:$W$1666,DRIVER_OPEX!B138)","v":126434.08133529547},{"$f":"IF($F138=\"\",0,VLOOKUP($E138,Drivers!$A$26:$F$48,MATCH(G$1,Drivers!$A$25:$F$25,0),0)*$F138)","v":126434.08133529547},{"$f":"IF($F138=\"\",0,VLOOKUP($E138,Drivers!$A$26:$F$48,MATCH(H$1,Drivers!$A$25:$F$25,0),0)*$F138)","v":126434.08133529547},{"$f":"IF($F138=\"\",0,VLOOKUP($E138,Drivers!$A$26:$F$48,MATCH(I$1,Drivers!$A$25:$F$25,0),0)*$F138)","v":126434.08133529547},{"$f":"IF($F138=\"\",0,VLOOKUP($E138,Drivers!$A$26:$F$48,MATCH(J$1,Drivers!$A$25:$F$25,0),0)*$F138)","v":126434.08133529547},{"$f":"IF($F138=\"\",0,VLOOKUP($E138,Drivers!$A$26:$F$48,MATCH(K$1,Drivers!$A$25:$F$25,0),0)*$F138)","v":126434.08133529547}]
["DESPESAS_INSTITUCIONAIS",4300,"GERÊNCIA DE TECNOLOGIA E SISTEMAS DE INFORMAÇÃO",{"$f":"VLOOKUP(B139,Centro_Custo!$A$2:$C$36,3)","v":"Encargos de Gestão"},"Fixo",{"$f":"SUMIFS('Classificação OPEX'!$O$4:$O$1666,'Classificação OPEX'!$Q$4:$Q$1666,\"N\",'Classificação OPEX'!$S$4:$S$1666,\"NÃO\",'Classificação OPEX'!$V$4:$V$1666,DRIVER_OPEX!A139,'Classificação OPEX'!$W$4:$W$1666,DRIVER_OPEX!B139)","v":14734.416128886791},{"$f":"IF($F139=\"\",0,VLOOKUP($E139,Drivers!$A$26:$F$48,MATCH(G$1,Drivers!$A$25:$F$25,0),0)*$F139)","v":14734.416128886791},{"$f":"IF($F139=\"\",0,VLOOKUP($E139,Drivers!$A$26:$F$48,MATCH(H$1,Drivers!$A$25:$F$25,0),0)*$F139)","v":14734.416128886791},{"$f":"IF($F139=\"\",0,VLOOKUP($E139,Drivers!$A$26:$F$48,MATCH(I$1,Drivers!$A$25:$F$25,0),0)*$F139)","v":14734.416128886791},{"$f":"IF($F139=\"\",0,VLOOKUP($E139,Drivers!$A$26:$F$48,MATCH(J$1,Drivers!$A$25:$F$25,0),0)*$F139)","v":14734.416128886791},{"$f":"IF($F139=\"\",0,VLOOKUP($E139,Drivers!$A$26:$F$48,MATCH(K$1,Drivers!$A$25:$F$25,0),0)*$F139)","v":14734.416128886791}]
["DESPESAS_INSTITUCIONAIS",4500,"GERÊNCIA CONTÁBIL",{"$f":"VLOOKUP(B140,Centro_Custo!$A$2:$C$36,3)","v":"Encargos de Gestão"},"Fixo",{"$f":"SUMIFS('Classificação OPEX'!$O$4:$O$1666,'Classificação OPEX'!$Q$4:$Q$1666,\"N\",'Classificação OPEX'!$S$4:$S$1666,\"NÃO\",'Classificação OPEX'!$V$4:$V$1666,DRIVER_OPEX!A140,'Classificação OPEX'!$W$4:$W$1666,DRIVER_OPEX!B140)","v":9379.7821641829669},{"$f":"IF($F140=\"\",0,VLOOKUP($E140,Drivers!$A$26:$F$48,MATCH(G$1,Drivers!$A$25:$F$25,0),0)*$F140)","v":9379.7821641829669},{"$f":"IF($F140=\"\",0,VLOOKUP($E140,Drivers!$A$26:$F$48,MATCH(H$1,Drivers!$A$25:$F$25,0),0)*$F140)","v":9379.7821641829669},{"$f":"IF($F140=\"\",0,VLOOKUP($E140,Drivers!$A$26:$F$48,MATCH(I$1,Drivers!$A$25:$F$25,0),0)*$F140)","v":9379.7821641829669},{"$f":"IF($F140=\"\",0,VLOOKUP($E140,Drivers!$A$26:$F$48,MATCH(J$1,Drivers!$A$25:$F$25,0),0)*$F140)","v":9379.7821641829669},{"$f":"IF($F140=\"\",0,VLOOKUP($E140,Drivers!$A$26:$F$48,MATCH(K$1,Drivers!$A$25:$F$25,0),0)*$F140)","v":9379.7821641829669}]
["DESPESAS_INSTITUCIONAIS",4600,"GERÊNCIA DE PESSOAS E CULTURA",{"$f":"VLOOKUP(B141,Centro_Custo!$A$2:$C$36,3)","v":"Encargos de Gestão"},"Fixo",{"$f":"SUMIFS('Classificação OPEX'!$O$4:$O$1666,'Classificação OPEX'!$Q$4:$Q$1666,\"N\",'Classificação OPEX'!$S$4:$S$1666,\"NÃO\",'Classificação OPEX'!$V$4:$V$1666,DRIVER_OPEX!A141,'Classificação OPEX'!$W$4:$W$1666,DRIVER_OPEX!B141)","v":6141.3558802575881},{"$f":"IF($F141=\"\",0,VLOOKUP($E141,Drivers!$A$26:$F$48,MATCH(G$1,Drivers!$A$25:$F$25,0),0)*$F141)","v":6141.3558802575881},{"$f":"IF($F141=\"\",0,VLOOKUP($E141,Drivers!$A$26:$F$48,MATCH(H$1,Drivers!$A$25:$F$25,0),0)*$F141)","v":6141.3558802575881},{"$f":"IF($F141=\"\",0,VLOOKUP($E141,Drivers!$A$26:$F$48,MATCH(I$1,Drivers!$A$25:$F$25,0),0)*$F141)","v":6141.3558802575881},{"$f":"IF($F141=\"\",0,VLOOKUP($E141,Drivers!$A$26:$F$48,MATCH(J$1,Drivers!$A$25:$F$25,0),0)*$F141)","v":6141.3558802575881},{"$f":"IF($F141=\"\",0,VLOOKUP($E141,Drivers!$A$26:$F$48,MATCH(K$1,Drivers!$A$25:$F$25,0),0)*$F141)","v":6141.3558802575881}]
["DESPESAS_INSTITUCIONAIS",5100,"GERÊNCIA DE ENGENHARIA",{"$f":"VLOOKUP(B142,Centro_Custo!$A$2:$C$36,3)","v":"OPEX&ODESP"},"Fixo",{"$f":"SUMIFS('Classificação OPEX'!$O$4:$O$1666,'Classificação OPEX'!$Q$4:$Q$1666,\"N\",'Classificação OPEX'!$S$4:$S$1666,\"NÃO\",'Classificação OPEX'!$V$4:$V$1666,DRIVER_OPEX!A142,'Classificação OPEX'!$W$4:$W$1666,DRIVER_OPEX!B142)","v":3899.2418451968883},{"$f":"IF($F142=\"\",0,VLOOKUP($E142,Drivers!$A$26:$F$48,MATCH(G$1,Drivers!$A$25:$F$25,0),0)*$F142)","v":3899.2418451968883},{"$f":"IF($F142=\"\",0,VLOOKUP($E142,Drivers!$A$26:$F$48,MATCH(H$1,Drivers!$A$25:$F$25,0),0)*$F142)","v":3899.2418451968883},{"$f":"IF($F142=\"\",0,VLOOKUP($E142,Drivers!$A$26:$F$48,MATCH(I$1,Drivers!$A$25:$F$25,0),0)*$F142)","v":3899.2418451968883},{"$f":"IF($F142=\"\",0,VLOOKUP($E142,Drivers!$A$26:$F$48,MATCH(J$1,Drivers!$A$25:$F$25,0),0)*$F142)","v":3899.2418451968883},{"$f":"IF($F142=\"\",0,VLOOKUP($E142,Drivers!$A$26:$F$48,MATCH(K$1,Drivers!$A$25:$F$25,0),0)*$F142)","v":3899.2418451968883}]
["DESPESAS_INSTITUCIONAIS",5200,"GERÊNCIA DE OPERAÇÕES",{"$f":"VLOOKUP(B143,Centro_Custo!$A$2:$C$36,3)","v":"OPEX&ODESP"},"Fixo",{"$f":"SUMIFS('Classificação OPEX'!$O$4:$O$1666,'Classificação OPEX'!$Q$4:$Q$1666,\"N\",'Classificação OPEX'!$S$4:$S$1666,\"NÃO\",'Classificação OPEX'!$V$4:$V$1666,DRIVER_OPEX!A143,'Classificação OPEX'!$W$4:$W$1666,DRIVER_OPEX!B143)","v":9301.4572368197714},{"$f":"IF($F143=\"\",0,VLOOKUP($E143,Drivers!$A$26:$F$48,MATCH(G$1,Drivers!$A$25:$F$25,0),0)*$F143)","v":9301.4572368197714},{"$f":"IF($F143=\"\",0,VLOOKUP($E143,Drivers!$A$26:$F$48,MATCH(H$1,Drivers!$A$25:$F$25,0),0)*$F143)","v":9301.4572368197714},{"$f":"IF($F143=\"\",0,VLOOKUP($E143,Drivers!$A$26:$F$48,MATCH(I$1,Drivers!$A$25:$F$25,0),0)*$F143)","v":9301.4572368197714},{"$f":"IF($F143=\"\",0,VLOOKUP($E143,Drivers!$A$26:$F$48,MATCH(J$1,Drivers!$A$25:$F$25,0),0)*$F143)","v":9301.4572368197714},{"$f":"IF($F143=\"\",0,VLOOKUP($E143,Drivers!$A$26:$F$48,MATCH(K$1,Drivers!$A$25:$F$25,0),0)*$F143)","v":9301.4572368197714}]
["DESPESAS_INSTITUCIONAIS",9999,"RATEIO",{"$f":"VLOOKUP(B144,Centro_Custo!$A$2:$C$36,3)","v":"Encargos de Gestão"},"Fixo",{"$f":"SUMIFS('Classificação OPEX'!$O$4:$O$1666,'Classificação OPEX'!$Q$4:$Q$1666,\"N\",'Classificação OPEX'!$S$4:$S$1666,\"NÃO\",'Classificação OPEX'!$V$4:$V$1666,DRIVER_OPEX!A144,'Classificação OPEX'!$W$4:$W$1666,DRIVER_OPEX!B144)","v":0},{"$f":"IF($F144=\"\",0,VLOOKUP($E144,Drivers!$A$26:$F$48,MATCH(G$1,Drivers!$A$25:$F$25,0),0)*$F144)","v":0},{"$f":"IF($F144=\"\",0,VLOOKUP($E144,Drivers!$A$26:$F$48,MATCH(H$1,Drivers!$A$25:$F$25,0),0)*$F144)","v":0},{"$f":"IF($F144=\"\",0,VLOOKUP($E144,Drivers!$A$26:$F$48,MATCH(I$1,Drivers!$A$25:$F$25,0),0)*$F144)","v":0},{"$f":"IF($F144=\"\",0,VLOOKUP($E144,Drivers!$A$26:$F$48,MATCH(J$1,Drivers!$A$25:$F$25,0),0)*$F144)","v":0},{"$f":"IF($F144=\"\",0,VLOOKUP($E144,Drivers!$A$26:$F$48,MATCH(K$1,Drivers!$A$25:$F$25,0),0)*$F144)","v":0}]
["DESPESAS_INSTITUCIONAIS","5400","GERÊNCIA COMERCIAL",{"$f":"VLOOKUP(B145,Centro_Custo!$A$2:$C$36,3)","v":"Encargos de Gestão"},"Fixo",{"$f":"SUMIFS('Classificação OPEX'!$O$4:$O$1666,'Classificação OPEX'!$Q$4:$Q$1666,\"N\",'Classificação OPEX'!$S$4:$S$1666,\"NÃO\",'Classificação OPEX'!$V$4:$V$1666,DRIVER_OPEX!A145,'Classificação OPEX'!$W$4:$W$1666,DRIVER_OPEX!B145)","v":170151.37188346271},{"$f":"IF($F145=\"\",0,VLOOKUP($E145,Drivers!$A$26:$F$48,MATCH(G$1,Drivers!$A$25:$F$25,0),0)*$F145)","v":170151.37188346271},{"$f":"IF($F145=\"\",0,VLOOKUP($E145,Drivers!$A$26:$F$48,MATCH(H$1,Drivers!$A$25:$F$25,0),0)*$F145)","v":170151.37188346271},{"$f":"IF($F145=\"\",0,VLOOKUP($E145,Drivers!$A$26:$F$48,MATCH(I$1,Drivers!$A$25:$F$25,0),0)*$F145)","v":170151.37188346271},{"$f":"IF($F145=\"\",0,VLOOKUP($E145,Drivers!$A$26:$F$48,MATCH(J$1,Drivers!$A$25:$F$25,0),0)*$F145)","v":170151.37188346271},{"$f":"IF($F145=\"\",0,VLOOKUP($E145,Drivers!$A$26:$F$48,MATCH(K$1,Drivers!$A$25:$F$25,0),0)*$F145)","v":170151.37188346271}]
["DESPESAS_INSTITUCIONAIS","5500","GERÊNCIA COMERCIAL",{"$f":"VLOOKUP(B146,Centro_Custo!$A$2:$C$36,3)","v":"Encargos de Gestão"},"Fixo",{"$f":"SUMIFS('Classificação OPEX'!$O$4:$O$1666,'Classificação OPEX'!$Q$4:$Q$1666,\"N\",'Classificação OPEX'!$S$4:$S$1666,\"NÃO\",'Classificação OPEX'!$V$4:$V$1666,DRIVER_OPEX!A146,'Classificação OPEX'!$W$4:$W$1666,DRIVER_OPEX!B146)","v":9738.2485974981482},{"$f":"IF($F146=\"\",0,VLOOKUP($E146,Drivers!$A$26:$F$48,MATCH(G$1,Drivers!$A$25:$F$25,0),0)*$F146)","v":9738.2485974981482},{"$f":"IF($F146=\"\",0,VLOOKUP($E146,Drivers!$A$26:$F$48,MATCH(H$1,Drivers!$A$25:$F$25,0),0)*$F146)","v":9738.2485974981482},{"$f":"IF($F146=\"\",0,VLOOKUP($E146,Drivers!$A$26:$F$48,MATCH(I$1,Drivers!$A$25:$F$25,0),0)*$F146)","v":9738.2485974981482},{"$f":"IF($F146=\"\",0,VLOOKUP($E146,Drivers!$A$26:$F$48,MATCH(J$1,Drivers!$A$25:$F$25,0),0)*$F146)","v":9738.2485974981482},{"$f":"IF($F146=\"\",0,VLOOKUP($E146,Drivers!$A$26:$F$48,MATCH(K$1,Drivers!$A$25:$F$25,0),0)*$F146)","v":9738.2485974981482}]
["DESPESAS_SEGUROS","TOTAL","TOTAL",null,null,{"$f":"SUM(F148:F182)","v":583774.39037520625},{"$f":"SUM(G148:G182)","v":605751.80050172273},647365.71844800829,661704.02706214983,672298.90269349667,680640.78652506473]
["DESPESAS_SEGUROS",1005,{"$f":"VLOOKUP(B148,Centro_Custo!$A$2:$B$36,2,0)","v":"AUDITORIA INTERNA"},{"$f":"VLOOKUP(B148,Centro_Custo!$A$2:$C$36,3)","v":"Encargos de Gestão"},"Fixo",{"$f":"SUMIFS('Classificação OPEX'!$O$4:$O$1666,'Classificação OPEX'!$Q$4:$Q$1666,\"N\",'Classificação OPEX'!$S$4:$S$1666,\"NÃO\",'Classificação OPEX'!$V$4:$V$1666,DRIVER_OPEX!A148,'Classificação OPEX'!$W$4:$W$1666,DRIVER_OPEX!B148)","v":2975.575712752418},{"$f":"IF($F148=\"\",0,VLOOKUP($E148,Drivers!$A$26:$F$48,MATCH(G$1,Drivers!$A$25:$F$25,0),0)*$F148)","v":2975.575712752418},{"$f":"IF($F148=\"\",0,VLOOKUP($E148,Drivers!$A$26:$F$48,MATCH(H$1,Drivers!$A$25:$F$25,0),0)*$F148)","v":2975.575712752418},{"$f":"IF($F148=\"\",0,VLOOKUP($E148,Drivers!$A$26:$F$48,MATCH(I$1,Drivers!$A$25:$F$25,0),0)*$F148)","v":2975.575712752418},{"$f":"IF($F148=\"\",0,VLOOKUP($E148,Drivers!$A$26:$F$48,MATCH(J$1,Drivers!$A$25:$F$25,0),0)*$F148)","v":2975.575712752418},{"$f":"IF($F148=\"\",0,VLOOKUP($E148,Drivers!$A$26:$F$48,MATCH(K$1,Drivers!$A$25:$F$25,0),0)*$F148)","v":2975.575712752418}]
["DESPESAS_SEGUROS",1010,{"$f":"VLOOKUP(B149,Centro_Custo!$A$2:$B$36,2,0)","v":"GOVERNANÇA SOCIETÁRIA"},{"$f":"VLOOKUP(B149,Centro_Custo!$A$2:$C$36,3)","v":"Encargos de Gestão"},"Fixo",{"$f":"SUMIFS('Classificação OPEX'!$O$4:$O$1666,'Classificação OPEX'!$Q$4:$Q$1666,\"N\",'Classificação OPEX'!$S$4:$S$1666,\"NÃO\",'Classificação OPEX'!$V$4:$V$1666,DRIVER_OPEX!A149,'Classificação OPEX'!$W$4:$W$1666,DRIVER_OPEX!B149)","v":0},{"$f":"IF($F149=\"\",0,VLOOKUP($E149,Drivers!$A$26:$F$48,MATCH(G$1,Drivers!$A$25:$F$25,0),0)*$F149)","v":0},{"$f":"IF($F149=\"\",0,VLOOKUP($E149,Drivers!$A$26:$F$48,MATCH(H$1,Drivers!$A$25:$F$25,0),0)*$F149)","v":0},{"$f":"IF($F149=\"\",0,VLOOKUP($E149,Drivers!$A$26:$F$48,MATCH(I$1,Drivers!$A$25:$F$25,0),0)*$F149)","v":0},{"$f":"IF($F149=\"\",0,VLOOKUP($E149,Drivers!$A$26:$F$48,MATCH(J$1,Drivers!$A$25:$F$25,0),0)*$F149)","v":0},{"$f":"IF($F149=\"\",0,VLOOKUP($E149,Drivers!$A$26:$F$48,MATCH(K$1,Drivers!$A$25:$F$25,0),0)*$F149)","v":0}]
["DESPESAS_SEGUROS",2110,{"$f":"VLOOKUP(B150,Centro_Custo!$A$2:$B$36,2,0)","v":"ASSESSORIA DA DIRETORIA EXECUTIVA"},{"$f":"VLOOKUP(B150,Centro_Custo!$A$2:$C$36,3)","v":"Encargos de Gestão"},"Fixo",{"$f":"SUMIFS('Classificação OPEX'!$O$4:$O$1666,'Classificação OPEX'!$Q$4:$Q$1666,\"N\",'Classificação OPEX'!$S$4:$S$1666,\"NÃO\",'Classificação OPEX'!$V$4:$V$1666,DRIVER_OPEX!A150,'Classificação OPEX'!$W$4:$W$1666,DRIVER_OPEX!B150)","v":6921.8688485485281},{"$f":"IF($F150=\"\",0,VLOOKUP($E150,Drivers!$A$26:$F$48,MATCH(G$1,Drivers!$A$25:$F$25,0),0)*$F150)","v":6921.8688485485281},{"$f":"IF($F150=\"\",0,VLOOKUP($E150,Drivers!$A$26:$F$48,MATCH(H$1,Drivers!$A$25:$F$25,0),0)*$F150)","v":6921.8688485485281},{"$f":"IF($F150=\"\",0,VLOOKUP($E150,Drivers!$A$26:$F$48,MATCH(I$1,Drivers!$A$25:$F$25,0),0)*$F150)","v":6921.8688485485281},{"$f":"IF($F150=\"\",0,VLOOKUP($E150,Drivers!$A$26:$F$48,MATCH(J$1,Drivers!$A$25:$F$25,0),0)*$F150)","v":6921.8688485485281},{"$f":"IF($F150=\"\",0,VLOOKUP($E150,Drivers!$A$26:$F$48,MATCH(K$1,Drivers!$A$25:$F$25,0),0)*$F150)","v":6921.8688485485281}]
["DESPESAS_SEGUROS",2120,{"$f":"VLOOKUP(B151,Centro_Custo!$A$2:$B$36,2,0)","v":"ASSESSORIA DA PRESIDÊNCIA"},{"$f":"VLOOKUP(B151,Centro_Custo!$A$2:$C$36,3)","v":"Encargos de Gestão"},"Fixo",{"$f":"SUMIFS('Classificação OPEX'!$O$4:$O$1666,'Classificação OPEX'!$Q$4:$Q$1666,\"N\",'Classificação OPEX'!$S$4:$S$1666,\"NÃO\",'Classificação OPEX'!$V$4:$V$1666,DRIVER_OPEX!A151,'Classificação OPEX'!$W$4:$W$1666,DRIVER_OPEX!B151)","v":8972.5477375591108},{"$f":"IF($F151=\"\",0,VLOOKUP($E151,Drivers!$A$26:$F$48,MATCH(G$1,Drivers!$A$25:$F$25,0),0)*$F151)","v":8972.5477375591108},{"$f":"IF($F151=\"\",0,VLOOKUP($E151,Drivers!$A$26:$F$48,MATCH(H$1,Drivers!$A$25:$F$25,0),0)*$F151)","v":8972.5477375591108},{"$f":"IF($F151=\"\",0,VLOOKUP($E151,Drivers!$A$26:$F$48,MATCH(I$1,Drivers!$A$25:$F$25,0),0)*$F151)","v":8972.5477375591108},{"$f":"IF($F151=\"\",0,VLOOKUP($E151,Drivers!$A$26:$F$48,MATCH(J$1,Drivers!$A$25:$F$25,0),0)*$F151)","v":8972.5477375591108},{"$f":"IF($F151=\"\",0,VLOOKUP($E151,Drivers!$A$26:$F$48,MATCH(K$1,Drivers!$A$25:$F$25,0),0)*$F151)","v":8972.5477375591108}]
["DESPESAS_SEGUROS",2130,{"$f":"VLOOKUP(B152,Centro_Custo!$A$2:$B$36,2,0)","v":"ASSESSORIA DE RELAÇÕES INSTITUCIONAIS E NOVOS NEGÓCIOS"},{"$f":"VLOOKUP(B152,Centro_Custo!$A$2:$C$36,3)","v":"Encargos de Gestão"},"Fixo",{"$f":"SUMIFS('Classificação OPEX'!$O$4:$O$1666,'Classificação OPEX'!$Q$4:$Q$1666,\"N\",'Classificação OPEX'!$S$4:$S$1666,\"NÃO\",'Classificação OPEX'!$V$4:$V$1666,DRIVER_OPEX!A152,'Classificação OPEX'!$W$4:$W$1666,DRIVER_OPEX!B152)","v":0},{"$f":"IF($F152=\"\",0,VLOOKUP($E152,Drivers!$A$26:$F$48,MATCH(G$1,Drivers!$A$25:$F$25,0),0)*$F152)","v":0},{"$f":"IF($F152=\"\",0,VLOOKUP($E152,Drivers!$A$26:$F$48,MATCH(H$1,Drivers!$A$25:$F$25,0),0)*$F152)","v":0},{"$f":"IF($F152=\"\",0,VLOOKUP($E152,Drivers!$A$26:$F$48,MATCH(I$1,Drivers!$A$25:$F$25,0),0)*$F152)","v":0},{"$f":"IF($F152=\"\",0,VLOOKUP($E152,Drivers!$A$26:$F$48,MATCH(J$1,Drivers!$A$25:$F$25,0),0)*$F152)","v":0},{"$f":"IF($F152=\"\",0,VLOOKUP($E152,Drivers!$A$26:$F$48,MATCH(K$1,Drivers!$A$25:$F$25,0),0)*$F152)","v":0}]
["DESPESAS_SEGUROS",2140,{"$f":"VLOOKUP(B153,Centro_Custo!$A$2:$B$36,2,0)","v":"ASSESSORIA DTC"},{"$f":"VLOOKUP(B153,Centro_Custo!$A$2:$C$36,3)","v":"Encargos de Comercialização"},"Fixo",{"$f":"SUMIFS('Classificação OPEX'!$O$4:$O$1666,'Classificação OPEX'!$Q$4:$Q$1666,\"N\",'Classificação OPEX'!$S$4:$S$1666,\"NÃO\",'Classificação OPEX'!$V$4:$V$1666,DRIVER_OPEX!A153,'Classificação OPEX'!$W$4:$W$1666,DRIVER_OPEX!B153)","v":0},{"$f":"IF($F153=\"\",0,VLOOKUP($E153,Drivers!$A$26:$F$48,MATCH(G$1,Drivers!$A$25:$F$25,0),0)*$F153)","v":0},{"$f":"IF($F153=\"\",0,VLOOKUP($E153,Drivers!$A$26:$F$48,MATCH(H$1,Drivers!$A$25:$F$25,0),0)*$F153)","v":0},{"$f":"IF($F153=\"\",0,VLOOKUP($E153,Drivers!$A$26:$F$48,MATCH(I$1,Drivers!$A$25:$F$25,0),0)*$F153)","v":0},{"$f":"IF($F153=\"\",0,VLOOKUP($E153,Drivers!$A$26:$F$48,MATCH(J$1,Drivers!$A$25:$F$25,0),0)*$F153)","v":0},{"$f":"IF($F153=\"\",0,VLOOKUP($E153,Drivers!$A$26:$F$48,MATCH(K$1,Drivers!$A$25:$F$25,0),0)*$F153)","v":0}]
["DESPESAS_SEGUROS",2310,{"$f":"VLOOKUP(B154,Centro_Custo!$A$2:$B$36,2,0)","v":"ASSESSORIA DAF"},{"$f":"VLOOKUP(B154,Centro_Custo!$A$2:$C$36,3)","v":"Encargos de Gestão"},"Fixo",{"$f":"SUMIFS('Classificação OPEX'!$O$4:$O$1666,'Classificação OPEX'!$Q$4:$Q$1666,\"N\",'Classificação OPEX'!$S$4:$S$1666,\"NÃO\",'Classificação OPEX'!$V$4:$V$1666,DRIVER_OPEX!A154,'Classificação OPEX'!$W$4:$W$1666,DRIVER_OPEX!B154)","v":2975.5879386566135},{"$f":"IF($F154=\"\",0,VLOOKUP($E154,Drivers!$A$26:$F$48,MATCH(G$1,Drivers!$A$25:$F$25,0),0)*$F154)","v":2975.5879386566135},{"$f":"IF($F154=\"\",0,VLOOKUP($E154,Drivers!$A$26:$F$48,MATCH(H$1,Drivers!$A$25:$F$25,0),0)*$F154)","v":2975.5879386566135},{"$f":"IF($F154=\"\",0,VLOOKUP($E154,Drivers!$A$26:$F$48,MATCH(I$1,Drivers!$A$25:$F$25,0),0)*$F154)","v":2975.5879386566135},{"$f":"IF($F154=\"\",0,VLOOKUP($E154,Drivers!$A$26:$F$48,MATCH(J$1,Drivers!$A$25:$F$25,0),0)*$F154)","v":2975.5879386566135},{"$f":"IF($F154=\"\",0,VLOOKUP($E154,Drivers!$A$26:$F$48,MATCH(K$1,Drivers!$A$25:$F$25,0),0)*$F154)","v":2975.5879386566135}]
["DESPESAS_SEGUROS",2410,{"$f":"VLOOKUP(B155,Centro_Custo!$A$2:$B$36,2,0)","v":"ASSESSORIA DE SEGURANÇA DO TRABALHO"},{"$f":"VLOOKUP(B155,Centro_Custo!$A$2:$C$36,3)","v":"OPEX&ODESP"},"Fixo",{"$f":"SUMIFS('Classificação OPEX'!$O$4:$O$1666,'Classificação OPEX'!$Q$4:$Q$1666,\"N\",'Classificação OPEX'!$S$4:$S$1666,\"NÃO\",'Classificação OPEX'!$V$4:$V$1666,DRIVER_OPEX!A155,'Classificação OPEX'!$W$4:$W$1666,DRIVER_OPEX!B155)","v":0},{"$f":"IF($F155=\"\",0,VLOOKUP($E155,Drivers!$A$26:$F$48,MATCH(G$1,Drivers!$A$25:$F$25,0),0)*$F155)","v":0},{"$f":"IF($F155=\"\",0,VLOOKUP($E155,Drivers!$A$26:$F$48,MATCH(H$1,Drivers!$A$25:$F$25,0),0)*$F155)","v":0},{"$f":"IF($F155=\"\",0,VLOOKUP($E155,Drivers!$A$26:$F$48,MATCH(I$1,Drivers!$A$25:$F$25,0),0)*$F155)","v":0},{"$f":"IF($F155=\"\",0,VLOOKUP($E155,Drivers!$A$26:$F$48,MATCH(J$1,Drivers!$A$25:$F$25,0),0)*$F155)","v":0},{"$f":"IF($F155=\"\",0,VLOOKUP($E155,Drivers!$A$26:$F$48,MATCH(K$1,Drivers!$A$25:$F$25,0),0)*$F155)","v":0}]
["DESPESAS_SEGUROS",3200,{"$f":"VLOOKUP(B156,Centro_Custo!$A$2:$B$36,2,0)","v":"GERÊNCIA DE PLANEJAMENTO E MEIO AMBIENTE"},{"$f":"VLOOKUP(B156,Centro_Custo!$A$2:$C$36,3)","v":"OPEX&ODESP"},"Fixo",{"$f":"SUMIFS('Classificação OPEX'!$O$4:$O$1666,'Classificação OPEX'!$Q$4:$Q$1666,\"N\",'Classificação OPEX'!$S$4:$S$1666,\"NÃO\",'Classificação OPEX'!$V$4:$V$1666,DRIVER_OPEX!A156,'Classificação OPEX'!$W$4:$W$1666,DRIVER_OPEX!B156)","v":41643.225092327732},{"$f":"IF($F156=\"\",0,VLOOKUP($E156,Drivers!$A$26:$F$48,MATCH(G$1,Drivers!$A$25:$F$25,0),0)*$F156)","v":41643.225092327732},{"$f":"IF($F156=\"\",0,VLOOKUP($E156,Drivers!$A$26:$F$48,MATCH(H$1,Drivers!$A$25:$F$25,0),0)*$F156)","v":41643.225092327732},{"$f":"IF($F156=\"\",0,VLOOKUP($E156,Drivers!$A$26:$F$48,MATCH(I$1,Drivers!$A$25:$F$25,0),0)*$F156)","v":41643.225092327732},{"$f":"IF($F156=\"\",0,VLOOKUP($E156,Drivers!$A$26:$F$48,MATCH(J$1,Drivers!$A$25:$F$25,0),0)*$F156)","v":41643.225092327732},{"$f":"IF($F156=\"\",0,VLOOKUP($E156,Drivers!$A$26:$F$48,MATCH(K$1,Drivers!$A$25:$F$25,0),0)*$F156)","v":41643.225092327732}]
["DESPESAS_SEGUROS",3300,{"$f":"VLOOKUP(B157,Centro_Custo!$A$2:$B$36,2,0)","v":"GERÊNCIA JURÍDICA"},{"$f":"VLOOKUP(B157,Centro_Custo!$A$2:$C$36,3)","v":"Encargos de Gestão"},"Fixo",{"$f":"SUMIFS('Classificação OPEX'!$O$4:$O$1666,'Classificação OPEX'!$Q$4:$Q$1666,\"N\",'Classificação OPEX'!$S$4:$S$1666,\"NÃO\",'Classificação OPEX'!$V$4:$V$1666,DRIVER_OPEX!A157,'Classificação OPEX'!$W$4:$W$1666,DRIVER_OPEX!B157)","v":16162.308611594466},{"$f":"IF($F157=\"\",0,VLOOKUP($E157,Drivers!$A$26:$F$48,MATCH(G$1,Drivers!$A$25:$F$25,0),0)*$F157)","v":16162.308611594466},{"$f":"IF($F157=\"\",0,VLOOKUP($E157,Drivers!$A$26:$F$48,MATCH(H$1,Drivers!$A$25:$F$25,0),0)*$F157)","v":16162.308611594466},{"$f":"IF($F157=\"\",0,VLOOKUP($E157,Drivers!$A$26:$F$48,MATCH(I$1,Drivers!$A$25:$F$25,0),0)*$F157)","v":16162.308611594466},{"$f":"IF($F157=\"\",0,VLOOKUP($E157,Drivers!$A$26:$F$48,MATCH(J$1,Drivers!$A$25:$F$25,0),0)*$F157)","v":16162.308611594466},{"$f":"IF($F157=\"\",0,VLOOKUP($E157,Drivers!$A$26:$F$48,MATCH(K$1,Drivers!$A$25:$F$25,0),0)*$F157)","v":16162.308611594466}]
["DESPESAS_SEGUROS",3500,{"$f":"VLOOKUP(B158,Centro_Custo!$A$2:$B$36,2,0)","v":"ASSESSORIA DE COMUNICAÇÃO INSTITUCIONAL"},{"$f":"VLOOKUP(B158,Centro_Custo!$A$2:$C$36,3)","v":"Encargos de Gestão"},"Fixo",{"$f":"SUMIFS('Classificação OPEX'!$O$4:$O$1666,'Classificação OPEX'!$Q$4:$Q$1666,\"N\",'Classificação OPEX'!$S$4:$S$1666,\"NÃO\",'Classificação OPEX'!$V$4:$V$1666,DRIVER_OPEX!A158,'Classificação OPEX'!$W$4:$W$1666,DRIVER_OPEX!B158)","v":13792.915519710077},{"$f":"IF($F158=\"\",0,VLOOKUP($E158,Drivers!$A$26:$F$48,MATCH(G$1,Drivers!$A$25:$F$25,0),0)*$F158)","v":13792.915519710077},{"$f":"IF($F158=\"\",0,VLOOKUP($E158,Drivers!$A$26:$F$48,MATCH(H$1,Drivers!$A$25:$F$25,0),0)*$F158)","v":13792.915519710077},{"$f":"IF($F158=\"\",0,VLOOKUP($E158,Drivers!$A$26:$F$48,MATCH(I$1,Drivers!$A$25:$F$25,0),0)*$F158)","v":13792.915519710077},{"$f":"IF($F158=\"\",0,VLOOKUP($E158,Drivers!$A$26:$F$48,MATCH(J$1,Drivers!$A$25:$F$25,0),0)*$F158)","v":13792.915519710077},{"$f":"IF($F158=\"\",0,VLOOKUP($E158,Drivers!$A$26:$F$48,MATCH(K$1,Drivers!$A$25:$F$25,0),0)*$F158)","v":13792.915519710077}]
["DESPESAS_SEGUROS",3600,{"$f":"VLOOKUP(B159,Centro_Custo!$A$2:$B$36,2,0)","v":"GERÊNCIA DE GOVERNANÇA, RISCO E COMPLIANCE"},{"$f":"VLOOKUP(B159,Centro_Custo!$A$2:$C$36,3)","v":"Encargos de Gestão"},"Fixo",{"$f":"SUMIFS('Classificação OPEX'!$O$4:$O$1666,'Classificação OPEX'!$Q$4:$Q$1666,\"N\",'Classificação OPEX'!$S$4:$S$1666,\"NÃO\",'Classificação OPEX'!$V$4:$V$1666,DRIVER_OPEX!A159,'Classificação OPEX'!$W$4:$W$1666,DRIVER_OPEX!B159)","v":23080.292475378945},{"$f":"IF($F159=\"\",0,VLOOKUP($E159,Drivers!$A$26:$F$48,MATCH(G$1,Drivers!$A$25:$F$25,0),0)*$F159)","v":23080.292475378945},{"$f":"IF($F159=\"\",0,VLOOKUP($E159,Drivers!$A$26:$F$48,MATCH(H$1,Drivers!$A$25:$F$25,0),0)*$F159)","v":23080.292475378945},{"$f":"IF($F159=\"\",0,VLOOKUP($E159,Drivers!$A$26:$F$48,MATCH(I$1,Drivers!$A$25:$F$25,0),0)*$F159)","v":23080.292475378945},{"$f":"IF($F159=\"\",0,VLOOKUP($E159,Drivers!$A$26:$F$48,MATCH(J$1,Drivers!$A$25:$F$25,0),0)*$F159)","v":23080.292475378945},{"$f":"IF($F159=\"\",0,VLOOKUP($E159,Drivers!$A$26:$F$48,MATCH(K$1,Drivers!$A$25:$F$25,0),0)*$F159)","v":23080.292475378945}]
["DESPESAS_SEGUROS",3700,{"$f":"VLOOKUP(B160,Centro_Custo!$A$2:$B$36,2,0)","v":"GERÊNCIA DE REGULAÇÃO"},{"$f":"VLOOKUP(B160,Centro_Custo!$A$2:$C$36,3)","v":"Encargos de Gestão"},"Fixo",{"$f":"SUMIFS('Classificação OPEX'!$O$4:$O$1666,'Classificação OPEX'!$Q$4:$Q$1666,\"N\",'Classificação OPEX'!$S$4:$S$1666,\"NÃO\",'Classificação OPEX'!$V$4:$V$1666,DRIVER_OPEX!A160,'Classificação OPEX'!$W$4:$W$1666,DRIVER_OPEX!B160)","v":0},{"$f":"IF($F160=\"\",0,VLOOKUP($E160,Drivers!$A$26:$F$48,MATCH(G$1,Drivers!$A$25:$F$25,0),0)*$F160)","v":0},{"$f":"IF($F160=\"\",0,VLOOKUP($E160,Drivers!$A$26:$F$48,MATCH(H$1,Drivers!$A$25:$F$25,0),0)*$F160)","v":0},{"$f":"IF($F160=\"\",0,VLOOKUP($E160,Drivers!$A$26:$F$48,MATCH(I$1,Drivers!$A$25:$F$25,0),0)*$F160)","v":0},{"$f":"IF($F160=\"\",0,VLOOKUP($E160,Drivers!$A$26:$F$48,MATCH(J$1,Drivers!$A$25:$F$25,0),0)*$F160)","v":0},{"$f":"IF($F160=\"\",0,VLOOKUP($E160,Drivers!$A$26:$F$48,MATCH(K$1,Drivers!$A$25:$F$25,0),0)*$F160)","v":0}]
["DESPESAS_SEGUROS",4100,{"$f":"VLOOKUP(B161,Centro_Custo!$A$2:$B$36,2,0)","v":"GERÊNCIA DE SERVIÇOS CORPORATIVOS"},{"$f":"VLOOKUP(B161,Centro_Custo!$A$2:$C$36,3)","v":"Encargos de Gestão"},"Município",{"$f":"SUMIFS('Classificação OPEX'!$O$4:$O$1666,'Classificação OPEX'!$Q$4:$Q$1666,\"N\",'Classificação OPEX'!$S$4:$S$1666,\"NÃO\",'Classificação OPEX'!$V$4:$V$1666,DRIVER_OPEX!A161,'Classificação OPEX'!$W$4:$W$1666,DRIVER_OPEX!B161)","v":71996.93313092782},{"$f":"IF($F161=\"\",0,VLOOKUP($E161,Drivers!$A$26:$F$48,MATCH(G$1,Drivers!$A$25:$F$25,0),0)*$F161)","v":76796.728672989673},{"$f":"IF($F161=\"\",0,VLOOKUP($E161,Drivers!$A$26:$F$48,MATCH(H$1,Drivers!$A$25:$F$25,0),0)*$F161)","v":91196.115299175231},{"$f":"IF($F161=\"\",0,VLOOKUP($E161,Drivers!$A$26:$F$48,MATCH(I$1,Drivers!$A$25:$F$25,0),0)*$F161)","v":95995.910841237084},{"$f":"IF($F161=\"\",0,VLOOKUP($E161,Drivers!$A$26:$F$48,MATCH(J$1,Drivers!$A$25:$F$25,0),0)*$F161)","v":95995.910841237084},{"$f":"IF($F161=\"\",0,VLOOKUP($E161,Drivers!$A$26:$F$48,MATCH(K$1,Drivers!$A$25:$F$25,0),0)*$F161)","v":95995.910841237084}]
["DESPESAS_SEGUROS",4200,{"$f":"VLOOKUP(B162,Centro_Custo!$A$2:$B$36,2,0)","v":"GERÊNCIA FINANCEIRA"},{"$f":"VLOOKUP(B162,Centro_Custo!$A$2:$C$36,3)","v":"Encargos de Gestão"},"Fixo",{"$f":"SUMIFS('Classificação OPEX'!$O$4:$O$1666,'Classificação OPEX'!$Q$4:$Q$1666,\"N\",'Classificação OPEX'!$S$4:$S$1666,\"NÃO\",'Classificação OPEX'!$V$4:$V$1666,DRIVER_OPEX!A162,'Classificação OPEX'!$W$4:$W$1666,DRIVER_OPEX!B162)","v":34645.839773644853},{"$f":"IF($F162=\"\",0,VLOOKUP($E162,Drivers!$A$26:$F$48,MATCH(G$1,Drivers!$A$25:$F$25,0),0)*$F162)","v":34645.839773644853},{"$f":"IF($F162=\"\",0,VLOOKUP($E162,Drivers!$A$26:$F$48,MATCH(H$1,Drivers!$A$25:$F$25,0),0)*$F162)","v":34645.839773644853},{"$f":"IF($F162=\"\",0,VLOOKUP($E162,Drivers!$A$26:$F$48,MATCH(I$1,Drivers!$A$25:$F$25,0),0)*$F162)","v":34645.839773644853},{"$f":"IF($F162=\"\",0,VLOOKUP($E162,Drivers!$A$26:$F$48,MATCH(J$1,Drivers!$A$25:$F$25,0),0)*$F162)","v":34645.839773644853},{"$f":"IF($F162=\"\",0,VLOOKUP($E162,Drivers!$A$26:$F$48,MATCH(K$1,Drivers!$A$25:$F$25,0),0)*$F162)","v":34645.839773644853}]
["DESPESAS_SEGUROS",4300,{"$f":"VLOOKUP(B163,Centro_Custo!$A$2:$B$36,2,0)","v":"GERÊNCIA DE TECNOLOGIA E SISTEMAS DE INFORMAÇÃO"},{"$f":"VLOOKUP(B163,Centro_Custo!$A$2:$C$36,3)","v":"Encargos de Gestão"},"Município",{"$f":"SUMIFS('Classificação OPEX'!$O$4:$O$1666,'Classificação OPEX'!$Q$4:$Q$1666,\"N\",'Classificação OPEX'!$S$4:$S$1666,\"NÃO\",'Classificação OPEX'!$V$4:$V$1666,DRIVER_OPEX!A163,'Classificação OPEX'!$W$4:$W$1666,DRIVER_OPEX!B163)","v":32666.562461067271},{"$f":"IF($F163=\"\",0,VLOOKUP($E163,Drivers!$A$26:$F$48,MATCH(G$1,Drivers!$A$25:$F$25,0),0)*$F163)","v":34844.333291805087},{"$f":"IF($F163=\"\",0,VLOOKUP($E163,Drivers!$A$26:$F$48,MATCH(H$1,Drivers!$A$25:$F$25,0),0)*$F163)","v":41377.645784018539},{"$f":"IF($F163=\"\",0,VLOOKUP($E163,Drivers!$A$26:$F$48,MATCH(I$1,Drivers!$A$25:$F$25,0),0)*$F163)","v":43555.416614756359},{"$f":"IF($F163=\"\",0,VLOOKUP($E163,Drivers!$A$26:$F$48,MATCH(J$1,Drivers!$A$25:$F$25,0),0)*$F163)","v":43555.416614756359},{"$f":"IF($F163=\"\",0,VLOOKUP($E163,Drivers!$A$26:$F$48,MATCH(K$1,Drivers!$A$25:$F$25,0),0)*$F163)","v":43555.416614756359}]
["DESPESAS_SEGUROS",4500,{"$f":"VLOOKUP(B164,Centro_Custo!$A$2:$B$36,2,0)","v":"GERÊNCIA CONTÁBIL"},{"$f":"VLOOKUP(B164,Centro_Custo!$A$2:$C$36,3)","v":"Encargos de Gestão"},"Fixo",{"$f":"SUMIFS('Classificação OPEX'!$O$4:$O$1666,'Classificação OPEX'!$Q$4:$Q$1666,\"N\",'Classificação OPEX'!$S$4:$S$1666,\"NÃO\",'Classificação OPEX'!$V$4:$V$1666,DRIVER_OPEX!A164,'Classificação OPEX'!$W$4:$W$1666,DRIVER_OPEX!B164)","v":23559.482758450366},{"$f":"IF($F164=\"\",0,VLOOKUP($E164,Drivers!$A$26:$F$48,MATCH(G$1,Drivers!$A$25:$F$25,0),0)*$F164)","v":23559.482758450366},{"$f":"IF($F164=\"\",0,VLOOKUP($E164,Drivers!$A$26:$F$48,MATCH(H$1,Drivers!$A$25:$F$25,0),0)*$F164)","v":23559.482758450366},{"$f":"IF($F164=\"\",0,VLOOKUP($E164,Drivers!$A$26:$F$48,MATCH(I$1,Drivers!$A$25:$F$25,0),0)*$F164)","v":23559.482758450366},{"$f":"IF($F164=\"\",0,VLOOKUP($E164,Drivers!$A$26:$F$48,MATCH(J$1,Drivers!$A$25:$F$25,0),0)*$F164)","v":23559.482758450366},{"$f":"IF($F164=\"\",0,VLOOKUP($E164,Drivers!$A$26:$F$48,MATCH(K$1,Drivers!$A$25:$F$25,0),0)*$F164)","v":23559.482758450366}]
["DESPESAS_SEGUROS",5100,{"$f":"VLOOKUP(B165,Centro_Custo!$A$2:$B$36,2,0)","v":"GERÊNCIA DE ENGENHARIA"},{"$f":"VLOOKUP(B165,Centro_Custo!$A$2:$C$36,3)","v":"OPEX&ODESP"},"Extensão de Rede",{"$f":"SUMIFS('Classificação OPEX'!$O$4:$O$1666,'Classificação OPEX'!$Q$4:$Q$1666,\"N\",'Classificação OPEX'!$S$4:$S$1666,\"NÃO\",'Classificação OPEX'!$V$4:$V$1666,DRIVER_OPEX!A165,'Classificação OPEX'!$W$4:$W$1666,DRIVER_OPEX!B165)","v":77246.492232434612},{"$f":"IF($F165=\"\",0,VLOOKUP($E165,Drivers!$A$26:$F$48,MATCH(G$1,Drivers!$A$25:$F$25,0),0)*$F165)","v":82683.241250162391},{"$f":"IF($F165=\"\",0,VLOOKUP($E165,Drivers!$A$26:$F$48,MATCH(H$1,Drivers!$A$25:$F$25,0),0)*$F165)","v":90179.22574133848},{"$f":"IF($F165=\"\",0,VLOOKUP($E165,Drivers!$A$26:$F$48,MATCH(I$1,Drivers!$A$25:$F$25,0),0)*$F165)","v":92847.154074955062},{"$f":"IF($F165=\"\",0,VLOOKUP($E165,Drivers!$A$26:$F$48,MATCH(J$1,Drivers!$A$25:$F$25,0),0)*$F165)","v":96687.306054364846},{"$f":"IF($F165=\"\",0,VLOOKUP($E165,Drivers!$A$26:$F$48,MATCH(K$1,Drivers!$A$25:$F$25,0),0)*$F165)","v":99710.852797379368}]
["DESPESAS_SEGUROS",5200,{"$f":"VLOOKUP(B166,Centro_Custo!$A$2:$B$36,2,0)","v":"GERÊNCIA DE OPERAÇÕES"},{"$f":"VLOOKUP(B166,Centro_Custo!$A$2:$C$36,3)","v":"OPEX&ODESP"},"Extensão de Rede",{"$f":"SUMIFS('Classificação OPEX'!$O$4:$O$1666,'Classificação OPEX'!$Q$4:$Q$1666,\"N\",'Classificação OPEX'!$S$4:$S$1666,\"NÃO\",'Classificação OPEX'!$V$4:$V$1666,DRIVER_OPEX!A166,'Classificação OPEX'!$W$4:$W$1666,DRIVER_OPEX!B166)","v":135874.49426722812},{"$f":"IF($F166=\"\",0,VLOOKUP($E166,Drivers!$A$26:$F$48,MATCH(G$1,Drivers!$A$25:$F$25,0),0)*$F166)","v":145437.58900321712},{"$f":"IF($F166=\"\",0,VLOOKUP($E166,Drivers!$A$26:$F$48,MATCH(H$1,Drivers!$A$25:$F$25,0),0)*$F166)","v":158622.82333992762},{"$f":"IF($F166=\"\",0,VLOOKUP($E166,Drivers!$A$26:$F$48,MATCH(I$1,Drivers!$A$25:$F$25,0),0)*$F166)","v":163315.63724765289},{"$f":"IF($F166=\"\",0,VLOOKUP($E166,Drivers!$A$26:$F$48,MATCH(J$1,Drivers!$A$25:$F$25,0),0)*$F166)","v":170070.36089958996},{"$f":"IF($F166=\"\",0,VLOOKUP($E166,Drivers!$A$26:$F$48,MATCH(K$1,Drivers!$A$25:$F$25,0),0)*$F166)","v":175388.69798814354}]
["DESPESAS_SEGUROS",5300,{"$f":"VLOOKUP(B167,Centro_Custo!$A$2:$B$36,2,0)","v":"GERÊNCIA COMERCIAL"},{"$f":"VLOOKUP(B167,Centro_Custo!$A$2:$C$36,3)","v":"Encargos de Comercialização"},"Fixo",{"$f":"SUMIFS('Classificação OPEX'!$O$4:$O$1666,'Classificação OPEX'!$Q$4:$Q$1666,\"N\",'Classificação OPEX'!$S$4:$S$1666,\"NÃO\",'Classificação OPEX'!$V$4:$V$1666,DRIVER_OPEX!A167,'Classificação OPEX'!$W$4:$W$1666,DRIVER_OPEX!B167)","v":58281.015647593849},{"$f":"IF($F167=\"\",0,VLOOKUP($E167,Drivers!$A$26:$F$48,MATCH(G$1,Drivers!$A$25:$F$25,0),0)*$F167)","v":58281.015647593849},{"$f":"IF($F167=\"\",0,VLOOKUP($E167,Drivers!$A$26:$F$48,MATCH(H$1,Drivers!$A$25:$F$25,0),0)*$F167)","v":58281.015647593849},{"$f":"IF($F167=\"\",0,VLOOKUP($E167,Drivers!$A$26:$F$48,MATCH(I$1,Drivers!$A$25:$F$25,0),0)*$F167)","v":58281.015647593849},{"$f":"IF($F167=\"\",0,VLOOKUP($E167,Drivers!$A$26:$F$48,MATCH(J$1,Drivers!$A$25:$F$25,0),0)*$F167)","v":58281.015647593849},{"$f":"IF($F167=\"\",0,VLOOKUP($E167,Drivers!$A$26:$F$48,MATCH(K$1,Drivers!$A$25:$F$25,0),0)*$F167)","v":58281.015647593849}]
["DESPESAS_SEGUROS",9999,{"$f":"VLOOKUP(B168,Centro_Custo!$A$2:$B$36,2,0)","v":"RATEIO"},{"$f":"VLOOKUP(B168,Centro_Custo!$A$2:$C$36,3)","v":"Encargos de Gestão"},"Fixo",{"$f":"SUMIFS('Classificação OPEX'!$O$4:$O$1666,'Classificação OPEX'!$Q$4:$Q$1666,\"N\",'Classificação OPEX'!$S$4:$S$1666,\"NÃO\",'Classificação OPEX'!$V$4:$V$1666,DRIVER_OPEX!A168,'Classificação OPEX'!$W$4:$W$1666,DRIVER_OPEX!B168)","v":0},{"$f":"IF($F168=\"\",0,VLOOKUP($E168,Drivers!$A$26:$F$48,MATCH(G$1,Drivers!$A$25:$F$25,0),0)*$F168)","v":0},{"$f":"IF($F168=\"\",0,VLOOKUP($E168,Drivers!$A$26:$F$48,MATCH(H$1,Drivers!$A$25:$F$25,0),0)*$F168)","v":0},{"$f":"IF($F168=\"\",0,VLOOKUP($E168,Drivers!$A$26:$F$48,MATCH(I$1,Drivers!$A$25:$F$25,0),0)*$F168)","v":0},{"$f":"IF($F168=\"\",0,VLOOKUP($E168,Drivers!$A$26:$F$48,MATCH(J$1,Drivers!$A$25:$F$25,0),0)*$F168)","v":0},{"$f":"IF($F168=\"\",0,VLOOKUP($E168,Drivers!$A$26:$F$48,MATCH(K$1,Drivers!$A$25:$F$25,0),0)*$F168)","v":0}]
["DESPESAS_SEGUROS","0000","RATEIO",{"$f":"VLOOKUP(B169,Centro_Custo!$A$2:$C$36,3)","v":"Encargos de Gestão"},"Fixo",{"$f":"SUMIFS('Classificação OPEX'!$O$4:$O$1666,'Classificação OPEX'!$Q$4:$Q$1666,\"N\",'Classificação OPEX'!$S$4:$S$1666,\"NÃO\",'Classificação OPEX'!$V$4:$V$1666,DRIVER_OPEX!A169,'Classificação OPEX'!$W$4:$W$1666,DRIVER_OPEX!B169)","v":0},{"$f":"IF($F169=\"\",0,VLOOKUP($E169,Drivers!$A$26:$F$48,MATCH(G$1,Drivers!$A$25:$F$25,0),0)*$F169)","v":0},{"$f":"IF($F169=\"\",0,VLOOKUP($E169,Drivers!$A$26:$F$48,MATCH(H$1,Drivers!$A$25:$F$25,0),0)*$F169)","v":0},{"$f":"IF($F169=\"\",0,VLOOKUP($E169,Drivers!$A$26:$F$48,MATCH(I$1,Drivers!$A$25:$F$25,0),0)*$F169)","v":0},{"$f":"IF($F169=\"\",0,VLOOKUP($E169,Drivers!$A$26:$F$48,MATCH(J$1,Drivers!$A$25:$F$25,0),0)*$F169)","v":0},{"$f":"IF($F169=\"\",0,VLOOKUP($E169,Drivers!$A$26:$F$48,MATCH(K$1,Drivers!$A$25:$F$25,0),0)*$F169)","v":0}]
["DESPESAS_SEGUROS",1001,"CONSELHO DE ADMINISTRAÇÃO",{"$f":"VLOOKUP(B170,Centro_Custo!$A$2:$C$36,3)","v":"Encargos de Gestão"},"Fixo",{"$f":"SUMIFS('Classificação OPEX'!$O$4:$O$1666,'Classificação OPEX'!$Q$4:$Q$1666,\"N\",'Classificação OPEX'!$S$4:$S$1666,\"NÃO\",'Classificação OPEX'!$V$4:$V$1666,DRIVER_OPEX!A170,'Classificação OPEX'!$W$4:$W$1666,DRIVER_OPEX!B170)","v":0},{"$f":"IF($F170=\"\",0,VLOOKUP($E170,Drivers!$A$26:$F$48,MATCH(G$1,Drivers!$A$25:$F$25,0),0)*$F170)","v":0},{"$f":"IF($F170=\"\",0,VLOOKUP($E170,Drivers!$A$26:$F$48,MATCH(H$1,Drivers!$A$25:$F$25,0),0)*$F170)","v":0},{"$f":"IF($F170=\"\",0,VLOOKUP($E170,Drivers!$A$26:$F$48,MATCH(I$1,Drivers!$A$25:$F$25,0),0)*$F170)","v":0},{"$f":"IF($F170=\"\",0,VLOOKUP($E170,Drivers!$A$26:$F$48,MATCH(J$1,Drivers!$A$25:$F$25,0),0)*$F170)","v":0},{"$f":"IF($F170=\"\",0,VLOOKUP($E170,Drivers!$A$26:$F$48,MATCH(K$1,Drivers!$A$25:$F$25,0),0)*$F170)","v":0}]
["DESPESAS_SEGUROS",1002,"CONSELHO FISCAL",{"$f":"VLOOKUP(B171,Centro_Custo!$A$2:$C$36,3)","v":"Encargos de Gestão"},"Fixo",{"$f":"SUMIFS('Classificação OPEX'!$O$4:$O$1666,'Classificação OPEX'!$Q$4:$Q$1666,\"N\",'Classificação OPEX'!$S$4:$S$1666,\"NÃO\",'Classificação OPEX'!$V$4:$V$1666,DRIVER_OPEX!A171,'Classificação OPEX'!$W$4:$W$1666,DRIVER_OPEX!B171)","v":0},{"$f":"IF($F171=\"\",0,VLOOKUP($E171,Drivers!$A$26:$F$48,MATCH(G$1,Drivers!$A$25:$F$25,0),0)*$F171)","v":0},{"$f":"IF($F171=\"\",0,VLOOKUP($E171,Drivers!$A$26:$F$48,MATCH(H$1,Drivers!$A$25:$F$25,0),0)*$F171)","v":0},{"$f":"IF($F171=\"\",0,VLOOKUP($E171,Drivers!$A$26:$F$48,MATCH(I$1,Drivers!$A$25:$F$25,0),0)*$F171)","v":0},{"$f":"IF($F171=\"\",0,VLOOKUP($E171,Drivers!$A$26:$F$48,MATCH(J$1,Drivers!$A$25:$F$25,0),0)*$F171)","v":0},{"$f":"IF($F171=\"\",0,VLOOKUP($E171,Drivers!$A$26:$F$48,MATCH(K$1,Drivers!$A$25:$F$25,0),0)*$F171)","v":0}]
["DESPESAS_SEGUROS",1003,"COMITÊ DE INDICAÇÃO E AVALIAÇÃO",{"$f":"VLOOKUP(B172,Centro_Custo!$A$2:$C$36,3)","v":"Encargos de Gestão"},"Fixo",{"$f":"SUMIFS('Classificação OPEX'!$O$4:$O$1666,'Classificação OPEX'!$Q$4:$Q$1666,\"N\",'Classificação OPEX'!$S$4:$S$1666,\"NÃO\",'Classificação OPEX'!$V$4:$V$1666,DRIVER_OPEX!A172,'Classificação OPEX'!$W$4:$W$1666,DRIVER_OPEX!B172)","v":0},{"$f":"IF($F172=\"\",0,VLOOKUP($E172,Drivers!$A$26:$F$48,MATCH(G$1,Drivers!$A$25:$F$25,0),0)*$F172)","v":0},{"$f":"IF($F172=\"\",0,VLOOKUP($E172,Drivers!$A$26:$F$48,MATCH(H$1,Drivers!$A$25:$F$25,0),0)*$F172)","v":0},{"$f":"IF($F172=\"\",0,VLOOKUP($E172,Drivers!$A$26:$F$48,MATCH(I$1,Drivers!$A$25:$F$25,0),0)*$F172)","v":0},{"$f":"IF($F172=\"\",0,VLOOKUP($E172,Drivers!$A$26:$F$48,MATCH(J$1,Drivers!$A$25:$F$25,0),0)*$F172)","v":0},{"$f":"IF($F172=\"\",0,VLOOKUP($E172,Drivers!$A$26:$F$48,MATCH(K$1,Drivers!$A$25:$F$25,0),0)*$F172)","v":0}]
["DESPESAS_SEGUROS",1004,"COMITÊ DE AUDITORIA ESTATUTÁRIA",{"$f":"VLOOKUP(B173,Centro_Custo!$A$2:$C$36,3)","v":"Encargos de Gestão"},"Fixo",{"$f":"SUMIFS('Classificação OPEX'!$O$4:$O$1666,'Classificação OPEX'!$Q$4:$Q$1666,\"N\",'Classificação OPEX'!$S$4:$S$1666,\"NÃO\",'Classificação OPEX'!$V$4:$V$1666,DRIVER_OPEX!A173,'Classificação OPEX'!$W$4:$W$1666,DRIVER_OPEX!B173)","v":0},{"$f":"IF($F173=\"\",0,VLOOKUP($E173,Drivers!$A$26:$F$48,MATCH(G$1,Drivers!$A$25:$F$25,0),0)*$F173)","v":0},{"$f":"IF($F173=\"\",0,VLOOKUP($E173,Drivers!$A$26:$F$48,MATCH(H$1,Drivers!$A$25:$F$25,0),0)*$F173)","v":0},{"$f":"IF($F173=\"\",0,VLOOKUP($E173,Drivers!$A$26:$F$48,MATCH(I$1,Drivers!$A$25:$F$25,0),0)*$F173)","v":0},{"$f":"IF($F173=\"\",0,VLOOKUP($E173,Drivers!$A$26:$F$48,MATCH(J$1,Drivers!$A$25:$F$25,0),0)*$F173)","v":0},{"$f":"IF($F173=\"\",0,VLOOKUP($E173,Drivers!$A$26:$F$48,MATCH(K$1,Drivers!$A$25:$F$25,0),0)*$F173)","v":0}]
["DESPESAS_SEGUROS",2100,"SECRETARIA",{"$f":"VLOOKUP(B174,Centro_Custo!$A$2:$C$36,3)","v":"Encargos de Gestão"},"Fixo",{"$f":"SUMIFS('Classificação OPEX'!$O$4:$O$1666,'Classificação OPEX'!$Q$4:$Q$1666,\"N\",'Classificação OPEX'!$S$4:$S$1666,\"NÃO\",'Classificação OPEX'!$V$4:$V$1666,DRIVER_OPEX!A174,'Classificação OPEX'!$W$4:$W$1666,DRIVER_OPEX!B174)","v":1538.9542121472487},{"$f":"IF($F174=\"\",0,VLOOKUP($E174,Drivers!$A$26:$F$48,MATCH(G$1,Drivers!$A$25:$F$25,0),0)*$F174)","v":1538.9542121472487},{"$f":"IF($F174=\"\",0,VLOOKUP($E174,Drivers!$A$26:$F$48,MATCH(H$1,Drivers!$A$25:$F$25,0),0)*$F174)","v":1538.9542121472487},{"$f":"IF($F174=\"\",0,VLOOKUP($E174,Drivers!$A$26:$F$48,MATCH(I$1,Drivers!$A$25:$F$25,0),0)*$F174)","v":1538.9542121472487},{"$f":"IF($F174=\"\",0,VLOOKUP($E174,Drivers!$A$26:$F$48,MATCH(J$1,Drivers!$A$25:$F$25,0),0)*$F174)","v":1538.9542121472487},{"$f":"IF($F174=\"\",0,VLOOKUP($E174,Drivers!$A$26:$F$48,MATCH(K$1,Drivers!$A$25:$F$25,0),0)*$F174)","v":1538.9542121472487}]
["DESPESAS_SEGUROS",2200,"DIRETORIA COLEGIADA - PRESIDÊNCIA",{"$f":"VLOOKUP(B175,Centro_Custo!$A$2:$C$36,3)","v":"Encargos de Gestão"},"Fixo",{"$f":"SUMIFS('Classificação OPEX'!$O$4:$O$1666,'Classificação OPEX'!$Q$4:$Q$1666,\"N\",'Classificação OPEX'!$S$4:$S$1666,\"NÃO\",'Classificação OPEX'!$V$4:$V$1666,DRIVER_OPEX!A175,'Classificação OPEX'!$W$4:$W$1666,DRIVER_OPEX!B175)","v":5614.3572514987054},{"$f":"IF($F175=\"\",0,VLOOKUP($E175,Drivers!$A$26:$F$48,MATCH(G$1,Drivers!$A$25:$F$25,0),0)*$F175)","v":5614.3572514987054},{"$f":"IF($F175=\"\",0,VLOOKUP($E175,Drivers!$A$26:$F$48,MATCH(H$1,Drivers!$A$25:$F$25,0),0)*$F175)","v":5614.3572514987054},{"$f":"IF($F175=\"\",0,VLOOKUP($E175,Drivers!$A$26:$F$48,MATCH(I$1,Drivers!$A$25:$F$25,0),0)*$F175)","v":5614.3572514987054},{"$f":"IF($F175=\"\",0,VLOOKUP($E175,Drivers!$A$26:$F$48,MATCH(J$1,Drivers!$A$25:$F$25,0),0)*$F175)","v":5614.3572514987054},{"$f":"IF($F175=\"\",0,VLOOKUP($E175,Drivers!$A$26:$F$48,MATCH(K$1,Drivers!$A$25:$F$25,0),0)*$F175)","v":5614.3572514987054}]
["DESPESAS_SEGUROS",2300,"DIRETORIA COLEGIADA - DAF",{"$f":"VLOOKUP(B176,Centro_Custo!$A$2:$C$36,3)","v":"Encargos de Gestão"},"Fixo",{"$f":"SUMIFS('Classificação OPEX'!$O$4:$O$1666,'Classificação OPEX'!$Q$4:$Q$1666,\"N\",'Classificação OPEX'!$S$4:$S$1666,\"NÃO\",'Classificação OPEX'!$V$4:$V$1666,DRIVER_OPEX!A176,'Classificação OPEX'!$W$4:$W$1666,DRIVER_OPEX!B176)","v":1400.2270103621941},{"$f":"IF($F176=\"\",0,VLOOKUP($E176,Drivers!$A$26:$F$48,MATCH(G$1,Drivers!$A$25:$F$25,0),0)*$F176)","v":1400.2270103621941},{"$f":"IF($F176=\"\",0,VLOOKUP($E176,Drivers!$A$26:$F$48,MATCH(H$1,Drivers!$A$25:$F$25,0),0)*$F176)","v":1400.2270103621941},{"$f":"IF($F176=\"\",0,VLOOKUP($E176,Drivers!$A$26:$F$48,MATCH(I$1,Drivers!$A$25:$F$25,0),0)*$F176)","v":1400.2270103621941},{"$f":"IF($F176=\"\",0,VLOOKUP($E176,Drivers!$A$26:$F$48,MATCH(J$1,Drivers!$A$25:$F$25,0),0)*$F176)","v":1400.2270103621941},{"$f":"IF($F176=\"\",0,VLOOKUP($E176,Drivers!$A$26:$F$48,MATCH(K$1,Drivers!$A$25:$F$25,0),0)*$F176)","v":1400.2270103621941}]
["DESPESAS_SEGUROS",2400,"DIRETORIA COLEGIADA - DTC",{"$f":"VLOOKUP(B177,Centro_Custo!$A$2:$C$36,3)","v":"Encargos de Comercialização"},"Fixo",{"$f":"SUMIFS('Classificação OPEX'!$O$4:$O$1666,'Classificação OPEX'!$Q$4:$Q$1666,\"N\",'Classificação OPEX'!$S$4:$S$1666,\"NÃO\",'Classificação OPEX'!$V$4:$V$1666,DRIVER_OPEX!A177,'Classificação OPEX'!$W$4:$W$1666,DRIVER_OPEX!B177)","v":1400.2270103621941},{"$f":"IF($F177=\"\",0,VLOOKUP($E177,Drivers!$A$26:$F$48,MATCH(G$1,Drivers!$A$25:$F$25,0),0)*$F177)","v":1400.2270103621941},{"$f":"IF($F177=\"\",0,VLOOKUP($E177,Drivers!$A$26:$F$48,MATCH(H$1,Drivers!$A$25:$F$25,0),0)*$F177)","v":1400.2270103621941},{"$f":"IF($F177=\"\",0,VLOOKUP($E177,Drivers!$A$26:$F$48,MATCH(I$1,Drivers!$A$25:$F$25,0),0)*$F177)","v":1400.2270103621941},{"$f":"IF($F177=\"\",0,VLOOKUP($E177,Drivers!$A$26:$F$48,MATCH(J$1,Drivers!$A$25:$F$25,0),0)*$F177)","v":1400.2270103621941},{"$f":"IF($F177=\"\",0,VLOOKUP($E177,Drivers!$A$26:$F$48,MATCH(K$1,Drivers!$A$25:$F$25,0),0)*$F177)","v":1400.2270103621941}]
["DESPESAS_SEGUROS",3100,"SMS",{"$f":"VLOOKUP(B178,Centro_Custo!$A$2:$C$36,3)","v":"OPEX&ODESP"},"Fixo",{"$f":"SUMIFS('Classificação OPEX'!$O$4:$O$1666,'Classificação OPEX'!$Q$4:$Q$1666,\"N\",'Classificação OPEX'!$S$4:$S$1666,\"NÃO\",'Classificação OPEX'!$V$4:$V$1666,DRIVER_OPEX!A178,'Classificação OPEX'!$W$4:$W$1666,DRIVER_OPEX!B178)","v":3725.4526238560102},{"$f":"IF($F178=\"\",0,VLOOKUP($E178,Drivers!$A$26:$F$48,MATCH(G$1,Drivers!$A$25:$F$25,0),0)*$F178)","v":3725.4526238560102},{"$f":"IF($F178=\"\",0,VLOOKUP($E178,Drivers!$A$26:$F$48,MATCH(H$1,Drivers!$A$25:$F$25,0),0)*$F178)","v":3725.4526238560102},{"$f":"IF($F178=\"\",0,VLOOKUP($E178,Drivers!$A$26:$F$48,MATCH(I$1,Drivers!$A$25:$F$25,0),0)*$F178)","v":3725.4526238560102},{"$f":"IF($F178=\"\",0,VLOOKUP($E178,Drivers!$A$26:$F$48,MATCH(J$1,Drivers!$A$25:$F$25,0),0)*$F178)","v":3725.4526238560102},{"$f":"IF($F178=\"\",0,VLOOKUP($E178,Drivers!$A$26:$F$48,MATCH(K$1,Drivers!$A$25:$F$25,0),0)*$F178)","v":3725.4526238560102}]
["DESPESAS_SEGUROS",3400,"MARKETING",{"$f":"VLOOKUP(B179,Centro_Custo!$A$2:$C$36,3)","v":"Encargos de Comercialização"},"Fixo",{"$f":"SUMIFS('Classificação OPEX'!$O$4:$O$1666,'Classificação OPEX'!$Q$4:$Q$1666,\"N\",'Classificação OPEX'!$S$4:$S$1666,\"NÃO\",'Classificação OPEX'!$V$4:$V$1666,DRIVER_OPEX!A179,'Classificação OPEX'!$W$4:$W$1666,DRIVER_OPEX!B179)","v":3069.5051829310805},{"$f":"IF($F179=\"\",0,VLOOKUP($E179,Drivers!$A$26:$F$48,MATCH(G$1,Drivers!$A$25:$F$25,0),0)*$F179)","v":3069.5051829310805},{"$f":"IF($F179=\"\",0,VLOOKUP($E179,Drivers!$A$26:$F$48,MATCH(H$1,Drivers!$A$25:$F$25,0),0)*$F179)","v":3069.5051829310805},{"$f":"IF($F179=\"\",0,VLOOKUP($E179,Drivers!$A$26:$F$48,MATCH(I$1,Drivers!$A$25:$F$25,0),0)*$F179)","v":3069.5051829310805},{"$f":"IF($F179=\"\",0,VLOOKUP($E179,Drivers!$A$26:$F$48,MATCH(J$1,Drivers!$A$25:$F$25,0),0)*$F179)","v":3069.5051829310805},{"$f":"IF($F179=\"\",0,VLOOKUP($E179,Drivers!$A$26:$F$48,MATCH(K$1,Drivers!$A$25:$F$25,0),0)*$F179)","v":3069.5051829310805}]
["DESPESAS_SEGUROS",4600,"GERÊNCIA DE PESSOAS E CULTURA",{"$f":"VLOOKUP(B180,Centro_Custo!$A$2:$C$36,3)","v":"Encargos de Gestão"},"Fixo",{"$f":"SUMIFS('Classificação OPEX'!$O$4:$O$1666,'Classificação OPEX'!$Q$4:$Q$1666,\"N\",'Classificação OPEX'!$S$4:$S$1666,\"NÃO\",'Classificação OPEX'!$V$4:$V$1666,DRIVER_OPEX!A180,'Classificação OPEX'!$W$4:$W$1666,DRIVER_OPEX!B180)","v":3069.5051829310805},{"$f":"IF($F180=\"\",0,VLOOKUP($E180,Drivers!$A$26:$F$48,MATCH(G$1,Drivers!$A$25:$F$25,0),0)*$F180)","v":3069.5051829310805},{"$f":"IF($F180=\"\",0,VLOOKUP($E180,Drivers!$A$26:$F$48,MATCH(H$1,Drivers!$A$25:$F$25,0),0)*$F180)","v":3069.5051829310805},{"$f":"IF($F180=\"\",0,VLOOKUP($E180,Drivers!$A$26:$F$48,MATCH(I$1,Drivers!$A$25:$F$25,0),0)*$F180)","v":3069.5051829310805},{"$f":"IF($F180=\"\",0,VLOOKUP($E180,Drivers!$A$26:$F$48,MATCH(J$1,Drivers!$A$25:$F$25,0),0)*$F180)","v":3069.5051829310805},{"$f":"IF($F180=\"\",0,VLOOKUP($E180,Drivers!$A$26:$F$48,MATCH(K$1,Drivers!$A$25:$F$25,0),0)*$F180)","v":3069.5051829310805}]
["DESPESAS_SEGUROS","5400","GERÊNCIA COMERCIAL",{"$f":"VLOOKUP(B181,Centro_Custo!$A$2:$C$36,3)","v":"Encargos de Gestão"},"Fixo",{"$f":"SUMIFS('Classificação OPEX'!$O$4:$O$1666,'Classificação OPEX'!$Q$4:$Q$1666,\"N\",'Classificação OPEX'!$S$4:$S$1666,\"NÃO\",'Classificação OPEX'!$V$4:$V$1666,DRIVER_OPEX!A181,'Classificação OPEX'!$W$4:$W$1666,DRIVER_OPEX!B181)","v":8771.2111806291687},{"$f":"IF($F181=\"\",0,VLOOKUP($E181,Drivers!$A$26:$F$48,MATCH(G$1,Drivers!$A$25:$F$25,0),0)*$F181)","v":8771.2111806291687},{"$f":"IF($F181=\"\",0,VLOOKUP($E181,Drivers!$A$26:$F$48,MATCH(H$1,Drivers!$A$25:$F$25,0),0)*$F181)","v":8771.2111806291687},{"$f":"IF($F181=\"\",0,VLOOKUP($E181,Drivers!$A$26:$F$48,MATCH(I$1,Drivers!$A$25:$F$25,0),0)*$F181)","v":8771.2111806291687},{"$f":"IF($F181=\"\",0,VLOOKUP($E181,Drivers!$A$26:$F$48,MATCH(J$1,Drivers!$A$25:$F$25,0),0)*$F181)","v":8771.2111806291687},{"$f":"IF($F181=\"\",0,VLOOKUP($E181,Drivers!$A$26:$F$48,MATCH(K$1,Drivers!$A$25:$F$25,0),0)*$F181)","v":8771.2111806291687}]
["DESPESAS_SEGUROS","5500","GERÊNCIA COMERCIAL",{"$f":"VLOOKUP(B182,Centro_Custo!$A$2:$C$36,3)","v":"Encargos de Gestão"},"Fixo",{"$f":"SUMIFS('Classificação OPEX'!$O$4:$O$1666,'Classificação OPEX'!$Q$4:$Q$1666,\"N\",'Classificação OPEX'!$S$4:$S$1666,\"NÃO\",'Classificação OPEX'!$V$4:$V$1666,DRIVER_OPEX!A182,'Classificação OPEX'!$W$4:$W$1666,DRIVER_OPEX!B182)","v":4389.8085126136048},{"$f":"IF($F182=\"\",0,VLOOKUP($E182,Drivers!$A$26:$F$48,MATCH(G$1,Drivers!$A$25:$F$25,0),0)*$F182)","v":4389.8085126136048},{"$f":"IF($F182=\"\",0,VLOOKUP($E182,Drivers!$A$26:$F$48,MATCH(H$1,Drivers!$A$25:$F$25,0),0)*$F182)","v":4389.8085126136048},{"$f":"IF($F182=\"\",0,VLOOKUP($E182,Drivers!$A$26:$F$48,MATCH(I$1,Drivers!$A$25:$F$25,0),0)*$F182)","v":4389.8085126136048},{"$f":"IF($F182=\"\",0,VLOOKUP($E182,Drivers!$A$26:$F$48,MATCH(J$1,Drivers!$A$25:$F$25,0),0)*$F182)","v":4389.8085126136048},{"$f":"IF($F182=\"\",0,VLOOKUP($E182,Drivers!$A$26:$F$48,MATCH(K$1,Drivers!$A$25:$F$25,0),0)*$F182)","v":4389.8085126136048}]
["DIREITO_PASSAGEM","TOTAL","TOTAL",null,null,{"$f":"SUM(F184:F218)","v":202447.13295480018},{"$f":"SUM(G184:G218)","v":216695.73142736184},236341.16159584082,243333.25180550819,253397.49855477072,261321.59131015796]
["DIREITO_PASSAGEM",5200,{"$f":"VLOOKUP(B184,Centro_Custo!$A$2:$B$36,2,0)","v":"GERÊNCIA DE OPERAÇÕES"},{"$f":"VLOOKUP(B184,Centro_Custo!$A$2:$C$36,3)","v":"OPEX&ODESP"},"Extensão de Rede",{"$f":"SUMIFS('Classificação OPEX'!$O$4:$O$1666,'Classificação OPEX'!$Q$4:$Q$1666,\"N\",'Classificação OPEX'!$S$4:$S$1666,\"NÃO\",'Classificação OPEX'!$V$4:$V$1666,DRIVER_OPEX!A184,'Classificação OPEX'!$W$4:$W$1666,DRIVER_OPEX!B184)","v":202447.13295480018},{"$f":"IF($F184=\"\",0,VLOOKUP($E184,Drivers!$A$26:$F$48,MATCH(G$1,Drivers!$A$25:$F$25,0),0)*$F184)","v":216695.73142736184},{"$f":"IF($F184=\"\",0,VLOOKUP($E184,Drivers!$A$26:$F$48,MATCH(H$1,Drivers!$A$25:$F$25,0),0)*$F184)","v":236341.16159584082},{"$f":"IF($F184=\"\",0,VLOOKUP($E184,Drivers!$A$26:$F$48,MATCH(I$1,Drivers!$A$25:$F$25,0),0)*$F184)","v":243333.25180550819},{"$f":"IF($F184=\"\",0,VLOOKUP($E184,Drivers!$A$26:$F$48,MATCH(J$1,Drivers!$A$25:$F$25,0),0)*$F184)","v":253397.49855477072},{"$f":"IF($F184=\"\",0,VLOOKUP($E184,Drivers!$A$26:$F$48,MATCH(K$1,Drivers!$A$25:$F$25,0),0)*$F184)","v":261321.59131015796}]
["DIREITO_PASSAGEM","0000","RATEIO",{"$f":"VLOOKUP(B185,Centro_Custo!$A$2:$C$36,3)","v":"Encargos de Gestão"},"Fixo",{"$f":"SUMIFS('Classificação OPEX'!$O$4:$O$1666,'Classificação OPEX'!$Q$4:$Q$1666,\"N\",'Classificação OPEX'!$S$4:$S$1666,\"NÃO\",'Classificação OPEX'!$V$4:$V$1666,DRIVER_OPEX!A185,'Classificação OPEX'!$W$4:$W$1666,DRIVER_OPEX!B185)","v":0},{"$f":"IF($F185=\"\",0,VLOOKUP($E185,Drivers!$A$26:$F$48,MATCH(G$1,Drivers!$A$25:$F$25,0),0)*$F185)","v":0},{"$f":"IF($F185=\"\",0,VLOOKUP($E185,Drivers!$A$26:$F$48,MATCH(H$1,Drivers!$A$25:$F$25,0),0)*$F185)","v":0},{"$f":"IF($F185=\"\",0,VLOOKUP($E185,Drivers!$A$26:$F$48,MATCH(I$1,Drivers!$A$25:$F$25,0),0)*$F185)","v":0},{"$f":"IF($F185=\"\",0,VLOOKUP($E185,Drivers!$A$26:$F$48,MATCH(J$1,Drivers!$A$25:$F$25,0),0)*$F185)","v":0},{"$f":"IF($F185=\"\",0,VLOOKUP($E185,Drivers!$A$26:$F$48,MATCH(K$1,Drivers!$A$25:$F$25,0),0)*$F185)","v":0}]
["DIREITO_PASSAGEM",1001,"CONSELHO DE ADMINISTRAÇÃO",{"$f":"VLOOKUP(B186,Centro_Custo!$A$2:$C$36,3)","v":"Encargos de Gestão"},"Fixo",{"$f":"SUMIFS('Classificação OPEX'!$O$4:$O$1666,'Classificação OPEX'!$Q$4:$Q$1666,\"N\",'Classificação OPEX'!$S$4:$S$1666,\"NÃO\",'Classificação OPEX'!$V$4:$V$1666,DRIVER_OPEX!A186,'Classificação OPEX'!$W$4:$W$1666,DRIVER_OPEX!B186)","v":0},{"$f":"IF($F186=\"\",0,VLOOKUP($E186,Drivers!$A$26:$F$48,MATCH(G$1,Drivers!$A$25:$F$25,0),0)*$F186)","v":0},{"$f":"IF($F186=\"\",0,VLOOKUP($E186,Drivers!$A$26:$F$48,MATCH(H$1,Drivers!$A$25:$F$25,0),0)*$F186)","v":0},{"$f":"IF($F186=\"\",0,VLOOKUP($E186,Drivers!$A$26:$F$48,MATCH(I$1,Drivers!$A$25:$F$25,0),0)*$F186)","v":0},{"$f":"IF($F186=\"\",0,VLOOKUP($E186,Drivers!$A$26:$F$48,MATCH(J$1,Drivers!$A$25:$F$25,0),0)*$F186)","v":0},{"$f":"IF($F186=\"\",0,VLOOKUP($E186,Drivers!$A$26:$F$48,MATCH(K$1,Drivers!$A$25:$F$25,0),0)*$F186)","v":0}]
["DIREITO_PASSAGEM",1002,"CONSELHO FISCAL",{"$f":"VLOOKUP(B187,Centro_Custo!$A$2:$C$36,3)","v":"Encargos de Gestão"},"Fixo",{"$f":"SUMIFS('Classificação OPEX'!$O$4:$O$1666,'Classificação OPEX'!$Q$4:$Q$1666,\"N\",'Classificação OPEX'!$S$4:$S$1666,\"NÃO\",'Classificação OPEX'!$V$4:$V$1666,DRIVER_OPEX!A187,'Classificação OPEX'!$W$4:$W$1666,DRIVER_OPEX!B187)","v":0},{"$f":"IF($F187=\"\",0,VLOOKUP($E187,Drivers!$A$26:$F$48,MATCH(G$1,Drivers!$A$25:$F$25,0),0)*$F187)","v":0},{"$f":"IF($F187=\"\",0,VLOOKUP($E187,Drivers!$A$26:$F$48,MATCH(H$1,Drivers!$A$25:$F$25,0),0)*$F187)","v":0},{"$f":"IF($F187=\"\",0,VLOOKUP($E187,Drivers!$A$26:$F$48,MATCH(I$1,Drivers!$A$25:$F$25,0),0)*$F187)","v":0},{"$f":"IF($F187=\"\",0,VLOOKUP($E187,Drivers!$A$26:$F$48,MATCH(J$1,Drivers!$A$25:$F$25,0),0)*$F187)","v":0},{"$f":"IF($F187=\"\",0,VLOOKUP($E187,Drivers!$A$26:$F$48,MATCH(K$1,Drivers!$A$25:$F$25,0),0)*$F187)","v":0}]
["DIREITO_PASSAGEM",1003,"COMITÊ DE INDICAÇÃO E AVALIAÇÃO",{"$f":"VLOOKUP(B188,Centro_Custo!$A$2:$C$36,3)","v":"Encargos de Gestão"},"Fixo",{"$f":"SUMIFS('Classificação OPEX'!$O$4:$O$1666,'Classificação OPEX'!$Q$4:$Q$1666,\"N\",'Classificação OPEX'!$S$4:$S$1666,\"NÃO\",'Classificação OPEX'!$V$4:$V$1666,DRIVER_OPEX!A188,'Classificação OPEX'!$W$4:$W$1666,DRIVER_OPEX!B188)","v":0},{"$f":"IF($F188=\"\",0,VLOOKUP($E188,Drivers!$A$26:$F$48,MATCH(G$1,Drivers!$A$25:$F$25,0),0)*$F188)","v":0},{"$f":"IF($F188=\"\",0,VLOOKUP($E188,Drivers!$A$26:$F$48,MATCH(H$1,Drivers!$A$25:$F$25,0),0)*$F188)","v":0},{"$f":"IF($F188=\"\",0,VLOOKUP($E188,Drivers!$A$26:$F$48,MATCH(I$1,Drivers!$A$25:$F$25,0),0)*$F188)","v":0},{"$f":"IF($F188=\"\",0,VLOOKUP($E188,Drivers!$A$26:$F$48,MATCH(J$1,Drivers!$A$25:$F$25,0),0)*$F188)","v":0},{"$f":"IF($F188=\"\",0,VLOOKUP($E188,Drivers!$A$26:$F$48,MATCH(K$1,Drivers!$A$25:$F$25,0),0)*$F188)","v":0}]
["DIREITO_PASSAGEM",1004,"COMITÊ DE AUDITORIA ESTATUTÁRIA",{"$f":"VLOOKUP(B189,Centro_Custo!$A$2:$C$36,3)","v":"Encargos de Gestão"},"Fixo",{"$f":"SUMIFS('Classificação OPEX'!$O$4:$O$1666,'Classificação OPEX'!$Q$4:$Q$1666,\"N\",'Classificação OPEX'!$S$4:$S$1666,\"NÃO\",'Classificação OPEX'!$V$4:$V$1666,DRIVER_OPEX!A189,'Classificação OPEX'!$W$4:$W$1666,DRIVER_OPEX!B189)","v":0},{"$f":"IF($F189=\"\",0,VLOOKUP($E189,Drivers!$A$26:$F$48,MATCH(G$1,Drivers!$A$25:$F$25,0),0)*$F189)","v":0},{"$f":"IF($F189=\"\",0,VLOOKUP($E189,Drivers!$A$26:$F$48,MATCH(H$1,Drivers!$A$25:$F$25,0),0)*$F189)","v":0},{"$f":"IF($F189=\"\",0,VLOOKUP($E189,Drivers!$A$26:$F$48,MATCH(I$1,Drivers!$A$25:$F$25,0),0)*$F189)","v":0},{"$f":"IF($F189=\"\",0,VLOOKUP($E189,Drivers!$A$26:$F$48,MATCH(J$1,Drivers!$A$25:$F$25,0),0)*$F189)","v":0},{"$f":"IF($F189=\"\",0,VLOOKUP($E189,Drivers!$A$26:$F$48,MATCH(K$1,Drivers!$A$25:$F$25,0),0)*$F189)","v":0}]
["DIREITO_PASSAGEM",1005,"AUDITORIA INTERNA",{"$f":"VLOOKUP(B190,Centro_Custo!$A$2:$C$36,3)","v":"Encargos de Gestão"},"Fixo",{"$f":"SUMIFS('Classificação OPEX'!$O$4:$O$1666,'Classificação OPEX'!$Q$4:$Q$1666,\"N\",'Classificação OPEX'!$S$4:$S$1666,\"NÃO\",'Classificação OPEX'!$V$4:$V$1666,DRIVER_OPEX!A190,'Classificação OPEX'!$W$4:$W$1666,DRIVER_OPEX!B190)","v":0},{"$f":"IF($F190=\"\",0,VLOOKUP($E190,Drivers!$A$26:$F$48,MATCH(G$1,Drivers!$A$25:$F$25,0),0)*$F190)","v":0},{"$f":"IF($F190=\"\",0,VLOOKUP($E190,Drivers!$A$26:$F$48,MATCH(H$1,Drivers!$A$25:$F$25,0),0)*$F190)","v":0},{"$f":"IF($F190=\"\",0,VLOOKUP($E190,Drivers!$A$26:$F$48,MATCH(I$1,Drivers!$A$25:$F$25,0),0)*$F190)","v":0},{"$f":"IF($F190=\"\",0,VLOOKUP($E190,Drivers!$A$26:$F$48,MATCH(J$1,Drivers!$A$25:$F$25,0),0)*$F190)","v":0},{"$f":"IF($F190=\"\",0,VLOOKUP($E190,Drivers!$A$26:$F$48,MATCH(K$1,Drivers!$A$25:$F$25,0),0)*$F190)","v":0}]
["DIREITO_PASSAGEM",1010,"GOVERNANÇA SOCIETÁRIA",{"$f":"VLOOKUP(B191,Centro_Custo!$A$2:$C$36,3)","v":"Encargos de Gestão"},"Fixo",{"$f":"SUMIFS('Classificação OPEX'!$O$4:$O$1666,'Classificação OPEX'!$Q$4:$Q$1666,\"N\",'Classificação OPEX'!$S$4:$S$1666,\"NÃO\",'Classificação OPEX'!$V$4:$V$1666,DRIVER_OPEX!A191,'Classificação OPEX'!$W$4:$W$1666,DRIVER_OPEX!B191)","v":0},{"$f":"IF($F191=\"\",0,VLOOKUP($E191,Drivers!$A$26:$F$48,MATCH(G$1,Drivers!$A$25:$F$25,0),0)*$F191)","v":0},{"$f":"IF($F191=\"\",0,VLOOKUP($E191,Drivers!$A$26:$F$48,MATCH(H$1,Drivers!$A$25:$F$25,0),0)*$F191)","v":0},{"$f":"IF($F191=\"\",0,VLOOKUP($E191,Drivers!$A$26:$F$48,MATCH(I$1,Drivers!$A$25:$F$25,0),0)*$F191)","v":0},{"$f":"IF($F191=\"\",0,VLOOKUP($E191,Drivers!$A$26:$F$48,MATCH(J$1,Drivers!$A$25:$F$25,0),0)*$F191)","v":0},{"$f":"IF($F191=\"\",0,VLOOKUP($E191,Drivers!$A$26:$F$48,MATCH(K$1,Drivers!$A$25:$F$25,0),0)*$F191)","v":0}]
["DIREITO_PASSAGEM",2100,"SECRETARIA",{"$f":"VLOOKUP(B192,Centro_Custo!$A$2:$C$36,3)","v":"Encargos de Gestão"},"Fixo",{"$f":"SUMIFS('Classificação OPEX'!$O$4:$O$1666,'Classificação OPEX'!$Q$4:$Q$1666,\"N\",'Classificação OPEX'!$S$4:$S$1666,\"NÃO\",'Classificação OPEX'!$V$4:$V$1666,DRIVER_OPEX!A192,'Classificação OPEX'!$W$4:$W$1666,DRIVER_OPEX!B192)","v":0},{"$f":"IF($F192=\"\",0,VLOOKUP($E192,Drivers!$A$26:$F$48,MATCH(G$1,Drivers!$A$25:$F$25,0),0)*$F192)","v":0},{"$f":"IF($F192=\"\",0,VLOOKUP($E192,Drivers!$A$26:$F$48,MATCH(H$1,Drivers!$A$25:$F$25,0),0)*$F192)","v":0},{"$f":"IF($F192=\"\",0,VLOOKUP($E192,Drivers!$A$26:$F$48,MATCH(I$1,Drivers!$A$25:$F$25,0),0)*$F192)","v":0},{"$f":"IF($F192=\"\",0,VLOOKUP($E192,Drivers!$A$26:$F$48,MATCH(J$1,Drivers!$A$25:$F$25,0),0)*$F192)","v":0},{"$f":"IF($F192=\"\",0,VLOOKUP($E192,Drivers!$A$26:$F$48,MATCH(K$1,Drivers!$A$25:$F$25,0),0)*$F192)","v":0}]
["DIREITO_PASSAGEM",2110,"ASSESSORIA DA DIRETORIA EXECUTIVA",{"$f":"VLOOKUP(B193,Centro_Custo!$A$2:$C$36,3)","v":"Encargos de Gestão"},"Fixo",{"$f":"SUMIFS('Classificação OPEX'!$O$4:$O$1666,'Classificação OPEX'!$Q$4:$Q$1666,\"N\",'Classificação OPEX'!$S$4:$S$1666,\"NÃO\",'Classificação OPEX'!$V$4:$V$1666,DRIVER_OPEX!A193,'Classificação OPEX'!$W$4:$W$1666,DRIVER_OPEX!B193)","v":0},{"$f":"IF($F193=\"\",0,VLOOKUP($E193,Drivers!$A$26:$F$48,MATCH(G$1,Drivers!$A$25:$F$25,0),0)*$F193)","v":0},{"$f":"IF($F193=\"\",0,VLOOKUP($E193,Drivers!$A$26:$F$48,MATCH(H$1,Drivers!$A$25:$F$25,0),0)*$F193)","v":0},{"$f":"IF($F193=\"\",0,VLOOKUP($E193,Drivers!$A$26:$F$48,MATCH(I$1,Drivers!$A$25:$F$25,0),0)*$F193)","v":0},{"$f":"IF($F193=\"\",0,VLOOKUP($E193,Drivers!$A$26:$F$48,MATCH(J$1,Drivers!$A$25:$F$25,0),0)*$F193)","v":0},{"$f":"IF($F193=\"\",0,VLOOKUP($E193,Drivers!$A$26:$F$48,MATCH(K$1,Drivers!$A$25:$F$25,0),0)*$F193)","v":0}]
["DIREITO_PASSAGEM",2120,"ASSESSORIA DA PRESIDÊNCIA",{"$f":"VLOOKUP(B194,Centro_Custo!$A$2:$C$36,3)","v":"Encargos de Gestão"},"Fixo",{"$f":"SUMIFS('Classificação OPEX'!$O$4:$O$1666,'Classificação OPEX'!$Q$4:$Q$1666,\"N\",'Classificação OPEX'!$S$4:$S$1666,\"NÃO\",'Classificação OPEX'!$V$4:$V$1666,DRIVER_OPEX!A194,'Classificação OPEX'!$W$4:$W$1666,DRIVER_OPEX!B194)","v":0},{"$f":"IF($F194=\"\",0,VLOOKUP($E194,Drivers!$A$26:$F$48,MATCH(G$1,Drivers!$A$25:$F$25,0),0)*$F194)","v":0},{"$f":"IF($F194=\"\",0,VLOOKUP($E194,Drivers!$A$26:$F$48,MATCH(H$1,Drivers!$A$25:$F$25,0),0)*$F194)","v":0},{"$f":"IF($F194=\"\",0,VLOOKUP($E194,Drivers!$A$26:$F$48,MATCH(I$1,Drivers!$A$25:$F$25,0),0)*$F194)","v":0},{"$f":"IF($F194=\"\",0,VLOOKUP($E194,Drivers!$A$26:$F$48,MATCH(J$1,Drivers!$A$25:$F$25,0),0)*$F194)","v":0},{"$f":"IF($F194=\"\",0,VLOOKUP($E194,Drivers!$A$26:$F$48,MATCH(K$1,Drivers!$A$25:$F$25,0),0)*$F194)","v":0}]
["DIREITO_PASSAGEM",2130,"ASSESSORIA DE RELAÇÕES INSTITUCIONAIS E NOVOS NEGÓCIOS",{"$f":"VLOOKUP(B195,Centro_Custo!$A$2:$C$36,3)","v":"Encargos de Gestão"},"Fixo",{"$f":"SUMIFS('Classificação OPEX'!$O$4:$O$1666,'Classificação OPEX'!$Q$4:$Q$1666,\"N\",'Classificação OPEX'!$S$4:$S$1666,\"NÃO\",'Classificação OPEX'!$V$4:$V$1666,DRIVER_OPEX!A195,'Classificação OPEX'!$W$4:$W$1666,DRIVER_OPEX!B195)","v":0},{"$f":"IF($F195=\"\",0,VLOOKUP($E195,Drivers!$A$26:$F$48,MATCH(G$1,Drivers!$A$25:$F$25,0),0)*$F195)","v":0},{"$f":"IF($F195=\"\",0,VLOOKUP($E195,Drivers!$A$26:$F$48,MATCH(H$1,Drivers!$A$25:$F$25,0),0)*$F195)","v":0},{"$f":"IF($F195=\"\",0,VLOOKUP($E195,Drivers!$A$26:$F$48,MATCH(I$1,Drivers!$A$25:$F$25,0),0)*$F195)","v":0},{"$f":"IF($F195=\"\",0,VLOOKUP($E195,Drivers!$A$26:$F$48,MATCH(J$1,Drivers!$A$25:$F$25,0),0)*$F195)","v":0},{"$f":"IF($F195=\"\",0,VLOOKUP($E195,Drivers!$A$26:$F$48,MATCH(K$1,Drivers!$A$25:$F$25,0),0)*$F195)","v":0}]
["DIREITO_PASSAGEM",2140,"ASSESSORIA DTC",{"$f":"VLOOKUP(B196,Centro_Custo!$A$2:$C$36,3)","v":"Encargos de Comercialização"},"Fixo",{"$f":"SUMIFS('Classificação OPEX'!$O$4:$O$1666,'Classificação OPEX'!$Q$4:$Q$1666,\"N\",'Classificação OPEX'!$S$4:$S$1666,\"NÃO\",'Classificação OPEX'!$V$4:$V$1666,DRIVER_OPEX!A196,'Classificação OPEX'!$W$4:$W$1666,DRIVER_OPEX!B196)","v":0},{"$f":"IF($F196=\"\",0,VLOOKUP($E196,Drivers!$A$26:$F$48,MATCH(G$1,Drivers!$A$25:$F$25,0),0)*$F196)","v":0},{"$f":"IF($F196=\"\",0,VLOOKUP($E196,Drivers!$A$26:$F$48,MATCH(H$1,Drivers!$A$25:$F$25,0),0)*$F196)","v":0},{"$f":"IF($F196=\"\",0,VLOOKUP($E196,Drivers!$A$26:$F$48,MATCH(I$1,Drivers!$A$25:$F$25,0),0)*$F196)","v":0},{"$f":"IF($F196=\"\",0,VLOOKUP($E196,Drivers!$A$26:$F$48,MATCH(J$1,Drivers!$A$25:$F$25,0),0)*$F196)","v":0},{"$f":"IF($F196=\"\",0,VLOOKUP($E196,Drivers!$A$26:$F$48,MATCH(K$1,Drivers!$A$25:$F$25,0),0)*$F196)","v":0}]
["DIREITO_PASSAGEM",2200,"DIRETORIA COLEGIADA - PRESIDÊNCIA",{"$f":"VLOOKUP(B197,Centro_Custo!$A$2:$C$36,3)","v":"Encargos de Gestão"},"Fixo",{"$f":"SUMIFS('Classificação OPEX'!$O$4:$O$1666,'Classificação OPEX'!$Q$4:$Q$1666,\"N\",'Classificação OPEX'!$S$4:$S$1666,\"NÃO\",'Classificação OPEX'!$V$4:$V$1666,DRIVER_OPEX!A197,'Classificação OPEX'!$W$4:$W$1666,DRIVER_OPEX!B197)","v":0},{"$f":"IF($F197=\"\",0,VLOOKUP($E197,Drivers!$A$26:$F$48,MATCH(G$1,Drivers!$A$25:$F$25,0),0)*$F197)","v":0},{"$f":"IF($F197=\"\",0,VLOOKUP($E197,Drivers!$A$26:$F$48,MATCH(H$1,Drivers!$A$25:$F$25,0),0)*$F197)","v":0},{"$f":"IF($F197=\"\",0,VLOOKUP($E197,Drivers!$A$26:$F$48,MATCH(I$1,Drivers!$A$25:$F$25,0),0)*$F197)","v":0},{"$f":"IF($F197=\"\",0,VLOOKUP($E197,Drivers!$A$26:$F$48,MATCH(J$1,Drivers!$A$25:$F$25,0),0)*$F197)","v":0},{"$f":"IF($F197=\"\",0,VLOOKUP($E197,Drivers!$A$26:$F$48,MATCH(K$1,Drivers!$A$25:$F$25,0),0)*$F197)","v":0}]
["DIREITO_PASSAGEM",2300,"DIRETORIA COLEGIADA - DAF",{"$f":"VLOOKUP(B198,Centro_Custo!$A$2:$C$36,3)","v":"Encargos de Gestão"},"Fixo",{"$f":"SUMIFS('Classificação OPEX'!$O$4:$O$1666,'Classificação OPEX'!$Q$4:$Q$1666,\"N\",'Classificação OPEX'!$S$4:$S$1666,\"NÃO\",'Classificação OPEX'!$V$4:$V$1666,DRIVER_OPEX!A198,'Classificação OPEX'!$W$4:$W$1666,DRIVER_OPEX!B198)","v":0},{"$f":"IF($F198=\"\",0,VLOOKUP($E198,Drivers!$A$26:$F$48,MATCH(G$1,Drivers!$A$25:$F$25,0),0)*$F198)","v":0},{"$f":"IF($F198=\"\",0,VLOOKUP($E198,Drivers!$A$26:$F$48,MATCH(H$1,Drivers!$A$25:$F$25,0),0)*$F198)","v":0},{"$f":"IF($F198=\"\",0,VLOOKUP($E198,Drivers!$A$26:$F$48,MATCH(I$1,Drivers!$A$25:$F$25,0),0)*$F198)","v":0},{"$f":"IF($F198=\"\",0,VLOOKUP($E198,Drivers!$A$26:$F$48,MATCH(J$1,Drivers!$A$25:$F$25,0),0)*$F198)","v":0},{"$f":"IF($F198=\"\",0,VLOOKUP($E198,Drivers!$A$26:$F$48,MATCH(K$1,Drivers!$A$25:$F$25,0),0)*$F198)","v":0}]
["DIREITO_PASSAGEM",2310,"ASSESSORIA DAF",{"$f":"VLOOKUP(B199,Centro_Custo!$A$2:$C$36,3)","v":"Encargos de Gestão"},"Fixo",{"$f":"SUMIFS('Classificação OPEX'!$O$4:$O$1666,'Classificação OPEX'!$Q$4:$Q$1666,\"N\",'Classificação OPEX'!$S$4:$S$1666,\"NÃO\",'Classificação OPEX'!$V$4:$V$1666,DRIVER_OPEX!A199,'Classificação OPEX'!$W$4:$W$1666,DRIVER_OPEX!B199)","v":0},{"$f":"IF($F199=\"\",0,VLOOKUP($E199,Drivers!$A$26:$F$48,MATCH(G$1,Drivers!$A$25:$F$25,0),0)*$F199)","v":0},{"$f":"IF($F199=\"\",0,VLOOKUP($E199,Drivers!$A$26:$F$48,MATCH(H$1,Drivers!$A$25:$F$25,0),0)*$F199)","v":0},{"$f":"IF($F199=\"\",0,VLOOKUP($E199,Drivers!$A$26:$F$48,MATCH(I$1,Drivers!$A$25:$F$25,0),0)*$F199)","v":0},{"$f":"IF($F199=\"\",0,VLOOKUP($E199,Drivers!$A$26:$F$48,MATCH(J$1,Drivers!$A$25:$F$25,0),0)*$F199)","v":0},{"$f":"IF($F199=\"\",0,VLOOKUP($E199,Drivers!$A$26:$F$48,MATCH(K$1,Drivers!$A$25:$F$25,0),0)*$F199)","v":0}]
["DIREITO_PASSAGEM",2400,"DIRETORIA COLEGIADA - DTC",{"$f":"VLOOKUP(B200,Centro_Custo!$A$2:$C$36,3)","v":"Encargos de Comercialização"},"Fixo",{"$f":"SUMIFS('Classificação OPEX'!$O$4:$O$1666,'Classificação OPEX'!$Q$4:$Q$1666,\"N\",'Classificação OPEX'!$S$4:$S$1666,\"NÃO\",'Classificação OPEX'!$V$4:$V$1666,DRIVER_OPEX!A200,'Classificação OPEX'!$W$4:$W$1666,DRIVER_OPEX!B200)","v":0},{"$f":"IF($F200=\"\",0,VLOOKUP($E200,Drivers!$A$26:$F$48,MATCH(G$1,Drivers!$A$25:$F$25,0),0)*$F200)","v":0},{"$f":"IF($F200=\"\",0,VLOOKUP($E200,Drivers!$A$26:$F$48,MATCH(H$1,Drivers!$A$25:$F$25,0),0)*$F200)","v":0},{"$f":"IF($F200=\"\",0,VLOOKUP($E200,Drivers!$A$26:$F$48,MATCH(I$1,Drivers!$A$25:$F$25,0),0)*$F200)","v":0},{"$f":"IF($F200=\"\",0,VLOOKUP($E200,Drivers!$A$26:$F$48,MATCH(J$1,Drivers!$A$25:$F$25,0),0)*$F200)","v":0},{"$f":"IF($F200=\"\",0,VLOOKUP($E200,Drivers!$A$26:$F$48,MATCH(K$1,Drivers!$A$25:$F$25,0),0)*$F200)","v":0}]
["DIREITO_PASSAGEM",2410,"ASSESSORIA DE SEGURANÇA DO TRABALHO",{"$f":"VLOOKUP(B201,Centro_Custo!$A$2:$C$36,3)","v":"OPEX&ODESP"},"Fixo",{"$f":"SUMIFS('Classificação OPEX'!$O$4:$O$1666,'Classificação OPEX'!$Q$4:$Q$1666,\"N\",'Classificação OPEX'!$S$4:$S$1666,\"NÃO\",'Classificação OPEX'!$V$4:$V$1666,DRIVER_OPEX!A201,'Classificação OPEX'!$W$4:$W$1666,DRIVER_OPEX!B201)","v":0},{"$f":"IF($F201=\"\",0,VLOOKUP($E201,Drivers!$A$26:$F$48,MATCH(G$1,Drivers!$A$25:$F$25,0),0)*$F201)","v":0},{"$f":"IF($F201=\"\",0,VLOOKUP($E201,Drivers!$A$26:$F$48,MATCH(H$1,Drivers!$A$25:$F$25,0),0)*$F201)","v":0},{"$f":"IF($F201=\"\",0,VLOOKUP($E201,Drivers!$A$26:$F$48,MATCH(I$1,Drivers!$A$25:$F$25,0),0)*$F201)","v":0},{"$f":"IF($F201=\"\",0,VLOOKUP($E201,Drivers!$A$26:$F$48,MATCH(J$1,Drivers!$A$25:$F$25,0),0)*$F201)","v":0},{"$f":"IF($F201=\"\",0,VLOOKUP($E201,Drivers!$A$26:$F$48,MATCH(K$1,Drivers!$A$25:$F$25,0),0)*$F201)","v":0}]
["DIREITO_PASSAGEM",3100,"SMS",{"$f":"VLOOKUP(B202,Centro_Custo!$A$2:$C$36,3)","v":"OPEX&ODESP"},"Fixo",{"$f":"SUMIFS('Classificação OPEX'!$O$4:$O$1666,'Classificação OPEX'!$Q$4:$Q$1666,\"N\",'Classificação OPEX'!$S$4:$S$1666,\"NÃO\",'Classificação OPEX'!$V$4:$V$1666,DRIVER_OPEX!A202,'Classificação OPEX'!$W$4:$W$1666,DRIVER_OPEX!B202)","v":0},{"$f":"IF($F202=\"\",0,VLOOKUP($E202,Drivers!$A$26:$F$48,MATCH(G$1,Drivers!$A$25:$F$25,0),0)*$F202)","v":0},{"$f":"IF($F202=\"\",0,VLOOKUP($E202,Drivers!$A$26:$F$48,MATCH(H$1,Drivers!$A$25:$F$25,0),0)*$F202)","v":0},{"$f":"IF($F202=\"\",0,VLOOKUP($E202,Drivers!$A$26:$F$48,MATCH(I$1,Drivers!$A$25:$F$25,0),0)*$F202)","v":0},{"$f":"IF($F202=\"\",0,VLOOKUP($E202,Drivers!$A$26:$F$48,MATCH(J$1,Drivers!$A$25:$F$25,0),0)*$F202)","v":0},{"$f":"IF($F202=\"\",0,VLOOKUP($E202,Drivers!$A$26:$F$48,MATCH(K$1,Drivers!$A$25:$F$25,0),0)*$F202)","v":0}]
["DIREITO_PASSAGEM",3200,"GERÊNCIA DE PLANEJAMENTO E MEIO AMBIENTE",{"$f":"VLOOKUP(B203,Centro_Custo!$A$2:$C$36,3)","v":"OPEX&ODESP"},"Fixo",{"$f":"SUMIFS('Classificação OPEX'!$O$4:$O$1666,'Classificação OPEX'!$Q$4:$Q$1666,\"N\",'Classificação OPEX'!$S$4:$S$1666,\"NÃO\",'Classificação OPEX'!$V$4:$V$1666,DRIVER_OPEX!A203,'Classificação OPEX'!$W$4:$W$1666,DRIVER_OPEX!B203)","v":0},{"$f":"IF($F203=\"\",0,VLOOKUP($E203,Drivers!$A$26:$F$48,MATCH(G$1,Drivers!$A$25:$F$25,0),0)*$F203)","v":0},{"$f":"IF($F203=\"\",0,VLOOKUP($E203,Drivers!$A$26:$F$48,MATCH(H$1,Drivers!$A$25:$F$25,0),0)*$F203)","v":0},{"$f":"IF($F203=\"\",0,VLOOKUP($E203,Drivers!$A$26:$F$48,MATCH(I$1,Drivers!$A$25:$F$25,0),0)*$F203)","v":0},{"$f":"IF($F203=\"\",0,VLOOKUP($E203,Drivers!$A$26:$F$48,MATCH(J$1,Drivers!$A$25:$F$25,0),0)*$F203)","v":0},{"$f":"IF($F203=\"\",0,VLOOKUP($E203,Drivers!$A$26:$F$48,MATCH(K$1,Drivers!$A$25:$F$25,0),0)*$F203)","v":0}]
["DIREITO_PASSAGEM",3300,"GERÊNCIA JURÍDICA",{"$f":"VLOOKUP(B204,Centro_Custo!$A$2:$C$36,3)","v":"Encargos de Gestão"},"Fixo",{"$f":"SUMIFS('Classificação OPEX'!$O$4:$O$1666,'Classificação OPEX'!$Q$4:$Q$1666,\"N\",'Classificação OPEX'!$S$4:$S$1666,\"NÃO\",'Classificação OPEX'!$V$4:$V$1666,DRIVER_OPEX!A204,'Classificação OPEX'!$W$4:$W$1666,DRIVER_OPEX!B204)","v":0},{"$f":"IF($F204=\"\",0,VLOOKUP($E204,Drivers!$A$26:$F$48,MATCH(G$1,Drivers!$A$25:$F$25,0),0)*$F204)","v":0},{"$f":"IF($F204=\"\",0,VLOOKUP($E204,Drivers!$A$26:$F$48,MATCH(H$1,Drivers!$A$25:$F$25,0),0)*$F204)","v":0},{"$f":"IF($F204=\"\",0,VLOOKUP($E204,Drivers!$A$26:$F$48,MATCH(I$1,Drivers!$A$25:$F$25,0),0)*$F204)","v":0},{"$f":"IF($F204=\"\",0,VLOOKUP($E204,Drivers!$A$26:$F$48,MATCH(J$1,Drivers!$A$25:$F$25,0),0)*$F204)","v":0},{"$f":"IF($F204=\"\",0,VLOOKUP($E204,Drivers!$A$26:$F$48,MATCH(K$1,Drivers!$A$25:$F$25,0),0)*$F204)","v":0}]
["DIREITO_PASSAGEM",3400,"MARKETING",{"$f":"VLOOKUP(B205,Centro_Custo!$A$2:$C$36,3)","v":"Encargos de Comercialização"},"Fixo",{"$f":"SUMIFS('Classificação OPEX'!$O$4:$O$1666,'Classificação OPEX'!$Q$4:$Q$1666,\"N\",'Classificação OPEX'!$S$4:$S$1666,\"NÃO\",'Classificação OPEX'!$V$4:$V$1666,DRIVER_OPEX!A205,'Classificação OPEX'!$W$4:$W$1666,DRIVER_OPEX!B205)","v":0},{"$f":"IF($F205=\"\",0,VLOOKUP($E205,Drivers!$A$26:$F$48,MATCH(G$1,Drivers!$A$25:$F$25,0),0)*$F205)","v":0},{"$f":"IF($F205=\"\",0,VLOOKUP($E205,Drivers!$A$26:$F$48,MATCH(H$1,Drivers!$A$25:$F$25,0),0)*$F205)","v":0},{"$f":"IF($F205=\"\",0,VLOOKUP($E205,Drivers!$A$26:$F$48,MATCH(I$1,Drivers!$A$25:$F$25,0),0)*$F205)","v":0},{"$f":"IF($F205=\"\",0,VLOOKUP($E205,Drivers!$A$26:$F$48,MATCH(J$1,Drivers!$A$25:$F$25,0),0)*$F205)","v":0},{"$f":"IF($F205=\"\",0,VLOOKUP($E205,Drivers!$A$26:$F$48,MATCH(K$1,Drivers!$A$25:$F$25,0),0)*$F205)","v":0}]
["DIREITO_PASSAGEM",3500,"ASSESSORIA DE COMUNICAÇÃO INSTITUCIONAL",{"$f":"VLOOKUP(B206,Centro_Custo!$A$2:$C$36,3)","v":"Encargos de Gestão"},"Fixo",{"$f":"SUMIFS('Classificação OPEX'!$O$4:$O$1666,'Classificação OPEX'!$Q$4:$Q$1666,\"N\",'Classificação OPEX'!$S$4:$S$1666,\"NÃO\",'Classificação OPEX'!$V$4:$V$1666,DRIVER_OPEX!A206,'Classificação OPEX'!$W$4:$W$1666,DRIVER_OPEX!B206)","v":0},{"$f":"IF($F206=\"\",0,VLOOKUP($E206,Drivers!$A$26:$F$48,MATCH(G$1,Drivers!$A$25:$F$25,0),0)*$F206)","v":0},{"$f":"IF($F206=\"\",0,VLOOKUP($E206,Drivers!$A$26:$F$48,MATCH(H$1,Drivers!$A$25:$F$25,0),0)*$F206)","v":0},{"$f":"IF($F206=\"\",0,VLOOKUP($E206,Drivers!$A$26:$F$48,MATCH(I$1,Drivers!$A$25:$F$25,0),0)*$F206)","v":0},{"$f":"IF($F206=\"\",0,VLOOKUP($E206,Drivers!$A$26:$F$48,MATCH(J$1,Drivers!$A$25:$F$25,0),0)*$F206)","v":0},{"$f":"IF($F206=\"\",0,VLOOKUP($E206,Drivers!$A$26:$F$48,MATCH(K$1,Drivers!$A$25:$F$25,0),0)*$F206)","v":0}]
["DIREITO_PASSAGEM",3600,"GERÊNCIA DE GOVERNANÇA, RISCO E COMPLIANCE",{"$f":"VLOOKUP(B207,Centro_Custo!$A$2:$C$36,3)","v":"Encargos de Gestão"},"Fixo",{"$f":"SUMIFS('Classificação OPEX'!$O$4:$O$1666,'Classificação OPEX'!$Q$4:$Q$1666,\"N\",'Classificação OPEX'!$S$4:$S$1666,\"NÃO\",'Classificação OPEX'!$V$4:$V$1666,DRIVER_OPEX!A207,'Classificação OPEX'!$W$4:$W$1666,DRIVER_OPEX!B207)","v":0},{"$f":"IF($F207=\"\",0,VLOOKUP($E207,Drivers!$A$26:$F$48,MATCH(G$1,Drivers!$A$25:$F$25,0),0)*$F207)","v":0},{"$f":"IF($F207=\"\",0,VLOOKUP($E207,Drivers!$A$26:$F$48,MATCH(H$1,Drivers!$A$25:$F$25,0),0)*$F207)","v":0},{"$f":"IF($F207=\"\",0,VLOOKUP($E207,Drivers!$A$26:$F$48,MATCH(I$1,Drivers!$A$25:$F$25,0),0)*$F207)","v":0},{"$f":"IF($F207=\"\",0,VLOOKUP($E207,Drivers!$A$26:$F$48,MATCH(J$1,Drivers!$A$25:$F$25,0),0)*$F207)","v":0},{"$f":"IF($F207=\"\",0,VLOOKUP($E207,Drivers!$A$26:$F$48,MATCH(K$1,Drivers!$A$25:$F$25,0),0)*$F207)","v":0}]
["DIREITO_PASSAGEM",3700,"GERÊNCIA DE REGULAÇÃO",{"$f":"VLOOKUP(B208,Centro_Custo!$A$2:$C$36,3)","v":"Encargos de Gestão"},"Fixo",{"$f":"SUMIFS('Classificação OPEX'!$O$4:$O$1666,'Classificação OPEX'!$Q$4:$Q$1666,\"N\",'Classificação OPEX'!$S$4:$S$1666,\"NÃO\",'Classificação OPEX'!$V$4:$V$1666,DRIVER_OPEX!A208,'Classificação OPEX'!$W$4:$W$1666,DRIVER_OPEX!B208)","v":0},{"$f":"IF($F208=\"\",0,VLOOKUP($E208,Drivers!$A$26:$F$48,MATCH(G$1,Drivers!$A$25:$F$25,0),0)*$F208)","v":0},{"$f":"IF($F208=\"\",0,VLOOKUP($E208,Drivers!$A$26:$F$48,MATCH(H$1,Drivers!$A$25:$F$25,0),0)*$F208)","v":0},{"$f":"IF($F208=\"\",0,VLOOKUP($E208,Drivers!$A$26:$F$48,MATCH(I$1,Drivers!$A$25:$F$25,0),0)*$F208)","v":0},{"$f":"IF($F208=\"\",0,VLOOKUP($E208,Drivers!$A$26:$F$48,MATCH(J$1,Drivers!$A$25:$F$25,0),0)*$F208)","v":0},{"$f":"IF($F208=\"\",0,VLOOKUP($E208,Drivers!$A$26:$F$48,MATCH(K$1,Drivers!$A$25:$F$25,0),0)*$F208)","v":0}]
["DIREITO_PASSAGEM",4100,"GERÊNCIA DE SERVIÇOS CORPORATIVOS",{"$f":"VLOOKUP(B209,Centro_Custo!$A$2:$C$36,3)","v":"Encargos de Gestão"},"Fixo",{"$f":"SUMIFS('Classificação OPEX'!$O$4:$O$1666,'Classificação OPEX'!$Q$4:$Q$1666,\"N\",'Classificação OPEX'!$S$4:$S$1666,\"NÃO\",'Classificação OPEX'!$V$4:$V$1666,DRIVER_OPEX!A209,'Classificação OPEX'!$W$4:$W$1666,DRIVER_OPEX!B209)","v":0},{"$f":"IF($F209=\"\",0,VLOOKUP($E209,Drivers!$A$26:$F$48,MATCH(G$1,Drivers!$A$25:$F$25,0),0)*$F209)","v":0},{"$f":"IF($F209=\"\",0,VLOOKUP($E209,Drivers!$A$26:$F$48,MATCH(H$1,Drivers!$A$25:$F$25,0),0)*$F209)","v":0},{"$f":"IF($F209=\"\",0,VLOOKUP($E209,Drivers!$A$26:$F$48,MATCH(I$1,Drivers!$A$25:$F$25,0),0)*$F209)","v":0},{"$f":"IF($F209=\"\",0,VLOOKUP($E209,Drivers!$A$26:$F$48,MATCH(J$1,Drivers!$A$25:$F$25,0),0)*$F209)","v":0},{"$f":"IF($F209=\"\",0,VLOOKUP($E209,Drivers!$A$26:$F$48,MATCH(K$1,Drivers!$A$25:$F$25,0),0)*$F209)","v":0}]
["DIREITO_PASSAGEM",4200,"GERÊNCIA FINANCEIRA",{"$f":"VLOOKUP(B210,Centro_Custo!$A$2:$C$36,3)","v":"Encargos de Gestão"},"Fixo",{"$f":"SUMIFS('Classificação OPEX'!$O$4:$O$1666,'Classificação OPEX'!$Q$4:$Q$1666,\"N\",'Classificação OPEX'!$S$4:$S$1666,\"NÃO\",'Classificação OPEX'!$V$4:$V$1666,DRIVER_OPEX!A210,'Classificação OPEX'!$W$4:$W$1666,DRIVER_OPEX!B210)","v":0},{"$f":"IF($F210=\"\",0,VLOOKUP($E210,Drivers!$A$26:$F$48,MATCH(G$1,Drivers!$A$25:$F$25,0),0)*$F210)","v":0},{"$f":"IF($F210=\"\",0,VLOOKUP($E210,Drivers!$A$26:$F$48,MATCH(H$1,Drivers!$A$25:$F$25,0),0)*$F210)","v":0},{"$f":"IF($F210=\"\",0,VLOOKUP($E210,Drivers!$A$26:$F$48,MATCH(I$1,Drivers!$A$25:$F$25,0),0)*$F210)","v":0},{"$f":"IF($F210=\"\",0,VLOOKUP($E210,Drivers!$A$26:$F$48,MATCH(J$1,Drivers!$A$25:$F$25,0),0)*$F210)","v":0},{"$f":"IF($F210=\"\",0,VLOOKUP($E210,Drivers!$A$26:$F$48,MATCH(K$1,Drivers!$A$25:$F$25,0),0)*$F210)","v":0}]
["DIREITO_PASSAGEM",4300,"GERÊNCIA DE TECNOLOGIA E SISTEMAS DE INFORMAÇÃO",{"$f":"VLOOKUP(B211,Centro_Custo!$A$2:$C$36,3)","v":"Encargos de Gestão"},"Fixo",{"$f":"SUMIFS('Classificação OPEX'!$O$4:$O$1666,'Classificação OPEX'!$Q$4:$Q$1666,\"N\",'Classificação OPEX'!$S$4:$S$1666,\"NÃO\",'Classificação OPEX'!$V$4:$V$1666,DRIVER_OPEX!A211,'Classificação OPEX'!$W$4:$W$1666,DRIVER_OPEX!B211)","v":0},{"$f":"IF($F211=\"\",0,VLOOKUP($E211,Drivers!$A$26:$F$48,MATCH(G$1,Drivers!$A$25:$F$25,0),0)*$F211)","v":0},{"$f":"IF($F211=\"\",0,VLOOKUP($E211,Drivers!$A$26:$F$48,MATCH(H$1,Drivers!$A$25:$F$25,0),0)*$F211)","v":0},{"$f":"IF($F211=\"\",0,VLOOKUP($E211,Drivers!$A$26:$F$48,MATCH(I$1,Drivers!$A$25:$F$25,0),0)*$F211)","v":0},{"$f":"IF($F211=\"\",0,VLOOKUP($E211,Drivers!$A$26:$F$48,MATCH(J$1,Drivers!$A$25:$F$25,0),0)*$F211)","v":0},{"$f":"IF($F211=\"\",0,VLOOKUP($E211,Drivers!$A$26:$F$48,MATCH(K$1,Drivers!$A$25:$F$25,0),0)*$F211)","v":0}]
["DIREITO_PASSAGEM",4500,"GERÊNCIA CONTÁBIL",{"$f":"VLOOKUP(B212,Centro_Custo!$A$2:$C$36,3)","v":"Encargos de Gestão"},"Fixo",{"$f":"SUMIFS('Classificação OPEX'!$O$4:$O$1666,'Classificação OPEX'!$Q$4:$Q$1666,\"N\",'Classificação OPEX'!$S$4:$S$1666,\"NÃO\",'Classificação OPEX'!$V$4:$V$1666,DRIVER_OPEX!A212,'Classificação OPEX'!$W$4:$W$1666,DRIVER_OPEX!B212)","v":0},{"$f":"IF($F212=\"\",0,VLOOKUP($E212,Drivers!$A$26:$F$48,MATCH(G$1,Drivers!$A$25:$F$25,0),0)*$F212)","v":0},{"$f":"IF($F212=\"\",0,VLOOKUP($E212,Drivers!$A$26:$F$48,MATCH(H$1,Drivers!$A$25:$F$25,0),0)*$F212)","v":0},{"$f":"IF($F212=\"\",0,VLOOKUP($E212,Drivers!$A$26:$F$48,MATCH(I$1,Drivers!$A$25:$F$25,0),0)*$F212)","v":0},{"$f":"IF($F212=\"\",0,VLOOKUP($E212,Drivers!$A$26:$F$48,MATCH(J$1,Drivers!$A$25:$F$25,0),0)*$F212)","v":0},{"$f":"IF($F212=\"\",0,VLOOKUP($E212,Drivers!$A$26:$F$48,MATCH(K$1,Drivers!$A$25:$F$25,0),0)*$F212)","v":0}]
["DIREITO_PASSAGEM",4600,"GERÊNCIA DE PESSOAS E CULTURA",{"$f":"VLOOKUP(B213,Centro_Custo!$A$2:$C$36,3)","v":"Encargos de Gestão"},"Fixo",{"$f":"SUMIFS('Classificação OPEX'!$O$4:$O$1666,'Classificação OPEX'!$Q$4:$Q$1666,\"N\",'Classificação OPEX'!$S$4:$S$1666,\"NÃO\",'Classificação OPEX'!$V$4:$V$1666,DRIVER_OPEX!A213,'Classificação OPEX'!$W$4:$W$1666,DRIVER_OPEX!B213)","v":0},{"$f":"IF($F213=\"\",0,VLOOKUP($E213,Drivers!$A$26:$F$48,MATCH(G$1,Drivers!$A$25:$F$25,0),0)*$F213)","v":0},{"$f":"IF($F213=\"\",0,VLOOKUP($E213,Drivers!$A$26:$F$48,MATCH(H$1,Drivers!$A$25:$F$25,0),0)*$F213)","v":0},{"$f":"IF($F213=\"\",0,VLOOKUP($E213,Drivers!$A$26:$F$48,MATCH(I$1,Drivers!$A$25:$F$25,0),0)*$F213)","v":0},{"$f":"IF($F213=\"\",0,VLOOKUP($E213,Drivers!$A$26:$F$48,MATCH(J$1,Drivers!$A$25:$F$25,0),0)*$F213)","v":0},{"$f":"IF($F213=\"\",0,VLOOKUP($E213,Drivers!$A$26:$F$48,MATCH(K$1,Drivers!$A$25:$F$25,0),0)*$F213)","v":0}]
["DIREITO_PASSAGEM",5100,"GERÊNCIA DE ENGENHARIA",{"$f":"VLOOKUP(B214,Centro_Custo!$A$2:$C$36,3)","v":"OPEX&ODESP"},"Fixo",{"$f":"SUMIFS('Classificação OPEX'!$O$4:$O$1666,'Classificação OPEX'!$Q$4:$Q$1666,\"N\",'Classificação OPEX'!$S$4:$S$1666,\"NÃO\",'Classificação OPEX'!$V$4:$V$1666,DRIVER_OPEX!A214,'Classificação OPEX'!$W$4:$W$1666,DRIVER_OPEX!B214)","v":0},{"$f":"IF($F214=\"\",0,VLOOKUP($E214,Drivers!$A$26:$F$48,MATCH(G$1,Drivers!$A$25:$F$25,0),0)*$F214)","v":0},{"$f":"IF($F214=\"\",0,VLOOKUP($E214,Drivers!$A$26:$F$48,MATCH(H$1,Drivers!$A$25:$F$25,0),0)*$F214)","v":0},{"$f":"IF($F214=\"\",0,VLOOKUP($E214,Drivers!$A$26:$F$48,MATCH(I$1,Drivers!$A$25:$F$25,0),0)*$F214)","v":0},{"$f":"IF($F214=\"\",0,VLOOKUP($E214,Drivers!$A$26:$F$48,MATCH(J$1,Drivers!$A$25:$F$25,0),0)*$F214)","v":0},{"$f":"IF($F214=\"\",0,VLOOKUP($E214,Drivers!$A$26:$F$48,MATCH(K$1,Drivers!$A$25:$F$25,0),0)*$F214)","v":0}]
["DIREITO_PASSAGEM",5300,"GERÊNCIA COMERCIAL",{"$f":"VLOOKUP(B215,Centro_Custo!$A$2:$C$36,3)","v":"Encargos de Comercialização"},"Fixo",{"$f":"SUMIFS('Classificação OPEX'!$O$4:$O$1666,'Classificação OPEX'!$Q$4:$Q$1666,\"N\",'Classificação OPEX'!$S$4:$S$1666,\"NÃO\",'Classificação OPEX'!$V$4:$V$1666,DRIVER_OPEX!A215,'Classificação OPEX'!$W$4:$W$1666,DRIVER_OPEX!B215)","v":0},{"$f":"IF($F215=\"\",0,VLOOKUP($E215,Drivers!$A$26:$F$48,MATCH(G$1,Drivers!$A$25:$F$25,0),0)*$F215)","v":0},{"$f":"IF($F215=\"\",0,VLOOKUP($E215,Drivers!$A$26:$F$48,MATCH(H$1,Drivers!$A$25:$F$25,0),0)*$F215)","v":0},{"$f":"IF($F215=\"\",0,VLOOKUP($E215,Drivers!$A$26:$F$48,MATCH(I$1,Drivers!$A$25:$F$25,0),0)*$F215)","v":0},{"$f":"IF($F215=\"\",0,VLOOKUP($E215,Drivers!$A$26:$F$48,MATCH(J$1,Drivers!$A$25:$F$25,0),0)*$F215)","v":0},{"$f":"IF($F215=\"\",0,VLOOKUP($E215,Drivers!$A$26:$F$48,MATCH(K$1,Drivers!$A$25:$F$25,0),0)*$F215)","v":0}]
["DIREITO_PASSAGEM",9999,"RATEIO",{"$f":"VLOOKUP(B216,Centro_Custo!$A$2:$C$36,3)","v":"Encargos de Gestão"},"Fixo",{"$f":"SUMIFS('Classificação OPEX'!$O$4:$O$1666,'Classificação OPEX'!$Q$4:$Q$1666,\"N\",'Classificação OPEX'!$S$4:$S$1666,\"NÃO\",'Classificação OPEX'!$V$4:$V$1666,DRIVER_OPEX!A216,'Classificação OPEX'!$W$4:$W$1666,DRIVER_OPEX!B216)","v":0},{"$f":"IF($F216=\"\",0,VLOOKUP($E216,Drivers!$A$26:$F$48,MATCH(G$1,Drivers!$A$25:$F$25,0),0)*$F216)","v":0},{"$f":"IF($F216=\"\",0,VLOOKUP($E216,Drivers!$A$26:$F$48,MATCH(H$1,Drivers!$A$25:$F$25,0),0)*$F216)","v":0},{"$f":"IF($F216=\"\",0,VLOOKUP($E216,Drivers!$A$26:$F$48,MATCH(I$1,Drivers!$A$25:$F$25,0),0)*$F216)","v":0},{"$f":"IF($F216=\"\",0,VLOOKUP($E216,Drivers!$A$26:$F$48,MATCH(J$1,Drivers!$A$25:$F$25,0),0)*$F216)","v":0},{"$f":"IF($F216=\"\",0,VLOOKUP($E216,Drivers!$A$26:$F$48,MATCH(K$1,Drivers!$A$25:$F$25,0),0)*$F216)","v":0}]
["DIREITO_PASSAGEM","5400","GERÊNCIA COMERCIAL",{"$f":"VLOOKUP(B217,Centro_Custo!$A$2:$C$36,3)","v":"Encargos de Gestão"},"Fixo",{"$f":"SUMIFS('Classificação OPEX'!$O$4:$O$1666,'Classificação OPEX'!$Q$4:$Q$1666,\"N\",'Classificação OPEX'!$S$4:$S$1666,\"NÃO\",'Classificação OPEX'!$V$4:$V$1666,DRIVER_OPEX!A217,'Classificação OPEX'!$W$4:$W$1666,DRIVER_OPEX!B217)","v":0},{"$f":"IF($F217=\"\",0,VLOOKUP($E217,Drivers!$A$26:$F$48,MATCH(G$1,Drivers!$A$25:$F$25,0),0)*$F217)","v":0},{"$f":"IF($F217=\"\",0,VLOOKUP($E217,Drivers!$A$26:$F$48,MATCH(H$1,Drivers!$A$25:$F$25,0),0)*$F217)","v":0},{"$f":"IF($F217=\"\",0,VLOOKUP($E217,Drivers!$A$26:$F$48,MATCH(I$1,Drivers!$A$25:$F$25,0),0)*$F217)","v":0},{"$f":"IF($F217=\"\",0,VLOOKUP($E217,Drivers!$A$26:$F$48,MATCH(J$1,Drivers!$A$25:$F$25,0),0)*$F217)","v":0},{"$f":"IF($F217=\"\",0,VLOOKUP($E217,Drivers!$A$26:$F$48,MATCH(K$1,Drivers!$A$25:$F$25,0),0)*$F217)","v":0}]
["DIREITO_PASSAGEM","5500","GERÊNCIA COMERCIAL",{"$f":"VLOOKUP(B218,Centro_Custo!$A$2:$C$36,3)","v":"Encargos de Gestão"},"Fixo",{"$f":"SUMIFS('Classificação OPEX'!$O$4:$O$1666,'Classificação OPEX'!$Q$4:$Q$1666,\"N\",'Classificação OPEX'!$S$4:$S$1666,\"NÃO\",'Classificação OPEX'!$V$4:$V$1666,DRIVER_OPEX!A218,'Classificação OPEX'!$W$4:$W$1666,DRIVER_OPEX!B218)","v":0},{"$f":"IF($F218=\"\",0,VLOOKUP($E218,Drivers!$A$26:$F$48,MATCH(G$1,Drivers!$A$25:$F$25,0),0)*$F218)","v":0},{"$f":"IF($F218=\"\",0,VLOOKUP($E218,Drivers!$A$26:$F$48,MATCH(H$1,Drivers!$A$25:$F$25,0),0)*$F218)","v":0},{"$f":"IF($F218=\"\",0,VLOOKUP($E218,Drivers!$A$26:$F$48,MATCH(I$1,Drivers!$A$25:$F$25,0),0)*$F218)","v":0},{"$f":"IF($F218=\"\",0,VLOOKUP($E218,Drivers!$A$26:$F$48,MATCH(J$1,Drivers!$A$25:$F$25,0),0)*$F218)","v":0},{"$f":"IF($F218=\"\",0,VLOOKUP($E218,Drivers!$A$26:$F$48,MATCH(K$1,Drivers!$A$25:$F$25,0),0)*$F218)","v":0}]
["MATERIAIS_MANUTENÇÃO","TOTAL","TOTAL",null,null,{"$f":"SUM(F220:F254)","v":7414827.4842763869},{"$f":"SUM(G220:G254)","v":7807642.3296009088},8533267.2746999264,8777777.3478329312,8968996.2905253936,9125240.9957340658]
["MATERIAIS_MANUTENÇÃO",2110,{"$f":"VLOOKUP(B220,Centro_Custo!$A$2:$B$36,2,0)","v":"ASSESSORIA DA DIRETORIA EXECUTIVA"},{"$f":"VLOOKUP(B220,Centro_Custo!$A$2:$C$36,3)","v":"Encargos de Gestão"},"Fixo",{"$f":"SUMIFS('Classificação OPEX'!$O$4:$O$1666,'Classificação OPEX'!$Q$4:$Q$1666,\"N\",'Classificação OPEX'!$S$4:$S$1666,\"NÃO\",'Classificação OPEX'!$V$4:$V$1666,DRIVER_OPEX!A220,'Classificação OPEX'!$W$4:$W$1666,DRIVER_OPEX!B220)","v":3149.2985860795961},{"$f":"IF($F220=\"\",0,VLOOKUP($E220,Drivers!$A$26:$F$48,MATCH(G$1,Drivers!$A$25:$F$25,0),0)*$F220)","v":3149.2985860795961},{"$f":"IF($F220=\"\",0,VLOOKUP($E220,Drivers!$A$26:$F$48,MATCH(H$1,Drivers!$A$25:$F$25,0),0)*$F220)","v":3149.2985860795961},{"$f":"IF($F220=\"\",0,VLOOKUP($E220,Drivers!$A$26:$F$48,MATCH(I$1,Drivers!$A$25:$F$25,0),0)*$F220)","v":3149.2985860795961},{"$f":"IF($F220=\"\",0,VLOOKUP($E220,Drivers!$A$26:$F$48,MATCH(J$1,Drivers!$A$25:$F$25,0),0)*$F220)","v":3149.2985860795961},{"$f":"IF($F220=\"\",0,VLOOKUP($E220,Drivers!$A$26:$F$48,MATCH(K$1,Drivers!$A$25:$F$25,0),0)*$F220)","v":3149.2985860795961}]
["MATERIAIS_MANUTENÇÃO",2120,{"$f":"VLOOKUP(B221,Centro_Custo!$A$2:$B$36,2,0)","v":"ASSESSORIA DA PRESIDÊNCIA"},{"$f":"VLOOKUP(B221,Centro_Custo!$A$2:$C$36,3)","v":"Encargos de Gestão"},"Fixo",{"$f":"SUMIFS('Classificação OPEX'!$O$4:$O$1666,'Classificação OPEX'!$Q$4:$Q$1666,\"N\",'Classificação OPEX'!$S$4:$S$1666,\"NÃO\",'Classificação OPEX'!$V$4:$V$1666,DRIVER_OPEX!A221,'Classificação OPEX'!$W$4:$W$1666,DRIVER_OPEX!B221)","v":1099.0657399331619},{"$f":"IF($F221=\"\",0,VLOOKUP($E221,Drivers!$A$26:$F$48,MATCH(G$1,Drivers!$A$25:$F$25,0),0)*$F221)","v":1099.0657399331619},{"$f":"IF($F221=\"\",0,VLOOKUP($E221,Drivers!$A$26:$F$48,MATCH(H$1,Drivers!$A$25:$F$25,0),0)*$F221)","v":1099.0657399331619},{"$f":"IF($F221=\"\",0,VLOOKUP($E221,Drivers!$A$26:$F$48,MATCH(I$1,Drivers!$A$25:$F$25,0),0)*$F221)","v":1099.0657399331619},{"$f":"IF($F221=\"\",0,VLOOKUP($E221,Drivers!$A$26:$F$48,MATCH(J$1,Drivers!$A$25:$F$25,0),0)*$F221)","v":1099.0657399331619},{"$f":"IF($F221=\"\",0,VLOOKUP($E221,Drivers!$A$26:$F$48,MATCH(K$1,Drivers!$A$25:$F$25,0),0)*$F221)","v":1099.0657399331619}]
["MATERIAIS_MANUTENÇÃO",2200,{"$f":"VLOOKUP(B222,Centro_Custo!$A$2:$B$36,2,0)","v":"DIRETORIA COLEGIADA - PRESIDÊNCIA"},{"$f":"VLOOKUP(B222,Centro_Custo!$A$2:$C$36,3)","v":"Encargos de Gestão"},"Fixo",{"$f":"SUMIFS('Classificação OPEX'!$O$4:$O$1666,'Classificação OPEX'!$Q$4:$Q$1666,\"N\",'Classificação OPEX'!$S$4:$S$1666,\"NÃO\",'Classificação OPEX'!$V$4:$V$1666,DRIVER_OPEX!A222,'Classificação OPEX'!$W$4:$W$1666,DRIVER_OPEX!B222)","v":6087.6564598840596},{"$f":"IF($F222=\"\",0,VLOOKUP($E222,Drivers!$A$26:$F$48,MATCH(G$1,Drivers!$A$25:$F$25,0),0)*$F222)","v":6087.6564598840596},{"$f":"IF($F222=\"\",0,VLOOKUP($E222,Drivers!$A$26:$F$48,MATCH(H$1,Drivers!$A$25:$F$25,0),0)*$F222)","v":6087.6564598840596},{"$f":"IF($F222=\"\",0,VLOOKUP($E222,Drivers!$A$26:$F$48,MATCH(I$1,Drivers!$A$25:$F$25,0),0)*$F222)","v":6087.6564598840596},{"$f":"IF($F222=\"\",0,VLOOKUP($E222,Drivers!$A$26:$F$48,MATCH(J$1,Drivers!$A$25:$F$25,0),0)*$F222)","v":6087.6564598840596},{"$f":"IF($F222=\"\",0,VLOOKUP($E222,Drivers!$A$26:$F$48,MATCH(K$1,Drivers!$A$25:$F$25,0),0)*$F222)","v":6087.6564598840596}]
["MATERIAIS_MANUTENÇÃO",2300,{"$f":"VLOOKUP(B223,Centro_Custo!$A$2:$B$36,2,0)","v":"DIRETORIA COLEGIADA - DAF"},{"$f":"VLOOKUP(B223,Centro_Custo!$A$2:$C$36,3)","v":"Encargos de Gestão"},"Fixo",{"$f":"SUMIFS('Classificação OPEX'!$O$4:$O$1666,'Classificação OPEX'!$Q$4:$Q$1666,\"N\",'Classificação OPEX'!$S$4:$S$1666,\"NÃO\",'Classificação OPEX'!$V$4:$V$1666,DRIVER_OPEX!A223,'Classificação OPEX'!$W$4:$W$1666,DRIVER_OPEX!B223)","v":955.76705160343886},{"$f":"IF($F223=\"\",0,VLOOKUP($E223,Drivers!$A$26:$F$48,MATCH(G$1,Drivers!$A$25:$F$25,0),0)*$F223)","v":955.76705160343886},{"$f":"IF($F223=\"\",0,VLOOKUP($E223,Drivers!$A$26:$F$48,MATCH(H$1,Drivers!$A$25:$F$25,0),0)*$F223)","v":955.76705160343886},{"$f":"IF($F223=\"\",0,VLOOKUP($E223,Drivers!$A$26:$F$48,MATCH(I$1,Drivers!$A$25:$F$25,0),0)*$F223)","v":955.76705160343886},{"$f":"IF($F223=\"\",0,VLOOKUP($E223,Drivers!$A$26:$F$48,MATCH(J$1,Drivers!$A$25:$F$25,0),0)*$F223)","v":955.76705160343886},{"$f":"IF($F223=\"\",0,VLOOKUP($E223,Drivers!$A$26:$F$48,MATCH(K$1,Drivers!$A$25:$F$25,0),0)*$F223)","v":955.76705160343886}]
["MATERIAIS_MANUTENÇÃO",2400,{"$f":"VLOOKUP(B224,Centro_Custo!$A$2:$B$36,2,0)","v":"DIRETORIA COLEGIADA - DTC"},{"$f":"VLOOKUP(B224,Centro_Custo!$A$2:$C$36,3)","v":"Encargos de Comercialização"},"Fixo",{"$f":"SUMIFS('Classificação OPEX'!$O$4:$O$1666,'Classificação OPEX'!$Q$4:$Q$1666,\"N\",'Classificação OPEX'!$S$4:$S$1666,\"NÃO\",'Classificação OPEX'!$V$4:$V$1666,DRIVER_OPEX!A224,'Classificação OPEX'!$W$4:$W$1666,DRIVER_OPEX!B224)","v":1614.8874370439867},{"$f":"IF($F224=\"\",0,VLOOKUP($E224,Drivers!$A$26:$F$48,MATCH(G$1,Drivers!$A$25:$F$25,0),0)*$F224)","v":1614.8874370439867},{"$f":"IF($F224=\"\",0,VLOOKUP($E224,Drivers!$A$26:$F$48,MATCH(H$1,Drivers!$A$25:$F$25,0),0)*$F224)","v":1614.8874370439867},{"$f":"IF($F224=\"\",0,VLOOKUP($E224,Drivers!$A$26:$F$48,MATCH(I$1,Drivers!$A$25:$F$25,0),0)*$F224)","v":1614.8874370439867},{"$f":"IF($F224=\"\",0,VLOOKUP($E224,Drivers!$A$26:$F$48,MATCH(J$1,Drivers!$A$25:$F$25,0),0)*$F224)","v":1614.8874370439867},{"$f":"IF($F224=\"\",0,VLOOKUP($E224,Drivers!$A$26:$F$48,MATCH(K$1,Drivers!$A$25:$F$25,0),0)*$F224)","v":1614.8874370439867}]
["MATERIAIS_MANUTENÇÃO",2410,{"$f":"VLOOKUP(B225,Centro_Custo!$A$2:$B$36,2,0)","v":"ASSESSORIA DE SEGURANÇA DO TRABALHO"},{"$f":"VLOOKUP(B225,Centro_Custo!$A$2:$C$36,3)","v":"OPEX&ODESP"},"Extensão de Rede/Município",{"$f":"SUMIFS('Classificação OPEX'!$O$4:$O$1666,'Classificação OPEX'!$Q$4:$Q$1666,\"N\",'Classificação OPEX'!$S$4:$S$1666,\"NÃO\",'Classificação OPEX'!$V$4:$V$1666,DRIVER_OPEX!A225,'Classificação OPEX'!$W$4:$W$1666,DRIVER_OPEX!B225)","v":139102.48610991836},{"$f":"IF($F225=\"\",0,VLOOKUP($E225,Drivers!$A$26:$F$48,MATCH(G$1,Drivers!$A$25:$F$25,0),0)*$F225)","v":147474.54958266683},{"$f":"IF($F225=\"\",0,VLOOKUP($E225,Drivers!$A$26:$F$48,MATCH(H$1,Drivers!$A$25:$F$25,0),0)*$F225)","v":162090.46709172142},{"$f":"IF($F225=\"\",0,VLOOKUP($E225,Drivers!$A$26:$F$48,MATCH(I$1,Drivers!$A$25:$F$25,0),0)*$F225)","v":162591.1885912877},{"$f":"IF($F225=\"\",0,VLOOKUP($E225,Drivers!$A$26:$F$48,MATCH(J$1,Drivers!$A$25:$F$25,0),0)*$F225)","v":162591.1885912877},{"$f":"IF($F225=\"\",0,VLOOKUP($E225,Drivers!$A$26:$F$48,MATCH(K$1,Drivers!$A$25:$F$25,0),0)*$F225)","v":166883.08715899885}]
["MATERIAIS_MANUTENÇÃO",3100,{"$f":"VLOOKUP(B226,Centro_Custo!$A$2:$B$36,2,0)","v":"SMS"},{"$f":"VLOOKUP(B226,Centro_Custo!$A$2:$C$36,3)","v":"OPEX&ODESP"},"Extensão de Rede/Município",{"$f":"SUMIFS('Classificação OPEX'!$O$4:$O$1666,'Classificação OPEX'!$Q$4:$Q$1666,\"N\",'Classificação OPEX'!$S$4:$S$1666,\"NÃO\",'Classificação OPEX'!$V$4:$V$1666,DRIVER_OPEX!A226,'Classificação OPEX'!$W$4:$W$1666,DRIVER_OPEX!B226)","v":45258.596382091069},{"$f":"IF($F226=\"\",0,VLOOKUP($E226,Drivers!$A$26:$F$48,MATCH(G$1,Drivers!$A$25:$F$25,0),0)*$F226)","v":47982.543683068558},{"$f":"IF($F226=\"\",0,VLOOKUP($E226,Drivers!$A$26:$F$48,MATCH(H$1,Drivers!$A$25:$F$25,0),0)*$F226)","v":52738.000826900818},{"$f":"IF($F226=\"\",0,VLOOKUP($E226,Drivers!$A$26:$F$48,MATCH(I$1,Drivers!$A$25:$F$25,0),0)*$F226)","v":52900.916335332491},{"$f":"IF($F226=\"\",0,VLOOKUP($E226,Drivers!$A$26:$F$48,MATCH(J$1,Drivers!$A$25:$F$25,0),0)*$F226)","v":52900.916335332491},{"$f":"IF($F226=\"\",0,VLOOKUP($E226,Drivers!$A$26:$F$48,MATCH(K$1,Drivers!$A$25:$F$25,0),0)*$F226)","v":54297.334979032508}]
["MATERIAIS_MANUTENÇÃO",3200,{"$f":"VLOOKUP(B227,Centro_Custo!$A$2:$B$36,2,0)","v":"GERÊNCIA DE PLANEJAMENTO E MEIO AMBIENTE"},{"$f":"VLOOKUP(B227,Centro_Custo!$A$2:$C$36,3)","v":"OPEX&ODESP"},"Fixo",{"$f":"SUMIFS('Classificação OPEX'!$O$4:$O$1666,'Classificação OPEX'!$Q$4:$Q$1666,\"N\",'Classificação OPEX'!$S$4:$S$1666,\"NÃO\",'Classificação OPEX'!$V$4:$V$1666,DRIVER_OPEX!A227,'Classificação OPEX'!$W$4:$W$1666,DRIVER_OPEX!B227)","v":19718.303334747434},{"$f":"IF($F227=\"\",0,VLOOKUP($E227,Drivers!$A$26:$F$48,MATCH(G$1,Drivers!$A$25:$F$25,0),0)*$F227)","v":19718.303334747434},{"$f":"IF($F227=\"\",0,VLOOKUP($E227,Drivers!$A$26:$F$48,MATCH(H$1,Drivers!$A$25:$F$25,0),0)*$F227)","v":19718.303334747434},{"$f":"IF($F227=\"\",0,VLOOKUP($E227,Drivers!$A$26:$F$48,MATCH(I$1,Drivers!$A$25:$F$25,0),0)*$F227)","v":19718.303334747434},{"$f":"IF($F227=\"\",0,VLOOKUP($E227,Drivers!$A$26:$F$48,MATCH(J$1,Drivers!$A$25:$F$25,0),0)*$F227)","v":19718.303334747434},{"$f":"IF($F227=\"\",0,VLOOKUP($E227,Drivers!$A$26:$F$48,MATCH(K$1,Drivers!$A$25:$F$25,0),0)*$F227)","v":19718.303334747434}]
["MATERIAIS_MANUTENÇÃO",3300,{"$f":"VLOOKUP(B228,Centro_Custo!$A$2:$B$36,2,0)","v":"GERÊNCIA JURÍDICA"},{"$f":"VLOOKUP(B228,Centro_Custo!$A$2:$C$36,3)","v":"Encargos de Gestão"},"Fixo",{"$f":"SUMIFS('Classificação OPEX'!$O$4:$O$1666,'Classificação OPEX'!$Q$4:$Q$1666,\"N\",'Classificação OPEX'!$S$4:$S$1666,\"NÃO\",'Classificação OPEX'!$V$4:$V$1666,DRIVER_OPEX!A228,'Classificação OPEX'!$W$4:$W$1666,DRIVER_OPEX!B228)","v":8505.2181153289403},{"$f":"IF($F228=\"\",0,VLOOKUP($E228,Drivers!$A$26:$F$48,MATCH(G$1,Drivers!$A$25:$F$25,0),0)*$F228)","v":8505.2181153289403},{"$f":"IF($F228=\"\",0,VLOOKUP($E228,Drivers!$A$26:$F$48,MATCH(H$1,Drivers!$A$25:$F$25,0),0)*$F228)","v":8505.2181153289403},{"$f":"IF($F228=\"\",0,VLOOKUP($E228,Drivers!$A$26:$F$48,MATCH(I$1,Drivers!$A$25:$F$25,0),0)*$F228)","v":8505.2181153289403},{"$f":"IF($F228=\"\",0,VLOOKUP($E228,Drivers!$A$26:$F$48,MATCH(J$1,Drivers!$A$25:$F$25,0),0)*$F228)","v":8505.2181153289403},{"$f":"IF($F228=\"\",0,VLOOKUP($E228,Drivers!$A$26:$F$48,MATCH(K$1,Drivers!$A$25:$F$25,0),0)*$F228)","v":8505.2181153289403}]
["MATERIAIS_MANUTENÇÃO",3500,{"$f":"VLOOKUP(B229,Centro_Custo!$A$2:$B$36,2,0)","v":"ASSESSORIA DE COMUNICAÇÃO INSTITUCIONAL"},{"$f":"VLOOKUP(B229,Centro_Custo!$A$2:$C$36,3)","v":"Encargos de Gestão"},"Fixo",{"$f":"SUMIFS('Classificação OPEX'!$O$4:$O$1666,'Classificação OPEX'!$Q$4:$Q$1666,\"N\",'Classificação OPEX'!$S$4:$S$1666,\"NÃO\",'Classificação OPEX'!$V$4:$V$1666,DRIVER_OPEX!A229,'Classificação OPEX'!$W$4:$W$1666,DRIVER_OPEX!B229)","v":7883.11754706795},{"$f":"IF($F229=\"\",0,VLOOKUP($E229,Drivers!$A$26:$F$48,MATCH(G$1,Drivers!$A$25:$F$25,0),0)*$F229)","v":7883.11754706795},{"$f":"IF($F229=\"\",0,VLOOKUP($E229,Drivers!$A$26:$F$48,MATCH(H$1,Drivers!$A$25:$F$25,0),0)*$F229)","v":7883.11754706795},{"$f":"IF($F229=\"\",0,VLOOKUP($E229,Drivers!$A$26:$F$48,MATCH(I$1,Drivers!$A$25:$F$25,0),0)*$F229)","v":7883.11754706795},{"$f":"IF($F229=\"\",0,VLOOKUP($E229,Drivers!$A$26:$F$48,MATCH(J$1,Drivers!$A$25:$F$25,0),0)*$F229)","v":7883.11754706795},{"$f":"IF($F229=\"\",0,VLOOKUP($E229,Drivers!$A$26:$F$48,MATCH(K$1,Drivers!$A$25:$F$25,0),0)*$F229)","v":7883.11754706795}]
["MATERIAIS_MANUTENÇÃO",3600,{"$f":"VLOOKUP(B230,Centro_Custo!$A$2:$B$36,2,0)","v":"GERÊNCIA DE GOVERNANÇA, RISCO E COMPLIANCE"},{"$f":"VLOOKUP(B230,Centro_Custo!$A$2:$C$36,3)","v":"Encargos de Gestão"},"Fixo",{"$f":"SUMIFS('Classificação OPEX'!$O$4:$O$1666,'Classificação OPEX'!$Q$4:$Q$1666,\"N\",'Classificação OPEX'!$S$4:$S$1666,\"NÃO\",'Classificação OPEX'!$V$4:$V$1666,DRIVER_OPEX!A230,'Classificação OPEX'!$W$4:$W$1666,DRIVER_OPEX!B230)","v":1239.0333125745356},{"$f":"IF($F230=\"\",0,VLOOKUP($E230,Drivers!$A$26:$F$48,MATCH(G$1,Drivers!$A$25:$F$25,0),0)*$F230)","v":1239.0333125745356},{"$f":"IF($F230=\"\",0,VLOOKUP($E230,Drivers!$A$26:$F$48,MATCH(H$1,Drivers!$A$25:$F$25,0),0)*$F230)","v":1239.0333125745356},{"$f":"IF($F230=\"\",0,VLOOKUP($E230,Drivers!$A$26:$F$48,MATCH(I$1,Drivers!$A$25:$F$25,0),0)*$F230)","v":1239.0333125745356},{"$f":"IF($F230=\"\",0,VLOOKUP($E230,Drivers!$A$26:$F$48,MATCH(J$1,Drivers!$A$25:$F$25,0),0)*$F230)","v":1239.0333125745356},{"$f":"IF($F230=\"\",0,VLOOKUP($E230,Drivers!$A$26:$F$48,MATCH(K$1,Drivers!$A$25:$F$25,0),0)*$F230)","v":1239.0333125745356}]
["MATERIAIS_MANUTENÇÃO",3700,{"$f":"VLOOKUP(B231,Centro_Custo!$A$2:$B$36,2,0)","v":"GERÊNCIA DE REGULAÇÃO"},{"$f":"VLOOKUP(B231,Centro_Custo!$A$2:$C$36,3)","v":"Encargos de Gestão"},"Fixo",{"$f":"SUMIFS('Classificação OPEX'!$O$4:$O$1666,'Classificação OPEX'!$Q$4:$Q$1666,\"N\",'Classificação OPEX'!$S$4:$S$1666,\"NÃO\",'Classificação OPEX'!$V$4:$V$1666,DRIVER_OPEX!A231,'Classificação OPEX'!$W$4:$W$1666,DRIVER_OPEX!B231)","v":962.57215952327022},{"$f":"IF($F231=\"\",0,VLOOKUP($E231,Drivers!$A$26:$F$48,MATCH(G$1,Drivers!$A$25:$F$25,0),0)*$F231)","v":962.57215952327022},{"$f":"IF($F231=\"\",0,VLOOKUP($E231,Drivers!$A$26:$F$48,MATCH(H$1,Drivers!$A$25:$F$25,0),0)*$F231)","v":962.57215952327022},{"$f":"IF($F231=\"\",0,VLOOKUP($E231,Drivers!$A$26:$F$48,MATCH(I$1,Drivers!$A$25:$F$25,0),0)*$F231)","v":962.57215952327022},{"$f":"IF($F231=\"\",0,VLOOKUP($E231,Drivers!$A$26:$F$48,MATCH(J$1,Drivers!$A$25:$F$25,0),0)*$F231)","v":962.57215952327022},{"$f":"IF($F231=\"\",0,VLOOKUP($E231,Drivers!$A$26:$F$48,MATCH(K$1,Drivers!$A$25:$F$25,0),0)*$F231)","v":962.57215952327022}]
["MATERIAIS_MANUTENÇÃO",4100,{"$f":"VLOOKUP(B232,Centro_Custo!$A$2:$B$36,2,0)","v":"GERÊNCIA DE SERVIÇOS CORPORATIVOS"},{"$f":"VLOOKUP(B232,Centro_Custo!$A$2:$C$36,3)","v":"Encargos de Gestão"},"Município",{"$f":"SUMIFS('Classificação OPEX'!$O$4:$O$1666,'Classificação OPEX'!$Q$4:$Q$1666,\"N\",'Classificação OPEX'!$S$4:$S$1666,\"NÃO\",'Classificação OPEX'!$V$4:$V$1666,DRIVER_OPEX!A232,'Classificação OPEX'!$W$4:$W$1666,DRIVER_OPEX!B232)","v":226008.02844691515},{"$f":"IF($F232=\"\",0,VLOOKUP($E232,Drivers!$A$26:$F$48,MATCH(G$1,Drivers!$A$25:$F$25,0),0)*$F232)","v":241075.23034337617},{"$f":"IF($F232=\"\",0,VLOOKUP($E232,Drivers!$A$26:$F$48,MATCH(H$1,Drivers!$A$25:$F$25,0),0)*$F232)","v":286276.83603275917},{"$f":"IF($F232=\"\",0,VLOOKUP($E232,Drivers!$A$26:$F$48,MATCH(I$1,Drivers!$A$25:$F$25,0),0)*$F232)","v":301344.03792922018},{"$f":"IF($F232=\"\",0,VLOOKUP($E232,Drivers!$A$26:$F$48,MATCH(J$1,Drivers!$A$25:$F$25,0),0)*$F232)","v":301344.03792922018},{"$f":"IF($F232=\"\",0,VLOOKUP($E232,Drivers!$A$26:$F$48,MATCH(K$1,Drivers!$A$25:$F$25,0),0)*$F232)","v":301344.03792922018}]
["MATERIAIS_MANUTENÇÃO",4200,{"$f":"VLOOKUP(B233,Centro_Custo!$A$2:$B$36,2,0)","v":"GERÊNCIA FINANCEIRA"},{"$f":"VLOOKUP(B233,Centro_Custo!$A$2:$C$36,3)","v":"Encargos de Gestão"},"Fixo",{"$f":"SUMIFS('Classificação OPEX'!$O$4:$O$1666,'Classificação OPEX'!$Q$4:$Q$1666,\"N\",'Classificação OPEX'!$S$4:$S$1666,\"NÃO\",'Classificação OPEX'!$V$4:$V$1666,DRIVER_OPEX!A233,'Classificação OPEX'!$W$4:$W$1666,DRIVER_OPEX!B233)","v":9369.076930146126},{"$f":"IF($F233=\"\",0,VLOOKUP($E233,Drivers!$A$26:$F$48,MATCH(G$1,Drivers!$A$25:$F$25,0),0)*$F233)","v":9369.076930146126},{"$f":"IF($F233=\"\",0,VLOOKUP($E233,Drivers!$A$26:$F$48,MATCH(H$1,Drivers!$A$25:$F$25,0),0)*$F233)","v":9369.076930146126},{"$f":"IF($F233=\"\",0,VLOOKUP($E233,Drivers!$A$26:$F$48,MATCH(I$1,Drivers!$A$25:$F$25,0),0)*$F233)","v":9369.076930146126},{"$f":"IF($F233=\"\",0,VLOOKUP($E233,Drivers!$A$26:$F$48,MATCH(J$1,Drivers!$A$25:$F$25,0),0)*$F233)","v":9369.076930146126},{"$f":"IF($F233=\"\",0,VLOOKUP($E233,Drivers!$A$26:$F$48,MATCH(K$1,Drivers!$A$25:$F$25,0),0)*$F233)","v":9369.076930146126}]
["MATERIAIS_MANUTENÇÃO",4300,{"$f":"VLOOKUP(B234,Centro_Custo!$A$2:$B$36,2,0)","v":"GERÊNCIA DE TECNOLOGIA E SISTEMAS DE INFORMAÇÃO"},{"$f":"VLOOKUP(B234,Centro_Custo!$A$2:$C$36,3)","v":"Encargos de Gestão"},"Município",{"$f":"SUMIFS('Classificação OPEX'!$O$4:$O$1666,'Classificação OPEX'!$Q$4:$Q$1666,\"N\",'Classificação OPEX'!$S$4:$S$1666,\"NÃO\",'Classificação OPEX'!$V$4:$V$1666,DRIVER_OPEX!A234,'Classificação OPEX'!$W$4:$W$1666,DRIVER_OPEX!B234)","v":1438960.994300836},{"$f":"IF($F234=\"\",0,VLOOKUP($E234,Drivers!$A$26:$F$48,MATCH(G$1,Drivers!$A$25:$F$25,0),0)*$F234)","v":1534891.7272542249},{"$f":"IF($F234=\"\",0,VLOOKUP($E234,Drivers!$A$26:$F$48,MATCH(H$1,Drivers!$A$25:$F$25,0),0)*$F234)","v":1822683.9261143922},{"$f":"IF($F234=\"\",0,VLOOKUP($E234,Drivers!$A$26:$F$48,MATCH(I$1,Drivers!$A$25:$F$25,0),0)*$F234)","v":1918614.6590677812},{"$f":"IF($F234=\"\",0,VLOOKUP($E234,Drivers!$A$26:$F$48,MATCH(J$1,Drivers!$A$25:$F$25,0),0)*$F234)","v":1918614.6590677812},{"$f":"IF($F234=\"\",0,VLOOKUP($E234,Drivers!$A$26:$F$48,MATCH(K$1,Drivers!$A$25:$F$25,0),0)*$F234)","v":1918614.6590677812}]
["MATERIAIS_MANUTENÇÃO",4500,{"$f":"VLOOKUP(B235,Centro_Custo!$A$2:$B$36,2,0)","v":"GERÊNCIA CONTÁBIL"},{"$f":"VLOOKUP(B235,Centro_Custo!$A$2:$C$36,3)","v":"Encargos de Gestão"},"Fixo",{"$f":"SUMIFS('Classificação OPEX'!$O$4:$O$1666,'Classificação OPEX'!$Q$4:$Q$1666,\"N\",'Classificação OPEX'!$S$4:$S$1666,\"NÃO\",'Classificação OPEX'!$V$4:$V$1666,DRIVER_OPEX!A235,'Classificação OPEX'!$W$4:$W$1666,DRIVER_OPEX!B235)","v":7506.838070881473},{"$f":"IF($F235=\"\",0,VLOOKUP($E235,Drivers!$A$26:$F$48,MATCH(G$1,Drivers!$A$25:$F$25,0),0)*$F235)","v":7506.838070881473},{"$f":"IF($F235=\"\",0,VLOOKUP($E235,Drivers!$A$26:$F$48,MATCH(H$1,Drivers!$A$25:$F$25,0),0)*$F235)","v":7506.838070881473},{"$f":"IF($F235=\"\",0,VLOOKUP($E235,Drivers!$A$26:$F$48,MATCH(I$1,Drivers!$A$25:$F$25,0),0)*$F235)","v":7506.838070881473},{"$f":"IF($F235=\"\",0,VLOOKUP($E235,Drivers!$A$26:$F$48,MATCH(J$1,Drivers!$A$25:$F$25,0),0)*$F235)","v":7506.838070881473},{"$f":"IF($F235=\"\",0,VLOOKUP($E235,Drivers!$A$26:$F$48,MATCH(K$1,Drivers!$A$25:$F$25,0),0)*$F235)","v":7506.838070881473}]
["MATERIAIS_MANUTENÇÃO",4600,{"$f":"VLOOKUP(B236,Centro_Custo!$A$2:$B$36,2,0)","v":"GERÊNCIA DE PESSOAS E CULTURA"},{"$f":"VLOOKUP(B236,Centro_Custo!$A$2:$C$36,3)","v":"Encargos de Gestão"},"Fixo",{"$f":"SUMIFS('Classificação OPEX'!$O$4:$O$1666,'Classificação OPEX'!$Q$4:$Q$1666,\"N\",'Classificação OPEX'!$S$4:$S$1666,\"NÃO\",'Classificação OPEX'!$V$4:$V$1666,DRIVER_OPEX!A236,'Classificação OPEX'!$W$4:$W$1666,DRIVER_OPEX!B236)","v":957.94061880112315},{"$f":"IF($F236=\"\",0,VLOOKUP($E236,Drivers!$A$26:$F$48,MATCH(G$1,Drivers!$A$25:$F$25,0),0)*$F236)","v":957.94061880112315},{"$f":"IF($F236=\"\",0,VLOOKUP($E236,Drivers!$A$26:$F$48,MATCH(H$1,Drivers!$A$25:$F$25,0),0)*$F236)","v":957.94061880112315},{"$f":"IF($F236=\"\",0,VLOOKUP($E236,Drivers!$A$26:$F$48,MATCH(I$1,Drivers!$A$25:$F$25,0),0)*$F236)","v":957.94061880112315},{"$f":"IF($F236=\"\",0,VLOOKUP($E236,Drivers!$A$26:$F$48,MATCH(J$1,Drivers!$A$25:$F$25,0),0)*$F236)","v":957.94061880112315},{"$f":"IF($F236=\"\",0,VLOOKUP($E236,Drivers!$A$26:$F$48,MATCH(K$1,Drivers!$A$25:$F$25,0),0)*$F236)","v":957.94061880112315}]
["MATERIAIS_MANUTENÇÃO",5100,{"$f":"VLOOKUP(B237,Centro_Custo!$A$2:$B$36,2,0)","v":"GERÊNCIA DE ENGENHARIA"},{"$f":"VLOOKUP(B237,Centro_Custo!$A$2:$C$36,3)","v":"OPEX&ODESP"},"Fixo",{"$f":"SUMIFS('Classificação OPEX'!$O$4:$O$1666,'Classificação OPEX'!$Q$4:$Q$1666,\"N\",'Classificação OPEX'!$S$4:$S$1666,\"NÃO\",'Classificação OPEX'!$V$4:$V$1666,DRIVER_OPEX!A237,'Classificação OPEX'!$W$4:$W$1666,DRIVER_OPEX!B237)","v":1021247.1370273062},{"$f":"IF($F237=\"\",0,VLOOKUP($E237,Drivers!$A$26:$F$48,MATCH(G$1,Drivers!$A$25:$F$25,0),0)*$F237)","v":1021247.1370273062},{"$f":"IF($F237=\"\",0,VLOOKUP($E237,Drivers!$A$26:$F$48,MATCH(H$1,Drivers!$A$25:$F$25,0),0)*$F237)","v":1021247.1370273062},{"$f":"IF($F237=\"\",0,VLOOKUP($E237,Drivers!$A$26:$F$48,MATCH(I$1,Drivers!$A$25:$F$25,0),0)*$F237)","v":1021247.1370273062},{"$f":"IF($F237=\"\",0,VLOOKUP($E237,Drivers!$A$26:$F$48,MATCH(J$1,Drivers!$A$25:$F$25,0),0)*$F237)","v":1021247.1370273062},{"$f":"IF($F237=\"\",0,VLOOKUP($E237,Drivers!$A$26:$F$48,MATCH(K$1,Drivers!$A$25:$F$25,0),0)*$F237)","v":1021247.1370273062}]
["MATERIAIS_MANUTENÇÃO",5200,{"$f":"VLOOKUP(B238,Centro_Custo!$A$2:$B$36,2,0)","v":"GERÊNCIA DE OPERAÇÕES"},{"$f":"VLOOKUP(B238,Centro_Custo!$A$2:$C$36,3)","v":"OPEX&ODESP"},"Extensão de Rede",{"$f":"SUMIFS('Classificação OPEX'!$O$4:$O$1666,'Classificação OPEX'!$Q$4:$Q$1666,\"N\",'Classificação OPEX'!$S$4:$S$1666,\"NÃO\",'Classificação OPEX'!$V$4:$V$1666,DRIVER_OPEX!A238,'Classificação OPEX'!$W$4:$W$1666,DRIVER_OPEX!B238)","v":3846460.4136990043},{"$f":"IF($F238=\"\",0,VLOOKUP($E238,Drivers!$A$26:$F$48,MATCH(G$1,Drivers!$A$25:$F$25,0),0)*$F238)","v":4117181.3133999505},{"$f":"IF($F238=\"\",0,VLOOKUP($E238,Drivers!$A$26:$F$48,MATCH(H$1,Drivers!$A$25:$F$25,0),0)*$F238)","v":4490441.0792965302},{"$f":"IF($F238=\"\",0,VLOOKUP($E238,Drivers!$A$26:$F$48,MATCH(I$1,Drivers!$A$25:$F$25,0),0)*$F238)","v":4623289.5805716887},{"$f":"IF($F238=\"\",0,VLOOKUP($E238,Drivers!$A$26:$F$48,MATCH(J$1,Drivers!$A$25:$F$25,0),0)*$F238)","v":4814508.5232641511},{"$f":"IF($F238=\"\",0,VLOOKUP($E238,Drivers!$A$26:$F$48,MATCH(K$1,Drivers!$A$25:$F$25,0),0)*$F238)","v":4965064.9112614123}]
["MATERIAIS_MANUTENÇÃO","0000","RATEIO",{"$f":"VLOOKUP(B239,Centro_Custo!$A$2:$C$36,3)","v":"Encargos de Gestão"},"Fixo",{"$f":"SUMIFS('Classificação OPEX'!$O$4:$O$1666,'Classificação OPEX'!$Q$4:$Q$1666,\"N\",'Classificação OPEX'!$S$4:$S$1666,\"NÃO\",'Classificação OPEX'!$V$4:$V$1666,DRIVER_OPEX!A239,'Classificação OPEX'!$W$4:$W$1666,DRIVER_OPEX!B239)","v":0},{"$f":"IF($F239=\"\",0,VLOOKUP($E239,Drivers!$A$26:$F$48,MATCH(G$1,Drivers!$A$25:$F$25,0),0)*$F239)","v":0},{"$f":"IF($F239=\"\",0,VLOOKUP($E239,Drivers!$A$26:$F$48,MATCH(H$1,Drivers!$A$25:$F$25,0),0)*$F239)","v":0},{"$f":"IF($F239=\"\",0,VLOOKUP($E239,Drivers!$A$26:$F$48,MATCH(I$1,Drivers!$A$25:$F$25,0),0)*$F239)","v":0},{"$f":"IF($F239=\"\",0,VLOOKUP($E239,Drivers!$A$26:$F$48,MATCH(J$1,Drivers!$A$25:$F$25,0),0)*$F239)","v":0},{"$f":"IF($F239=\"\",0,VLOOKUP($E239,Drivers!$A$26:$F$48,MATCH(K$1,Drivers!$A$25:$F$25,0),0)*$F239)","v":0}]
["MATERIAIS_MANUTENÇÃO",1001,"CONSELHO DE ADMINISTRAÇÃO",{"$f":"VLOOKUP(B240,Centro_Custo!$A$2:$C$36,3)","v":"Encargos de Gestão"},"Fixo",{"$f":"SUMIFS('Classificação OPEX'!$O$4:$O$1666,'Classificação OPEX'!$Q$4:$Q$1666,\"N\",'Classificação OPEX'!$S$4:$S$1666,\"NÃO\",'Classificação OPEX'!$V$4:$V$1666,DRIVER_OPEX!A240,'Classificação OPEX'!$W$4:$W$1666,DRIVER_OPEX!B240)","v":183.77599939751065},{"$f":"IF($F240=\"\",0,VLOOKUP($E240,Drivers!$A$26:$F$48,MATCH(G$1,Drivers!$A$25:$F$25,0),0)*$F240)","v":183.77599939751065},{"$f":"IF($F240=\"\",0,VLOOKUP($E240,Drivers!$A$26:$F$48,MATCH(H$1,Drivers!$A$25:$F$25,0),0)*$F240)","v":183.77599939751065},{"$f":"IF($F240=\"\",0,VLOOKUP($E240,Drivers!$A$26:$F$48,MATCH(I$1,Drivers!$A$25:$F$25,0),0)*$F240)","v":183.77599939751065},{"$f":"IF($F240=\"\",0,VLOOKUP($E240,Drivers!$A$26:$F$48,MATCH(J$1,Drivers!$A$25:$F$25,0),0)*$F240)","v":183.77599939751065},{"$f":"IF($F240=\"\",0,VLOOKUP($E240,Drivers!$A$26:$F$48,MATCH(K$1,Drivers!$A$25:$F$25,0),0)*$F240)","v":183.77599939751065}]
["MATERIAIS_MANUTENÇÃO",1002,"CONSELHO FISCAL",{"$f":"VLOOKUP(B241,Centro_Custo!$A$2:$C$36,3)","v":"Encargos de Gestão"},"Fixo",{"$f":"SUMIFS('Classificação OPEX'!$O$4:$O$1666,'Classificação OPEX'!$Q$4:$Q$1666,\"N\",'Classificação OPEX'!$S$4:$S$1666,\"NÃO\",'Classificação OPEX'!$V$4:$V$1666,DRIVER_OPEX!A241,'Classificação OPEX'!$W$4:$W$1666,DRIVER_OPEX!B241)","v":559.99737334410509},{"$f":"IF($F241=\"\",0,VLOOKUP($E241,Drivers!$A$26:$F$48,MATCH(G$1,Drivers!$A$25:$F$25,0),0)*$F241)","v":559.99737334410509},{"$f":"IF($F241=\"\",0,VLOOKUP($E241,Drivers!$A$26:$F$48,MATCH(H$1,Drivers!$A$25:$F$25,0),0)*$F241)","v":559.99737334410509},{"$f":"IF($F241=\"\",0,VLOOKUP($E241,Drivers!$A$26:$F$48,MATCH(I$1,Drivers!$A$25:$F$25,0),0)*$F241)","v":559.99737334410509},{"$f":"IF($F241=\"\",0,VLOOKUP($E241,Drivers!$A$26:$F$48,MATCH(J$1,Drivers!$A$25:$F$25,0),0)*$F241)","v":559.99737334410509},{"$f":"IF($F241=\"\",0,VLOOKUP($E241,Drivers!$A$26:$F$48,MATCH(K$1,Drivers!$A$25:$F$25,0),0)*$F241)","v":559.99737334410509}]
["MATERIAIS_MANUTENÇÃO",1003,"COMITÊ DE INDICAÇÃO E AVALIAÇÃO",{"$f":"VLOOKUP(B242,Centro_Custo!$A$2:$C$36,3)","v":"Encargos de Gestão"},"Fixo",{"$f":"SUMIFS('Classificação OPEX'!$O$4:$O$1666,'Classificação OPEX'!$Q$4:$Q$1666,\"N\",'Classificação OPEX'!$S$4:$S$1666,\"NÃO\",'Classificação OPEX'!$V$4:$V$1666,DRIVER_OPEX!A242,'Classificação OPEX'!$W$4:$W$1666,DRIVER_OPEX!B242)","v":0},{"$f":"IF($F242=\"\",0,VLOOKUP($E242,Drivers!$A$26:$F$48,MATCH(G$1,Drivers!$A$25:$F$25,0),0)*$F242)","v":0},{"$f":"IF($F242=\"\",0,VLOOKUP($E242,Drivers!$A$26:$F$48,MATCH(H$1,Drivers!$A$25:$F$25,0),0)*$F242)","v":0},{"$f":"IF($F242=\"\",0,VLOOKUP($E242,Drivers!$A$26:$F$48,MATCH(I$1,Drivers!$A$25:$F$25,0),0)*$F242)","v":0},{"$f":"IF($F242=\"\",0,VLOOKUP($E242,Drivers!$A$26:$F$48,MATCH(J$1,Drivers!$A$25:$F$25,0),0)*$F242)","v":0},{"$f":"IF($F242=\"\",0,VLOOKUP($E242,Drivers!$A$26:$F$48,MATCH(K$1,Drivers!$A$25:$F$25,0),0)*$F242)","v":0}]
["MATERIAIS_MANUTENÇÃO",1004,"COMITÊ DE AUDITORIA ESTATUTÁRIA",{"$f":"VLOOKUP(B243,Centro_Custo!$A$2:$C$36,3)","v":"Encargos de Gestão"},"Fixo",{"$f":"SUMIFS('Classificação OPEX'!$O$4:$O$1666,'Classificação OPEX'!$Q$4:$Q$1666,\"N\",'Classificação OPEX'!$S$4:$S$1666,\"NÃO\",'Classificação OPEX'!$V$4:$V$1666,DRIVER_OPEX!A243,'Classificação OPEX'!$W$4:$W$1666,DRIVER_OPEX!B243)","v":0},{"$f":"IF($F243=\"\",0,VLOOKUP($E243,Drivers!$A$26:$F$48,MATCH(G$1,Drivers!$A$25:$F$25,0),0)*$F243)","v":0},{"$f":"IF($F243=\"\",0,VLOOKUP($E243,Drivers!$A$26:$F$48,MATCH(H$1,Drivers!$A$25:$F$25,0),0)*$F243)","v":0},{"$f":"IF($F243=\"\",0,VLOOKUP($E243,Drivers!$A$26:$F$48,MATCH(I$1,Drivers!$A$25:$F$25,0),0)*$F243)","v":0},{"$f":"IF($F243=\"\",0,VLOOKUP($E243,Drivers!$A$26:$F$48,MATCH(J$1,Drivers!$A$25:$F$25,0),0)*$F243)","v":0},{"$f":"IF($F243=\"\",0,VLOOKUP($E243,Drivers!$A$26:$F$48,MATCH(K$1,Drivers!$A$25:$F$25,0),0)*$F243)","v":0}]
["MATERIAIS_MANUTENÇÃO",1005,"AUDITORIA INTERNA",{"$f":"VLOOKUP(B244,Centro_Custo!$A$2:$C$36,3)","v":"Encargos de Gestão"},"Fixo",{"$f":"SUMIFS('Classificação OPEX'!$O$4:$O$1666,'Classificação OPEX'!$Q$4:$Q$1666,\"N\",'Classificação OPEX'!$S$4:$S$1666,\"NÃO\",'Classificação OPEX'!$V$4:$V$1666,DRIVER_OPEX!A244,'Classificação OPEX'!$W$4:$W$1666,DRIVER_OPEX!B244)","v":30.541107393897995},{"$f":"IF($F244=\"\",0,VLOOKUP($E244,Drivers!$A$26:$F$48,MATCH(G$1,Drivers!$A$25:$F$25,0),0)*$F244)","v":30.541107393897995},{"$f":"IF($F244=\"\",0,VLOOKUP($E244,Drivers!$A$26:$F$48,MATCH(H$1,Drivers!$A$25:$F$25,0),0)*$F244)","v":30.541107393897995},{"$f":"IF($F244=\"\",0,VLOOKUP($E244,Drivers!$A$26:$F$48,MATCH(I$1,Drivers!$A$25:$F$25,0),0)*$F244)","v":30.541107393897995},{"$f":"IF($F244=\"\",0,VLOOKUP($E244,Drivers!$A$26:$F$48,MATCH(J$1,Drivers!$A$25:$F$25,0),0)*$F244)","v":30.541107393897995},{"$f":"IF($F244=\"\",0,VLOOKUP($E244,Drivers!$A$26:$F$48,MATCH(K$1,Drivers!$A$25:$F$25,0),0)*$F244)","v":30.541107393897995}]
["MATERIAIS_MANUTENÇÃO",1010,"GOVERNANÇA SOCIETÁRIA",{"$f":"VLOOKUP(B245,Centro_Custo!$A$2:$C$36,3)","v":"Encargos de Gestão"},"Fixo",{"$f":"SUMIFS('Classificação OPEX'!$O$4:$O$1666,'Classificação OPEX'!$Q$4:$Q$1666,\"N\",'Classificação OPEX'!$S$4:$S$1666,\"NÃO\",'Classificação OPEX'!$V$4:$V$1666,DRIVER_OPEX!A245,'Classificação OPEX'!$W$4:$W$1666,DRIVER_OPEX!B245)","v":581.82151906035995},{"$f":"IF($F245=\"\",0,VLOOKUP($E245,Drivers!$A$26:$F$48,MATCH(G$1,Drivers!$A$25:$F$25,0),0)*$F245)","v":581.82151906035995},{"$f":"IF($F245=\"\",0,VLOOKUP($E245,Drivers!$A$26:$F$48,MATCH(H$1,Drivers!$A$25:$F$25,0),0)*$F245)","v":581.82151906035995},{"$f":"IF($F245=\"\",0,VLOOKUP($E245,Drivers!$A$26:$F$48,MATCH(I$1,Drivers!$A$25:$F$25,0),0)*$F245)","v":581.82151906035995},{"$f":"IF($F245=\"\",0,VLOOKUP($E245,Drivers!$A$26:$F$48,MATCH(J$1,Drivers!$A$25:$F$25,0),0)*$F245)","v":581.82151906035995},{"$f":"IF($F245=\"\",0,VLOOKUP($E245,Drivers!$A$26:$F$48,MATCH(K$1,Drivers!$A$25:$F$25,0),0)*$F245)","v":581.82151906035995}]
["MATERIAIS_MANUTENÇÃO",2100,"SECRETARIA",{"$f":"VLOOKUP(B246,Centro_Custo!$A$2:$C$36,3)","v":"Encargos de Gestão"},"Fixo",{"$f":"SUMIFS('Classificação OPEX'!$O$4:$O$1666,'Classificação OPEX'!$Q$4:$Q$1666,\"N\",'Classificação OPEX'!$S$4:$S$1666,\"NÃO\",'Classificação OPEX'!$V$4:$V$1666,DRIVER_OPEX!A246,'Classificação OPEX'!$W$4:$W$1666,DRIVER_OPEX!B246)","v":1896.6590308027701},{"$f":"IF($F246=\"\",0,VLOOKUP($E246,Drivers!$A$26:$F$48,MATCH(G$1,Drivers!$A$25:$F$25,0),0)*$F246)","v":1896.6590308027701},{"$f":"IF($F246=\"\",0,VLOOKUP($E246,Drivers!$A$26:$F$48,MATCH(H$1,Drivers!$A$25:$F$25,0),0)*$F246)","v":1896.6590308027701},{"$f":"IF($F246=\"\",0,VLOOKUP($E246,Drivers!$A$26:$F$48,MATCH(I$1,Drivers!$A$25:$F$25,0),0)*$F246)","v":1896.6590308027701},{"$f":"IF($F246=\"\",0,VLOOKUP($E246,Drivers!$A$26:$F$48,MATCH(J$1,Drivers!$A$25:$F$25,0),0)*$F246)","v":1896.6590308027701},{"$f":"IF($F246=\"\",0,VLOOKUP($E246,Drivers!$A$26:$F$48,MATCH(K$1,Drivers!$A$25:$F$25,0),0)*$F246)","v":1896.6590308027701}]
["MATERIAIS_MANUTENÇÃO",2130,"ASSESSORIA DE RELAÇÕES INSTITUCIONAIS E NOVOS NEGÓCIOS",{"$f":"VLOOKUP(B247,Centro_Custo!$A$2:$C$36,3)","v":"Encargos de Gestão"},"Fixo",{"$f":"SUMIFS('Classificação OPEX'!$O$4:$O$1666,'Classificação OPEX'!$Q$4:$Q$1666,\"N\",'Classificação OPEX'!$S$4:$S$1666,\"NÃO\",'Classificação OPEX'!$V$4:$V$1666,DRIVER_OPEX!A247,'Classificação OPEX'!$W$4:$W$1666,DRIVER_OPEX!B247)","v":546.49067425946566},{"$f":"IF($F247=\"\",0,VLOOKUP($E247,Drivers!$A$26:$F$48,MATCH(G$1,Drivers!$A$25:$F$25,0),0)*$F247)","v":546.49067425946566},{"$f":"IF($F247=\"\",0,VLOOKUP($E247,Drivers!$A$26:$F$48,MATCH(H$1,Drivers!$A$25:$F$25,0),0)*$F247)","v":546.49067425946566},{"$f":"IF($F247=\"\",0,VLOOKUP($E247,Drivers!$A$26:$F$48,MATCH(I$1,Drivers!$A$25:$F$25,0),0)*$F247)","v":546.49067425946566},{"$f":"IF($F247=\"\",0,VLOOKUP($E247,Drivers!$A$26:$F$48,MATCH(J$1,Drivers!$A$25:$F$25,0),0)*$F247)","v":546.49067425946566},{"$f":"IF($F247=\"\",0,VLOOKUP($E247,Drivers!$A$26:$F$48,MATCH(K$1,Drivers!$A$25:$F$25,0),0)*$F247)","v":546.49067425946566}]
["MATERIAIS_MANUTENÇÃO",2140,"ASSESSORIA DTC",{"$f":"VLOOKUP(B248,Centro_Custo!$A$2:$C$36,3)","v":"Encargos de Comercialização"},"Fixo",{"$f":"SUMIFS('Classificação OPEX'!$O$4:$O$1666,'Classificação OPEX'!$Q$4:$Q$1666,\"N\",'Classificação OPEX'!$S$4:$S$1666,\"NÃO\",'Classificação OPEX'!$V$4:$V$1666,DRIVER_OPEX!A248,'Classificação OPEX'!$W$4:$W$1666,DRIVER_OPEX!B248)","v":30.66354738825515},{"$f":"IF($F248=\"\",0,VLOOKUP($E248,Drivers!$A$26:$F$48,MATCH(G$1,Drivers!$A$25:$F$25,0),0)*$F248)","v":30.66354738825515},{"$f":"IF($F248=\"\",0,VLOOKUP($E248,Drivers!$A$26:$F$48,MATCH(H$1,Drivers!$A$25:$F$25,0),0)*$F248)","v":30.66354738825515},{"$f":"IF($F248=\"\",0,VLOOKUP($E248,Drivers!$A$26:$F$48,MATCH(I$1,Drivers!$A$25:$F$25,0),0)*$F248)","v":30.66354738825515},{"$f":"IF($F248=\"\",0,VLOOKUP($E248,Drivers!$A$26:$F$48,MATCH(J$1,Drivers!$A$25:$F$25,0),0)*$F248)","v":30.66354738825515},{"$f":"IF($F248=\"\",0,VLOOKUP($E248,Drivers!$A$26:$F$48,MATCH(K$1,Drivers!$A$25:$F$25,0),0)*$F248)","v":30.66354738825515}]
["MATERIAIS_MANUTENÇÃO",2310,"ASSESSORIA DAF",{"$f":"VLOOKUP(B249,Centro_Custo!$A$2:$C$36,3)","v":"Encargos de Gestão"},"Fixo",{"$f":"SUMIFS('Classificação OPEX'!$O$4:$O$1666,'Classificação OPEX'!$Q$4:$Q$1666,\"N\",'Classificação OPEX'!$S$4:$S$1666,\"NÃO\",'Classificação OPEX'!$V$4:$V$1666,DRIVER_OPEX!A249,'Classificação OPEX'!$W$4:$W$1666,DRIVER_OPEX!B249)","v":1887.9741655160274},{"$f":"IF($F249=\"\",0,VLOOKUP($E249,Drivers!$A$26:$F$48,MATCH(G$1,Drivers!$A$25:$F$25,0),0)*$F249)","v":1887.9741655160274},{"$f":"IF($F249=\"\",0,VLOOKUP($E249,Drivers!$A$26:$F$48,MATCH(H$1,Drivers!$A$25:$F$25,0),0)*$F249)","v":1887.9741655160274},{"$f":"IF($F249=\"\",0,VLOOKUP($E249,Drivers!$A$26:$F$48,MATCH(I$1,Drivers!$A$25:$F$25,0),0)*$F249)","v":1887.9741655160274},{"$f":"IF($F249=\"\",0,VLOOKUP($E249,Drivers!$A$26:$F$48,MATCH(J$1,Drivers!$A$25:$F$25,0),0)*$F249)","v":1887.9741655160274},{"$f":"IF($F249=\"\",0,VLOOKUP($E249,Drivers!$A$26:$F$48,MATCH(K$1,Drivers!$A$25:$F$25,0),0)*$F249)","v":1887.9741655160274}]
["MATERIAIS_MANUTENÇÃO",3400,"MARKETING",{"$f":"VLOOKUP(B250,Centro_Custo!$A$2:$C$36,3)","v":"Encargos de Comercialização"},"Fixo",{"$f":"SUMIFS('Classificação OPEX'!$O$4:$O$1666,'Classificação OPEX'!$Q$4:$Q$1666,\"N\",'Classificação OPEX'!$S$4:$S$1666,\"NÃO\",'Classificação OPEX'!$V$4:$V$1666,DRIVER_OPEX!A250,'Classificação OPEX'!$W$4:$W$1666,DRIVER_OPEX!B250)","v":1175.6311687374971},{"$f":"IF($F250=\"\",0,VLOOKUP($E250,Drivers!$A$26:$F$48,MATCH(G$1,Drivers!$A$25:$F$25,0),0)*$F250)","v":1175.6311687374971},{"$f":"IF($F250=\"\",0,VLOOKUP($E250,Drivers!$A$26:$F$48,MATCH(H$1,Drivers!$A$25:$F$25,0),0)*$F250)","v":1175.6311687374971},{"$f":"IF($F250=\"\",0,VLOOKUP($E250,Drivers!$A$26:$F$48,MATCH(I$1,Drivers!$A$25:$F$25,0),0)*$F250)","v":1175.6311687374971},{"$f":"IF($F250=\"\",0,VLOOKUP($E250,Drivers!$A$26:$F$48,MATCH(J$1,Drivers!$A$25:$F$25,0),0)*$F250)","v":1175.6311687374971},{"$f":"IF($F250=\"\",0,VLOOKUP($E250,Drivers!$A$26:$F$48,MATCH(K$1,Drivers!$A$25:$F$25,0),0)*$F250)","v":1175.6311687374971}]
["MATERIAIS_MANUTENÇÃO",5300,"GERÊNCIA COMERCIAL",{"$f":"VLOOKUP(B251,Centro_Custo!$A$2:$C$36,3)","v":"Encargos de Comercialização"},"Fixo",{"$f":"SUMIFS('Classificação OPEX'!$O$4:$O$1666,'Classificação OPEX'!$Q$4:$Q$1666,\"N\",'Classificação OPEX'!$S$4:$S$1666,\"NÃO\",'Classificação OPEX'!$V$4:$V$1666,DRIVER_OPEX!A251,'Classificação OPEX'!$W$4:$W$1666,DRIVER_OPEX!B251)","v":419405.23563243635},{"$f":"IF($F251=\"\",0,VLOOKUP($E251,Drivers!$A$26:$F$48,MATCH(G$1,Drivers!$A$25:$F$25,0),0)*$F251)","v":419405.23563243635},{"$f":"IF($F251=\"\",0,VLOOKUP($E251,Drivers!$A$26:$F$48,MATCH(H$1,Drivers!$A$25:$F$25,0),0)*$F251)","v":419405.23563243635},{"$f":"IF($F251=\"\",0,VLOOKUP($E251,Drivers!$A$26:$F$48,MATCH(I$1,Drivers!$A$25:$F$25,0),0)*$F251)","v":419405.23563243635},{"$f":"IF($F251=\"\",0,VLOOKUP($E251,Drivers!$A$26:$F$48,MATCH(J$1,Drivers!$A$25:$F$25,0),0)*$F251)","v":419405.23563243635},{"$f":"IF($F251=\"\",0,VLOOKUP($E251,Drivers!$A$26:$F$48,MATCH(K$1,Drivers!$A$25:$F$25,0),0)*$F251)","v":419405.23563243635}]
["MATERIAIS_MANUTENÇÃO",9999,"RATEIO",{"$f":"VLOOKUP(B252,Centro_Custo!$A$2:$C$36,3)","v":"Encargos de Gestão"},"Fixo",{"$f":"SUMIFS('Classificação OPEX'!$O$4:$O$1666,'Classificação OPEX'!$Q$4:$Q$1666,\"N\",'Classificação OPEX'!$S$4:$S$1666,\"NÃO\",'Classificação OPEX'!$V$4:$V$1666,DRIVER_OPEX!A252,'Classificação OPEX'!$W$4:$W$1666,DRIVER_OPEX!B252)","v":0},{"$f":"IF($F252=\"\",0,VLOOKUP($E252,Drivers!$A$26:$F$48,MATCH(G$1,Drivers!$A$25:$F$25,0),0)*$F252)","v":0},{"$f":"IF($F252=\"\",0,VLOOKUP($E252,Drivers!$A$26:$F$48,MATCH(H$1,Drivers!$A$25:$F$25,0),0)*$F252)","v":0},{"$f":"IF($F252=\"\",0,VLOOKUP($E252,Drivers!$A$26:$F$48,MATCH(I$1,Drivers!$A$25:$F$25,0),0)*$F252)","v":0},{"$f":"IF($F252=\"\",0,VLOOKUP($E252,Drivers!$A$26:$F$48,MATCH(J$1,Drivers!$A$25:$F$25,0),0)*$F252)","v":0},{"$f":"IF($F252=\"\",0,VLOOKUP($E252,Drivers!$A$26:$F$48,MATCH(K$1,Drivers!$A$25:$F$25,0),0)*$F252)","v":0}]
["MATERIAIS_MANUTENÇÃO","5400","GERÊNCIA COMERCIAL",{"$f":"VLOOKUP(B253,Centro_Custo!$A$2:$C$36,3)","v":"Encargos de Gestão"},"Fixo",{"$f":"SUMIFS('Classificação OPEX'!$O$4:$O$1666,'Classificação OPEX'!$Q$4:$Q$1666,\"N\",'Classificação OPEX'!$S$4:$S$1666,\"NÃO\",'Classificação OPEX'!$V$4:$V$1666,DRIVER_OPEX!A253,'Classificação OPEX'!$W$4:$W$1666,DRIVER_OPEX!B253)","v":8020.1727853910706},{"$f":"IF($F253=\"\",0,VLOOKUP($E253,Drivers!$A$26:$F$48,MATCH(G$1,Drivers!$A$25:$F$25,0),0)*$F253)","v":8020.1727853910706},{"$f":"IF($F253=\"\",0,VLOOKUP($E253,Drivers!$A$26:$F$48,MATCH(H$1,Drivers!$A$25:$F$25,0),0)*$F253)","v":8020.1727853910706},{"$f":"IF($F253=\"\",0,VLOOKUP($E253,Drivers!$A$26:$F$48,MATCH(I$1,Drivers!$A$25:$F$25,0),0)*$F253)","v":8020.1727853910706},{"$f":"IF($F253=\"\",0,VLOOKUP($E253,Drivers!$A$26:$F$48,MATCH(J$1,Drivers!$A$25:$F$25,0),0)*$F253)","v":8020.1727853910706},{"$f":"IF($F253=\"\",0,VLOOKUP($E253,Drivers!$A$26:$F$48,MATCH(K$1,Drivers!$A$25:$F$25,0),0)*$F253)","v":8020.1727853910706}]
["MATERIAIS_MANUTENÇÃO","5500","GERÊNCIA COMERCIAL",{"$f":"VLOOKUP(B254,Centro_Custo!$A$2:$C$36,3)","v":"Encargos de Gestão"},"Fixo",{"$f":"SUMIFS('Classificação OPEX'!$O$4:$O$1666,'Classificação OPEX'!$Q$4:$Q$1666,\"N\",'Classificação OPEX'!$S$4:$S$1666,\"NÃO\",'Classificação OPEX'!$V$4:$V$1666,DRIVER_OPEX!A254,'Classificação OPEX'!$W$4:$W$1666,DRIVER_OPEX!B254)","v":194422.08994297447},{"$f":"IF($F254=\"\",0,VLOOKUP($E254,Drivers!$A$26:$F$48,MATCH(G$1,Drivers!$A$25:$F$25,0),0)*$F254)","v":194422.08994297447},{"$f":"IF($F254=\"\",0,VLOOKUP($E254,Drivers!$A$26:$F$48,MATCH(H$1,Drivers!$A$25:$F$25,0),0)*$F254)","v":194422.08994297447},{"$f":"IF($F254=\"\",0,VLOOKUP($E254,Drivers!$A$26:$F$48,MATCH(I$1,Drivers!$A$25:$F$25,0),0)*$F254)","v":194422.08994297447},{"$f":"IF($F254=\"\",0,VLOOKUP($E254,Drivers!$A$26:$F$48,MATCH(J$1,Drivers!$A$25:$F$25,0),0)*$F254)","v":194422.08994297447},{"$f":"IF($F254=\"\",0,VLOOKUP($E254,Drivers!$A$26:$F$48,MATCH(K$1,Drivers!$A$25:$F$25,0),0)*$F254)","v":194422.08994297447}]
["PESSOAL","TOTAL","TOTAL",null,null,{"$f":"SUM(F256:F290)","v":43640314.617384486},{"$f":"SUM(G256:G290)","v":46543249.712801956},48684790.503688492,49366445.777220465,50073936.05598063,50630979.094779454]
["PESSOAL",1001,{"$f":"VLOOKUP(B256,Centro_Custo!$A$2:$B$36,2,0)","v":"CONSELHO DE ADMINISTRAÇÃO"},{"$f":"VLOOKUP(B256,Centro_Custo!$A$2:$C$36,3)","v":"Encargos de Gestão"},"Funcionário",{"$f":"SUMIFS('Classificação OPEX'!$O$4:$O$1666,'Classificação OPEX'!$Q$4:$Q$1666,\"N\",'Classificação OPEX'!$S$4:$S$1666,\"NÃO\",'Classificação OPEX'!$V$4:$V$1666,DRIVER_OPEX!A256,'Classificação OPEX'!$W$4:$W$1666,DRIVER_OPEX!B256)","v":167474.14465147175},{"$f":"IF($F256=\"\",0,VLOOKUP($E256,Drivers!$A$26:$F$48,MATCH(G$1,Drivers!$A$25:$F$25,0),0)*$F256)","v":178492.18048380542},{"$f":"IF($F256=\"\",0,VLOOKUP($E256,Drivers!$A$26:$F$48,MATCH(H$1,Drivers!$A$25:$F$25,0),0)*$F256)","v":182899.39481673887},{"$f":"IF($F256=\"\",0,VLOOKUP($E256,Drivers!$A$26:$F$48,MATCH(I$1,Drivers!$A$25:$F$25,0),0)*$F256)","v":184001.19839997223},{"$f":"IF($F256=\"\",0,VLOOKUP($E256,Drivers!$A$26:$F$48,MATCH(J$1,Drivers!$A$25:$F$25,0),0)*$F256)","v":184001.19839997223},{"$f":"IF($F256=\"\",0,VLOOKUP($E256,Drivers!$A$26:$F$48,MATCH(K$1,Drivers!$A$25:$F$25,0),0)*$F256)","v":184001.19839997223}]
["PESSOAL",1002,{"$f":"VLOOKUP(B257,Centro_Custo!$A$2:$B$36,2,0)","v":"CONSELHO FISCAL"},{"$f":"VLOOKUP(B257,Centro_Custo!$A$2:$C$36,3)","v":"Encargos de Gestão"},"Funcionário",{"$f":"SUMIFS('Classificação OPEX'!$O$4:$O$1666,'Classificação OPEX'!$Q$4:$Q$1666,\"N\",'Classificação OPEX'!$S$4:$S$1666,\"NÃO\",'Classificação OPEX'!$V$4:$V$1666,DRIVER_OPEX!A257,'Classificação OPEX'!$W$4:$W$1666,DRIVER_OPEX!B257)","v":40163.599586748911},{"$f":"IF($F257=\"\",0,VLOOKUP($E257,Drivers!$A$26:$F$48,MATCH(G$1,Drivers!$A$25:$F$25,0),0)*$F257)","v":42805.941664824502},{"$f":"IF($F257=\"\",0,VLOOKUP($E257,Drivers!$A$26:$F$48,MATCH(H$1,Drivers!$A$25:$F$25,0),0)*$F257)","v":43862.878496054727},{"$f":"IF($F257=\"\",0,VLOOKUP($E257,Drivers!$A$26:$F$48,MATCH(I$1,Drivers!$A$25:$F$25,0),0)*$F257)","v":44127.112703862287},{"$f":"IF($F257=\"\",0,VLOOKUP($E257,Drivers!$A$26:$F$48,MATCH(J$1,Drivers!$A$25:$F$25,0),0)*$F257)","v":44127.112703862287},{"$f":"IF($F257=\"\",0,VLOOKUP($E257,Drivers!$A$26:$F$48,MATCH(K$1,Drivers!$A$25:$F$25,0),0)*$F257)","v":44127.112703862287}]
["PESSOAL",1003,{"$f":"VLOOKUP(B258,Centro_Custo!$A$2:$B$36,2,0)","v":"COMITÊ DE INDICAÇÃO E AVALIAÇÃO"},{"$f":"VLOOKUP(B258,Centro_Custo!$A$2:$C$36,3)","v":"Encargos de Gestão"},"Funcionário",{"$f":"SUMIFS('Classificação OPEX'!$O$4:$O$1666,'Classificação OPEX'!$Q$4:$Q$1666,\"N\",'Classificação OPEX'!$S$4:$S$1666,\"NÃO\",'Classificação OPEX'!$V$4:$V$1666,DRIVER_OPEX!A258,'Classificação OPEX'!$W$4:$W$1666,DRIVER_OPEX!B258)","v":0},{"$f":"IF($F258=\"\",0,VLOOKUP($E258,Drivers!$A$26:$F$48,MATCH(G$1,Drivers!$A$25:$F$25,0),0)*$F258)","v":0},{"$f":"IF($F258=\"\",0,VLOOKUP($E258,Drivers!$A$26:$F$48,MATCH(H$1,Drivers!$A$25:$F$25,0),0)*$F258)","v":0},{"$f":"IF($F258=\"\",0,VLOOKUP($E258,Drivers!$A$26:$F$48,MATCH(I$1,Drivers!$A$25:$F$25,0),0)*$F258)","v":0},{"$f":"IF($F258=\"\",0,VLOOKUP($E258,Drivers!$A$26:$F$48,MATCH(J$1,Drivers!$A$25:$F$25,0),0)*$F258)","v":0},{"$f":"IF($F258=\"\",0,VLOOKUP($E258,Drivers!$A$26:$F$48,MATCH(K$1,Drivers!$A$25:$F$25,0),0)*$F258)","v":0}]
["PESSOAL",1004,{"$f":"VLOOKUP(B259,Centro_Custo!$A$2:$B$36,2,0)","v":"COMITÊ DE AUDITORIA ESTATUTÁRIA"},{"$f":"VLOOKUP(B259,Centro_Custo!$A$2:$C$36,3)","v":"Encargos de Gestão"},"Funcionário",{"$f":"SUMIFS('Classificação OPEX'!$O$4:$O$1666,'Classificação OPEX'!$Q$4:$Q$1666,\"N\",'Classificação OPEX'!$S$4:$S$1666,\"NÃO\",'Classificação OPEX'!$V$4:$V$1666,DRIVER_OPEX!A259,'Classificação OPEX'!$W$4:$W$1666,DRIVER_OPEX!B259)","v":0},{"$f":"IF($F259=\"\",0,VLOOKUP($E259,Drivers!$A$26:$F$48,MATCH(G$1,Drivers!$A$25:$F$25,0),0)*$F259)","v":0},{"$f":"IF($F259=\"\",0,VLOOKUP($E259,Drivers!$A$26:$F$48,MATCH(H$1,Drivers!$A$25:$F$25,0),0)*$F259)","v":0},{"$f":"IF($F259=\"\",0,VLOOKUP($E259,Drivers!$A$26:$F$48,MATCH(I$1,Drivers!$A$25:$F$25,0),0)*$F259)","v":0},{"$f":"IF($F259=\"\",0,VLOOKUP($E259,Drivers!$A$26:$F$48,MATCH(J$1,Drivers!$A$25:$F$25,0),0)*$F259)","v":0},{"$f":"IF($F259=\"\",0,VLOOKUP($E259,Drivers!$A$26:$F$48,MATCH(K$1,Drivers!$A$25:$F$25,0),0)*$F259)","v":0}]
["PESSOAL",1005,{"$f":"VLOOKUP(B260,Centro_Custo!$A$2:$B$36,2,0)","v":"AUDITORIA INTERNA"},{"$f":"VLOOKUP(B260,Centro_Custo!$A$2:$C$36,3)","v":"Encargos de Gestão"},"Funcionário",{"$f":"SUMIFS('Classificação OPEX'!$O$4:$O$1666,'Classificação OPEX'!$Q$4:$Q$1666,\"N\",'Classificação OPEX'!$S$4:$S$1666,\"NÃO\",'Classificação OPEX'!$V$4:$V$1666,DRIVER_OPEX!A260,'Classificação OPEX'!$W$4:$W$1666,DRIVER_OPEX!B260)","v":496249.1312331821},{"$f":"IF($F260=\"\",0,VLOOKUP($E260,Drivers!$A$26:$F$48,MATCH(G$1,Drivers!$A$25:$F$25,0),0)*$F260)","v":528897.1003932599},{"$f":"IF($F260=\"\",0,VLOOKUP($E260,Drivers!$A$26:$F$48,MATCH(H$1,Drivers!$A$25:$F$25,0),0)*$F260)","v":541956.28805729095},{"$f":"IF($F260=\"\",0,VLOOKUP($E260,Drivers!$A$26:$F$48,MATCH(I$1,Drivers!$A$25:$F$25,0),0)*$F260)","v":545221.08497329871},{"$f":"IF($F260=\"\",0,VLOOKUP($E260,Drivers!$A$26:$F$48,MATCH(J$1,Drivers!$A$25:$F$25,0),0)*$F260)","v":545221.08497329871},{"$f":"IF($F260=\"\",0,VLOOKUP($E260,Drivers!$A$26:$F$48,MATCH(K$1,Drivers!$A$25:$F$25,0),0)*$F260)","v":545221.08497329871}]
["PESSOAL",1010,{"$f":"VLOOKUP(B261,Centro_Custo!$A$2:$B$36,2,0)","v":"GOVERNANÇA SOCIETÁRIA"},{"$f":"VLOOKUP(B261,Centro_Custo!$A$2:$C$36,3)","v":"Encargos de Gestão"},"Funcionário",{"$f":"SUMIFS('Classificação OPEX'!$O$4:$O$1666,'Classificação OPEX'!$Q$4:$Q$1666,\"N\",'Classificação OPEX'!$S$4:$S$1666,\"NÃO\",'Classificação OPEX'!$V$4:$V$1666,DRIVER_OPEX!A261,'Classificação OPEX'!$W$4:$W$1666,DRIVER_OPEX!B261)","v":432458.27224470337},{"$f":"IF($F261=\"\",0,VLOOKUP($E261,Drivers!$A$26:$F$48,MATCH(G$1,Drivers!$A$25:$F$25,0),0)*$F261)","v":460909.47436606546},{"$f":"IF($F261=\"\",0,VLOOKUP($E261,Drivers!$A$26:$F$48,MATCH(H$1,Drivers!$A$25:$F$25,0),0)*$F261)","v":472289.95521461027},{"$f":"IF($F261=\"\",0,VLOOKUP($E261,Drivers!$A$26:$F$48,MATCH(I$1,Drivers!$A$25:$F$25,0),0)*$F261)","v":475135.07542674645},{"$f":"IF($F261=\"\",0,VLOOKUP($E261,Drivers!$A$26:$F$48,MATCH(J$1,Drivers!$A$25:$F$25,0),0)*$F261)","v":475135.07542674645},{"$f":"IF($F261=\"\",0,VLOOKUP($E261,Drivers!$A$26:$F$48,MATCH(K$1,Drivers!$A$25:$F$25,0),0)*$F261)","v":475135.07542674645}]
["PESSOAL",2110,{"$f":"VLOOKUP(B262,Centro_Custo!$A$2:$B$36,2,0)","v":"ASSESSORIA DA DIRETORIA EXECUTIVA"},{"$f":"VLOOKUP(B262,Centro_Custo!$A$2:$C$36,3)","v":"Encargos de Gestão"},"Funcionário",{"$f":"SUMIFS('Classificação OPEX'!$O$4:$O$1666,'Classificação OPEX'!$Q$4:$Q$1666,\"N\",'Classificação OPEX'!$S$4:$S$1666,\"NÃO\",'Classificação OPEX'!$V$4:$V$1666,DRIVER_OPEX!A262,'Classificação OPEX'!$W$4:$W$1666,DRIVER_OPEX!B262)","v":370761.1304580674},{"$f":"IF($F262=\"\",0,VLOOKUP($E262,Drivers!$A$26:$F$48,MATCH(G$1,Drivers!$A$25:$F$25,0),0)*$F262)","v":395153.3100934666},{"$f":"IF($F262=\"\",0,VLOOKUP($E262,Drivers!$A$26:$F$48,MATCH(H$1,Drivers!$A$25:$F$25,0),0)*$F262)","v":404910.18194762623},{"$f":"IF($F262=\"\",0,VLOOKUP($E262,Drivers!$A$26:$F$48,MATCH(I$1,Drivers!$A$25:$F$25,0),0)*$F262)","v":407349.39991116611},{"$f":"IF($F262=\"\",0,VLOOKUP($E262,Drivers!$A$26:$F$48,MATCH(J$1,Drivers!$A$25:$F$25,0),0)*$F262)","v":407349.39991116611},{"$f":"IF($F262=\"\",0,VLOOKUP($E262,Drivers!$A$26:$F$48,MATCH(K$1,Drivers!$A$25:$F$25,0),0)*$F262)","v":407349.39991116611}]
["PESSOAL",2120,{"$f":"VLOOKUP(B263,Centro_Custo!$A$2:$B$36,2,0)","v":"ASSESSORIA DA PRESIDÊNCIA"},{"$f":"VLOOKUP(B263,Centro_Custo!$A$2:$C$36,3)","v":"Encargos de Gestão"},"Funcionário",{"$f":"SUMIFS('Classificação OPEX'!$O$4:$O$1666,'Classificação OPEX'!$Q$4:$Q$1666,\"N\",'Classificação OPEX'!$S$4:$S$1666,\"NÃO\",'Classificação OPEX'!$V$4:$V$1666,DRIVER_OPEX!A263,'Classificação OPEX'!$W$4:$W$1666,DRIVER_OPEX!B263)","v":896528.62543044612},{"$f":"IF($F263=\"\",0,VLOOKUP($E263,Drivers!$A$26:$F$48,MATCH(G$1,Drivers!$A$25:$F$25,0),0)*$F263)","v":955510.77184034395},{"$f":"IF($F263=\"\",0,VLOOKUP($E263,Drivers!$A$26:$F$48,MATCH(H$1,Drivers!$A$25:$F$25,0),0)*$F263)","v":979103.63040430297},{"$f":"IF($F263=\"\",0,VLOOKUP($E263,Drivers!$A$26:$F$48,MATCH(I$1,Drivers!$A$25:$F$25,0),0)*$F263)","v":985001.84504529275},{"$f":"IF($F263=\"\",0,VLOOKUP($E263,Drivers!$A$26:$F$48,MATCH(J$1,Drivers!$A$25:$F$25,0),0)*$F263)","v":985001.84504529275},{"$f":"IF($F263=\"\",0,VLOOKUP($E263,Drivers!$A$26:$F$48,MATCH(K$1,Drivers!$A$25:$F$25,0),0)*$F263)","v":985001.84504529275}]
["PESSOAL",2130,{"$f":"VLOOKUP(B264,Centro_Custo!$A$2:$B$36,2,0)","v":"ASSESSORIA DE RELAÇÕES INSTITUCIONAIS E NOVOS NEGÓCIOS"},{"$f":"VLOOKUP(B264,Centro_Custo!$A$2:$C$36,3)","v":"Encargos de Gestão"},"Funcionário",{"$f":"SUMIFS('Classificação OPEX'!$O$4:$O$1666,'Classificação OPEX'!$Q$4:$Q$1666,\"N\",'Classificação OPEX'!$S$4:$S$1666,\"NÃO\",'Classificação OPEX'!$V$4:$V$1666,DRIVER_OPEX!A264,'Classificação OPEX'!$W$4:$W$1666,DRIVER_OPEX!B264)","v":281501.78856623243},{"$f":"IF($F264=\"\",0,VLOOKUP($E264,Drivers!$A$26:$F$48,MATCH(G$1,Drivers!$A$25:$F$25,0),0)*$F264)","v":300021.64307716879},{"$f":"IF($F264=\"\",0,VLOOKUP($E264,Drivers!$A$26:$F$48,MATCH(H$1,Drivers!$A$25:$F$25,0),0)*$F264)","v":307429.5848815433},{"$f":"IF($F264=\"\",0,VLOOKUP($E264,Drivers!$A$26:$F$48,MATCH(I$1,Drivers!$A$25:$F$25,0),0)*$F264)","v":309281.57033263694},{"$f":"IF($F264=\"\",0,VLOOKUP($E264,Drivers!$A$26:$F$48,MATCH(J$1,Drivers!$A$25:$F$25,0),0)*$F264)","v":309281.57033263694},{"$f":"IF($F264=\"\",0,VLOOKUP($E264,Drivers!$A$26:$F$48,MATCH(K$1,Drivers!$A$25:$F$25,0),0)*$F264)","v":309281.57033263694}]
["PESSOAL",2140,{"$f":"VLOOKUP(B265,Centro_Custo!$A$2:$B$36,2,0)","v":"ASSESSORIA DTC"},{"$f":"VLOOKUP(B265,Centro_Custo!$A$2:$C$36,3)","v":"Encargos de Comercialização"},"Funcionário",{"$f":"SUMIFS('Classificação OPEX'!$O$4:$O$1666,'Classificação OPEX'!$Q$4:$Q$1666,\"N\",'Classificação OPEX'!$S$4:$S$1666,\"NÃO\",'Classificação OPEX'!$V$4:$V$1666,DRIVER_OPEX!A265,'Classificação OPEX'!$W$4:$W$1666,DRIVER_OPEX!B265)","v":84420.735329095187},{"$f":"IF($F265=\"\",0,VLOOKUP($E265,Drivers!$A$26:$F$48,MATCH(G$1,Drivers!$A$25:$F$25,0),0)*$F265)","v":89974.731074430398},{"$f":"IF($F265=\"\",0,VLOOKUP($E265,Drivers!$A$26:$F$48,MATCH(H$1,Drivers!$A$25:$F$25,0),0)*$F265)","v":92196.329372564476},{"$f":"IF($F265=\"\",0,VLOOKUP($E265,Drivers!$A$26:$F$48,MATCH(I$1,Drivers!$A$25:$F$25,0),0)*$F265)","v":92751.728947097989},{"$f":"IF($F265=\"\",0,VLOOKUP($E265,Drivers!$A$26:$F$48,MATCH(J$1,Drivers!$A$25:$F$25,0),0)*$F265)","v":92751.728947097989},{"$f":"IF($F265=\"\",0,VLOOKUP($E265,Drivers!$A$26:$F$48,MATCH(K$1,Drivers!$A$25:$F$25,0),0)*$F265)","v":92751.728947097989}]
["PESSOAL",2200,{"$f":"VLOOKUP(B266,Centro_Custo!$A$2:$B$36,2,0)","v":"DIRETORIA COLEGIADA - PRESIDÊNCIA"},{"$f":"VLOOKUP(B266,Centro_Custo!$A$2:$C$36,3)","v":"Encargos de Gestão"},"Funcionário",{"$f":"SUMIFS('Classificação OPEX'!$O$4:$O$1666,'Classificação OPEX'!$Q$4:$Q$1666,\"N\",'Classificação OPEX'!$S$4:$S$1666,\"NÃO\",'Classificação OPEX'!$V$4:$V$1666,DRIVER_OPEX!A266,'Classificação OPEX'!$W$4:$W$1666,DRIVER_OPEX!B266)","v":1110094.5949968628},{"$f":"IF($F266=\"\",0,VLOOKUP($E266,Drivers!$A$26:$F$48,MATCH(G$1,Drivers!$A$25:$F$25,0),0)*$F266)","v":1183127.1341413935},{"$f":"IF($F266=\"\",0,VLOOKUP($E266,Drivers!$A$26:$F$48,MATCH(H$1,Drivers!$A$25:$F$25,0),0)*$F266)","v":1212340.1497992054},{"$f":"IF($F266=\"\",0,VLOOKUP($E266,Drivers!$A$26:$F$48,MATCH(I$1,Drivers!$A$25:$F$25,0),0)*$F266)","v":1219643.4037136585},{"$f":"IF($F266=\"\",0,VLOOKUP($E266,Drivers!$A$26:$F$48,MATCH(J$1,Drivers!$A$25:$F$25,0),0)*$F266)","v":1219643.4037136585},{"$f":"IF($F266=\"\",0,VLOOKUP($E266,Drivers!$A$26:$F$48,MATCH(K$1,Drivers!$A$25:$F$25,0),0)*$F266)","v":1219643.4037136585}]
["PESSOAL",2310,{"$f":"VLOOKUP(B267,Centro_Custo!$A$2:$B$36,2,0)","v":"ASSESSORIA DAF"},{"$f":"VLOOKUP(B267,Centro_Custo!$A$2:$C$36,3)","v":"Encargos de Gestão"},"Funcionário",{"$f":"SUMIFS('Classificação OPEX'!$O$4:$O$1666,'Classificação OPEX'!$Q$4:$Q$1666,\"N\",'Classificação OPEX'!$S$4:$S$1666,\"NÃO\",'Classificação OPEX'!$V$4:$V$1666,DRIVER_OPEX!A267,'Classificação OPEX'!$W$4:$W$1666,DRIVER_OPEX!B267)","v":13669.377556768388},{"$f":"IF($F267=\"\",0,VLOOKUP($E267,Drivers!$A$26:$F$48,MATCH(G$1,Drivers!$A$25:$F$25,0),0)*$F267)","v":14568.67871181894},{"$f":"IF($F267=\"\",0,VLOOKUP($E267,Drivers!$A$26:$F$48,MATCH(H$1,Drivers!$A$25:$F$25,0),0)*$F267)","v":14928.39917383916},{"$f":"IF($F267=\"\",0,VLOOKUP($E267,Drivers!$A$26:$F$48,MATCH(I$1,Drivers!$A$25:$F$25,0),0)*$F267)","v":15018.329289344214},{"$f":"IF($F267=\"\",0,VLOOKUP($E267,Drivers!$A$26:$F$48,MATCH(J$1,Drivers!$A$25:$F$25,0),0)*$F267)","v":15018.329289344214},{"$f":"IF($F267=\"\",0,VLOOKUP($E267,Drivers!$A$26:$F$48,MATCH(K$1,Drivers!$A$25:$F$25,0),0)*$F267)","v":15018.329289344214}]
["PESSOAL",2410,{"$f":"VLOOKUP(B268,Centro_Custo!$A$2:$B$36,2,0)","v":"ASSESSORIA DE SEGURANÇA DO TRABALHO"},{"$f":"VLOOKUP(B268,Centro_Custo!$A$2:$C$36,3)","v":"OPEX&ODESP"},"Funcionário",{"$f":"SUMIFS('Classificação OPEX'!$O$4:$O$1666,'Classificação OPEX'!$Q$4:$Q$1666,\"N\",'Classificação OPEX'!$S$4:$S$1666,\"NÃO\",'Classificação OPEX'!$V$4:$V$1666,DRIVER_OPEX!A268,'Classificação OPEX'!$W$4:$W$1666,DRIVER_OPEX!B268)","v":1255912.7896322184},{"$f":"IF($F268=\"\",0,VLOOKUP($E268,Drivers!$A$26:$F$48,MATCH(G$1,Drivers!$A$25:$F$25,0),0)*$F268)","v":1338538.6310553907},{"$f":"IF($F268=\"\",0,VLOOKUP($E268,Drivers!$A$26:$F$48,MATCH(H$1,Drivers!$A$25:$F$25,0),0)*$F268)","v":1371588.9676246597},{"$f":"IF($F268=\"\",0,VLOOKUP($E268,Drivers!$A$26:$F$48,MATCH(I$1,Drivers!$A$25:$F$25,0),0)*$F268)","v":1379851.5517669767},{"$f":"IF($F268=\"\",0,VLOOKUP($E268,Drivers!$A$26:$F$48,MATCH(J$1,Drivers!$A$25:$F$25,0),0)*$F268)","v":1379851.5517669767},{"$f":"IF($F268=\"\",0,VLOOKUP($E268,Drivers!$A$26:$F$48,MATCH(K$1,Drivers!$A$25:$F$25,0),0)*$F268)","v":1379851.5517669767}]
["PESSOAL",3200,{"$f":"VLOOKUP(B269,Centro_Custo!$A$2:$B$36,2,0)","v":"GERÊNCIA DE PLANEJAMENTO E MEIO AMBIENTE"},{"$f":"VLOOKUP(B269,Centro_Custo!$A$2:$C$36,3)","v":"OPEX&ODESP"},"Funcionário",{"$f":"SUMIFS('Classificação OPEX'!$O$4:$O$1666,'Classificação OPEX'!$Q$4:$Q$1666,\"N\",'Classificação OPEX'!$S$4:$S$1666,\"NÃO\",'Classificação OPEX'!$V$4:$V$1666,DRIVER_OPEX!A269,'Classificação OPEX'!$W$4:$W$1666,DRIVER_OPEX!B269)","v":1853181.7641314392},{"$f":"IF($F269=\"\",0,VLOOKUP($E269,Drivers!$A$26:$F$48,MATCH(G$1,Drivers!$A$25:$F$25,0),0)*$F269)","v":1975101.6170348234},{"$f":"IF($F269=\"\",0,VLOOKUP($E269,Drivers!$A$26:$F$48,MATCH(H$1,Drivers!$A$25:$F$25,0),0)*$F269)","v":2023869.5581961768},{"$f":"IF($F269=\"\",0,VLOOKUP($E269,Drivers!$A$26:$F$48,MATCH(I$1,Drivers!$A$25:$F$25,0),0)*$F269)","v":2036061.5434865153},{"$f":"IF($F269=\"\",0,VLOOKUP($E269,Drivers!$A$26:$F$48,MATCH(J$1,Drivers!$A$25:$F$25,0),0)*$F269)","v":2036061.5434865153},{"$f":"IF($F269=\"\",0,VLOOKUP($E269,Drivers!$A$26:$F$48,MATCH(K$1,Drivers!$A$25:$F$25,0),0)*$F269)","v":2036061.5434865153}]
["PESSOAL",3300,{"$f":"VLOOKUP(B270,Centro_Custo!$A$2:$B$36,2,0)","v":"GERÊNCIA JURÍDICA"},{"$f":"VLOOKUP(B270,Centro_Custo!$A$2:$C$36,3)","v":"Encargos de Gestão"},"Funcionário",{"$f":"SUMIFS('Classificação OPEX'!$O$4:$O$1666,'Classificação OPEX'!$Q$4:$Q$1666,\"N\",'Classificação OPEX'!$S$4:$S$1666,\"NÃO\",'Classificação OPEX'!$V$4:$V$1666,DRIVER_OPEX!A270,'Classificação OPEX'!$W$4:$W$1666,DRIVER_OPEX!B270)","v":1274895.4261272899},{"$f":"IF($F270=\"\",0,VLOOKUP($E270,Drivers!$A$26:$F$48,MATCH(G$1,Drivers!$A$25:$F$25,0),0)*$F270)","v":1358770.1252146116},{"$f":"IF($F270=\"\",0,VLOOKUP($E270,Drivers!$A$26:$F$48,MATCH(H$1,Drivers!$A$25:$F$25,0),0)*$F270)","v":1392320.0048495403},{"$f":"IF($F270=\"\",0,VLOOKUP($E270,Drivers!$A$26:$F$48,MATCH(I$1,Drivers!$A$25:$F$25,0),0)*$F270)","v":1400707.4747582723},{"$f":"IF($F270=\"\",0,VLOOKUP($E270,Drivers!$A$26:$F$48,MATCH(J$1,Drivers!$A$25:$F$25,0),0)*$F270)","v":1400707.4747582723},{"$f":"IF($F270=\"\",0,VLOOKUP($E270,Drivers!$A$26:$F$48,MATCH(K$1,Drivers!$A$25:$F$25,0),0)*$F270)","v":1400707.4747582723}]
["PESSOAL",3500,{"$f":"VLOOKUP(B271,Centro_Custo!$A$2:$B$36,2,0)","v":"ASSESSORIA DE COMUNICAÇÃO INSTITUCIONAL"},{"$f":"VLOOKUP(B271,Centro_Custo!$A$2:$C$36,3)","v":"Encargos de Gestão"},"Funcionário",{"$f":"SUMIFS('Classificação OPEX'!$O$4:$O$1666,'Classificação OPEX'!$Q$4:$Q$1666,\"N\",'Classificação OPEX'!$S$4:$S$1666,\"NÃO\",'Classificação OPEX'!$V$4:$V$1666,DRIVER_OPEX!A271,'Classificação OPEX'!$W$4:$W$1666,DRIVER_OPEX!B271)","v":928975.10051159048},{"$f":"IF($F271=\"\",0,VLOOKUP($E271,Drivers!$A$26:$F$48,MATCH(G$1,Drivers!$A$25:$F$25,0),0)*$F271)","v":990091.88343998464},{"$f":"IF($F271=\"\",0,VLOOKUP($E271,Drivers!$A$26:$F$48,MATCH(H$1,Drivers!$A$25:$F$25,0),0)*$F271)","v":1014538.5966113422},{"$f":"IF($F271=\"\",0,VLOOKUP($E271,Drivers!$A$26:$F$48,MATCH(I$1,Drivers!$A$25:$F$25,0),0)*$F271)","v":1020650.2749041816},{"$f":"IF($F271=\"\",0,VLOOKUP($E271,Drivers!$A$26:$F$48,MATCH(J$1,Drivers!$A$25:$F$25,0),0)*$F271)","v":1020650.2749041816},{"$f":"IF($F271=\"\",0,VLOOKUP($E271,Drivers!$A$26:$F$48,MATCH(K$1,Drivers!$A$25:$F$25,0),0)*$F271)","v":1020650.2749041816}]
["PESSOAL",3600,{"$f":"VLOOKUP(B272,Centro_Custo!$A$2:$B$36,2,0)","v":"GERÊNCIA DE GOVERNANÇA, RISCO E COMPLIANCE"},{"$f":"VLOOKUP(B272,Centro_Custo!$A$2:$C$36,3)","v":"Encargos de Gestão"},"Funcionário",{"$f":"SUMIFS('Classificação OPEX'!$O$4:$O$1666,'Classificação OPEX'!$Q$4:$Q$1666,\"N\",'Classificação OPEX'!$S$4:$S$1666,\"NÃO\",'Classificação OPEX'!$V$4:$V$1666,DRIVER_OPEX!A272,'Classificação OPEX'!$W$4:$W$1666,DRIVER_OPEX!B272)","v":1966774.1621050595},{"$f":"IF($F272=\"\",0,VLOOKUP($E272,Drivers!$A$26:$F$48,MATCH(G$1,Drivers!$A$25:$F$25,0),0)*$F272)","v":2096167.1990856556},{"$f":"IF($F272=\"\",0,VLOOKUP($E272,Drivers!$A$26:$F$48,MATCH(H$1,Drivers!$A$25:$F$25,0),0)*$F272)","v":2147924.4138778937},{"$f":"IF($F272=\"\",0,VLOOKUP($E272,Drivers!$A$26:$F$48,MATCH(I$1,Drivers!$A$25:$F$25,0),0)*$F272)","v":2160863.7175759533},{"$f":"IF($F272=\"\",0,VLOOKUP($E272,Drivers!$A$26:$F$48,MATCH(J$1,Drivers!$A$25:$F$25,0),0)*$F272)","v":2160863.7175759533},{"$f":"IF($F272=\"\",0,VLOOKUP($E272,Drivers!$A$26:$F$48,MATCH(K$1,Drivers!$A$25:$F$25,0),0)*$F272)","v":2160863.7175759533}]
["PESSOAL",3700,{"$f":"VLOOKUP(B273,Centro_Custo!$A$2:$B$36,2,0)","v":"GERÊNCIA DE REGULAÇÃO"},{"$f":"VLOOKUP(B273,Centro_Custo!$A$2:$C$36,3)","v":"Encargos de Gestão"},"Funcionário",{"$f":"SUMIFS('Classificação OPEX'!$O$4:$O$1666,'Classificação OPEX'!$Q$4:$Q$1666,\"N\",'Classificação OPEX'!$S$4:$S$1666,\"NÃO\",'Classificação OPEX'!$V$4:$V$1666,DRIVER_OPEX!A273,'Classificação OPEX'!$W$4:$W$1666,DRIVER_OPEX!B273)","v":340506.76452856319},{"$f":"IF($F273=\"\",0,VLOOKUP($E273,Drivers!$A$26:$F$48,MATCH(G$1,Drivers!$A$25:$F$25,0),0)*$F273)","v":362908.5253528108},{"$f":"IF($F273=\"\",0,VLOOKUP($E273,Drivers!$A$26:$F$48,MATCH(H$1,Drivers!$A$25:$F$25,0),0)*$F273)","v":371869.22968250979},{"$f":"IF($F273=\"\",0,VLOOKUP($E273,Drivers!$A$26:$F$48,MATCH(I$1,Drivers!$A$25:$F$25,0),0)*$F273)","v":374109.40576493455},{"$f":"IF($F273=\"\",0,VLOOKUP($E273,Drivers!$A$26:$F$48,MATCH(J$1,Drivers!$A$25:$F$25,0),0)*$F273)","v":374109.40576493455},{"$f":"IF($F273=\"\",0,VLOOKUP($E273,Drivers!$A$26:$F$48,MATCH(K$1,Drivers!$A$25:$F$25,0),0)*$F273)","v":374109.40576493455}]
["PESSOAL",4100,{"$f":"VLOOKUP(B274,Centro_Custo!$A$2:$B$36,2,0)","v":"GERÊNCIA DE SERVIÇOS CORPORATIVOS"},{"$f":"VLOOKUP(B274,Centro_Custo!$A$2:$C$36,3)","v":"Encargos de Gestão"},"Funcionário",{"$f":"SUMIFS('Classificação OPEX'!$O$4:$O$1666,'Classificação OPEX'!$Q$4:$Q$1666,\"N\",'Classificação OPEX'!$S$4:$S$1666,\"NÃO\",'Classificação OPEX'!$V$4:$V$1666,DRIVER_OPEX!A274,'Classificação OPEX'!$W$4:$W$1666,DRIVER_OPEX!B274)","v":4127051.4326045797},{"$f":"IF($F274=\"\",0,VLOOKUP($E274,Drivers!$A$26:$F$48,MATCH(G$1,Drivers!$A$25:$F$25,0),0)*$F274)","v":4398567.9742233027},{"$f":"IF($F274=\"\",0,VLOOKUP($E274,Drivers!$A$26:$F$48,MATCH(H$1,Drivers!$A$25:$F$25,0),0)*$F274)","v":4507174.5908707911},{"$f":"IF($F274=\"\",0,VLOOKUP($E274,Drivers!$A$26:$F$48,MATCH(I$1,Drivers!$A$25:$F$25,0),0)*$F274)","v":4534326.2450326625},{"$f":"IF($F274=\"\",0,VLOOKUP($E274,Drivers!$A$26:$F$48,MATCH(J$1,Drivers!$A$25:$F$25,0),0)*$F274)","v":4534326.2450326625},{"$f":"IF($F274=\"\",0,VLOOKUP($E274,Drivers!$A$26:$F$48,MATCH(K$1,Drivers!$A$25:$F$25,0),0)*$F274)","v":4534326.2450326625}]
["PESSOAL",4200,{"$f":"VLOOKUP(B275,Centro_Custo!$A$2:$B$36,2,0)","v":"GERÊNCIA FINANCEIRA"},{"$f":"VLOOKUP(B275,Centro_Custo!$A$2:$C$36,3)","v":"Encargos de Gestão"},"Funcionário",{"$f":"SUMIFS('Classificação OPEX'!$O$4:$O$1666,'Classificação OPEX'!$Q$4:$Q$1666,\"N\",'Classificação OPEX'!$S$4:$S$1666,\"NÃO\",'Classificação OPEX'!$V$4:$V$1666,DRIVER_OPEX!A275,'Classificação OPEX'!$W$4:$W$1666,DRIVER_OPEX!B275)","v":1989279.5531581063},{"$f":"IF($F275=\"\",0,VLOOKUP($E275,Drivers!$A$26:$F$48,MATCH(G$1,Drivers!$A$25:$F$25,0),0)*$F275)","v":2120153.2079711398},{"$f":"IF($F275=\"\",0,VLOOKUP($E275,Drivers!$A$26:$F$48,MATCH(H$1,Drivers!$A$25:$F$25,0),0)*$F275)","v":2172502.669896353},{"$f":"IF($F275=\"\",0,VLOOKUP($E275,Drivers!$A$26:$F$48,MATCH(I$1,Drivers!$A$25:$F$25,0),0)*$F275)","v":2185590.0353776561},{"$f":"IF($F275=\"\",0,VLOOKUP($E275,Drivers!$A$26:$F$48,MATCH(J$1,Drivers!$A$25:$F$25,0),0)*$F275)","v":2185590.0353776561},{"$f":"IF($F275=\"\",0,VLOOKUP($E275,Drivers!$A$26:$F$48,MATCH(K$1,Drivers!$A$25:$F$25,0),0)*$F275)","v":2185590.0353776561}]
["PESSOAL",4300,{"$f":"VLOOKUP(B276,Centro_Custo!$A$2:$B$36,2,0)","v":"GERÊNCIA DE TECNOLOGIA E SISTEMAS DE INFORMAÇÃO"},{"$f":"VLOOKUP(B276,Centro_Custo!$A$2:$C$36,3)","v":"Encargos de Gestão"},"Funcionário",{"$f":"SUMIFS('Classificação OPEX'!$O$4:$O$1666,'Classificação OPEX'!$Q$4:$Q$1666,\"N\",'Classificação OPEX'!$S$4:$S$1666,\"NÃO\",'Classificação OPEX'!$V$4:$V$1666,DRIVER_OPEX!A276,'Classificação OPEX'!$W$4:$W$1666,DRIVER_OPEX!B276)","v":2326212.5396748101},{"$f":"IF($F276=\"\",0,VLOOKUP($E276,Drivers!$A$26:$F$48,MATCH(G$1,Drivers!$A$25:$F$25,0),0)*$F276)","v":2479252.8383376268},{"$f":"IF($F276=\"\",0,VLOOKUP($E276,Drivers!$A$26:$F$48,MATCH(H$1,Drivers!$A$25:$F$25,0),0)*$F276)","v":2540468.957802753},{"$f":"IF($F276=\"\",0,VLOOKUP($E276,Drivers!$A$26:$F$48,MATCH(I$1,Drivers!$A$25:$F$25,0),0)*$F276)","v":2555772.9876690344},{"$f":"IF($F276=\"\",0,VLOOKUP($E276,Drivers!$A$26:$F$48,MATCH(J$1,Drivers!$A$25:$F$25,0),0)*$F276)","v":2555772.9876690344},{"$f":"IF($F276=\"\",0,VLOOKUP($E276,Drivers!$A$26:$F$48,MATCH(K$1,Drivers!$A$25:$F$25,0),0)*$F276)","v":2555772.9876690344}]
["PESSOAL",4500,{"$f":"VLOOKUP(B277,Centro_Custo!$A$2:$B$36,2,0)","v":"GERÊNCIA CONTÁBIL"},{"$f":"VLOOKUP(B277,Centro_Custo!$A$2:$C$36,3)","v":"Encargos de Gestão"},"Funcionário",{"$f":"SUMIFS('Classificação OPEX'!$O$4:$O$1666,'Classificação OPEX'!$Q$4:$Q$1666,\"N\",'Classificação OPEX'!$S$4:$S$1666,\"NÃO\",'Classificação OPEX'!$V$4:$V$1666,DRIVER_OPEX!A277,'Classificação OPEX'!$W$4:$W$1666,DRIVER_OPEX!B277)","v":1719970.1427229072},{"$f":"IF($F277=\"\",0,VLOOKUP($E277,Drivers!$A$26:$F$48,MATCH(G$1,Drivers!$A$25:$F$25,0),0)*$F277)","v":1833126.0731652039},{"$f":"IF($F277=\"\",0,VLOOKUP($E277,Drivers!$A$26:$F$48,MATCH(H$1,Drivers!$A$25:$F$25,0),0)*$F277)","v":1878388.4453421223},{"$f":"IF($F277=\"\",0,VLOOKUP($E277,Drivers!$A$26:$F$48,MATCH(I$1,Drivers!$A$25:$F$25,0),0)*$F277)","v":1889704.0383863519},{"$f":"IF($F277=\"\",0,VLOOKUP($E277,Drivers!$A$26:$F$48,MATCH(J$1,Drivers!$A$25:$F$25,0),0)*$F277)","v":1889704.0383863519},{"$f":"IF($F277=\"\",0,VLOOKUP($E277,Drivers!$A$26:$F$48,MATCH(K$1,Drivers!$A$25:$F$25,0),0)*$F277)","v":1889704.0383863519}]
["PESSOAL",4600,{"$f":"VLOOKUP(B278,Centro_Custo!$A$2:$B$36,2,0)","v":"GERÊNCIA DE PESSOAS E CULTURA"},{"$f":"VLOOKUP(B278,Centro_Custo!$A$2:$C$36,3)","v":"Encargos de Gestão"},"Funcionário",{"$f":"SUMIFS('Classificação OPEX'!$O$4:$O$1666,'Classificação OPEX'!$Q$4:$Q$1666,\"N\",'Classificação OPEX'!$S$4:$S$1666,\"NÃO\",'Classificação OPEX'!$V$4:$V$1666,DRIVER_OPEX!A278,'Classificação OPEX'!$W$4:$W$1666,DRIVER_OPEX!B278)","v":345689.13894129294},{"$f":"IF($F278=\"\",0,VLOOKUP($E278,Drivers!$A$26:$F$48,MATCH(G$1,Drivers!$A$25:$F$25,0),0)*$F278)","v":368431.84545058856},{"$f":"IF($F278=\"\",0,VLOOKUP($E278,Drivers!$A$26:$F$48,MATCH(H$1,Drivers!$A$25:$F$25,0),0)*$F278)","v":377528.92805430677},{"$f":"IF($F278=\"\",0,VLOOKUP($E278,Drivers!$A$26:$F$48,MATCH(I$1,Drivers!$A$25:$F$25,0),0)*$F278)","v":379803.19870523631},{"$f":"IF($F278=\"\",0,VLOOKUP($E278,Drivers!$A$26:$F$48,MATCH(J$1,Drivers!$A$25:$F$25,0),0)*$F278)","v":379803.19870523631},{"$f":"IF($F278=\"\",0,VLOOKUP($E278,Drivers!$A$26:$F$48,MATCH(K$1,Drivers!$A$25:$F$25,0),0)*$F278)","v":379803.19870523631}]
["PESSOAL",5100,{"$f":"VLOOKUP(B279,Centro_Custo!$A$2:$B$36,2,0)","v":"GERÊNCIA DE ENGENHARIA"},{"$f":"VLOOKUP(B279,Centro_Custo!$A$2:$C$36,3)","v":"OPEX&ODESP"},"Extensão de Rede",{"$f":"SUMIFS('Classificação OPEX'!$O$4:$O$1666,'Classificação OPEX'!$Q$4:$Q$1666,\"N\",'Classificação OPEX'!$S$4:$S$1666,\"NÃO\",'Classificação OPEX'!$V$4:$V$1666,DRIVER_OPEX!A279,'Classificação OPEX'!$W$4:$W$1666,DRIVER_OPEX!B279)","v":4077548.9877134566},{"$f":"IF($F279=\"\",0,VLOOKUP($E279,Drivers!$A$26:$F$48,MATCH(G$1,Drivers!$A$25:$F$25,0),0)*$F279)","v":4364534.3227495477},{"$f":"IF($F279=\"\",0,VLOOKUP($E279,Drivers!$A$26:$F$48,MATCH(H$1,Drivers!$A$25:$F$25,0),0)*$F279)","v":4760218.8786506755},{"$f":"IF($F279=\"\",0,VLOOKUP($E279,Drivers!$A$26:$F$48,MATCH(I$1,Drivers!$A$25:$F$25,0),0)*$F279)","v":4901048.6841426408},{"$f":"IF($F279=\"\",0,VLOOKUP($E279,Drivers!$A$26:$F$48,MATCH(J$1,Drivers!$A$25:$F$25,0),0)*$F279)","v":5103755.7244726019},{"$f":"IF($F279=\"\",0,VLOOKUP($E279,Drivers!$A$26:$F$48,MATCH(K$1,Drivers!$A$25:$F$25,0),0)*$F279)","v":5263357.2753648581}]
["PESSOAL",5200,{"$f":"VLOOKUP(B280,Centro_Custo!$A$2:$B$36,2,0)","v":"GERÊNCIA DE OPERAÇÕES"},{"$f":"VLOOKUP(B280,Centro_Custo!$A$2:$C$36,3)","v":"OPEX&ODESP"},"Extensão de Rede",{"$f":"SUMIFS('Classificação OPEX'!$O$4:$O$1666,'Classificação OPEX'!$Q$4:$Q$1666,\"N\",'Classificação OPEX'!$S$4:$S$1666,\"NÃO\",'Classificação OPEX'!$V$4:$V$1666,DRIVER_OPEX!A280,'Classificação OPEX'!$W$4:$W$1666,DRIVER_OPEX!B280)","v":10153956.071409239},{"$f":"IF($F280=\"\",0,VLOOKUP($E280,Drivers!$A$26:$F$48,MATCH(G$1,Drivers!$A$25:$F$25,0),0)*$F280)","v":10868610.020111205},{"$f":"IF($F280=\"\",0,VLOOKUP($E280,Drivers!$A$26:$F$48,MATCH(H$1,Drivers!$A$25:$F$25,0),0)*$F280)","v":11853947.930424858},{"$f":"IF($F280=\"\",0,VLOOKUP($E280,Drivers!$A$26:$F$48,MATCH(I$1,Drivers!$A$25:$F$25,0),0)*$F280)","v":12204643.817296937},{"$f":"IF($F280=\"\",0,VLOOKUP($E280,Drivers!$A$26:$F$48,MATCH(J$1,Drivers!$A$25:$F$25,0),0)*$F280)","v":12709427.055727145},{"$f":"IF($F280=\"\",0,VLOOKUP($E280,Drivers!$A$26:$F$48,MATCH(K$1,Drivers!$A$25:$F$25,0),0)*$F280)","v":13106868.543633712}]
["PESSOAL",5300,{"$f":"VLOOKUP(B281,Centro_Custo!$A$2:$B$36,2,0)","v":"GERÊNCIA COMERCIAL"},{"$f":"VLOOKUP(B281,Centro_Custo!$A$2:$C$36,3)","v":"Encargos de Comercialização"},"Funcionário",{"$f":"SUMIFS('Classificação OPEX'!$O$4:$O$1666,'Classificação OPEX'!$Q$4:$Q$1666,\"N\",'Classificação OPEX'!$S$4:$S$1666,\"NÃO\",'Classificação OPEX'!$V$4:$V$1666,DRIVER_OPEX!A281,'Classificação OPEX'!$W$4:$W$1666,DRIVER_OPEX!B281)","v":6133186.2232972421},{"$f":"IF($F281=\"\",0,VLOOKUP($E281,Drivers!$A$26:$F$48,MATCH(G$1,Drivers!$A$25:$F$25,0),0)*$F281)","v":6536685.3169352189},{"$f":"IF($F281=\"\",0,VLOOKUP($E281,Drivers!$A$26:$F$48,MATCH(H$1,Drivers!$A$25:$F$25,0),0)*$F281)","v":6698084.9543904085},{"$f":"IF($F281=\"\",0,VLOOKUP($E281,Drivers!$A$26:$F$48,MATCH(I$1,Drivers!$A$25:$F$25,0),0)*$F281)","v":6738434.8637542063},{"$f":"IF($F281=\"\",0,VLOOKUP($E281,Drivers!$A$26:$F$48,MATCH(J$1,Drivers!$A$25:$F$25,0),0)*$F281)","v":6738434.8637542063},{"$f":"IF($F281=\"\",0,VLOOKUP($E281,Drivers!$A$26:$F$48,MATCH(K$1,Drivers!$A$25:$F$25,0),0)*$F281)","v":6738434.8637542063}]
["PESSOAL",9999,{"$f":"VLOOKUP(B282,Centro_Custo!$A$2:$B$36,2,0)","v":"RATEIO"},{"$f":"VLOOKUP(B282,Centro_Custo!$A$2:$C$36,3)","v":"Encargos de Gestão"},"Funcionário",{"$f":"SUMIFS('Classificação OPEX'!$O$4:$O$1666,'Classificação OPEX'!$Q$4:$Q$1666,\"N\",'Classificação OPEX'!$S$4:$S$1666,\"NÃO\",'Classificação OPEX'!$V$4:$V$1666,DRIVER_OPEX!A282,'Classificação OPEX'!$W$4:$W$1666,DRIVER_OPEX!B282)","v":0},{"$f":"IF($F282=\"\",0,VLOOKUP($E282,Drivers!$A$26:$F$48,MATCH(G$1,Drivers!$A$25:$F$25,0),0)*$F282)","v":0},{"$f":"IF($F282=\"\",0,VLOOKUP($E282,Drivers!$A$26:$F$48,MATCH(H$1,Drivers!$A$25:$F$25,0),0)*$F282)","v":0},{"$f":"IF($F282=\"\",0,VLOOKUP($E282,Drivers!$A$26:$F$48,MATCH(I$1,Drivers!$A$25:$F$25,0),0)*$F282)","v":0},{"$f":"IF($F282=\"\",0,VLOOKUP($E282,Drivers!$A$26:$F$48,MATCH(J$1,Drivers!$A$25:$F$25,0),0)*$F282)","v":0},{"$f":"IF($F282=\"\",0,VLOOKUP($E282,Drivers!$A$26:$F$48,MATCH(K$1,Drivers!$A$25:$F$25,0),0)*$F282)","v":0}]
["PESSOAL","0000","RATEIO",{"$f":"VLOOKUP(B283,Centro_Custo!$A$2:$C$36,3)","v":"Encargos de Gestão"},"Funcionário",{"$f":"SUMIFS('Classificação OPEX'!$O$4:$O$1666,'Classificação OPEX'!$Q$4:$Q$1666,\"N\",'Classificação OPEX'!$S$4:$S$1666,\"NÃO\",'Classificação OPEX'!$V$4:$V$1666,DRIVER_OPEX!A283,'Classificação OPEX'!$W$4:$W$1666,DRIVER_OPEX!B283)","v":0},{"$f":"IF($F283=\"\",0,VLOOKUP($E283,Drivers!$A$26:$F$48,MATCH(G$1,Drivers!$A$25:$F$25,0),0)*$F283)","v":0},{"$f":"IF($F283=\"\",0,VLOOKUP($E283,Drivers!$A$26:$F$48,MATCH(H$1,Drivers!$A$25:$F$25,0),0)*$F283)","v":0},{"$f":"IF($F283=\"\",0,VLOOKUP($E283,Drivers!$A$26:$F$48,MATCH(I$1,Drivers!$A$25:$F$25,0),0)*$F283)","v":0},{"$f":"IF($F283=\"\",0,VLOOKUP($E283,Drivers!$A$26:$F$48,MATCH(J$1,Drivers!$A$25:$F$25,0),0)*$F283)","v":0},{"$f":"IF($F283=\"\",0,VLOOKUP($E283,Drivers!$A$26:$F$48,MATCH(K$1,Drivers!$A$25:$F$25,0),0)*$F283)","v":0}]
["PESSOAL",2100,"SECRETARIA",{"$f":"VLOOKUP(B284,Centro_Custo!$A$2:$C$36,3)","v":"Encargos de Gestão"},"Funcionário",{"$f":"SUMIFS('Classificação OPEX'!$O$4:$O$1666,'Classificação OPEX'!$Q$4:$Q$1666,\"N\",'Classificação OPEX'!$S$4:$S$1666,\"NÃO\",'Classificação OPEX'!$V$4:$V$1666,DRIVER_OPEX!A284,'Classificação OPEX'!$W$4:$W$1666,DRIVER_OPEX!B284)","v":104304.596915241},{"$f":"IF($F284=\"\",0,VLOOKUP($E284,Drivers!$A$26:$F$48,MATCH(G$1,Drivers!$A$25:$F$25,0),0)*$F284)","v":111166.74144913844},{"$f":"IF($F284=\"\",0,VLOOKUP($E284,Drivers!$A$26:$F$48,MATCH(H$1,Drivers!$A$25:$F$25,0),0)*$F284)","v":113911.5992626974},{"$f":"IF($F284=\"\",0,VLOOKUP($E284,Drivers!$A$26:$F$48,MATCH(I$1,Drivers!$A$25:$F$25,0),0)*$F284)","v":114597.81371608714},{"$f":"IF($F284=\"\",0,VLOOKUP($E284,Drivers!$A$26:$F$48,MATCH(J$1,Drivers!$A$25:$F$25,0),0)*$F284)","v":114597.81371608714},{"$f":"IF($F284=\"\",0,VLOOKUP($E284,Drivers!$A$26:$F$48,MATCH(K$1,Drivers!$A$25:$F$25,0),0)*$F284)","v":114597.81371608714}]
["PESSOAL",2300,"DIRETORIA COLEGIADA - DAF",{"$f":"VLOOKUP(B285,Centro_Custo!$A$2:$C$36,3)","v":"Encargos de Gestão"},"Funcionário",{"$f":"SUMIFS('Classificação OPEX'!$O$4:$O$1666,'Classificação OPEX'!$Q$4:$Q$1666,\"N\",'Classificação OPEX'!$S$4:$S$1666,\"NÃO\",'Classificação OPEX'!$V$4:$V$1666,DRIVER_OPEX!A285,'Classificação OPEX'!$W$4:$W$1666,DRIVER_OPEX!B285)","v":171651.34750857958},{"$f":"IF($F285=\"\",0,VLOOKUP($E285,Drivers!$A$26:$F$48,MATCH(G$1,Drivers!$A$25:$F$25,0),0)*$F285)","v":182944.19931835457},{"$f":"IF($F285=\"\",0,VLOOKUP($E285,Drivers!$A$26:$F$48,MATCH(H$1,Drivers!$A$25:$F$25,0),0)*$F285)","v":187461.34004226452},{"$f":"IF($F285=\"\",0,VLOOKUP($E285,Drivers!$A$26:$F$48,MATCH(I$1,Drivers!$A$25:$F$25,0),0)*$F285)","v":188590.62522324204},{"$f":"IF($F285=\"\",0,VLOOKUP($E285,Drivers!$A$26:$F$48,MATCH(J$1,Drivers!$A$25:$F$25,0),0)*$F285)","v":188590.62522324204},{"$f":"IF($F285=\"\",0,VLOOKUP($E285,Drivers!$A$26:$F$48,MATCH(K$1,Drivers!$A$25:$F$25,0),0)*$F285)","v":188590.62522324204}]
["PESSOAL",2400,"DIRETORIA COLEGIADA - DTC",{"$f":"VLOOKUP(B286,Centro_Custo!$A$2:$C$36,3)","v":"Encargos de Comercialização"},"Funcionário",{"$f":"SUMIFS('Classificação OPEX'!$O$4:$O$1666,'Classificação OPEX'!$Q$4:$Q$1666,\"N\",'Classificação OPEX'!$S$4:$S$1666,\"NÃO\",'Classificação OPEX'!$V$4:$V$1666,DRIVER_OPEX!A286,'Classificação OPEX'!$W$4:$W$1666,DRIVER_OPEX!B286)","v":58123.92719611201},{"$f":"IF($F286=\"\",0,VLOOKUP($E286,Drivers!$A$26:$F$48,MATCH(G$1,Drivers!$A$25:$F$25,0),0)*$F286)","v":61947.869774803592},{"$f":"IF($F286=\"\",0,VLOOKUP($E286,Drivers!$A$26:$F$48,MATCH(H$1,Drivers!$A$25:$F$25,0),0)*$F286)","v":63477.446806280219},{"$f":"IF($F286=\"\",0,VLOOKUP($E286,Drivers!$A$26:$F$48,MATCH(I$1,Drivers!$A$25:$F$25,0),0)*$F286)","v":63859.841064149376},{"$f":"IF($F286=\"\",0,VLOOKUP($E286,Drivers!$A$26:$F$48,MATCH(J$1,Drivers!$A$25:$F$25,0),0)*$F286)","v":63859.841064149376},{"$f":"IF($F286=\"\",0,VLOOKUP($E286,Drivers!$A$26:$F$48,MATCH(K$1,Drivers!$A$25:$F$25,0),0)*$F286)","v":63859.841064149376}]
["PESSOAL",3100,"SMS",{"$f":"VLOOKUP(B287,Centro_Custo!$A$2:$C$36,3)","v":"OPEX&ODESP"},"Funcionário",{"$f":"SUMIFS('Classificação OPEX'!$O$4:$O$1666,'Classificação OPEX'!$Q$4:$Q$1666,\"N\",'Classificação OPEX'!$S$4:$S$1666,\"NÃO\",'Classificação OPEX'!$V$4:$V$1666,DRIVER_OPEX!A287,'Classificação OPEX'!$W$4:$W$1666,DRIVER_OPEX!B287)","v":219739.85329060102},{"$f":"IF($F287=\"\",0,VLOOKUP($E287,Drivers!$A$26:$F$48,MATCH(G$1,Drivers!$A$25:$F$25,0),0)*$F287)","v":234196.42258603533},{"$f":"IF($F287=\"\",0,VLOOKUP($E287,Drivers!$A$26:$F$48,MATCH(H$1,Drivers!$A$25:$F$25,0),0)*$F287)","v":239979.050304209},{"$f":"IF($F287=\"\",0,VLOOKUP($E287,Drivers!$A$26:$F$48,MATCH(I$1,Drivers!$A$25:$F$25,0),0)*$F287)","v":241424.70723375242},{"$f":"IF($F287=\"\",0,VLOOKUP($E287,Drivers!$A$26:$F$48,MATCH(J$1,Drivers!$A$25:$F$25,0),0)*$F287)","v":241424.70723375242},{"$f":"IF($F287=\"\",0,VLOOKUP($E287,Drivers!$A$26:$F$48,MATCH(K$1,Drivers!$A$25:$F$25,0),0)*$F287)","v":241424.70723375242}]
["PESSOAL",3400,"MARKETING",{"$f":"VLOOKUP(B288,Centro_Custo!$A$2:$C$36,3)","v":"Encargos de Comercialização"},"Funcionário",{"$f":"SUMIFS('Classificação OPEX'!$O$4:$O$1666,'Classificação OPEX'!$Q$4:$Q$1666,\"N\",'Classificação OPEX'!$S$4:$S$1666,\"NÃO\",'Classificação OPEX'!$V$4:$V$1666,DRIVER_OPEX!A288,'Classificação OPEX'!$W$4:$W$1666,DRIVER_OPEX!B288)","v":190920.17512773737},{"$f":"IF($F288=\"\",0,VLOOKUP($E288,Drivers!$A$26:$F$48,MATCH(G$1,Drivers!$A$25:$F$25,0),0)*$F288)","v":203480.71296508852},{"$f":"IF($F288=\"\",0,VLOOKUP($E288,Drivers!$A$26:$F$48,MATCH(H$1,Drivers!$A$25:$F$25,0),0)*$F288)","v":208504.92810002895},{"$f":"IF($F288=\"\",0,VLOOKUP($E288,Drivers!$A$26:$F$48,MATCH(I$1,Drivers!$A$25:$F$25,0),0)*$F288)","v":209760.98188376406},{"$f":"IF($F288=\"\",0,VLOOKUP($E288,Drivers!$A$26:$F$48,MATCH(J$1,Drivers!$A$25:$F$25,0),0)*$F288)","v":209760.98188376406},{"$f":"IF($F288=\"\",0,VLOOKUP($E288,Drivers!$A$26:$F$48,MATCH(K$1,Drivers!$A$25:$F$25,0),0)*$F288)","v":209760.98188376406}]
["PESSOAL","5400","GERÊNCIA COMERCIAL",{"$f":"VLOOKUP(B289,Centro_Custo!$A$2:$C$36,3)","v":"Encargos de Gestão"},"Fixo",{"$f":"SUMIFS('Classificação OPEX'!$O$4:$O$1666,'Classificação OPEX'!$Q$4:$Q$1666,\"N\",'Classificação OPEX'!$S$4:$S$1666,\"NÃO\",'Classificação OPEX'!$V$4:$V$1666,DRIVER_OPEX!A289,'Classificação OPEX'!$W$4:$W$1666,DRIVER_OPEX!B289)","v":319638.91553405492},{"$f":"IF($F289=\"\",0,VLOOKUP($E289,Drivers!$A$26:$F$48,MATCH(G$1,Drivers!$A$25:$F$25,0),0)*$F289)","v":319638.91553405492},{"$f":"IF($F289=\"\",0,VLOOKUP($E289,Drivers!$A$26:$F$48,MATCH(H$1,Drivers!$A$25:$F$25,0),0)*$F289)","v":319638.91553405492},{"$f":"IF($F289=\"\",0,VLOOKUP($E289,Drivers!$A$26:$F$48,MATCH(I$1,Drivers!$A$25:$F$25,0),0)*$F289)","v":319638.91553405492},{"$f":"IF($F289=\"\",0,VLOOKUP($E289,Drivers!$A$26:$F$48,MATCH(J$1,Drivers!$A$25:$F$25,0),0)*$F289)","v":319638.91553405492},{"$f":"IF($F289=\"\",0,VLOOKUP($E289,Drivers!$A$26:$F$48,MATCH(K$1,Drivers!$A$25:$F$25,0),0)*$F289)","v":319638.91553405492}]
["PESSOAL","5500","GERÊNCIA COMERCIAL",{"$f":"VLOOKUP(B290,Centro_Custo!$A$2:$C$36,3)","v":"Encargos de Gestão"},"Fixo",{"$f":"SUMIFS('Classificação OPEX'!$O$4:$O$1666,'Classificação OPEX'!$Q$4:$Q$1666,\"N\",'Classificação OPEX'!$S$4:$S$1666,\"NÃO\",'Classificação OPEX'!$V$4:$V$1666,DRIVER_OPEX!A290,'Classificação OPEX'!$W$4:$W$1666,DRIVER_OPEX!B290)","v":189474.30520078182},{"$f":"IF($F290=\"\",0,VLOOKUP($E290,Drivers!$A$26:$F$48,MATCH(G$1,Drivers!$A$25:$F$25,0),0)*$F290)","v":189474.30520078182},{"$f":"IF($F290=\"\",0,VLOOKUP($E290,Drivers!$A$26:$F$48,MATCH(H$1,Drivers!$A$25:$F$25,0),0)*$F290)","v":189474.30520078182},{"$f":"IF($F290=\"\",0,VLOOKUP($E290,Drivers!$A$26:$F$48,MATCH(I$1,Drivers!$A$25:$F$25,0),0)*$F290)","v":189474.30520078182},{"$f":"IF($F290=\"\",0,VLOOKUP($E290,Drivers!$A$26:$F$48,MATCH(J$1,Drivers!$A$25:$F$25,0),0)*$F290)","v":189474.30520078182},{"$f":"IF($F290=\"\",0,VLOOKUP($E290,Drivers!$A$26:$F$48,MATCH(K$1,Drivers!$A$25:$F$25,0),0)*$F290)","v":189474.30520078182}]
["SERVIÇOS","TOTAL","TOTAL",null,null,{"$f":"SUM(F292:F326)","v":4705910.6390507706},{"$f":"SUM(G292:G326)","v":5264068.1763725691},5702371.7740796339,5528606.6139422497,5807166.9114043806,5964514.5064322539]
["SERVIÇOS",1005,{"$f":"VLOOKUP(B292,Centro_Custo!$A$2:$B$36,2,0)","v":"AUDITORIA INTERNA"},{"$f":"VLOOKUP(B292,Centro_Custo!$A$2:$C$36,3)","v":"Encargos de Gestão"},"Fixo",{"$f":"SUMIFS('Classificação OPEX'!$O$4:$O$1666,'Classificação OPEX'!$Q$4:$Q$1666,\"N\",'Classificação OPEX'!$S$4:$S$1666,\"NÃO\",'Classificação OPEX'!$V$4:$V$1666,DRIVER_OPEX!A292,'Classificação OPEX'!$W$4:$W$1666,DRIVER_OPEX!B292)","v":43873.297543098699},{"$f":"IF($F292=\"\",0,VLOOKUP($E292,Drivers!$A$26:$F$48,MATCH(G$1,Drivers!$A$25:$F$25,0),0)*$F292)","v":43873.297543098699},{"$f":"IF($F292=\"\",0,VLOOKUP($E292,Drivers!$A$26:$F$48,MATCH(H$1,Drivers!$A$25:$F$25,0),0)*$F292)","v":43873.297543098699},{"$f":"IF($F292=\"\",0,VLOOKUP($E292,Drivers!$A$26:$F$48,MATCH(I$1,Drivers!$A$25:$F$25,0),0)*$F292)","v":43873.297543098699},{"$f":"IF($F292=\"\",0,VLOOKUP($E292,Drivers!$A$26:$F$48,MATCH(J$1,Drivers!$A$25:$F$25,0),0)*$F292)","v":43873.297543098699},{"$f":"IF($F292=\"\",0,VLOOKUP($E292,Drivers!$A$26:$F$48,MATCH(K$1,Drivers!$A$25:$F$25,0),0)*$F292)","v":43873.297543098699}]
["SERVIÇOS",1010,{"$f":"VLOOKUP(B293,Centro_Custo!$A$2:$B$36,2,0)","v":"GOVERNANÇA SOCIETÁRIA"},{"$f":"VLOOKUP(B293,Centro_Custo!$A$2:$C$36,3)","v":"Encargos de Gestão"},"Fixo",{"$f":"SUMIFS('Classificação OPEX'!$O$4:$O$1666,'Classificação OPEX'!$Q$4:$Q$1666,\"N\",'Classificação OPEX'!$S$4:$S$1666,\"NÃO\",'Classificação OPEX'!$V$4:$V$1666,DRIVER_OPEX!A293,'Classificação OPEX'!$W$4:$W$1666,DRIVER_OPEX!B293)","v":0},{"$f":"IF($F293=\"\",0,VLOOKUP($E293,Drivers!$A$26:$F$48,MATCH(G$1,Drivers!$A$25:$F$25,0),0)*$F293)","v":0},{"$f":"IF($F293=\"\",0,VLOOKUP($E293,Drivers!$A$26:$F$48,MATCH(H$1,Drivers!$A$25:$F$25,0),0)*$F293)","v":0},{"$f":"IF($F293=\"\",0,VLOOKUP($E293,Drivers!$A$26:$F$48,MATCH(I$1,Drivers!$A$25:$F$25,0),0)*$F293)","v":0},{"$f":"IF($F293=\"\",0,VLOOKUP($E293,Drivers!$A$26:$F$48,MATCH(J$1,Drivers!$A$25:$F$25,0),0)*$F293)","v":0},{"$f":"IF($F293=\"\",0,VLOOKUP($E293,Drivers!$A$26:$F$48,MATCH(K$1,Drivers!$A$25:$F$25,0),0)*$F293)","v":0}]
["SERVIÇOS",2110,{"$f":"VLOOKUP(B294,Centro_Custo!$A$2:$B$36,2,0)","v":"ASSESSORIA DA DIRETORIA EXECUTIVA"},{"$f":"VLOOKUP(B294,Centro_Custo!$A$2:$C$36,3)","v":"Encargos de Gestão"},"Fixo",{"$f":"SUMIFS('Classificação OPEX'!$O$4:$O$1666,'Classificação OPEX'!$Q$4:$Q$1666,\"N\",'Classificação OPEX'!$S$4:$S$1666,\"NÃO\",'Classificação OPEX'!$V$4:$V$1666,DRIVER_OPEX!A294,'Classificação OPEX'!$W$4:$W$1666,DRIVER_OPEX!B294)","v":16538.219952313291},{"$f":"IF($F294=\"\",0,VLOOKUP($E294,Drivers!$A$26:$F$48,MATCH(G$1,Drivers!$A$25:$F$25,0),0)*$F294)","v":16538.219952313291},{"$f":"IF($F294=\"\",0,VLOOKUP($E294,Drivers!$A$26:$F$48,MATCH(H$1,Drivers!$A$25:$F$25,0),0)*$F294)","v":16538.219952313291},{"$f":"IF($F294=\"\",0,VLOOKUP($E294,Drivers!$A$26:$F$48,MATCH(I$1,Drivers!$A$25:$F$25,0),0)*$F294)","v":16538.219952313291},{"$f":"IF($F294=\"\",0,VLOOKUP($E294,Drivers!$A$26:$F$48,MATCH(J$1,Drivers!$A$25:$F$25,0),0)*$F294)","v":16538.219952313291},{"$f":"IF($F294=\"\",0,VLOOKUP($E294,Drivers!$A$26:$F$48,MATCH(K$1,Drivers!$A$25:$F$25,0),0)*$F294)","v":16538.219952313291}]
["SERVIÇOS",2120,{"$f":"VLOOKUP(B295,Centro_Custo!$A$2:$B$36,2,0)","v":"ASSESSORIA DA PRESIDÊNCIA"},{"$f":"VLOOKUP(B295,Centro_Custo!$A$2:$C$36,3)","v":"Encargos de Gestão"},"Fixo",{"$f":"SUMIFS('Classificação OPEX'!$O$4:$O$1666,'Classificação OPEX'!$Q$4:$Q$1666,\"N\",'Classificação OPEX'!$S$4:$S$1666,\"NÃO\",'Classificação OPEX'!$V$4:$V$1666,DRIVER_OPEX!A295,'Classificação OPEX'!$W$4:$W$1666,DRIVER_OPEX!B295)","v":27333.234729483411},{"$f":"IF($F295=\"\",0,VLOOKUP($E295,Drivers!$A$26:$F$48,MATCH(G$1,Drivers!$A$25:$F$25,0),0)*$F295)","v":27333.234729483411},{"$f":"IF($F295=\"\",0,VLOOKUP($E295,Drivers!$A$26:$F$48,MATCH(H$1,Drivers!$A$25:$F$25,0),0)*$F295)","v":27333.234729483411},{"$f":"IF($F295=\"\",0,VLOOKUP($E295,Drivers!$A$26:$F$48,MATCH(I$1,Drivers!$A$25:$F$25,0),0)*$F295)","v":27333.234729483411},{"$f":"IF($F295=\"\",0,VLOOKUP($E295,Drivers!$A$26:$F$48,MATCH(J$1,Drivers!$A$25:$F$25,0),0)*$F295)","v":27333.234729483411},{"$f":"IF($F295=\"\",0,VLOOKUP($E295,Drivers!$A$26:$F$48,MATCH(K$1,Drivers!$A$25:$F$25,0),0)*$F295)","v":27333.234729483411}]
["SERVIÇOS",2130,{"$f":"VLOOKUP(B296,Centro_Custo!$A$2:$B$36,2,0)","v":"ASSESSORIA DE RELAÇÕES INSTITUCIONAIS E NOVOS NEGÓCIOS"},{"$f":"VLOOKUP(B296,Centro_Custo!$A$2:$C$36,3)","v":"Encargos de Gestão"},"Fixo",{"$f":"SUMIFS('Classificação OPEX'!$O$4:$O$1666,'Classificação OPEX'!$Q$4:$Q$1666,\"N\",'Classificação OPEX'!$S$4:$S$1666,\"NÃO\",'Classificação OPEX'!$V$4:$V$1666,DRIVER_OPEX!A296,'Classificação OPEX'!$W$4:$W$1666,DRIVER_OPEX!B296)","v":0},{"$f":"IF($F296=\"\",0,VLOOKUP($E296,Drivers!$A$26:$F$48,MATCH(G$1,Drivers!$A$25:$F$25,0),0)*$F296)","v":0},{"$f":"IF($F296=\"\",0,VLOOKUP($E296,Drivers!$A$26:$F$48,MATCH(H$1,Drivers!$A$25:$F$25,0),0)*$F296)","v":0},{"$f":"IF($F296=\"\",0,VLOOKUP($E296,Drivers!$A$26:$F$48,MATCH(I$1,Drivers!$A$25:$F$25,0),0)*$F296)","v":0},{"$f":"IF($F296=\"\",0,VLOOKUP($E296,Drivers!$A$26:$F$48,MATCH(J$1,Drivers!$A$25:$F$25,0),0)*$F296)","v":0},{"$f":"IF($F296=\"\",0,VLOOKUP($E296,Drivers!$A$26:$F$48,MATCH(K$1,Drivers!$A$25:$F$25,0),0)*$F296)","v":0}]
["SERVIÇOS",2140,{"$f":"VLOOKUP(B297,Centro_Custo!$A$2:$B$36,2,0)","v":"ASSESSORIA DTC"},{"$f":"VLOOKUP(B297,Centro_Custo!$A$2:$C$36,3)","v":"Encargos de Comercialização"},"Fixo",{"$f":"SUMIFS('Classificação OPEX'!$O$4:$O$1666,'Classificação OPEX'!$Q$4:$Q$1666,\"N\",'Classificação OPEX'!$S$4:$S$1666,\"NÃO\",'Classificação OPEX'!$V$4:$V$1666,DRIVER_OPEX!A297,'Classificação OPEX'!$W$4:$W$1666,DRIVER_OPEX!B297)","v":0},{"$f":"IF($F297=\"\",0,VLOOKUP($E297,Drivers!$A$26:$F$48,MATCH(G$1,Drivers!$A$25:$F$25,0),0)*$F297)","v":0},{"$f":"IF($F297=\"\",0,VLOOKUP($E297,Drivers!$A$26:$F$48,MATCH(H$1,Drivers!$A$25:$F$25,0),0)*$F297)","v":0},{"$f":"IF($F297=\"\",0,VLOOKUP($E297,Drivers!$A$26:$F$48,MATCH(I$1,Drivers!$A$25:$F$25,0),0)*$F297)","v":0},{"$f":"IF($F297=\"\",0,VLOOKUP($E297,Drivers!$A$26:$F$48,MATCH(J$1,Drivers!$A$25:$F$25,0),0)*$F297)","v":0},{"$f":"IF($F297=\"\",0,VLOOKUP($E297,Drivers!$A$26:$F$48,MATCH(K$1,Drivers!$A$25:$F$25,0),0)*$F297)","v":0}]
["SERVIÇOS",2200,{"$f":"VLOOKUP(B298,Centro_Custo!$A$2:$B$36,2,0)","v":"DIRETORIA COLEGIADA - PRESIDÊNCIA"},{"$f":"VLOOKUP(B298,Centro_Custo!$A$2:$C$36,3)","v":"Encargos de Gestão"},"Fixo",{"$f":"SUMIFS('Classificação OPEX'!$O$4:$O$1666,'Classificação OPEX'!$Q$4:$Q$1666,\"N\",'Classificação OPEX'!$S$4:$S$1666,\"NÃO\",'Classificação OPEX'!$V$4:$V$1666,DRIVER_OPEX!A298,'Classificação OPEX'!$W$4:$W$1666,DRIVER_OPEX!B298)","v":19738.183455608829},{"$f":"IF($F298=\"\",0,VLOOKUP($E298,Drivers!$A$26:$F$48,MATCH(G$1,Drivers!$A$25:$F$25,0),0)*$F298)","v":19738.183455608829},{"$f":"IF($F298=\"\",0,VLOOKUP($E298,Drivers!$A$26:$F$48,MATCH(H$1,Drivers!$A$25:$F$25,0),0)*$F298)","v":19738.183455608829},{"$f":"IF($F298=\"\",0,VLOOKUP($E298,Drivers!$A$26:$F$48,MATCH(I$1,Drivers!$A$25:$F$25,0),0)*$F298)","v":19738.183455608829},{"$f":"IF($F298=\"\",0,VLOOKUP($E298,Drivers!$A$26:$F$48,MATCH(J$1,Drivers!$A$25:$F$25,0),0)*$F298)","v":19738.183455608829},{"$f":"IF($F298=\"\",0,VLOOKUP($E298,Drivers!$A$26:$F$48,MATCH(K$1,Drivers!$A$25:$F$25,0),0)*$F298)","v":19738.183455608829}]
["SERVIÇOS",2300,{"$f":"VLOOKUP(B299,Centro_Custo!$A$2:$B$36,2,0)","v":"DIRETORIA COLEGIADA - DAF"},{"$f":"VLOOKUP(B299,Centro_Custo!$A$2:$C$36,3)","v":"Encargos de Gestão"},"Fixo",{"$f":"SUMIFS('Classificação OPEX'!$O$4:$O$1666,'Classificação OPEX'!$Q$4:$Q$1666,\"N\",'Classificação OPEX'!$S$4:$S$1666,\"NÃO\",'Classificação OPEX'!$V$4:$V$1666,DRIVER_OPEX!A299,'Classificação OPEX'!$W$4:$W$1666,DRIVER_OPEX!B299)","v":4920.5994527196199},{"$f":"IF($F299=\"\",0,VLOOKUP($E299,Drivers!$A$26:$F$48,MATCH(G$1,Drivers!$A$25:$F$25,0),0)*$F299)","v":4920.5994527196199},{"$f":"IF($F299=\"\",0,VLOOKUP($E299,Drivers!$A$26:$F$48,MATCH(H$1,Drivers!$A$25:$F$25,0),0)*$F299)","v":4920.5994527196199},{"$f":"IF($F299=\"\",0,VLOOKUP($E299,Drivers!$A$26:$F$48,MATCH(I$1,Drivers!$A$25:$F$25,0),0)*$F299)","v":4920.5994527196199},{"$f":"IF($F299=\"\",0,VLOOKUP($E299,Drivers!$A$26:$F$48,MATCH(J$1,Drivers!$A$25:$F$25,0),0)*$F299)","v":4920.5994527196199},{"$f":"IF($F299=\"\",0,VLOOKUP($E299,Drivers!$A$26:$F$48,MATCH(K$1,Drivers!$A$25:$F$25,0),0)*$F299)","v":4920.5994527196199}]
["SERVIÇOS",2310,{"$f":"VLOOKUP(B300,Centro_Custo!$A$2:$B$36,2,0)","v":"ASSESSORIA DAF"},{"$f":"VLOOKUP(B300,Centro_Custo!$A$2:$C$36,3)","v":"Encargos de Gestão"},"Fixo",{"$f":"SUMIFS('Classificação OPEX'!$O$4:$O$1666,'Classificação OPEX'!$Q$4:$Q$1666,\"N\",'Classificação OPEX'!$S$4:$S$1666,\"NÃO\",'Classificação OPEX'!$V$4:$V$1666,DRIVER_OPEX!A300,'Classificação OPEX'!$W$4:$W$1666,DRIVER_OPEX!B300)","v":6477.5886508315589},{"$f":"IF($F300=\"\",0,VLOOKUP($E300,Drivers!$A$26:$F$48,MATCH(G$1,Drivers!$A$25:$F$25,0),0)*$F300)","v":6477.5886508315589},{"$f":"IF($F300=\"\",0,VLOOKUP($E300,Drivers!$A$26:$F$48,MATCH(H$1,Drivers!$A$25:$F$25,0),0)*$F300)","v":6477.5886508315589},{"$f":"IF($F300=\"\",0,VLOOKUP($E300,Drivers!$A$26:$F$48,MATCH(I$1,Drivers!$A$25:$F$25,0),0)*$F300)","v":6477.5886508315589},{"$f":"IF($F300=\"\",0,VLOOKUP($E300,Drivers!$A$26:$F$48,MATCH(J$1,Drivers!$A$25:$F$25,0),0)*$F300)","v":6477.5886508315589},{"$f":"IF($F300=\"\",0,VLOOKUP($E300,Drivers!$A$26:$F$48,MATCH(K$1,Drivers!$A$25:$F$25,0),0)*$F300)","v":6477.5886508315589}]
["SERVIÇOS",2400,{"$f":"VLOOKUP(B301,Centro_Custo!$A$2:$B$36,2,0)","v":"DIRETORIA COLEGIADA - DTC"},{"$f":"VLOOKUP(B301,Centro_Custo!$A$2:$C$36,3)","v":"Encargos de Comercialização"},"Fixo",{"$f":"SUMIFS('Classificação OPEX'!$O$4:$O$1666,'Classificação OPEX'!$Q$4:$Q$1666,\"N\",'Classificação OPEX'!$S$4:$S$1666,\"NÃO\",'Classificação OPEX'!$V$4:$V$1666,DRIVER_OPEX!A301,'Classificação OPEX'!$W$4:$W$1666,DRIVER_OPEX!B301)","v":4920.5994527196199},{"$f":"IF($F301=\"\",0,VLOOKUP($E301,Drivers!$A$26:$F$48,MATCH(G$1,Drivers!$A$25:$F$25,0),0)*$F301)","v":4920.5994527196199},{"$f":"IF($F301=\"\",0,VLOOKUP($E301,Drivers!$A$26:$F$48,MATCH(H$1,Drivers!$A$25:$F$25,0),0)*$F301)","v":4920.5994527196199},{"$f":"IF($F301=\"\",0,VLOOKUP($E301,Drivers!$A$26:$F$48,MATCH(I$1,Drivers!$A$25:$F$25,0),0)*$F301)","v":4920.5994527196199},{"$f":"IF($F301=\"\",0,VLOOKUP($E301,Drivers!$A$26:$F$48,MATCH(J$1,Drivers!$A$25:$F$25,0),0)*$F301)","v":4920.5994527196199},{"$f":"IF($F301=\"\",0,VLOOKUP($E301,Drivers!$A$26:$F$48,MATCH(K$1,Drivers!$A$25:$F$25,0),0)*$F301)","v":4920.5994527196199}]
["SERVIÇOS",2410,{"$f":"VLOOKUP(B302,Centro_Custo!$A$2:$B$36,2,0)","v":"ASSESSORIA DE SEGURANÇA DO TRABALHO"},{"$f":"VLOOKUP(B302,Centro_Custo!$A$2:$C$36,3)","v":"OPEX&ODESP"},"Fixo",{"$f":"SUMIFS('Classificação OPEX'!$O$4:$O$1666,'Classificação OPEX'!$Q$4:$Q$1666,\"N\",'Classificação OPEX'!$S$4:$S$1666,\"NÃO\",'Classificação OPEX'!$V$4:$V$1666,DRIVER_OPEX!A302,'Classificação OPEX'!$W$4:$W$1666,DRIVER_OPEX!B302)","v":5606.1397940539391},{"$f":"IF($F302=\"\",0,VLOOKUP($E302,Drivers!$A$26:$F$48,MATCH(G$1,Drivers!$A$25:$F$25,0),0)*$F302)","v":5606.1397940539391},{"$f":"IF($F302=\"\",0,VLOOKUP($E302,Drivers!$A$26:$F$48,MATCH(H$1,Drivers!$A$25:$F$25,0),0)*$F302)","v":5606.1397940539391},{"$f":"IF($F302=\"\",0,VLOOKUP($E302,Drivers!$A$26:$F$48,MATCH(I$1,Drivers!$A$25:$F$25,0),0)*$F302)","v":5606.1397940539391},{"$f":"IF($F302=\"\",0,VLOOKUP($E302,Drivers!$A$26:$F$48,MATCH(J$1,Drivers!$A$25:$F$25,0),0)*$F302)","v":5606.1397940539391},{"$f":"IF($F302=\"\",0,VLOOKUP($E302,Drivers!$A$26:$F$48,MATCH(K$1,Drivers!$A$25:$F$25,0),0)*$F302)","v":5606.1397940539391}]
["SERVIÇOS",3200,{"$f":"VLOOKUP(B303,Centro_Custo!$A$2:$B$36,2,0)","v":"GERÊNCIA DE PLANEJAMENTO E MEIO AMBIENTE"},{"$f":"VLOOKUP(B303,Centro_Custo!$A$2:$C$36,3)","v":"OPEX&ODESP"},"Extensão adicional de rede ",{"$f":"SUMIFS('Classificação OPEX'!$O$4:$O$1666,'Classificação OPEX'!$Q$4:$Q$1666,\"N\",'Classificação OPEX'!$S$4:$S$1666,\"NÃO\",'Classificação OPEX'!$V$4:$V$1666,DRIVER_OPEX!A303,'Classificação OPEX'!$W$4:$W$1666,DRIVER_OPEX!B303)","v":110036.14380012783},{"$f":"IF($F303=\"\",0,VLOOKUP($E303,Drivers!$A$26:$F$48,MATCH(G$1,Drivers!$A$25:$F$25,0),0)*$F303)","v":437054.71951656503},{"$f":"IF($F303=\"\",0,VLOOKUP($E303,Drivers!$A$26:$F$48,MATCH(H$1,Drivers!$A$25:$F$25,0),0)*$F303)","v":602594.56314956374},{"$f":"IF($F303=\"\",0,VLOOKUP($E303,Drivers!$A$26:$F$48,MATCH(I$1,Drivers!$A$25:$F$25,0),0)*$F303)","v":214472.04307886519},{"$f":"IF($F303=\"\",0,VLOOKUP($E303,Drivers!$A$26:$F$48,MATCH(J$1,Drivers!$A$25:$F$25,0),0)*$F303)","v":308705.90876813751},{"$f":"IF($F303=\"\",0,VLOOKUP($E303,Drivers!$A$26:$F$48,MATCH(K$1,Drivers!$A$25:$F$25,0),0)*$F303)","v":243059.84502954327}]
["SERVIÇOS",3300,{"$f":"VLOOKUP(B304,Centro_Custo!$A$2:$B$36,2,0)","v":"GERÊNCIA JURÍDICA"},{"$f":"VLOOKUP(B304,Centro_Custo!$A$2:$C$36,3)","v":"Encargos de Gestão"},"Fixo",{"$f":"SUMIFS('Classificação OPEX'!$O$4:$O$1666,'Classificação OPEX'!$Q$4:$Q$1666,\"N\",'Classificação OPEX'!$S$4:$S$1666,\"NÃO\",'Classificação OPEX'!$V$4:$V$1666,DRIVER_OPEX!A304,'Classificação OPEX'!$W$4:$W$1666,DRIVER_OPEX!B304)","v":231258.74369533636},{"$f":"IF($F304=\"\",0,VLOOKUP($E304,Drivers!$A$26:$F$48,MATCH(G$1,Drivers!$A$25:$F$25,0),0)*$F304)","v":231258.74369533636},{"$f":"IF($F304=\"\",0,VLOOKUP($E304,Drivers!$A$26:$F$48,MATCH(H$1,Drivers!$A$25:$F$25,0),0)*$F304)","v":231258.74369533636},{"$f":"IF($F304=\"\",0,VLOOKUP($E304,Drivers!$A$26:$F$48,MATCH(I$1,Drivers!$A$25:$F$25,0),0)*$F304)","v":231258.74369533636},{"$f":"IF($F304=\"\",0,VLOOKUP($E304,Drivers!$A$26:$F$48,MATCH(J$1,Drivers!$A$25:$F$25,0),0)*$F304)","v":231258.74369533636},{"$f":"IF($F304=\"\",0,VLOOKUP($E304,Drivers!$A$26:$F$48,MATCH(K$1,Drivers!$A$25:$F$25,0),0)*$F304)","v":231258.74369533636}]
["SERVIÇOS",3500,{"$f":"VLOOKUP(B305,Centro_Custo!$A$2:$B$36,2,0)","v":"ASSESSORIA DE COMUNICAÇÃO INSTITUCIONAL"},{"$f":"VLOOKUP(B305,Centro_Custo!$A$2:$C$36,3)","v":"Encargos de Gestão"},"Fixo",{"$f":"SUMIFS('Classificação OPEX'!$O$4:$O$1666,'Classificação OPEX'!$Q$4:$Q$1666,\"N\",'Classificação OPEX'!$S$4:$S$1666,\"NÃO\",'Classificação OPEX'!$V$4:$V$1666,DRIVER_OPEX!A305,'Classificação OPEX'!$W$4:$W$1666,DRIVER_OPEX!B305)","v":145546.40518668832},{"$f":"IF($F305=\"\",0,VLOOKUP($E305,Drivers!$A$26:$F$48,MATCH(G$1,Drivers!$A$25:$F$25,0),0)*$F305)","v":145546.40518668832},{"$f":"IF($F305=\"\",0,VLOOKUP($E305,Drivers!$A$26:$F$48,MATCH(H$1,Drivers!$A$25:$F$25,0),0)*$F305)","v":145546.40518668832},{"$f":"IF($F305=\"\",0,VLOOKUP($E305,Drivers!$A$26:$F$48,MATCH(I$1,Drivers!$A$25:$F$25,0),0)*$F305)","v":145546.40518668832},{"$f":"IF($F305=\"\",0,VLOOKUP($E305,Drivers!$A$26:$F$48,MATCH(J$1,Drivers!$A$25:$F$25,0),0)*$F305)","v":145546.40518668832},{"$f":"IF($F305=\"\",0,VLOOKUP($E305,Drivers!$A$26:$F$48,MATCH(K$1,Drivers!$A$25:$F$25,0),0)*$F305)","v":145546.40518668832}]
["SERVIÇOS",3600,{"$f":"VLOOKUP(B306,Centro_Custo!$A$2:$B$36,2,0)","v":"GERÊNCIA DE GOVERNANÇA, RISCO E COMPLIANCE"},{"$f":"VLOOKUP(B306,Centro_Custo!$A$2:$C$36,3)","v":"Encargos de Gestão"},"Fixo",{"$f":"SUMIFS('Classificação OPEX'!$O$4:$O$1666,'Classificação OPEX'!$Q$4:$Q$1666,\"N\",'Classificação OPEX'!$S$4:$S$1666,\"NÃO\",'Classificação OPEX'!$V$4:$V$1666,DRIVER_OPEX!A306,'Classificação OPEX'!$W$4:$W$1666,DRIVER_OPEX!B306)","v":160216.53558884663},{"$f":"IF($F306=\"\",0,VLOOKUP($E306,Drivers!$A$26:$F$48,MATCH(G$1,Drivers!$A$25:$F$25,0),0)*$F306)","v":160216.53558884663},{"$f":"IF($F306=\"\",0,VLOOKUP($E306,Drivers!$A$26:$F$48,MATCH(H$1,Drivers!$A$25:$F$25,0),0)*$F306)","v":160216.53558884663},{"$f":"IF($F306=\"\",0,VLOOKUP($E306,Drivers!$A$26:$F$48,MATCH(I$1,Drivers!$A$25:$F$25,0),0)*$F306)","v":160216.53558884663},{"$f":"IF($F306=\"\",0,VLOOKUP($E306,Drivers!$A$26:$F$48,MATCH(J$1,Drivers!$A$25:$F$25,0),0)*$F306)","v":160216.53558884663},{"$f":"IF($F306=\"\",0,VLOOKUP($E306,Drivers!$A$26:$F$48,MATCH(K$1,Drivers!$A$25:$F$25,0),0)*$F306)","v":160216.53558884663}]
["SERVIÇOS",3700,{"$f":"VLOOKUP(B307,Centro_Custo!$A$2:$B$36,2,0)","v":"GERÊNCIA DE REGULAÇÃO"},{"$f":"VLOOKUP(B307,Centro_Custo!$A$2:$C$36,3)","v":"Encargos de Gestão"},"Fixo",{"$f":"SUMIFS('Classificação OPEX'!$O$4:$O$1666,'Classificação OPEX'!$Q$4:$Q$1666,\"N\",'Classificação OPEX'!$S$4:$S$1666,\"NÃO\",'Classificação OPEX'!$V$4:$V$1666,DRIVER_OPEX!A307,'Classificação OPEX'!$W$4:$W$1666,DRIVER_OPEX!B307)","v":11088.86692207743},{"$f":"IF($F307=\"\",0,VLOOKUP($E307,Drivers!$A$26:$F$48,MATCH(G$1,Drivers!$A$25:$F$25,0),0)*$F307)","v":11088.86692207743},{"$f":"IF($F307=\"\",0,VLOOKUP($E307,Drivers!$A$26:$F$48,MATCH(H$1,Drivers!$A$25:$F$25,0),0)*$F307)","v":11088.86692207743},{"$f":"IF($F307=\"\",0,VLOOKUP($E307,Drivers!$A$26:$F$48,MATCH(I$1,Drivers!$A$25:$F$25,0),0)*$F307)","v":11088.86692207743},{"$f":"IF($F307=\"\",0,VLOOKUP($E307,Drivers!$A$26:$F$48,MATCH(J$1,Drivers!$A$25:$F$25,0),0)*$F307)","v":11088.86692207743},{"$f":"IF($F307=\"\",0,VLOOKUP($E307,Drivers!$A$26:$F$48,MATCH(K$1,Drivers!$A$25:$F$25,0),0)*$F307)","v":11088.86692207743}]
["SERVIÇOS",4100,{"$f":"VLOOKUP(B308,Centro_Custo!$A$2:$B$36,2,0)","v":"GERÊNCIA DE SERVIÇOS CORPORATIVOS"},{"$f":"VLOOKUP(B308,Centro_Custo!$A$2:$C$36,3)","v":"Encargos de Gestão"},"Extensão de Rede/Município",{"$f":"SUMIFS('Classificação OPEX'!$O$4:$O$1666,'Classificação OPEX'!$Q$4:$Q$1666,\"N\",'Classificação OPEX'!$S$4:$S$1666,\"NÃO\",'Classificação OPEX'!$V$4:$V$1666,DRIVER_OPEX!A308,'Classificação OPEX'!$W$4:$W$1666,DRIVER_OPEX!B308)","v":537890.85908723949},{"$f":"IF($F308=\"\",0,VLOOKUP($E308,Drivers!$A$26:$F$48,MATCH(G$1,Drivers!$A$25:$F$25,0),0)*$F308)","v":570264.51781632297},{"$f":"IF($F308=\"\",0,VLOOKUP($E308,Drivers!$A$26:$F$48,MATCH(H$1,Drivers!$A$25:$F$25,0),0)*$F308)","v":626782.33173289988},{"$f":"IF($F308=\"\",0,VLOOKUP($E308,Drivers!$A$26:$F$48,MATCH(I$1,Drivers!$A$25:$F$25,0),0)*$F308)","v":628718.55534109869},{"$f":"IF($F308=\"\",0,VLOOKUP($E308,Drivers!$A$26:$F$48,MATCH(J$1,Drivers!$A$25:$F$25,0),0)*$F308)","v":628718.55534109869},{"$f":"IF($F308=\"\",0,VLOOKUP($E308,Drivers!$A$26:$F$48,MATCH(K$1,Drivers!$A$25:$F$25,0),0)*$F308)","v":645314.75769708829}]
["SERVIÇOS",4200,{"$f":"VLOOKUP(B309,Centro_Custo!$A$2:$B$36,2,0)","v":"GERÊNCIA FINANCEIRA"},{"$f":"VLOOKUP(B309,Centro_Custo!$A$2:$C$36,3)","v":"Encargos de Gestão"},"Usuários total",{"$f":"SUMIFS('Classificação OPEX'!$O$4:$O$1666,'Classificação OPEX'!$Q$4:$Q$1666,\"N\",'Classificação OPEX'!$S$4:$S$1666,\"NÃO\",'Classificação OPEX'!$V$4:$V$1666,DRIVER_OPEX!A309,'Classificação OPEX'!$W$4:$W$1666,DRIVER_OPEX!B309)","v":284938.99513738084},{"$f":"IF($F309=\"\",0,VLOOKUP($E309,Drivers!$A$26:$F$48,MATCH(G$1,Drivers!$A$25:$F$25,0),0)*$F309)","v":317529.75076823874},{"$f":"IF($F309=\"\",0,VLOOKUP($E309,Drivers!$A$26:$F$48,MATCH(H$1,Drivers!$A$25:$F$25,0),0)*$F309)","v":348893.2176917594},{"$f":"IF($F309=\"\",0,VLOOKUP($E309,Drivers!$A$26:$F$48,MATCH(I$1,Drivers!$A$25:$F$25,0),0)*$F309)","v":391858.72320031974},{"$f":"IF($F309=\"\",0,VLOOKUP($E309,Drivers!$A$26:$F$48,MATCH(J$1,Drivers!$A$25:$F$25,0),0)*$F309)","v":425193.13258181},{"$f":"IF($F309=\"\",0,VLOOKUP($E309,Drivers!$A$26:$F$48,MATCH(K$1,Drivers!$A$25:$F$25,0),0)*$F309)","v":465823.66932090244}]
["SERVIÇOS",4300,{"$f":"VLOOKUP(B310,Centro_Custo!$A$2:$B$36,2,0)","v":"GERÊNCIA DE TECNOLOGIA E SISTEMAS DE INFORMAÇÃO"},{"$f":"VLOOKUP(B310,Centro_Custo!$A$2:$C$36,3)","v":"Encargos de Gestão"},"Fixo",{"$f":"SUMIFS('Classificação OPEX'!$O$4:$O$1666,'Classificação OPEX'!$Q$4:$Q$1666,\"N\",'Classificação OPEX'!$S$4:$S$1666,\"NÃO\",'Classificação OPEX'!$V$4:$V$1666,DRIVER_OPEX!A310,'Classificação OPEX'!$W$4:$W$1666,DRIVER_OPEX!B310)","v":543842.55337698245},{"$f":"IF($F310=\"\",0,VLOOKUP($E310,Drivers!$A$26:$F$48,MATCH(G$1,Drivers!$A$25:$F$25,0),0)*$F310)","v":543842.55337698245},{"$f":"IF($F310=\"\",0,VLOOKUP($E310,Drivers!$A$26:$F$48,MATCH(H$1,Drivers!$A$25:$F$25,0),0)*$F310)","v":543842.55337698245},{"$f":"IF($F310=\"\",0,VLOOKUP($E310,Drivers!$A$26:$F$48,MATCH(I$1,Drivers!$A$25:$F$25,0),0)*$F310)","v":543842.55337698245},{"$f":"IF($F310=\"\",0,VLOOKUP($E310,Drivers!$A$26:$F$48,MATCH(J$1,Drivers!$A$25:$F$25,0),0)*$F310)","v":543842.55337698245},{"$f":"IF($F310=\"\",0,VLOOKUP($E310,Drivers!$A$26:$F$48,MATCH(K$1,Drivers!$A$25:$F$25,0),0)*$F310)","v":543842.55337698245}]
["SERVIÇOS",4500,{"$f":"VLOOKUP(B311,Centro_Custo!$A$2:$B$36,2,0)","v":"GERÊNCIA CONTÁBIL"},{"$f":"VLOOKUP(B311,Centro_Custo!$A$2:$C$36,3)","v":"Encargos de Gestão"},"Fixo",{"$f":"SUMIFS('Classificação OPEX'!$O$4:$O$1666,'Classificação OPEX'!$Q$4:$Q$1666,\"N\",'Classificação OPEX'!$S$4:$S$1666,\"NÃO\",'Classificação OPEX'!$V$4:$V$1666,DRIVER_OPEX!A311,'Classificação OPEX'!$W$4:$W$1666,DRIVER_OPEX!B311)","v":454701.22513483837},{"$f":"IF($F311=\"\",0,VLOOKUP($E311,Drivers!$A$26:$F$48,MATCH(G$1,Drivers!$A$25:$F$25,0),0)*$F311)","v":454701.22513483837},{"$f":"IF($F311=\"\",0,VLOOKUP($E311,Drivers!$A$26:$F$48,MATCH(H$1,Drivers!$A$25:$F$25,0),0)*$F311)","v":454701.22513483837},{"$f":"IF($F311=\"\",0,VLOOKUP($E311,Drivers!$A$26:$F$48,MATCH(I$1,Drivers!$A$25:$F$25,0),0)*$F311)","v":454701.22513483837},{"$f":"IF($F311=\"\",0,VLOOKUP($E311,Drivers!$A$26:$F$48,MATCH(J$1,Drivers!$A$25:$F$25,0),0)*$F311)","v":454701.22513483837},{"$f":"IF($F311=\"\",0,VLOOKUP($E311,Drivers!$A$26:$F$48,MATCH(K$1,Drivers!$A$25:$F$25,0),0)*$F311)","v":454701.22513483837}]
["SERVIÇOS",5100,{"$f":"VLOOKUP(B312,Centro_Custo!$A$2:$B$36,2,0)","v":"GERÊNCIA DE ENGENHARIA"},{"$f":"VLOOKUP(B312,Centro_Custo!$A$2:$C$36,3)","v":"OPEX&ODESP"},"Extensão de Rede",{"$f":"SUMIFS('Classificação OPEX'!$O$4:$O$1666,'Classificação OPEX'!$Q$4:$Q$1666,\"N\",'Classificação OPEX'!$S$4:$S$1666,\"NÃO\",'Classificação OPEX'!$V$4:$V$1666,DRIVER_OPEX!A312,'Classificação OPEX'!$W$4:$W$1666,DRIVER_OPEX!B312)","v":165127.98903221171},{"$f":"IF($F312=\"\",0,VLOOKUP($E312,Drivers!$A$26:$F$48,MATCH(G$1,Drivers!$A$25:$F$25,0),0)*$F312)","v":176749.9980869256},{"$f":"IF($F312=\"\",0,VLOOKUP($E312,Drivers!$A$26:$F$48,MATCH(H$1,Drivers!$A$25:$F$25,0),0)*$F312)","v":192773.98583150856},{"$f":"IF($F312=\"\",0,VLOOKUP($E312,Drivers!$A$26:$F$48,MATCH(I$1,Drivers!$A$25:$F$25,0),0)*$F312)","v":198477.15276997033},{"$f":"IF($F312=\"\",0,VLOOKUP($E312,Drivers!$A$26:$F$48,MATCH(J$1,Drivers!$A$25:$F$25,0),0)*$F312)","v":206686.15431310769},{"$f":"IF($F312=\"\",0,VLOOKUP($E312,Drivers!$A$26:$F$48,MATCH(K$1,Drivers!$A$25:$F$25,0),0)*$F312)","v":213149.51826647107}]
["SERVIÇOS",5200,{"$f":"VLOOKUP(B313,Centro_Custo!$A$2:$B$36,2,0)","v":"GERÊNCIA DE OPERAÇÕES"},{"$f":"VLOOKUP(B313,Centro_Custo!$A$2:$C$36,3)","v":"OPEX&ODESP"},"Extensão de Rede",{"$f":"SUMIFS('Classificação OPEX'!$O$4:$O$1666,'Classificação OPEX'!$Q$4:$Q$1666,\"N\",'Classificação OPEX'!$S$4:$S$1666,\"NÃO\",'Classificação OPEX'!$V$4:$V$1666,DRIVER_OPEX!A313,'Classificação OPEX'!$W$4:$W$1666,DRIVER_OPEX!B313)","v":686698.28934832592},{"$f":"IF($F313=\"\",0,VLOOKUP($E313,Drivers!$A$26:$F$48,MATCH(G$1,Drivers!$A$25:$F$25,0),0)*$F313)","v":735029.36746195785},{"$f":"IF($F313=\"\",0,VLOOKUP($E313,Drivers!$A$26:$F$48,MATCH(H$1,Drivers!$A$25:$F$25,0),0)*$F313)","v":801666.43509194732},{"$f":"IF($F313=\"\",0,VLOOKUP($E313,Drivers!$A$26:$F$48,MATCH(I$1,Drivers!$A$25:$F$25,0),0)*$F313)","v":825383.52268843993},{"$f":"IF($F313=\"\",0,VLOOKUP($E313,Drivers!$A$26:$F$48,MATCH(J$1,Drivers!$A$25:$F$25,0),0)*$F313)","v":859521.32906498678},{"$f":"IF($F313=\"\",0,VLOOKUP($E313,Drivers!$A$26:$F$48,MATCH(K$1,Drivers!$A$25:$F$25,0),0)*$F313)","v":886399.75831385539}]
["SERVIÇOS",5300,{"$f":"VLOOKUP(B314,Centro_Custo!$A$2:$B$36,2,0)","v":"GERÊNCIA COMERCIAL"},{"$f":"VLOOKUP(B314,Centro_Custo!$A$2:$C$36,3)","v":"Encargos de Comercialização"},"Usuários total",{"$f":"SUMIFS('Classificação OPEX'!$O$4:$O$1666,'Classificação OPEX'!$Q$4:$Q$1666,\"N\",'Classificação OPEX'!$S$4:$S$1666,\"NÃO\",'Classificação OPEX'!$V$4:$V$1666,DRIVER_OPEX!A314,'Classificação OPEX'!$W$4:$W$1666,DRIVER_OPEX!B314)","v":928687.76775858621},{"$f":"IF($F314=\"\",0,VLOOKUP($E314,Drivers!$A$26:$F$48,MATCH(G$1,Drivers!$A$25:$F$25,0),0)*$F314)","v":1034909.2278356605},{"$f":"IF($F314=\"\",0,VLOOKUP($E314,Drivers!$A$26:$F$48,MATCH(H$1,Drivers!$A$25:$F$25,0),0)*$F314)","v":1137130.6456950568},{"$f":"IF($F314=\"\",0,VLOOKUP($E314,Drivers!$A$26:$F$48,MATCH(I$1,Drivers!$A$25:$F$25,0),0)*$F314)","v":1277166.021976657},{"$f":"IF($F314=\"\",0,VLOOKUP($E314,Drivers!$A$26:$F$48,MATCH(J$1,Drivers!$A$25:$F$25,0),0)*$F314)","v":1385811.2364483415},{"$f":"IF($F314=\"\",0,VLOOKUP($E314,Drivers!$A$26:$F$48,MATCH(K$1,Drivers!$A$25:$F$25,0),0)*$F314)","v":1518236.3629174945}]
["SERVIÇOS",9999,{"$f":"VLOOKUP(B315,Centro_Custo!$A$2:$B$36,2,0)","v":"RATEIO"},{"$f":"VLOOKUP(B315,Centro_Custo!$A$2:$C$36,3)","v":"Encargos de Gestão"},"Fixo",{"$f":"SUMIFS('Classificação OPEX'!$O$4:$O$1666,'Classificação OPEX'!$Q$4:$Q$1666,\"N\",'Classificação OPEX'!$S$4:$S$1666,\"NÃO\",'Classificação OPEX'!$V$4:$V$1666,DRIVER_OPEX!A315,'Classificação OPEX'!$W$4:$W$1666,DRIVER_OPEX!B315)","v":0},{"$f":"IF($F315=\"\",0,VLOOKUP($E315,Drivers!$A$26:$F$48,MATCH(G$1,Drivers!$A$25:$F$25,0),0)*$F315)","v":0},{"$f":"IF($F315=\"\",0,VLOOKUP($E315,Drivers!$A$26:$F$48,MATCH(H$1,Drivers!$A$25:$F$25,0),0)*$F315)","v":0},{"$f":"IF($F315=\"\",0,VLOOKUP($E315,Drivers!$A$26:$F$48,MATCH(I$1,Drivers!$A$25:$F$25,0),0)*$F315)","v":0},{"$f":"IF($F315=\"\",0,VLOOKUP($E315,Drivers!$A$26:$F$48,MATCH(J$1,Drivers!$A$25:$F$25,0),0)*$F315)","v":0},{"$f":"IF($F315=\"\",0,VLOOKUP($E315,Drivers!$A$26:$F$48,MATCH(K$1,Drivers!$A$25:$F$25,0),0)*$F315)","v":0}]
["SERVIÇOS","0000","RATEIO",{"$f":"VLOOKUP(B316,Centro_Custo!$A$2:$C$36,3)","v":"Encargos de Gestão"},"Fixo",{"$f":"SUMIFS('Classificação OPEX'!$O$4:$O$1666,'Classificação OPEX'!$Q$4:$Q$1666,\"N\",'Classificação OPEX'!$S$4:$S$1666,\"NÃO\",'Classificação OPEX'!$V$4:$V$1666,DRIVER_OPEX!A316,'Classificação OPEX'!$W$4:$W$1666,DRIVER_OPEX!B316)","v":0},{"$f":"IF($F316=\"\",0,VLOOKUP($E316,Drivers!$A$26:$F$48,MATCH(G$1,Drivers!$A$25:$F$25,0),0)*$F316)","v":0},{"$f":"IF($F316=\"\",0,VLOOKUP($E316,Drivers!$A$26:$F$48,MATCH(H$1,Drivers!$A$25:$F$25,0),0)*$F316)","v":0},{"$f":"IF($F316=\"\",0,VLOOKUP($E316,Drivers!$A$26:$F$48,MATCH(I$1,Drivers!$A$25:$F$25,0),0)*$F316)","v":0},{"$f":"IF($F316=\"\",0,VLOOKUP($E316,Drivers!$A$26:$F$48,MATCH(J$1,Drivers!$A$25:$F$25,0),0)*$F316)","v":0},{"$f":"IF($F316=\"\",0,VLOOKUP($E316,Drivers!$A$26:$F$48,MATCH(K$1,Drivers!$A$25:$F$25,0),0)*$F316)","v":0}]
["SERVIÇOS",1001,"CONSELHO DE ADMINISTRAÇÃO",{"$f":"VLOOKUP(B317,Centro_Custo!$A$2:$C$36,3)","v":"Encargos de Gestão"},"Fixo",{"$f":"SUMIFS('Classificação OPEX'!$O$4:$O$1666,'Classificação OPEX'!$Q$4:$Q$1666,\"N\",'Classificação OPEX'!$S$4:$S$1666,\"NÃO\",'Classificação OPEX'!$V$4:$V$1666,DRIVER_OPEX!A317,'Classificação OPEX'!$W$4:$W$1666,DRIVER_OPEX!B317)","v":101.21669750057549},{"$f":"IF($F317=\"\",0,VLOOKUP($E317,Drivers!$A$26:$F$48,MATCH(G$1,Drivers!$A$25:$F$25,0),0)*$F317)","v":101.21669750057549},{"$f":"IF($F317=\"\",0,VLOOKUP($E317,Drivers!$A$26:$F$48,MATCH(H$1,Drivers!$A$25:$F$25,0),0)*$F317)","v":101.21669750057549},{"$f":"IF($F317=\"\",0,VLOOKUP($E317,Drivers!$A$26:$F$48,MATCH(I$1,Drivers!$A$25:$F$25,0),0)*$F317)","v":101.21669750057549},{"$f":"IF($F317=\"\",0,VLOOKUP($E317,Drivers!$A$26:$F$48,MATCH(J$1,Drivers!$A$25:$F$25,0),0)*$F317)","v":101.21669750057549},{"$f":"IF($F317=\"\",0,VLOOKUP($E317,Drivers!$A$26:$F$48,MATCH(K$1,Drivers!$A$25:$F$25,0),0)*$F317)","v":101.21669750057549}]
["SERVIÇOS",1002,"CONSELHO FISCAL",{"$f":"VLOOKUP(B318,Centro_Custo!$A$2:$C$36,3)","v":"Encargos de Gestão"},"Fixo",{"$f":"SUMIFS('Classificação OPEX'!$O$4:$O$1666,'Classificação OPEX'!$Q$4:$Q$1666,\"N\",'Classificação OPEX'!$S$4:$S$1666,\"NÃO\",'Classificação OPEX'!$V$4:$V$1666,DRIVER_OPEX!A318,'Classificação OPEX'!$W$4:$W$1666,DRIVER_OPEX!B318)","v":0},{"$f":"IF($F318=\"\",0,VLOOKUP($E318,Drivers!$A$26:$F$48,MATCH(G$1,Drivers!$A$25:$F$25,0),0)*$F318)","v":0},{"$f":"IF($F318=\"\",0,VLOOKUP($E318,Drivers!$A$26:$F$48,MATCH(H$1,Drivers!$A$25:$F$25,0),0)*$F318)","v":0},{"$f":"IF($F318=\"\",0,VLOOKUP($E318,Drivers!$A$26:$F$48,MATCH(I$1,Drivers!$A$25:$F$25,0),0)*$F318)","v":0},{"$f":"IF($F318=\"\",0,VLOOKUP($E318,Drivers!$A$26:$F$48,MATCH(J$1,Drivers!$A$25:$F$25,0),0)*$F318)","v":0},{"$f":"IF($F318=\"\",0,VLOOKUP($E318,Drivers!$A$26:$F$48,MATCH(K$1,Drivers!$A$25:$F$25,0),0)*$F318)","v":0}]
["SERVIÇOS",1003,"COMITÊ DE INDICAÇÃO E AVALIAÇÃO",{"$f":"VLOOKUP(B319,Centro_Custo!$A$2:$C$36,3)","v":"Encargos de Gestão"},"Fixo",{"$f":"SUMIFS('Classificação OPEX'!$O$4:$O$1666,'Classificação OPEX'!$Q$4:$Q$1666,\"N\",'Classificação OPEX'!$S$4:$S$1666,\"NÃO\",'Classificação OPEX'!$V$4:$V$1666,DRIVER_OPEX!A319,'Classificação OPEX'!$W$4:$W$1666,DRIVER_OPEX!B319)","v":0},{"$f":"IF($F319=\"\",0,VLOOKUP($E319,Drivers!$A$26:$F$48,MATCH(G$1,Drivers!$A$25:$F$25,0),0)*$F319)","v":0},{"$f":"IF($F319=\"\",0,VLOOKUP($E319,Drivers!$A$26:$F$48,MATCH(H$1,Drivers!$A$25:$F$25,0),0)*$F319)","v":0},{"$f":"IF($F319=\"\",0,VLOOKUP($E319,Drivers!$A$26:$F$48,MATCH(I$1,Drivers!$A$25:$F$25,0),0)*$F319)","v":0},{"$f":"IF($F319=\"\",0,VLOOKUP($E319,Drivers!$A$26:$F$48,MATCH(J$1,Drivers!$A$25:$F$25,0),0)*$F319)","v":0},{"$f":"IF($F319=\"\",0,VLOOKUP($E319,Drivers!$A$26:$F$48,MATCH(K$1,Drivers!$A$25:$F$25,0),0)*$F319)","v":0}]
["SERVIÇOS",1004,"COMITÊ DE AUDITORIA ESTATUTÁRIA",{"$f":"VLOOKUP(B320,Centro_Custo!$A$2:$C$36,3)","v":"Encargos de Gestão"},"Fixo",{"$f":"SUMIFS('Classificação OPEX'!$O$4:$O$1666,'Classificação OPEX'!$Q$4:$Q$1666,\"N\",'Classificação OPEX'!$S$4:$S$1666,\"NÃO\",'Classificação OPEX'!$V$4:$V$1666,DRIVER_OPEX!A320,'Classificação OPEX'!$W$4:$W$1666,DRIVER_OPEX!B320)","v":0},{"$f":"IF($F320=\"\",0,VLOOKUP($E320,Drivers!$A$26:$F$48,MATCH(G$1,Drivers!$A$25:$F$25,0),0)*$F320)","v":0},{"$f":"IF($F320=\"\",0,VLOOKUP($E320,Drivers!$A$26:$F$48,MATCH(H$1,Drivers!$A$25:$F$25,0),0)*$F320)","v":0},{"$f":"IF($F320=\"\",0,VLOOKUP($E320,Drivers!$A$26:$F$48,MATCH(I$1,Drivers!$A$25:$F$25,0),0)*$F320)","v":0},{"$f":"IF($F320=\"\",0,VLOOKUP($E320,Drivers!$A$26:$F$48,MATCH(J$1,Drivers!$A$25:$F$25,0),0)*$F320)","v":0},{"$f":"IF($F320=\"\",0,VLOOKUP($E320,Drivers!$A$26:$F$48,MATCH(K$1,Drivers!$A$25:$F$25,0),0)*$F320)","v":0}]
["SERVIÇOS",2100,"SECRETARIA",{"$f":"VLOOKUP(B321,Centro_Custo!$A$2:$C$36,3)","v":"Encargos de Gestão"},"Fixo",{"$f":"SUMIFS('Classificação OPEX'!$O$4:$O$1666,'Classificação OPEX'!$Q$4:$Q$1666,\"N\",'Classificação OPEX'!$S$4:$S$1666,\"NÃO\",'Classificação OPEX'!$V$4:$V$1666,DRIVER_OPEX!A321,'Classificação OPEX'!$W$4:$W$1666,DRIVER_OPEX!B321)","v":18.102893569145877},{"$f":"IF($F321=\"\",0,VLOOKUP($E321,Drivers!$A$26:$F$48,MATCH(G$1,Drivers!$A$25:$F$25,0),0)*$F321)","v":18.102893569145877},{"$f":"IF($F321=\"\",0,VLOOKUP($E321,Drivers!$A$26:$F$48,MATCH(H$1,Drivers!$A$25:$F$25,0),0)*$F321)","v":18.102893569145877},{"$f":"IF($F321=\"\",0,VLOOKUP($E321,Drivers!$A$26:$F$48,MATCH(I$1,Drivers!$A$25:$F$25,0),0)*$F321)","v":18.102893569145877},{"$f":"IF($F321=\"\",0,VLOOKUP($E321,Drivers!$A$26:$F$48,MATCH(J$1,Drivers!$A$25:$F$25,0),0)*$F321)","v":18.102893569145877},{"$f":"IF($F321=\"\",0,VLOOKUP($E321,Drivers!$A$26:$F$48,MATCH(K$1,Drivers!$A$25:$F$25,0),0)*$F321)","v":18.102893569145877}]
["SERVIÇOS",3100,"SMS",{"$f":"VLOOKUP(B322,Centro_Custo!$A$2:$C$36,3)","v":"OPEX&ODESP"},"Fixo",{"$f":"SUMIFS('Classificação OPEX'!$O$4:$O$1666,'Classificação OPEX'!$Q$4:$Q$1666,\"N\",'Classificação OPEX'!$S$4:$S$1666,\"NÃO\",'Classificação OPEX'!$V$4:$V$1666,DRIVER_OPEX!A322,'Classificação OPEX'!$W$4:$W$1666,DRIVER_OPEX!B322)","v":146.85203772059225},{"$f":"IF($F322=\"\",0,VLOOKUP($E322,Drivers!$A$26:$F$48,MATCH(G$1,Drivers!$A$25:$F$25,0),0)*$F322)","v":146.85203772059225},{"$f":"IF($F322=\"\",0,VLOOKUP($E322,Drivers!$A$26:$F$48,MATCH(H$1,Drivers!$A$25:$F$25,0),0)*$F322)","v":146.85203772059225},{"$f":"IF($F322=\"\",0,VLOOKUP($E322,Drivers!$A$26:$F$48,MATCH(I$1,Drivers!$A$25:$F$25,0),0)*$F322)","v":146.85203772059225},{"$f":"IF($F322=\"\",0,VLOOKUP($E322,Drivers!$A$26:$F$48,MATCH(J$1,Drivers!$A$25:$F$25,0),0)*$F322)","v":146.85203772059225},{"$f":"IF($F322=\"\",0,VLOOKUP($E322,Drivers!$A$26:$F$48,MATCH(K$1,Drivers!$A$25:$F$25,0),0)*$F322)","v":146.85203772059225}]
["SERVIÇOS",3400,"MARKETING",{"$f":"VLOOKUP(B323,Centro_Custo!$A$2:$C$36,3)","v":"Encargos de Comercialização"},"Fixo",{"$f":"SUMIFS('Classificação OPEX'!$O$4:$O$1666,'Classificação OPEX'!$Q$4:$Q$1666,\"N\",'Classificação OPEX'!$S$4:$S$1666,\"NÃO\",'Classificação OPEX'!$V$4:$V$1666,DRIVER_OPEX!A323,'Classificação OPEX'!$W$4:$W$1666,DRIVER_OPEX!B323)","v":36.10686422261336},{"$f":"IF($F323=\"\",0,VLOOKUP($E323,Drivers!$A$26:$F$48,MATCH(G$1,Drivers!$A$25:$F$25,0),0)*$F323)","v":36.10686422261336},{"$f":"IF($F323=\"\",0,VLOOKUP($E323,Drivers!$A$26:$F$48,MATCH(H$1,Drivers!$A$25:$F$25,0),0)*$F323)","v":36.10686422261336},{"$f":"IF($F323=\"\",0,VLOOKUP($E323,Drivers!$A$26:$F$48,MATCH(I$1,Drivers!$A$25:$F$25,0),0)*$F323)","v":36.10686422261336},{"$f":"IF($F323=\"\",0,VLOOKUP($E323,Drivers!$A$26:$F$48,MATCH(J$1,Drivers!$A$25:$F$25,0),0)*$F323)","v":36.10686422261336},{"$f":"IF($F323=\"\",0,VLOOKUP($E323,Drivers!$A$26:$F$48,MATCH(K$1,Drivers!$A$25:$F$25,0),0)*$F323)","v":36.10686422261336}]
["SERVIÇOS",4600,"GERÊNCIA DE PESSOAS E CULTURA",{"$f":"VLOOKUP(B324,Centro_Custo!$A$2:$C$36,3)","v":"Encargos de Gestão"},"Fixo",{"$f":"SUMIFS('Classificação OPEX'!$O$4:$O$1666,'Classificação OPEX'!$Q$4:$Q$1666,\"N\",'Classificação OPEX'!$S$4:$S$1666,\"NÃO\",'Classificação OPEX'!$V$4:$V$1666,DRIVER_OPEX!A324,'Classificação OPEX'!$W$4:$W$1666,DRIVER_OPEX!B324)","v":42541.424831115291},{"$f":"IF($F324=\"\",0,VLOOKUP($E324,Drivers!$A$26:$F$48,MATCH(G$1,Drivers!$A$25:$F$25,0),0)*$F324)","v":42541.424831115291},{"$f":"IF($F324=\"\",0,VLOOKUP($E324,Drivers!$A$26:$F$48,MATCH(H$1,Drivers!$A$25:$F$25,0),0)*$F324)","v":42541.424831115291},{"$f":"IF($F324=\"\",0,VLOOKUP($E324,Drivers!$A$26:$F$48,MATCH(I$1,Drivers!$A$25:$F$25,0),0)*$F324)","v":42541.424831115291},{"$f":"IF($F324=\"\",0,VLOOKUP($E324,Drivers!$A$26:$F$48,MATCH(J$1,Drivers!$A$25:$F$25,0),0)*$F324)","v":42541.424831115291},{"$f":"IF($F324=\"\",0,VLOOKUP($E324,Drivers!$A$26:$F$48,MATCH(K$1,Drivers!$A$25:$F$25,0),0)*$F324)","v":42541.424831115291}]
["SERVIÇOS","5400","GERÊNCIA COMERCIAL",{"$f":"VLOOKUP(B325,Centro_Custo!$A$2:$C$36,3)","v":"Encargos de Gestão"},"Fixo",{"$f":"SUMIFS('Classificação OPEX'!$O$4:$O$1666,'Classificação OPEX'!$Q$4:$Q$1666,\"N\",'Classificação OPEX'!$S$4:$S$1666,\"NÃO\",'Classificação OPEX'!$V$4:$V$1666,DRIVER_OPEX!A325,'Classificação OPEX'!$W$4:$W$1666,DRIVER_OPEX!B325)","v":60411.060958917922},{"$f":"IF($F325=\"\",0,VLOOKUP($E325,Drivers!$A$26:$F$48,MATCH(G$1,Drivers!$A$25:$F$25,0),0)*$F325)","v":60411.060958917922},{"$f":"IF($F325=\"\",0,VLOOKUP($E325,Drivers!$A$26:$F$48,MATCH(H$1,Drivers!$A$25:$F$25,0),0)*$F325)","v":60411.060958917922},{"$f":"IF($F325=\"\",0,VLOOKUP($E325,Drivers!$A$26:$F$48,MATCH(I$1,Drivers!$A$25:$F$25,0),0)*$F325)","v":60411.060958917922},{"$f":"IF($F325=\"\",0,VLOOKUP($E325,Drivers!$A$26:$F$48,MATCH(J$1,Drivers!$A$25:$F$25,0),0)*$F325)","v":60411.060958917922},{"$f":"IF($F325=\"\",0,VLOOKUP($E325,Drivers!$A$26:$F$48,MATCH(K$1,Drivers!$A$25:$F$25,0),0)*$F325)","v":60411.060958917922}]
["SERVIÇOS","5500","GERÊNCIA COMERCIAL",{"$f":"VLOOKUP(B326,Centro_Custo!$A$2:$C$36,3)","v":"Encargos de Gestão"},"Fixo",{"$f":"SUMIFS('Classificação OPEX'!$O$4:$O$1666,'Classificação OPEX'!$Q$4:$Q$1666,\"N\",'Classificação OPEX'!$S$4:$S$1666,\"NÃO\",'Classificação OPEX'!$V$4:$V$1666,DRIVER_OPEX!A326,'Classificação OPEX'!$W$4:$W$1666,DRIVER_OPEX!B326)","v":213213.63766825275},{"$f":"IF($F326=\"\",0,VLOOKUP($E326,Drivers!$A$26:$F$48,MATCH(G$1,Drivers!$A$25:$F$25,0),0)*$F326)","v":213213.63766825275},{"$f":"IF($F326=\"\",0,VLOOKUP($E326,Drivers!$A$26:$F$48,MATCH(H$1,Drivers!$A$25:$F$25,0),0)*$F326)","v":213213.63766825275},{"$f":"IF($F326=\"\",0,VLOOKUP($E326,Drivers!$A$26:$F$48,MATCH(I$1,Drivers!$A$25:$F$25,0),0)*$F326)","v":213213.63766825275},{"$f":"IF($F326=\"\",0,VLOOKUP($E326,Drivers!$A$26:$F$48,MATCH(J$1,Drivers!$A$25:$F$25,0),0)*$F326)","v":213213.63766825275},{"$f":"IF($F326=\"\",0,VLOOKUP($E326,Drivers!$A$26:$F$48,MATCH(K$1,Drivers!$A$25:$F$25,0),0)*$F326)","v":213213.63766825275}]
["TRIBUTOS_E_TAXAS_FISCAIS","TOTAL","TOTAL",null,null,{"$f":"SUM(F328:F362)","v":63265.020819173616},{"$f":"SUM(G328:G362)","v":63689.498082451988},64439.414759964093,64404.811852451036,64465.304669057179,64423.163605803456]
["TRIBUTOS_E_TAXAS_FISCAIS","0000",{"$f":"VLOOKUP(B328,Centro_Custo!$A$2:$B$36,2,0)","v":"RATEIO"},{"$f":"VLOOKUP(B328,Centro_Custo!$A$2:$C$36,3)","v":"Encargos de Gestão"},"Fixo",{"$f":"SUMIFS('Classificação OPEX'!$O$4:$O$1666,'Classificação OPEX'!$Q$4:$Q$1666,\"N\",'Classificação OPEX'!$S$4:$S$1666,\"NÃO\",'Classificação OPEX'!$V$4:$V$1666,DRIVER_OPEX!A328,'Classificação OPEX'!$W$4:$W$1666,DRIVER_OPEX!B328)","v":0},{"$f":"IF($F328=\"\",0,VLOOKUP($E328,Drivers!$A$26:$F$48,MATCH(G$1,Drivers!$A$25:$F$25,0),0)*$F328)","v":0},{"$f":"IF($F328=\"\",0,VLOOKUP($E328,Drivers!$A$26:$F$48,MATCH(H$1,Drivers!$A$25:$F$25,0),0)*$F328)","v":0},{"$f":"IF($F328=\"\",0,VLOOKUP($E328,Drivers!$A$26:$F$48,MATCH(I$1,Drivers!$A$25:$F$25,0),0)*$F328)","v":0},{"$f":"IF($F328=\"\",0,VLOOKUP($E328,Drivers!$A$26:$F$48,MATCH(J$1,Drivers!$A$25:$F$25,0),0)*$F328)","v":0},{"$f":"IF($F328=\"\",0,VLOOKUP($E328,Drivers!$A$26:$F$48,MATCH(K$1,Drivers!$A$25:$F$25,0),0)*$F328)","v":0}]
["TRIBUTOS_E_TAXAS_FISCAIS",3200,{"$f":"VLOOKUP(B329,Centro_Custo!$A$2:$B$36,2,0)","v":"GERÊNCIA DE PLANEJAMENTO E MEIO AMBIENTE"},{"$f":"VLOOKUP(B329,Centro_Custo!$A$2:$C$36,3)","v":"OPEX&ODESP"},"Extensão adicional de rede ",{"$f":"SUMIFS('Classificação OPEX'!$O$4:$O$1666,'Classificação OPEX'!$Q$4:$Q$1666,\"N\",'Classificação OPEX'!$S$4:$S$1666,\"NÃO\",'Classificação OPEX'!$V$4:$V$1666,DRIVER_OPEX!A329,'Classificação OPEX'!$W$4:$W$1666,DRIVER_OPEX!B329)","v":70.636986164795559},{"$f":"IF($F329=\"\",0,VLOOKUP($E329,Drivers!$A$26:$F$48,MATCH(G$1,Drivers!$A$25:$F$25,0),0)*$F329)","v":280.56443191818164},{"$f":"IF($F329=\"\",0,VLOOKUP($E329,Drivers!$A$26:$F$48,MATCH(H$1,Drivers!$A$25:$F$25,0),0)*$F329)","v":386.83165685534783},{"$f":"IF($F329=\"\",0,VLOOKUP($E329,Drivers!$A$26:$F$48,MATCH(I$1,Drivers!$A$25:$F$25,0),0)*$F329)","v":137.67893181730744},{"$f":"IF($F329=\"\",0,VLOOKUP($E329,Drivers!$A$26:$F$48,MATCH(J$1,Drivers!$A$25:$F$25,0),0)*$F329)","v":198.17174842345065},{"$f":"IF($F329=\"\",0,VLOOKUP($E329,Drivers!$A$26:$F$48,MATCH(K$1,Drivers!$A$25:$F$25,0),0)*$F329)","v":156.03068516973289}]
["TRIBUTOS_E_TAXAS_FISCAIS",3600,{"$f":"VLOOKUP(B330,Centro_Custo!$A$2:$B$36,2,0)","v":"GERÊNCIA DE GOVERNANÇA, RISCO E COMPLIANCE"},{"$f":"VLOOKUP(B330,Centro_Custo!$A$2:$C$36,3)","v":"Encargos de Gestão"},"Fixo",{"$f":"SUMIFS('Classificação OPEX'!$O$4:$O$1666,'Classificação OPEX'!$Q$4:$Q$1666,\"N\",'Classificação OPEX'!$S$4:$S$1666,\"NÃO\",'Classificação OPEX'!$V$4:$V$1666,DRIVER_OPEX!A330,'Classificação OPEX'!$W$4:$W$1666,DRIVER_OPEX!B330)","v":0},{"$f":"IF($F330=\"\",0,VLOOKUP($E330,Drivers!$A$26:$F$48,MATCH(G$1,Drivers!$A$25:$F$25,0),0)*$F330)","v":0},{"$f":"IF($F330=\"\",0,VLOOKUP($E330,Drivers!$A$26:$F$48,MATCH(H$1,Drivers!$A$25:$F$25,0),0)*$F330)","v":0},{"$f":"IF($F330=\"\",0,VLOOKUP($E330,Drivers!$A$26:$F$48,MATCH(I$1,Drivers!$A$25:$F$25,0),0)*$F330)","v":0},{"$f":"IF($F330=\"\",0,VLOOKUP($E330,Drivers!$A$26:$F$48,MATCH(J$1,Drivers!$A$25:$F$25,0),0)*$F330)","v":0},{"$f":"IF($F330=\"\",0,VLOOKUP($E330,Drivers!$A$26:$F$48,MATCH(K$1,Drivers!$A$25:$F$25,0),0)*$F330)","v":0}]
["TRIBUTOS_E_TAXAS_FISCAIS",4100,{"$f":"VLOOKUP(B331,Centro_Custo!$A$2:$B$36,2,0)","v":"GERÊNCIA DE SERVIÇOS CORPORATIVOS"},{"$f":"VLOOKUP(B331,Centro_Custo!$A$2:$C$36,3)","v":"Encargos de Gestão"},"Município",{"$f":"SUMIFS('Classificação OPEX'!$O$4:$O$1666,'Classificação OPEX'!$Q$4:$Q$1666,\"N\",'Classificação OPEX'!$S$4:$S$1666,\"NÃO\",'Classificação OPEX'!$V$4:$V$1666,DRIVER_OPEX!A331,'Classificação OPEX'!$W$4:$W$1666,DRIVER_OPEX!B331)","v":3218.2472628747128},{"$f":"IF($F331=\"\",0,VLOOKUP($E331,Drivers!$A$26:$F$48,MATCH(G$1,Drivers!$A$25:$F$25,0),0)*$F331)","v":3432.7970803996936},{"$f":"IF($F331=\"\",0,VLOOKUP($E331,Drivers!$A$26:$F$48,MATCH(H$1,Drivers!$A$25:$F$25,0),0)*$F331)","v":4076.4465329746358},{"$f":"IF($F331=\"\",0,VLOOKUP($E331,Drivers!$A$26:$F$48,MATCH(I$1,Drivers!$A$25:$F$25,0),0)*$F331)","v":4290.9963504996167},{"$f":"IF($F331=\"\",0,VLOOKUP($E331,Drivers!$A$26:$F$48,MATCH(J$1,Drivers!$A$25:$F$25,0),0)*$F331)","v":4290.9963504996167},{"$f":"IF($F331=\"\",0,VLOOKUP($E331,Drivers!$A$26:$F$48,MATCH(K$1,Drivers!$A$25:$F$25,0),0)*$F331)","v":4290.9963504996167}]
["TRIBUTOS_E_TAXAS_FISCAIS",5200,{"$f":"VLOOKUP(B332,Centro_Custo!$A$2:$B$36,2,0)","v":"GERÊNCIA DE OPERAÇÕES"},{"$f":"VLOOKUP(B332,Centro_Custo!$A$2:$C$36,3)","v":"OPEX&ODESP"},"Extensão de Rede",{"$f":"SUMIFS('Classificação OPEX'!$O$4:$O$1666,'Classificação OPEX'!$Q$4:$Q$1666,\"N\",'Classificação OPEX'!$S$4:$S$1666,\"NÃO\",'Classificação OPEX'!$V$4:$V$1666,DRIVER_OPEX!A332,'Classificação OPEX'!$W$4:$W$1666,DRIVER_OPEX!B332)","v":0},{"$f":"IF($F332=\"\",0,VLOOKUP($E332,Drivers!$A$26:$F$48,MATCH(G$1,Drivers!$A$25:$F$25,0),0)*$F332)","v":0},{"$f":"IF($F332=\"\",0,VLOOKUP($E332,Drivers!$A$26:$F$48,MATCH(H$1,Drivers!$A$25:$F$25,0),0)*$F332)","v":0},{"$f":"IF($F332=\"\",0,VLOOKUP($E332,Drivers!$A$26:$F$48,MATCH(I$1,Drivers!$A$25:$F$25,0),0)*$F332)","v":0},{"$f":"IF($F332=\"\",0,VLOOKUP($E332,Drivers!$A$26:$F$48,MATCH(J$1,Drivers!$A$25:$F$25,0),0)*$F332)","v":0},{"$f":"IF($F332=\"\",0,VLOOKUP($E332,Drivers!$A$26:$F$48,MATCH(K$1,Drivers!$A$25:$F$25,0),0)*$F332)","v":0}]
["TRIBUTOS_E_TAXAS_FISCAIS",1001,"CONSELHO DE ADMINISTRAÇÃO",{"$f":"VLOOKUP(B333,Centro_Custo!$A$2:$C$36,3)","v":"Encargos de Gestão"},"Fixo",{"$f":"SUMIFS('Classificação OPEX'!$O$4:$O$1666,'Classificação OPEX'!$Q$4:$Q$1666,\"N\",'Classificação OPEX'!$S$4:$S$1666,\"NÃO\",'Classificação OPEX'!$V$4:$V$1666,DRIVER_OPEX!A333,'Classificação OPEX'!$W$4:$W$1666,DRIVER_OPEX!B333)","v":0},{"$f":"IF($F333=\"\",0,VLOOKUP($E333,Drivers!$A$26:$F$48,MATCH(G$1,Drivers!$A$25:$F$25,0),0)*$F333)","v":0},{"$f":"IF($F333=\"\",0,VLOOKUP($E333,Drivers!$A$26:$F$48,MATCH(H$1,Drivers!$A$25:$F$25,0),0)*$F333)","v":0},{"$f":"IF($F333=\"\",0,VLOOKUP($E333,Drivers!$A$26:$F$48,MATCH(I$1,Drivers!$A$25:$F$25,0),0)*$F333)","v":0},{"$f":"IF($F333=\"\",0,VLOOKUP($E333,Drivers!$A$26:$F$48,MATCH(J$1,Drivers!$A$25:$F$25,0),0)*$F333)","v":0},{"$f":"IF($F333=\"\",0,VLOOKUP($E333,Drivers!$A$26:$F$48,MATCH(K$1,Drivers!$A$25:$F$25,0),0)*$F333)","v":0}]
["TRIBUTOS_E_TAXAS_FISCAIS",1002,"CONSELHO FISCAL",{"$f":"VLOOKUP(B334,Centro_Custo!$A$2:$C$36,3)","v":"Encargos de Gestão"},"Fixo",{"$f":"SUMIFS('Classificação OPEX'!$O$4:$O$1666,'Classificação OPEX'!$Q$4:$Q$1666,\"N\",'Classificação OPEX'!$S$4:$S$1666,\"NÃO\",'Classificação OPEX'!$V$4:$V$1666,DRIVER_OPEX!A334,'Classificação OPEX'!$W$4:$W$1666,DRIVER_OPEX!B334)","v":0},{"$f":"IF($F334=\"\",0,VLOOKUP($E334,Drivers!$A$26:$F$48,MATCH(G$1,Drivers!$A$25:$F$25,0),0)*$F334)","v":0},{"$f":"IF($F334=\"\",0,VLOOKUP($E334,Drivers!$A$26:$F$48,MATCH(H$1,Drivers!$A$25:$F$25,0),0)*$F334)","v":0},{"$f":"IF($F334=\"\",0,VLOOKUP($E334,Drivers!$A$26:$F$48,MATCH(I$1,Drivers!$A$25:$F$25,0),0)*$F334)","v":0},{"$f":"IF($F334=\"\",0,VLOOKUP($E334,Drivers!$A$26:$F$48,MATCH(J$1,Drivers!$A$25:$F$25,0),0)*$F334)","v":0},{"$f":"IF($F334=\"\",0,VLOOKUP($E334,Drivers!$A$26:$F$48,MATCH(K$1,Drivers!$A$25:$F$25,0),0)*$F334)","v":0}]
["TRIBUTOS_E_TAXAS_FISCAIS",1003,"COMITÊ DE INDICAÇÃO E AVALIAÇÃO",{"$f":"VLOOKUP(B335,Centro_Custo!$A$2:$C$36,3)","v":"Encargos de Gestão"},"Fixo",{"$f":"SUMIFS('Classificação OPEX'!$O$4:$O$1666,'Classificação OPEX'!$Q$4:$Q$1666,\"N\",'Classificação OPEX'!$S$4:$S$1666,\"NÃO\",'Classificação OPEX'!$V$4:$V$1666,DRIVER_OPEX!A335,'Classificação OPEX'!$W$4:$W$1666,DRIVER_OPEX!B335)","v":0},{"$f":"IF($F335=\"\",0,VLOOKUP($E335,Drivers!$A$26:$F$48,MATCH(G$1,Drivers!$A$25:$F$25,0),0)*$F335)","v":0},{"$f":"IF($F335=\"\",0,VLOOKUP($E335,Drivers!$A$26:$F$48,MATCH(H$1,Drivers!$A$25:$F$25,0),0)*$F335)","v":0},{"$f":"IF($F335=\"\",0,VLOOKUP($E335,Drivers!$A$26:$F$48,MATCH(I$1,Drivers!$A$25:$F$25,0),0)*$F335)","v":0},{"$f":"IF($F335=\"\",0,VLOOKUP($E335,Drivers!$A$26:$F$48,MATCH(J$1,Drivers!$A$25:$F$25,0),0)*$F335)","v":0},{"$f":"IF($F335=\"\",0,VLOOKUP($E335,Drivers!$A$26:$F$48,MATCH(K$1,Drivers!$A$25:$F$25,0),0)*$F335)","v":0}]
["TRIBUTOS_E_TAXAS_FISCAIS",1004,"COMITÊ DE AUDITORIA ESTATUTÁRIA",{"$f":"VLOOKUP(B336,Centro_Custo!$A$2:$C$36,3)","v":"Encargos de Gestão"},"Fixo",{"$f":"SUMIFS('Classificação OPEX'!$O$4:$O$1666,'Classificação OPEX'!$Q$4:$Q$1666,\"N\",'Classificação OPEX'!$S$4:$S$1666,\"NÃO\",'Classificação OPEX'!$V$4:$V$1666,DRIVER_OPEX!A336,'Classificação OPEX'!$W$4:$W$1666,DRIVER_OPEX!B336)","v":0},{"$f":"IF($F336=\"\",0,VLOOKUP($E336,Drivers!$A$26:$F$48,MATCH(G$1,Drivers!$A$25:$F$25,0),0)*$F336)","v":0},{"$f":"IF($F336=\"\",0,VLOOKUP($E336,Drivers!$A$26:$F$48,MATCH(H$1,Drivers!$A$25:$F$25,0),0)*$F336)","v":0},{"$f":"IF($F336=\"\",0,VLOOKUP($E336,Drivers!$A$26:$F$48,MATCH(I$1,Drivers!$A$25:$F$25,0),0)*$F336)","v":0},{"$f":"IF($F336=\"\",0,VLOOKUP($E336,Drivers!$A$26:$F$48,MATCH(J$1,Drivers!$A$25:$F$25,0),0)*$F336)","v":0},{"$f":"IF($F336=\"\",0,VLOOKUP($E336,Drivers!$A$26:$F$48,MATCH(K$1,Drivers!$A$25:$F$25,0),0)*$F336)","v":0}]
["TRIBUTOS_E_TAXAS_FISCAIS",1005,"AUDITORIA INTERNA",{"$f":"VLOOKUP(B337,Centro_Custo!$A$2:$C$36,3)","v":"Encargos de Gestão"},"Fixo",{"$f":"SUMIFS('Classificação OPEX'!$O$4:$O$1666,'Classificação OPEX'!$Q$4:$Q$1666,\"N\",'Classificação OPEX'!$S$4:$S$1666,\"NÃO\",'Classificação OPEX'!$V$4:$V$1666,DRIVER_OPEX!A337,'Classificação OPEX'!$W$4:$W$1666,DRIVER_OPEX!B337)","v":0},{"$f":"IF($F337=\"\",0,VLOOKUP($E337,Drivers!$A$26:$F$48,MATCH(G$1,Drivers!$A$25:$F$25,0),0)*$F337)","v":0},{"$f":"IF($F337=\"\",0,VLOOKUP($E337,Drivers!$A$26:$F$48,MATCH(H$1,Drivers!$A$25:$F$25,0),0)*$F337)","v":0},{"$f":"IF($F337=\"\",0,VLOOKUP($E337,Drivers!$A$26:$F$48,MATCH(I$1,Drivers!$A$25:$F$25,0),0)*$F337)","v":0},{"$f":"IF($F337=\"\",0,VLOOKUP($E337,Drivers!$A$26:$F$48,MATCH(J$1,Drivers!$A$25:$F$25,0),0)*$F337)","v":0},{"$f":"IF($F337=\"\",0,VLOOKUP($E337,Drivers!$A$26:$F$48,MATCH(K$1,Drivers!$A$25:$F$25,0),0)*$F337)","v":0}]
["TRIBUTOS_E_TAXAS_FISCAIS",1010,"GOVERNANÇA SOCIETÁRIA",{"$f":"VLOOKUP(B338,Centro_Custo!$A$2:$C$36,3)","v":"Encargos de Gestão"},"Fixo",{"$f":"SUMIFS('Classificação OPEX'!$O$4:$O$1666,'Classificação OPEX'!$Q$4:$Q$1666,\"N\",'Classificação OPEX'!$S$4:$S$1666,\"NÃO\",'Classificação OPEX'!$V$4:$V$1666,DRIVER_OPEX!A338,'Classificação OPEX'!$W$4:$W$1666,DRIVER_OPEX!B338)","v":0},{"$f":"IF($F338=\"\",0,VLOOKUP($E338,Drivers!$A$26:$F$48,MATCH(G$1,Drivers!$A$25:$F$25,0),0)*$F338)","v":0},{"$f":"IF($F338=\"\",0,VLOOKUP($E338,Drivers!$A$26:$F$48,MATCH(H$1,Drivers!$A$25:$F$25,0),0)*$F338)","v":0},{"$f":"IF($F338=\"\",0,VLOOKUP($E338,Drivers!$A$26:$F$48,MATCH(I$1,Drivers!$A$25:$F$25,0),0)*$F338)","v":0},{"$f":"IF($F338=\"\",0,VLOOKUP($E338,Drivers!$A$26:$F$48,MATCH(J$1,Drivers!$A$25:$F$25,0),0)*$F338)","v":0},{"$f":"IF($F338=\"\",0,VLOOKUP($E338,Drivers!$A$26:$F$48,MATCH(K$1,Drivers!$A$25:$F$25,0),0)*$F338)","v":0}]
["TRIBUTOS_E_TAXAS_FISCAIS",2100,"SECRETARIA",{"$f":"VLOOKUP(B339,Centro_Custo!$A$2:$C$36,3)","v":"Encargos de Gestão"},"Fixo",{"$f":"SUMIFS('Classificação OPEX'!$O$4:$O$1666,'Classificação OPEX'!$Q$4:$Q$1666,\"N\",'Classificação OPEX'!$S$4:$S$1666,\"NÃO\",'Classificação OPEX'!$V$4:$V$1666,DRIVER_OPEX!A339,'Classificação OPEX'!$W$4:$W$1666,DRIVER_OPEX!B339)","v":0},{"$f":"IF($F339=\"\",0,VLOOKUP($E339,Drivers!$A$26:$F$48,MATCH(G$1,Drivers!$A$25:$F$25,0),0)*$F339)","v":0},{"$f":"IF($F339=\"\",0,VLOOKUP($E339,Drivers!$A$26:$F$48,MATCH(H$1,Drivers!$A$25:$F$25,0),0)*$F339)","v":0},{"$f":"IF($F339=\"\",0,VLOOKUP($E339,Drivers!$A$26:$F$48,MATCH(I$1,Drivers!$A$25:$F$25,0),0)*$F339)","v":0},{"$f":"IF($F339=\"\",0,VLOOKUP($E339,Drivers!$A$26:$F$48,MATCH(J$1,Drivers!$A$25:$F$25,0),0)*$F339)","v":0},{"$f":"IF($F339=\"\",0,VLOOKUP($E339,Drivers!$A$26:$F$48,MATCH(K$1,Drivers!$A$25:$F$25,0),0)*$F339)","v":0}]
["TRIBUTOS_E_TAXAS_FISCAIS",2110,"ASSESSORIA DA DIRETORIA EXECUTIVA",{"$f":"VLOOKUP(B340,Centro_Custo!$A$2:$C$36,3)","v":"Encargos de Gestão"},"Fixo",{"$f":"SUMIFS('Classificação OPEX'!$O$4:$O$1666,'Classificação OPEX'!$Q$4:$Q$1666,\"N\",'Classificação OPEX'!$S$4:$S$1666,\"NÃO\",'Classificação OPEX'!$V$4:$V$1666,DRIVER_OPEX!A340,'Classificação OPEX'!$W$4:$W$1666,DRIVER_OPEX!B340)","v":0},{"$f":"IF($F340=\"\",0,VLOOKUP($E340,Drivers!$A$26:$F$48,MATCH(G$1,Drivers!$A$25:$F$25,0),0)*$F340)","v":0},{"$f":"IF($F340=\"\",0,VLOOKUP($E340,Drivers!$A$26:$F$48,MATCH(H$1,Drivers!$A$25:$F$25,0),0)*$F340)","v":0},{"$f":"IF($F340=\"\",0,VLOOKUP($E340,Drivers!$A$26:$F$48,MATCH(I$1,Drivers!$A$25:$F$25,0),0)*$F340)","v":0},{"$f":"IF($F340=\"\",0,VLOOKUP($E340,Drivers!$A$26:$F$48,MATCH(J$1,Drivers!$A$25:$F$25,0),0)*$F340)","v":0},{"$f":"IF($F340=\"\",0,VLOOKUP($E340,Drivers!$A$26:$F$48,MATCH(K$1,Drivers!$A$25:$F$25,0),0)*$F340)","v":0}]
["TRIBUTOS_E_TAXAS_FISCAIS",2120,"ASSESSORIA DA PRESIDÊNCIA",{"$f":"VLOOKUP(B341,Centro_Custo!$A$2:$C$36,3)","v":"Encargos de Gestão"},"Fixo",{"$f":"SUMIFS('Classificação OPEX'!$O$4:$O$1666,'Classificação OPEX'!$Q$4:$Q$1666,\"N\",'Classificação OPEX'!$S$4:$S$1666,\"NÃO\",'Classificação OPEX'!$V$4:$V$1666,DRIVER_OPEX!A341,'Classificação OPEX'!$W$4:$W$1666,DRIVER_OPEX!B341)","v":0},{"$f":"IF($F341=\"\",0,VLOOKUP($E341,Drivers!$A$26:$F$48,MATCH(G$1,Drivers!$A$25:$F$25,0),0)*$F341)","v":0},{"$f":"IF($F341=\"\",0,VLOOKUP($E341,Drivers!$A$26:$F$48,MATCH(H$1,Drivers!$A$25:$F$25,0),0)*$F341)","v":0},{"$f":"IF($F341=\"\",0,VLOOKUP($E341,Drivers!$A$26:$F$48,MATCH(I$1,Drivers!$A$25:$F$25,0),0)*$F341)","v":0},{"$f":"IF($F341=\"\",0,VLOOKUP($E341,Drivers!$A$26:$F$48,MATCH(J$1,Drivers!$A$25:$F$25,0),0)*$F341)","v":0},{"$f":"IF($F341=\"\",0,VLOOKUP($E341,Drivers!$A$26:$F$48,MATCH(K$1,Drivers!$A$25:$F$25,0),0)*$F341)","v":0}]
["TRIBUTOS_E_TAXAS_FISCAIS",2130,"ASSESSORIA DE RELAÇÕES INSTITUCIONAIS E NOVOS NEGÓCIOS",{"$f":"VLOOKUP(B342,Centro_Custo!$A$2:$C$36,3)","v":"Encargos de Gestão"},"Fixo",{"$f":"SUMIFS('Classificação OPEX'!$O$4:$O$1666,'Classificação OPEX'!$Q$4:$Q$1666,\"N\",'Classificação OPEX'!$S$4:$S$1666,\"NÃO\",'Classificação OPEX'!$V$4:$V$1666,DRIVER_OPEX!A342,'Classificação OPEX'!$W$4:$W$1666,DRIVER_OPEX!B342)","v":0},{"$f":"IF($F342=\"\",0,VLOOKUP($E342,Drivers!$A$26:$F$48,MATCH(G$1,Drivers!$A$25:$F$25,0),0)*$F342)","v":0},{"$f":"IF($F342=\"\",0,VLOOKUP($E342,Drivers!$A$26:$F$48,MATCH(H$1,Drivers!$A$25:$F$25,0),0)*$F342)","v":0},{"$f":"IF($F342=\"\",0,VLOOKUP($E342,Drivers!$A$26:$F$48,MATCH(I$1,Drivers!$A$25:$F$25,0),0)*$F342)","v":0},{"$f":"IF($F342=\"\",0,VLOOKUP($E342,Drivers!$A$26:$F$48,MATCH(J$1,Drivers!$A$25:$F$25,0),0)*$F342)","v":0},{"$f":"IF($F342=\"\",0,VLOOKUP($E342,Drivers!$A$26:$F$48,MATCH(K$1,Drivers!$A$25:$F$25,0),0)*$F342)","v":0}]
["TRIBUTOS_E_TAXAS_FISCAIS",2140,"ASSESSORIA DTC",{"$f":"VLOOKUP(B343,Centro_Custo!$A$2:$C$36,3)","v":"Encargos de Comercialização"},"Fixo",{"$f":"SUMIFS('Classificação OPEX'!$O$4:$O$1666,'Classificação OPEX'!$Q$4:$Q$1666,\"N\",'Classificação OPEX'!$S$4:$S$1666,\"NÃO\",'Classificação OPEX'!$V$4:$V$1666,DRIVER_OPEX!A343,'Classificação OPEX'!$W$4:$W$1666,DRIVER_OPEX!B343)","v":0},{"$f":"IF($F343=\"\",0,VLOOKUP($E343,Drivers!$A$26:$F$48,MATCH(G$1,Drivers!$A$25:$F$25,0),0)*$F343)","v":0},{"$f":"IF($F343=\"\",0,VLOOKUP($E343,Drivers!$A$26:$F$48,MATCH(H$1,Drivers!$A$25:$F$25,0),0)*$F343)","v":0},{"$f":"IF($F343=\"\",0,VLOOKUP($E343,Drivers!$A$26:$F$48,MATCH(I$1,Drivers!$A$25:$F$25,0),0)*$F343)","v":0},{"$f":"IF($F343=\"\",0,VLOOKUP($E343,Drivers!$A$26:$F$48,MATCH(J$1,Drivers!$A$25:$F$25,0),0)*$F343)","v":0},{"$f":"IF($F343=\"\",0,VLOOKUP($E343,Drivers!$A$26:$F$48,MATCH(K$1,Drivers!$A$25:$F$25,0),0)*$F343)","v":0}]
["TRIBUTOS_E_TAXAS_FISCAIS",2200,"DIRETORIA COLEGIADA - PRESIDÊNCIA",{"$f":"VLOOKUP(B344,Centro_Custo!$A$2:$C$36,3)","v":"Encargos de Gestão"},"Fixo",{"$f":"SUMIFS('Classificação OPEX'!$O$4:$O$1666,'Classificação OPEX'!$Q$4:$Q$1666,\"N\",'Classificação OPEX'!$S$4:$S$1666,\"NÃO\",'Classificação OPEX'!$V$4:$V$1666,DRIVER_OPEX!A344,'Classificação OPEX'!$W$4:$W$1666,DRIVER_OPEX!B344)","v":331.87486350982215},{"$f":"IF($F344=\"\",0,VLOOKUP($E344,Drivers!$A$26:$F$48,MATCH(G$1,Drivers!$A$25:$F$25,0),0)*$F344)","v":331.87486350982215},{"$f":"IF($F344=\"\",0,VLOOKUP($E344,Drivers!$A$26:$F$48,MATCH(H$1,Drivers!$A$25:$F$25,0),0)*$F344)","v":331.87486350982215},{"$f":"IF($F344=\"\",0,VLOOKUP($E344,Drivers!$A$26:$F$48,MATCH(I$1,Drivers!$A$25:$F$25,0),0)*$F344)","v":331.87486350982215},{"$f":"IF($F344=\"\",0,VLOOKUP($E344,Drivers!$A$26:$F$48,MATCH(J$1,Drivers!$A$25:$F$25,0),0)*$F344)","v":331.87486350982215},{"$f":"IF($F344=\"\",0,VLOOKUP($E344,Drivers!$A$26:$F$48,MATCH(K$1,Drivers!$A$25:$F$25,0),0)*$F344)","v":331.87486350982215}]
["TRIBUTOS_E_TAXAS_FISCAIS",2300,"DIRETORIA COLEGIADA - DAF",{"$f":"VLOOKUP(B345,Centro_Custo!$A$2:$C$36,3)","v":"Encargos de Gestão"},"Fixo",{"$f":"SUMIFS('Classificação OPEX'!$O$4:$O$1666,'Classificação OPEX'!$Q$4:$Q$1666,\"N\",'Classificação OPEX'!$S$4:$S$1666,\"NÃO\",'Classificação OPEX'!$V$4:$V$1666,DRIVER_OPEX!A345,'Classificação OPEX'!$W$4:$W$1666,DRIVER_OPEX!B345)","v":0},{"$f":"IF($F345=\"\",0,VLOOKUP($E345,Drivers!$A$26:$F$48,MATCH(G$1,Drivers!$A$25:$F$25,0),0)*$F345)","v":0},{"$f":"IF($F345=\"\",0,VLOOKUP($E345,Drivers!$A$26:$F$48,MATCH(H$1,Drivers!$A$25:$F$25,0),0)*$F345)","v":0},{"$f":"IF($F345=\"\",0,VLOOKUP($E345,Drivers!$A$26:$F$48,MATCH(I$1,Drivers!$A$25:$F$25,0),0)*$F345)","v":0},{"$f":"IF($F345=\"\",0,VLOOKUP($E345,Drivers!$A$26:$F$48,MATCH(J$1,Drivers!$A$25:$F$25,0),0)*$F345)","v":0},{"$f":"IF($F345=\"\",0,VLOOKUP($E345,Drivers!$A$26:$F$48,MATCH(K$1,Drivers!$A$25:$F$25,0),0)*$F345)","v":0}]
["TRIBUTOS_E_TAXAS_FISCAIS",2310,"ASSESSORIA DAF",{"$f":"VLOOKUP(B346,Centro_Custo!$A$2:$C$36,3)","v":"Encargos de Gestão"},"Fixo",{"$f":"SUMIFS('Classificação OPEX'!$O$4:$O$1666,'Classificação OPEX'!$Q$4:$Q$1666,\"N\",'Classificação OPEX'!$S$4:$S$1666,\"NÃO\",'Classificação OPEX'!$V$4:$V$1666,DRIVER_OPEX!A346,'Classificação OPEX'!$W$4:$W$1666,DRIVER_OPEX!B346)","v":0},{"$f":"IF($F346=\"\",0,VLOOKUP($E346,Drivers!$A$26:$F$48,MATCH(G$1,Drivers!$A$25:$F$25,0),0)*$F346)","v":0},{"$f":"IF($F346=\"\",0,VLOOKUP($E346,Drivers!$A$26:$F$48,MATCH(H$1,Drivers!$A$25:$F$25,0),0)*$F346)","v":0},{"$f":"IF($F346=\"\",0,VLOOKUP($E346,Drivers!$A$26:$F$48,MATCH(I$1,Drivers!$A$25:$F$25,0),0)*$F346)","v":0},{"$f":"IF($F346=\"\",0,VLOOKUP($E346,Drivers!$A$26:$F$48,MATCH(J$1,Drivers!$A$25:$F$25,0),0)*$F346)","v":0},{"$f":"IF($F346=\"\",0,VLOOKUP($E346,Drivers!$A$26:$F$48,MATCH(K$1,Drivers!$A$25:$F$25,0),0)*$F346)","v":0}]
["TRIBUTOS_E_TAXAS_FISCAIS",2400,"DIRETORIA COLEGIADA - DTC",{"$f":"VLOOKUP(B347,Centro_Custo!$A$2:$C$36,3)","v":"Encargos de Comercialização"},"Fixo",{"$f":"SUMIFS('Classificação OPEX'!$O$4:$O$1666,'Classificação OPEX'!$Q$4:$Q$1666,\"N\",'Classificação OPEX'!$S$4:$S$1666,\"NÃO\",'Classificação OPEX'!$V$4:$V$1666,DRIVER_OPEX!A347,'Classificação OPEX'!$W$4:$W$1666,DRIVER_OPEX!B347)","v":0},{"$f":"IF($F347=\"\",0,VLOOKUP($E347,Drivers!$A$26:$F$48,MATCH(G$1,Drivers!$A$25:$F$25,0),0)*$F347)","v":0},{"$f":"IF($F347=\"\",0,VLOOKUP($E347,Drivers!$A$26:$F$48,MATCH(H$1,Drivers!$A$25:$F$25,0),0)*$F347)","v":0},{"$f":"IF($F347=\"\",0,VLOOKUP($E347,Drivers!$A$26:$F$48,MATCH(I$1,Drivers!$A$25:$F$25,0),0)*$F347)","v":0},{"$f":"IF($F347=\"\",0,VLOOKUP($E347,Drivers!$A$26:$F$48,MATCH(J$1,Drivers!$A$25:$F$25,0),0)*$F347)","v":0},{"$f":"IF($F347=\"\",0,VLOOKUP($E347,Drivers!$A$26:$F$48,MATCH(K$1,Drivers!$A$25:$F$25,0),0)*$F347)","v":0}]
["TRIBUTOS_E_TAXAS_FISCAIS",2410,"ASSESSORIA DE SEGURANÇA DO TRABALHO",{"$f":"VLOOKUP(B348,Centro_Custo!$A$2:$C$36,3)","v":"OPEX&ODESP"},"Fixo",{"$f":"SUMIFS('Classificação OPEX'!$O$4:$O$1666,'Classificação OPEX'!$Q$4:$Q$1666,\"N\",'Classificação OPEX'!$S$4:$S$1666,\"NÃO\",'Classificação OPEX'!$V$4:$V$1666,DRIVER_OPEX!A348,'Classificação OPEX'!$W$4:$W$1666,DRIVER_OPEX!B348)","v":0},{"$f":"IF($F348=\"\",0,VLOOKUP($E348,Drivers!$A$26:$F$48,MATCH(G$1,Drivers!$A$25:$F$25,0),0)*$F348)","v":0},{"$f":"IF($F348=\"\",0,VLOOKUP($E348,Drivers!$A$26:$F$48,MATCH(H$1,Drivers!$A$25:$F$25,0),0)*$F348)","v":0},{"$f":"IF($F348=\"\",0,VLOOKUP($E348,Drivers!$A$26:$F$48,MATCH(I$1,Drivers!$A$25:$F$25,0),0)*$F348)","v":0},{"$f":"IF($F348=\"\",0,VLOOKUP($E348,Drivers!$A$26:$F$48,MATCH(J$1,Drivers!$A$25:$F$25,0),0)*$F348)","v":0},{"$f":"IF($F348=\"\",0,VLOOKUP($E348,Drivers!$A$26:$F$48,MATCH(K$1,Drivers!$A$25:$F$25,0),0)*$F348)","v":0}]
["TRIBUTOS_E_TAXAS_FISCAIS",3100,"SMS",{"$f":"VLOOKUP(B349,Centro_Custo!$A$2:$C$36,3)","v":"OPEX&ODESP"},"Fixo",{"$f":"SUMIFS('Classificação OPEX'!$O$4:$O$1666,'Classificação OPEX'!$Q$4:$Q$1666,\"N\",'Classificação OPEX'!$S$4:$S$1666,\"NÃO\",'Classificação OPEX'!$V$4:$V$1666,DRIVER_OPEX!A349,'Classificação OPEX'!$W$4:$W$1666,DRIVER_OPEX!B349)","v":0},{"$f":"IF($F349=\"\",0,VLOOKUP($E349,Drivers!$A$26:$F$48,MATCH(G$1,Drivers!$A$25:$F$25,0),0)*$F349)","v":0},{"$f":"IF($F349=\"\",0,VLOOKUP($E349,Drivers!$A$26:$F$48,MATCH(H$1,Drivers!$A$25:$F$25,0),0)*$F349)","v":0},{"$f":"IF($F349=\"\",0,VLOOKUP($E349,Drivers!$A$26:$F$48,MATCH(I$1,Drivers!$A$25:$F$25,0),0)*$F349)","v":0},{"$f":"IF($F349=\"\",0,VLOOKUP($E349,Drivers!$A$26:$F$48,MATCH(J$1,Drivers!$A$25:$F$25,0),0)*$F349)","v":0},{"$f":"IF($F349=\"\",0,VLOOKUP($E349,Drivers!$A$26:$F$48,MATCH(K$1,Drivers!$A$25:$F$25,0),0)*$F349)","v":0}]
["TRIBUTOS_E_TAXAS_FISCAIS",3300,"GERÊNCIA JURÍDICA",{"$f":"VLOOKUP(B350,Centro_Custo!$A$2:$C$36,3)","v":"Encargos de Gestão"},"Fixo",{"$f":"SUMIFS('Classificação OPEX'!$O$4:$O$1666,'Classificação OPEX'!$Q$4:$Q$1666,\"N\",'Classificação OPEX'!$S$4:$S$1666,\"NÃO\",'Classificação OPEX'!$V$4:$V$1666,DRIVER_OPEX!A350,'Classificação OPEX'!$W$4:$W$1666,DRIVER_OPEX!B350)","v":26.032346231155991},{"$f":"IF($F350=\"\",0,VLOOKUP($E350,Drivers!$A$26:$F$48,MATCH(G$1,Drivers!$A$25:$F$25,0),0)*$F350)","v":26.032346231155991},{"$f":"IF($F350=\"\",0,VLOOKUP($E350,Drivers!$A$26:$F$48,MATCH(H$1,Drivers!$A$25:$F$25,0),0)*$F350)","v":26.032346231155991},{"$f":"IF($F350=\"\",0,VLOOKUP($E350,Drivers!$A$26:$F$48,MATCH(I$1,Drivers!$A$25:$F$25,0),0)*$F350)","v":26.032346231155991},{"$f":"IF($F350=\"\",0,VLOOKUP($E350,Drivers!$A$26:$F$48,MATCH(J$1,Drivers!$A$25:$F$25,0),0)*$F350)","v":26.032346231155991},{"$f":"IF($F350=\"\",0,VLOOKUP($E350,Drivers!$A$26:$F$48,MATCH(K$1,Drivers!$A$25:$F$25,0),0)*$F350)","v":26.032346231155991}]
["TRIBUTOS_E_TAXAS_FISCAIS",3400,"MARKETING",{"$f":"VLOOKUP(B351,Centro_Custo!$A$2:$C$36,3)","v":"Encargos de Comercialização"},"Fixo",{"$f":"SUMIFS('Classificação OPEX'!$O$4:$O$1666,'Classificação OPEX'!$Q$4:$Q$1666,\"N\",'Classificação OPEX'!$S$4:$S$1666,\"NÃO\",'Classificação OPEX'!$V$4:$V$1666,DRIVER_OPEX!A351,'Classificação OPEX'!$W$4:$W$1666,DRIVER_OPEX!B351)","v":0},{"$f":"IF($F351=\"\",0,VLOOKUP($E351,Drivers!$A$26:$F$48,MATCH(G$1,Drivers!$A$25:$F$25,0),0)*$F351)","v":0},{"$f":"IF($F351=\"\",0,VLOOKUP($E351,Drivers!$A$26:$F$48,MATCH(H$1,Drivers!$A$25:$F$25,0),0)*$F351)","v":0},{"$f":"IF($F351=\"\",0,VLOOKUP($E351,Drivers!$A$26:$F$48,MATCH(I$1,Drivers!$A$25:$F$25,0),0)*$F351)","v":0},{"$f":"IF($F351=\"\",0,VLOOKUP($E351,Drivers!$A$26:$F$48,MATCH(J$1,Drivers!$A$25:$F$25,0),0)*$F351)","v":0},{"$f":"IF($F351=\"\",0,VLOOKUP($E351,Drivers!$A$26:$F$48,MATCH(K$1,Drivers!$A$25:$F$25,0),0)*$F351)","v":0}]
["TRIBUTOS_E_TAXAS_FISCAIS",3500,"ASSESSORIA DE COMUNICAÇÃO INSTITUCIONAL",{"$f":"VLOOKUP(B352,Centro_Custo!$A$2:$C$36,3)","v":"Encargos de Gestão"},"Fixo",{"$f":"SUMIFS('Classificação OPEX'!$O$4:$O$1666,'Classificação OPEX'!$Q$4:$Q$1666,\"N\",'Classificação OPEX'!$S$4:$S$1666,\"NÃO\",'Classificação OPEX'!$V$4:$V$1666,DRIVER_OPEX!A352,'Classificação OPEX'!$W$4:$W$1666,DRIVER_OPEX!B352)","v":0},{"$f":"IF($F352=\"\",0,VLOOKUP($E352,Drivers!$A$26:$F$48,MATCH(G$1,Drivers!$A$25:$F$25,0),0)*$F352)","v":0},{"$f":"IF($F352=\"\",0,VLOOKUP($E352,Drivers!$A$26:$F$48,MATCH(H$1,Drivers!$A$25:$F$25,0),0)*$F352)","v":0},{"$f":"IF($F352=\"\",0,VLOOKUP($E352,Drivers!$A$26:$F$48,MATCH(I$1,Drivers!$A$25:$F$25,0),0)*$F352)","v":0},{"$f":"IF($F352=\"\",0,VLOOKUP($E352,Drivers!$A$26:$F$48,MATCH(J$1,Drivers!$A$25:$F$25,0),0)*$F352)","v":0},{"$f":"IF($F352=\"\",0,VLOOKUP($E352,Drivers!$A$26:$F$48,MATCH(K$1,Drivers!$A$25:$F$25,0),0)*$F352)","v":0}]
["TRIBUTOS_E_TAXAS_FISCAIS",3700,"GERÊNCIA DE REGULAÇÃO",{"$f":"VLOOKUP(B353,Centro_Custo!$A$2:$C$36,3)","v":"Encargos de Gestão"},"Fixo",{"$f":"SUMIFS('Classificação OPEX'!$O$4:$O$1666,'Classificação OPEX'!$Q$4:$Q$1666,\"N\",'Classificação OPEX'!$S$4:$S$1666,\"NÃO\",'Classificação OPEX'!$V$4:$V$1666,DRIVER_OPEX!A353,'Classificação OPEX'!$W$4:$W$1666,DRIVER_OPEX!B353)","v":0},{"$f":"IF($F353=\"\",0,VLOOKUP($E353,Drivers!$A$26:$F$48,MATCH(G$1,Drivers!$A$25:$F$25,0),0)*$F353)","v":0},{"$f":"IF($F353=\"\",0,VLOOKUP($E353,Drivers!$A$26:$F$48,MATCH(H$1,Drivers!$A$25:$F$25,0),0)*$F353)","v":0},{"$f":"IF($F353=\"\",0,VLOOKUP($E353,Drivers!$A$26:$F$48,MATCH(I$1,Drivers!$A$25:$F$25,0),0)*$F353)","v":0},{"$f":"IF($F353=\"\",0,VLOOKUP($E353,Drivers!$A$26:$F$48,MATCH(J$1,Drivers!$A$25:$F$25,0),0)*$F353)","v":0},{"$f":"IF($F353=\"\",0,VLOOKUP($E353,Drivers!$A$26:$F$48,MATCH(K$1,Drivers!$A$25:$F$25,0),0)*$F353)","v":0}]
["TRIBUTOS_E_TAXAS_FISCAIS",4200,"GERÊNCIA FINANCEIRA",{"$f":"VLOOKUP(B354,Centro_Custo!$A$2:$C$36,3)","v":"Encargos de Gestão"},"Fixo",{"$f":"SUMIFS('Classificação OPEX'!$O$4:$O$1666,'Classificação OPEX'!$Q$4:$Q$1666,\"N\",'Classificação OPEX'!$S$4:$S$1666,\"NÃO\",'Classificação OPEX'!$V$4:$V$1666,DRIVER_OPEX!A354,'Classificação OPEX'!$W$4:$W$1666,DRIVER_OPEX!B354)","v":21.356936848040377},{"$f":"IF($F354=\"\",0,VLOOKUP($E354,Drivers!$A$26:$F$48,MATCH(G$1,Drivers!$A$25:$F$25,0),0)*$F354)","v":21.356936848040377},{"$f":"IF($F354=\"\",0,VLOOKUP($E354,Drivers!$A$26:$F$48,MATCH(H$1,Drivers!$A$25:$F$25,0),0)*$F354)","v":21.356936848040377},{"$f":"IF($F354=\"\",0,VLOOKUP($E354,Drivers!$A$26:$F$48,MATCH(I$1,Drivers!$A$25:$F$25,0),0)*$F354)","v":21.356936848040377},{"$f":"IF($F354=\"\",0,VLOOKUP($E354,Drivers!$A$26:$F$48,MATCH(J$1,Drivers!$A$25:$F$25,0),0)*$F354)","v":21.356936848040377},{"$f":"IF($F354=\"\",0,VLOOKUP($E354,Drivers!$A$26:$F$48,MATCH(K$1,Drivers!$A$25:$F$25,0),0)*$F354)","v":21.356936848040377}]
["TRIBUTOS_E_TAXAS_FISCAIS",4300,"GERÊNCIA DE TECNOLOGIA E SISTEMAS DE INFORMAÇÃO",{"$f":"VLOOKUP(B355,Centro_Custo!$A$2:$C$36,3)","v":"Encargos de Gestão"},"Fixo",{"$f":"SUMIFS('Classificação OPEX'!$O$4:$O$1666,'Classificação OPEX'!$Q$4:$Q$1666,\"N\",'Classificação OPEX'!$S$4:$S$1666,\"NÃO\",'Classificação OPEX'!$V$4:$V$1666,DRIVER_OPEX!A355,'Classificação OPEX'!$W$4:$W$1666,DRIVER_OPEX!B355)","v":1319.9066310428582},{"$f":"IF($F355=\"\",0,VLOOKUP($E355,Drivers!$A$26:$F$48,MATCH(G$1,Drivers!$A$25:$F$25,0),0)*$F355)","v":1319.9066310428582},{"$f":"IF($F355=\"\",0,VLOOKUP($E355,Drivers!$A$26:$F$48,MATCH(H$1,Drivers!$A$25:$F$25,0),0)*$F355)","v":1319.9066310428582},{"$f":"IF($F355=\"\",0,VLOOKUP($E355,Drivers!$A$26:$F$48,MATCH(I$1,Drivers!$A$25:$F$25,0),0)*$F355)","v":1319.9066310428582},{"$f":"IF($F355=\"\",0,VLOOKUP($E355,Drivers!$A$26:$F$48,MATCH(J$1,Drivers!$A$25:$F$25,0),0)*$F355)","v":1319.9066310428582},{"$f":"IF($F355=\"\",0,VLOOKUP($E355,Drivers!$A$26:$F$48,MATCH(K$1,Drivers!$A$25:$F$25,0),0)*$F355)","v":1319.9066310428582}]
["TRIBUTOS_E_TAXAS_FISCAIS",4500,"GERÊNCIA CONTÁBIL",{"$f":"VLOOKUP(B356,Centro_Custo!$A$2:$C$36,3)","v":"Encargos de Gestão"},"Fixo",{"$f":"SUMIFS('Classificação OPEX'!$O$4:$O$1666,'Classificação OPEX'!$Q$4:$Q$1666,\"N\",'Classificação OPEX'!$S$4:$S$1666,\"NÃO\",'Classificação OPEX'!$V$4:$V$1666,DRIVER_OPEX!A356,'Classificação OPEX'!$W$4:$W$1666,DRIVER_OPEX!B356)","v":0},{"$f":"IF($F356=\"\",0,VLOOKUP($E356,Drivers!$A$26:$F$48,MATCH(G$1,Drivers!$A$25:$F$25,0),0)*$F356)","v":0},{"$f":"IF($F356=\"\",0,VLOOKUP($E356,Drivers!$A$26:$F$48,MATCH(H$1,Drivers!$A$25:$F$25,0),0)*$F356)","v":0},{"$f":"IF($F356=\"\",0,VLOOKUP($E356,Drivers!$A$26:$F$48,MATCH(I$1,Drivers!$A$25:$F$25,0),0)*$F356)","v":0},{"$f":"IF($F356=\"\",0,VLOOKUP($E356,Drivers!$A$26:$F$48,MATCH(J$1,Drivers!$A$25:$F$25,0),0)*$F356)","v":0},{"$f":"IF($F356=\"\",0,VLOOKUP($E356,Drivers!$A$26:$F$48,MATCH(K$1,Drivers!$A$25:$F$25,0),0)*$F356)","v":0}]
["TRIBUTOS_E_TAXAS_FISCAIS",4600,"GERÊNCIA DE PESSOAS E CULTURA",{"$f":"VLOOKUP(B357,Centro_Custo!$A$2:$C$36,3)","v":"Encargos de Gestão"},"Fixo",{"$f":"SUMIFS('Classificação OPEX'!$O$4:$O$1666,'Classificação OPEX'!$Q$4:$Q$1666,\"N\",'Classificação OPEX'!$S$4:$S$1666,\"NÃO\",'Classificação OPEX'!$V$4:$V$1666,DRIVER_OPEX!A357,'Classificação OPEX'!$W$4:$W$1666,DRIVER_OPEX!B357)","v":0},{"$f":"IF($F357=\"\",0,VLOOKUP($E357,Drivers!$A$26:$F$48,MATCH(G$1,Drivers!$A$25:$F$25,0),0)*$F357)","v":0},{"$f":"IF($F357=\"\",0,VLOOKUP($E357,Drivers!$A$26:$F$48,MATCH(H$1,Drivers!$A$25:$F$25,0),0)*$F357)","v":0},{"$f":"IF($F357=\"\",0,VLOOKUP($E357,Drivers!$A$26:$F$48,MATCH(I$1,Drivers!$A$25:$F$25,0),0)*$F357)","v":0},{"$f":"IF($F357=\"\",0,VLOOKUP($E357,Drivers!$A$26:$F$48,MATCH(J$1,Drivers!$A$25:$F$25,0),0)*$F357)","v":0},{"$f":"IF($F357=\"\",0,VLOOKUP($E357,Drivers!$A$26:$F$48,MATCH(K$1,Drivers!$A$25:$F$25,0),0)*$F357)","v":0}]
["TRIBUTOS_E_TAXAS_FISCAIS",5100,"GERÊNCIA DE ENGENHARIA",{"$f":"VLOOKUP(B358,Centro_Custo!$A$2:$C$36,3)","v":"OPEX&ODESP"},"Fixo",{"$f":"SUMIFS('Classificação OPEX'!$O$4:$O$1666,'Classificação OPEX'!$Q$4:$Q$1666,\"N\",'Classificação OPEX'!$S$4:$S$1666,\"NÃO\",'Classificação OPEX'!$V$4:$V$1666,DRIVER_OPEX!A358,'Classificação OPEX'!$W$4:$W$1666,DRIVER_OPEX!B358)","v":283.02497040064151},{"$f":"IF($F358=\"\",0,VLOOKUP($E358,Drivers!$A$26:$F$48,MATCH(G$1,Drivers!$A$25:$F$25,0),0)*$F358)","v":283.02497040064151},{"$f":"IF($F358=\"\",0,VLOOKUP($E358,Drivers!$A$26:$F$48,MATCH(H$1,Drivers!$A$25:$F$25,0),0)*$F358)","v":283.02497040064151},{"$f":"IF($F358=\"\",0,VLOOKUP($E358,Drivers!$A$26:$F$48,MATCH(I$1,Drivers!$A$25:$F$25,0),0)*$F358)","v":283.02497040064151},{"$f":"IF($F358=\"\",0,VLOOKUP($E358,Drivers!$A$26:$F$48,MATCH(J$1,Drivers!$A$25:$F$25,0),0)*$F358)","v":283.02497040064151},{"$f":"IF($F358=\"\",0,VLOOKUP($E358,Drivers!$A$26:$F$48,MATCH(K$1,Drivers!$A$25:$F$25,0),0)*$F358)","v":283.02497040064151}]
["TRIBUTOS_E_TAXAS_FISCAIS",5300,"GERÊNCIA COMERCIAL",{"$f":"VLOOKUP(B359,Centro_Custo!$A$2:$C$36,3)","v":"Encargos de Comercialização"},"Fixo",{"$f":"SUMIFS('Classificação OPEX'!$O$4:$O$1666,'Classificação OPEX'!$Q$4:$Q$1666,\"N\",'Classificação OPEX'!$S$4:$S$1666,\"NÃO\",'Classificação OPEX'!$V$4:$V$1666,DRIVER_OPEX!A359,'Classificação OPEX'!$W$4:$W$1666,DRIVER_OPEX!B359)","v":0},{"$f":"IF($F359=\"\",0,VLOOKUP($E359,Drivers!$A$26:$F$48,MATCH(G$1,Drivers!$A$25:$F$25,0),0)*$F359)","v":0},{"$f":"IF($F359=\"\",0,VLOOKUP($E359,Drivers!$A$26:$F$48,MATCH(H$1,Drivers!$A$25:$F$25,0),0)*$F359)","v":0},{"$f":"IF($F359=\"\",0,VLOOKUP($E359,Drivers!$A$26:$F$48,MATCH(I$1,Drivers!$A$25:$F$25,0),0)*$F359)","v":0},{"$f":"IF($F359=\"\",0,VLOOKUP($E359,Drivers!$A$26:$F$48,MATCH(J$1,Drivers!$A$25:$F$25,0),0)*$F359)","v":0},{"$f":"IF($F359=\"\",0,VLOOKUP($E359,Drivers!$A$26:$F$48,MATCH(K$1,Drivers!$A$25:$F$25,0),0)*$F359)","v":0}]
["TRIBUTOS_E_TAXAS_FISCAIS",9999,"RATEIO",{"$f":"VLOOKUP(B360,Centro_Custo!$A$2:$C$36,3)","v":"Encargos de Gestão"},"Fixo",{"$f":"SUMIFS('Classificação OPEX'!$O$4:$O$1666,'Classificação OPEX'!$Q$4:$Q$1666,\"N\",'Classificação OPEX'!$S$4:$S$1666,\"NÃO\",'Classificação OPEX'!$V$4:$V$1666,DRIVER_OPEX!A360,'Classificação OPEX'!$W$4:$W$1666,DRIVER_OPEX!B360)","v":57993.940822101591},{"$f":"IF($F360=\"\",0,VLOOKUP($E360,Drivers!$A$26:$F$48,MATCH(G$1,Drivers!$A$25:$F$25,0),0)*$F360)","v":57993.940822101591},{"$f":"IF($F360=\"\",0,VLOOKUP($E360,Drivers!$A$26:$F$48,MATCH(H$1,Drivers!$A$25:$F$25,0),0)*$F360)","v":57993.940822101591},{"$f":"IF($F360=\"\",0,VLOOKUP($E360,Drivers!$A$26:$F$48,MATCH(I$1,Drivers!$A$25:$F$25,0),0)*$F360)","v":57993.940822101591},{"$f":"IF($F360=\"\",0,VLOOKUP($E360,Drivers!$A$26:$F$48,MATCH(J$1,Drivers!$A$25:$F$25,0),0)*$F360)","v":57993.940822101591},{"$f":"IF($F360=\"\",0,VLOOKUP($E360,Drivers!$A$26:$F$48,MATCH(K$1,Drivers!$A$25:$F$25,0),0)*$F360)","v":57993.940822101591}]
["TRIBUTOS_E_TAXAS_FISCAIS","5400","GERÊNCIA COMERCIAL",{"$f":"VLOOKUP(B361,Centro_Custo!$A$2:$C$36,3)","v":"Encargos de Gestão"},"Fixo",{"$f":"SUMIFS('Classificação OPEX'!$O$4:$O$1666,'Classificação OPEX'!$Q$4:$Q$1666,\"N\",'Classificação OPEX'!$S$4:$S$1666,\"NÃO\",'Classificação OPEX'!$V$4:$V$1666,DRIVER_OPEX!A361,'Classificação OPEX'!$W$4:$W$1666,DRIVER_OPEX!B361)","v":0},{"$f":"IF($F361=\"\",0,VLOOKUP($E361,Drivers!$A$26:$F$48,MATCH(G$1,Drivers!$A$25:$F$25,0),0)*$F361)","v":0},{"$f":"IF($F361=\"\",0,VLOOKUP($E361,Drivers!$A$26:$F$48,MATCH(H$1,Drivers!$A$25:$F$25,0),0)*$F361)","v":0},{"$f":"IF($F361=\"\",0,VLOOKUP($E361,Drivers!$A$26:$F$48,MATCH(I$1,Drivers!$A$25:$F$25,0),0)*$F361)","v":0},{"$f":"IF($F361=\"\",0,VLOOKUP($E361,Drivers!$A$26:$F$48,MATCH(J$1,Drivers!$A$25:$F$25,0),0)*$F361)","v":0},{"$f":"IF($F361=\"\",0,VLOOKUP($E361,Drivers!$A$26:$F$48,MATCH(K$1,Drivers!$A$25:$F$25,0),0)*$F361)","v":0}]
["TRIBUTOS_E_TAXAS_FISCAIS","5500","GERÊNCIA COMERCIAL",{"$f":"VLOOKUP(B362,Centro_Custo!$A$2:$C$36,3)","v":"Encargos de Gestão"},"Fixo",{"$f":"SUMIFS('Classificação OPEX'!$O$4:$O$1666,'Classificação OPEX'!$Q$4:$Q$1666,\"N\",'Classificação OPEX'!$S$4:$S$1666,\"NÃO\",'Classificação OPEX'!$V$4:$V$1666,DRIVER_OPEX!A362,'Classificação OPEX'!$W$4:$W$1666,DRIVER_OPEX!B362)","v":0},{"$f":"IF($F362=\"\",0,VLOOKUP($E362,Drivers!$A$26:$F$48,MATCH(G$1,Drivers!$A$25:$F$25,0),0)*$F362)","v":0},{"$f":"IF($F362=\"\",0,VLOOKUP($E362,Drivers!$A$26:$F$48,MATCH(H$1,Drivers!$A$25:$F$25,0),0)*$F362)","v":0},{"$f":"IF($F362=\"\",0,VLOOKUP($E362,Drivers!$A$26:$F$48,MATCH(I$1,Drivers!$A$25:$F$25,0),0)*$F362)","v":0},{"$f":"IF($F362=\"\",0,VLOOKUP($E362,Drivers!$A$26:$F$48,MATCH(J$1,Drivers!$A$25:$F$25,0),0)*$F362)","v":0},{"$f":"IF($F362=\"\",0,VLOOKUP($E362,Drivers!$A$26:$F$48,MATCH(K$1,Drivers!$A$25:$F$25,0),0)*$F362)","v":0}]
["VEÍCULOS","TOTAL","TOTAL",null,null,{"$f":"SUM(F364:F398)","v":1011631.8796852522},{"$f":"SUM(G364:G398)","v":1203129.3456161818},1307164.362053917,1168037.0206537759,1215306.2952282249,1198197.1070456777]
["VEÍCULOS",2130,{"$f":"VLOOKUP(B364,Centro_Custo!$A$2:$B$36,2,0)","v":"ASSESSORIA DE RELAÇÕES INSTITUCIONAIS E NOVOS NEGÓCIOS"},{"$f":"VLOOKUP(B364,Centro_Custo!$A$2:$C$36,3)","v":"Encargos de Gestão"},"Município",{"$f":"SUMIFS('Classificação OPEX'!$O$4:$O$1666,'Classificação OPEX'!$Q$4:$Q$1666,\"N\",'Classificação OPEX'!$S$4:$S$1666,\"NÃO\",'Classificação OPEX'!$V$4:$V$1666,DRIVER_OPEX!A364,'Classificação OPEX'!$W$4:$W$1666,DRIVER_OPEX!B364)","v":52.18487549317549},{"$f":"IF($F364=\"\",0,VLOOKUP($E364,Drivers!$A$26:$F$48,MATCH(G$1,Drivers!$A$25:$F$25,0),0)*$F364)","v":55.663867192720524},{"$f":"IF($F364=\"\",0,VLOOKUP($E364,Drivers!$A$26:$F$48,MATCH(H$1,Drivers!$A$25:$F$25,0),0)*$F364)","v":66.100842291355619},{"$f":"IF($F364=\"\",0,VLOOKUP($E364,Drivers!$A$26:$F$48,MATCH(I$1,Drivers!$A$25:$F$25,0),0)*$F364)","v":69.579833990900653},{"$f":"IF($F364=\"\",0,VLOOKUP($E364,Drivers!$A$26:$F$48,MATCH(J$1,Drivers!$A$25:$F$25,0),0)*$F364)","v":69.579833990900653},{"$f":"IF($F364=\"\",0,VLOOKUP($E364,Drivers!$A$26:$F$48,MATCH(K$1,Drivers!$A$25:$F$25,0),0)*$F364)","v":69.579833990900653}]
["VEÍCULOS",2200,{"$f":"VLOOKUP(B365,Centro_Custo!$A$2:$B$36,2,0)","v":"DIRETORIA COLEGIADA - PRESIDÊNCIA"},{"$f":"VLOOKUP(B365,Centro_Custo!$A$2:$C$36,3)","v":"Encargos de Gestão"},"Fixo",{"$f":"SUMIFS('Classificação OPEX'!$O$4:$O$1666,'Classificação OPEX'!$Q$4:$Q$1666,\"N\",'Classificação OPEX'!$S$4:$S$1666,\"NÃO\",'Classificação OPEX'!$V$4:$V$1666,DRIVER_OPEX!A365,'Classificação OPEX'!$W$4:$W$1666,DRIVER_OPEX!B365)","v":12263.242190347964},{"$f":"IF($F365=\"\",0,VLOOKUP($E365,Drivers!$A$26:$F$48,MATCH(G$1,Drivers!$A$25:$F$25,0),0)*$F365)","v":12263.242190347964},{"$f":"IF($F365=\"\",0,VLOOKUP($E365,Drivers!$A$26:$F$48,MATCH(H$1,Drivers!$A$25:$F$25,0),0)*$F365)","v":12263.242190347964},{"$f":"IF($F365=\"\",0,VLOOKUP($E365,Drivers!$A$26:$F$48,MATCH(I$1,Drivers!$A$25:$F$25,0),0)*$F365)","v":12263.242190347964},{"$f":"IF($F365=\"\",0,VLOOKUP($E365,Drivers!$A$26:$F$48,MATCH(J$1,Drivers!$A$25:$F$25,0),0)*$F365)","v":12263.242190347964},{"$f":"IF($F365=\"\",0,VLOOKUP($E365,Drivers!$A$26:$F$48,MATCH(K$1,Drivers!$A$25:$F$25,0),0)*$F365)","v":12263.242190347964}]
["VEÍCULOS",2300,{"$f":"VLOOKUP(B366,Centro_Custo!$A$2:$B$36,2,0)","v":"DIRETORIA COLEGIADA - DAF"},{"$f":"VLOOKUP(B366,Centro_Custo!$A$2:$C$36,3)","v":"Encargos de Gestão"},"Fixo",{"$f":"SUMIFS('Classificação OPEX'!$O$4:$O$1666,'Classificação OPEX'!$Q$4:$Q$1666,\"N\",'Classificação OPEX'!$S$4:$S$1666,\"NÃO\",'Classificação OPEX'!$V$4:$V$1666,DRIVER_OPEX!A366,'Classificação OPEX'!$W$4:$W$1666,DRIVER_OPEX!B366)","v":1725.6018161562497},{"$f":"IF($F366=\"\",0,VLOOKUP($E366,Drivers!$A$26:$F$48,MATCH(G$1,Drivers!$A$25:$F$25,0),0)*$F366)","v":1725.6018161562497},{"$f":"IF($F366=\"\",0,VLOOKUP($E366,Drivers!$A$26:$F$48,MATCH(H$1,Drivers!$A$25:$F$25,0),0)*$F366)","v":1725.6018161562497},{"$f":"IF($F366=\"\",0,VLOOKUP($E366,Drivers!$A$26:$F$48,MATCH(I$1,Drivers!$A$25:$F$25,0),0)*$F366)","v":1725.6018161562497},{"$f":"IF($F366=\"\",0,VLOOKUP($E366,Drivers!$A$26:$F$48,MATCH(J$1,Drivers!$A$25:$F$25,0),0)*$F366)","v":1725.6018161562497},{"$f":"IF($F366=\"\",0,VLOOKUP($E366,Drivers!$A$26:$F$48,MATCH(K$1,Drivers!$A$25:$F$25,0),0)*$F366)","v":1725.6018161562497}]
["VEÍCULOS",2400,{"$f":"VLOOKUP(B367,Centro_Custo!$A$2:$B$36,2,0)","v":"DIRETORIA COLEGIADA - DTC"},{"$f":"VLOOKUP(B367,Centro_Custo!$A$2:$C$36,3)","v":"Encargos de Comercialização"},"Fixo",{"$f":"SUMIFS('Classificação OPEX'!$O$4:$O$1666,'Classificação OPEX'!$Q$4:$Q$1666,\"N\",'Classificação OPEX'!$S$4:$S$1666,\"NÃO\",'Classificação OPEX'!$V$4:$V$1666,DRIVER_OPEX!A367,'Classificação OPEX'!$W$4:$W$1666,DRIVER_OPEX!B367)","v":621.96807785666476},{"$f":"IF($F367=\"\",0,VLOOKUP($E367,Drivers!$A$26:$F$48,MATCH(G$1,Drivers!$A$25:$F$25,0),0)*$F367)","v":621.96807785666476},{"$f":"IF($F367=\"\",0,VLOOKUP($E367,Drivers!$A$26:$F$48,MATCH(H$1,Drivers!$A$25:$F$25,0),0)*$F367)","v":621.96807785666476},{"$f":"IF($F367=\"\",0,VLOOKUP($E367,Drivers!$A$26:$F$48,MATCH(I$1,Drivers!$A$25:$F$25,0),0)*$F367)","v":621.96807785666476},{"$f":"IF($F367=\"\",0,VLOOKUP($E367,Drivers!$A$26:$F$48,MATCH(J$1,Drivers!$A$25:$F$25,0),0)*$F367)","v":621.96807785666476},{"$f":"IF($F367=\"\",0,VLOOKUP($E367,Drivers!$A$26:$F$48,MATCH(K$1,Drivers!$A$25:$F$25,0),0)*$F367)","v":621.96807785666476}]
["VEÍCULOS",2410,{"$f":"VLOOKUP(B368,Centro_Custo!$A$2:$B$36,2,0)","v":"ASSESSORIA DE SEGURANÇA DO TRABALHO"},{"$f":"VLOOKUP(B368,Centro_Custo!$A$2:$C$36,3)","v":"OPEX&ODESP"},"Extensão de Rede",{"$f":"SUMIFS('Classificação OPEX'!$O$4:$O$1666,'Classificação OPEX'!$Q$4:$Q$1666,\"N\",'Classificação OPEX'!$S$4:$S$1666,\"NÃO\",'Classificação OPEX'!$V$4:$V$1666,DRIVER_OPEX!A368,'Classificação OPEX'!$W$4:$W$1666,DRIVER_OPEX!B368)","v":4461.474471241766},{"$f":"IF($F368=\"\",0,VLOOKUP($E368,Drivers!$A$26:$F$48,MATCH(G$1,Drivers!$A$25:$F$25,0),0)*$F368)","v":4775.4811820727928},{"$f":"IF($F368=\"\",0,VLOOKUP($E368,Drivers!$A$26:$F$48,MATCH(H$1,Drivers!$A$25:$F$25,0),0)*$F368)","v":5208.4217917716242},{"$f":"IF($F368=\"\",0,VLOOKUP($E368,Drivers!$A$26:$F$48,MATCH(I$1,Drivers!$A$25:$F$25,0),0)*$F368)","v":5362.5115608671213},{"$f":"IF($F368=\"\",0,VLOOKUP($E368,Drivers!$A$26:$F$48,MATCH(J$1,Drivers!$A$25:$F$25,0),0)*$F368)","v":5584.3046744012981},{"$f":"IF($F368=\"\",0,VLOOKUP($E368,Drivers!$A$26:$F$48,MATCH(K$1,Drivers!$A$25:$F$25,0),0)*$F368)","v":5758.9336603489792}]
["VEÍCULOS",3200,{"$f":"VLOOKUP(B369,Centro_Custo!$A$2:$B$36,2,0)","v":"GERÊNCIA DE PLANEJAMENTO E MEIO AMBIENTE"},{"$f":"VLOOKUP(B369,Centro_Custo!$A$2:$C$36,3)","v":"OPEX&ODESP"},"Município",{"$f":"SUMIFS('Classificação OPEX'!$O$4:$O$1666,'Classificação OPEX'!$Q$4:$Q$1666,\"N\",'Classificação OPEX'!$S$4:$S$1666,\"NÃO\",'Classificação OPEX'!$V$4:$V$1666,DRIVER_OPEX!A369,'Classificação OPEX'!$W$4:$W$1666,DRIVER_OPEX!B369)","v":1265.194715688197},{"$f":"IF($F369=\"\",0,VLOOKUP($E369,Drivers!$A$26:$F$48,MATCH(G$1,Drivers!$A$25:$F$25,0),0)*$F369)","v":1349.54103006741},{"$f":"IF($F369=\"\",0,VLOOKUP($E369,Drivers!$A$26:$F$48,MATCH(H$1,Drivers!$A$25:$F$25,0),0)*$F369)","v":1602.5799732050496},{"$f":"IF($F369=\"\",0,VLOOKUP($E369,Drivers!$A$26:$F$48,MATCH(I$1,Drivers!$A$25:$F$25,0),0)*$F369)","v":1686.9262875842626},{"$f":"IF($F369=\"\",0,VLOOKUP($E369,Drivers!$A$26:$F$48,MATCH(J$1,Drivers!$A$25:$F$25,0),0)*$F369)","v":1686.9262875842626},{"$f":"IF($F369=\"\",0,VLOOKUP($E369,Drivers!$A$26:$F$48,MATCH(K$1,Drivers!$A$25:$F$25,0),0)*$F369)","v":1686.9262875842626}]
["VEÍCULOS",4100,{"$f":"VLOOKUP(B370,Centro_Custo!$A$2:$B$36,2,0)","v":"GERÊNCIA DE SERVIÇOS CORPORATIVOS"},{"$f":"VLOOKUP(B370,Centro_Custo!$A$2:$C$36,3)","v":"Encargos de Gestão"},"Funcionário",{"$f":"SUMIFS('Classificação OPEX'!$O$4:$O$1666,'Classificação OPEX'!$Q$4:$Q$1666,\"N\",'Classificação OPEX'!$S$4:$S$1666,\"NÃO\",'Classificação OPEX'!$V$4:$V$1666,DRIVER_OPEX!A370,'Classificação OPEX'!$W$4:$W$1666,DRIVER_OPEX!B370)","v":746699.78965642338},{"$f":"IF($F370=\"\",0,VLOOKUP($E370,Drivers!$A$26:$F$48,MATCH(G$1,Drivers!$A$25:$F$25,0),0)*$F370)","v":795824.77581803023},{"$f":"IF($F370=\"\",0,VLOOKUP($E370,Drivers!$A$26:$F$48,MATCH(H$1,Drivers!$A$25:$F$25,0),0)*$F370)","v":815474.77028267283},{"$f":"IF($F370=\"\",0,VLOOKUP($E370,Drivers!$A$26:$F$48,MATCH(I$1,Drivers!$A$25:$F$25,0),0)*$F370)","v":820387.26889883354},{"$f":"IF($F370=\"\",0,VLOOKUP($E370,Drivers!$A$26:$F$48,MATCH(J$1,Drivers!$A$25:$F$25,0),0)*$F370)","v":820387.26889883354},{"$f":"IF($F370=\"\",0,VLOOKUP($E370,Drivers!$A$26:$F$48,MATCH(K$1,Drivers!$A$25:$F$25,0),0)*$F370)","v":820387.26889883354}]
["VEÍCULOS",5100,{"$f":"VLOOKUP(B371,Centro_Custo!$A$2:$B$36,2,0)","v":"GERÊNCIA DE ENGENHARIA"},{"$f":"VLOOKUP(B371,Centro_Custo!$A$2:$C$36,3)","v":"OPEX&ODESP"},"Extensão adicional de rede ",{"$f":"SUMIFS('Classificação OPEX'!$O$4:$O$1666,'Classificação OPEX'!$Q$4:$Q$1666,\"N\",'Classificação OPEX'!$S$4:$S$1666,\"NÃO\",'Classificação OPEX'!$V$4:$V$1666,DRIVER_OPEX!A371,'Classificação OPEX'!$W$4:$W$1666,DRIVER_OPEX!B371)","v":43065.129921051506},{"$f":"IF($F371=\"\",0,VLOOKUP($E371,Drivers!$A$26:$F$48,MATCH(G$1,Drivers!$A$25:$F$25,0),0)*$F371)","v":171051.23488131299},{"$f":"IF($F371=\"\",0,VLOOKUP($E371,Drivers!$A$26:$F$48,MATCH(H$1,Drivers!$A$25:$F$25,0),0)*$F371)","v":235838.99122176517},{"$f":"IF($F371=\"\",0,VLOOKUP($E371,Drivers!$A$26:$F$48,MATCH(I$1,Drivers!$A$25:$F$25,0),0)*$F371)","v":83938.477673314774},{"$f":"IF($F371=\"\",0,VLOOKUP($E371,Drivers!$A$26:$F$48,MATCH(J$1,Drivers!$A$25:$F$25,0),0)*$F371)","v":120819.02917867131},{"$f":"IF($F371=\"\",0,VLOOKUP($E371,Drivers!$A$26:$F$48,MATCH(K$1,Drivers!$A$25:$F$25,0),0)*$F371)","v":95126.959590670114}]
["VEÍCULOS",5200,{"$f":"VLOOKUP(B372,Centro_Custo!$A$2:$B$36,2,0)","v":"GERÊNCIA DE OPERAÇÕES"},{"$f":"VLOOKUP(B372,Centro_Custo!$A$2:$C$36,3)","v":"OPEX&ODESP"},"Extensão de Rede",{"$f":"SUMIFS('Classificação OPEX'!$O$4:$O$1666,'Classificação OPEX'!$Q$4:$Q$1666,\"N\",'Classificação OPEX'!$S$4:$S$1666,\"NÃO\",'Classificação OPEX'!$V$4:$V$1666,DRIVER_OPEX!A372,'Classificação OPEX'!$W$4:$W$1666,DRIVER_OPEX!B372)","v":185712.36530240733},{"$f":"IF($F372=\"\",0,VLOOKUP($E372,Drivers!$A$26:$F$48,MATCH(G$1,Drivers!$A$25:$F$25,0),0)*$F372)","v":198783.14030406906},{"$f":"IF($F372=\"\",0,VLOOKUP($E372,Drivers!$A$26:$F$48,MATCH(H$1,Drivers!$A$25:$F$25,0),0)*$F372)","v":216804.63189410343},{"$f":"IF($F372=\"\",0,VLOOKUP($E372,Drivers!$A$26:$F$48,MATCH(I$1,Drivers!$A$25:$F$25,0),0)*$F372)","v":223218.73908491779},{"$f":"IF($F372=\"\",0,VLOOKUP($E372,Drivers!$A$26:$F$48,MATCH(J$1,Drivers!$A$25:$F$25,0),0)*$F372)","v":232451.05095574041},{"$f":"IF($F372=\"\",0,VLOOKUP($E372,Drivers!$A$26:$F$48,MATCH(K$1,Drivers!$A$25:$F$25,0),0)*$F372)","v":239720.11911689438}]
["VEÍCULOS",5300,{"$f":"VLOOKUP(B373,Centro_Custo!$A$2:$B$36,2,0)","v":"GERÊNCIA COMERCIAL"},{"$f":"VLOOKUP(B373,Centro_Custo!$A$2:$C$36,3)","v":"Encargos de Comercialização"},"Usuários total",{"$f":"SUMIFS('Classificação OPEX'!$O$4:$O$1666,'Classificação OPEX'!$Q$4:$Q$1666,\"N\",'Classificação OPEX'!$S$4:$S$1666,\"NÃO\",'Classificação OPEX'!$V$4:$V$1666,DRIVER_OPEX!A373,'Classificação OPEX'!$W$4:$W$1666,DRIVER_OPEX!B373)","v":7989.0162400677136},{"$f":"IF($F373=\"\",0,VLOOKUP($E373,Drivers!$A$26:$F$48,MATCH(G$1,Drivers!$A$25:$F$25,0),0)*$F373)","v":8902.784030557279},{"$f":"IF($F373=\"\",0,VLOOKUP($E373,Drivers!$A$26:$F$48,MATCH(H$1,Drivers!$A$25:$F$25,0),0)*$F373)","v":9782.141545228189},{"$f":"IF($F373=\"\",0,VLOOKUP($E373,Drivers!$A$26:$F$48,MATCH(I$1,Drivers!$A$25:$F$25,0),0)*$F373)","v":10986.792811388201},{"$f":"IF($F373=\"\",0,VLOOKUP($E373,Drivers!$A$26:$F$48,MATCH(J$1,Drivers!$A$25:$F$25,0),0)*$F373)","v":11921.410896123822},{"$f":"IF($F373=\"\",0,VLOOKUP($E373,Drivers!$A$26:$F$48,MATCH(K$1,Drivers!$A$25:$F$25,0),0)*$F373)","v":13060.595154476299}]
["VEÍCULOS","0000","RATEIO",{"$f":"VLOOKUP(B374,Centro_Custo!$A$2:$C$36,3)","v":"Encargos de Gestão"},"Fixo",{"$f":"SUMIFS('Classificação OPEX'!$O$4:$O$1666,'Classificação OPEX'!$Q$4:$Q$1666,\"N\",'Classificação OPEX'!$S$4:$S$1666,\"NÃO\",'Classificação OPEX'!$V$4:$V$1666,DRIVER_OPEX!A374,'Classificação OPEX'!$W$4:$W$1666,DRIVER_OPEX!B374)","v":0},{"$f":"IF($F374=\"\",0,VLOOKUP($E374,Drivers!$A$26:$F$48,MATCH(G$1,Drivers!$A$25:$F$25,0),0)*$F374)","v":0},{"$f":"IF($F374=\"\",0,VLOOKUP($E374,Drivers!$A$26:$F$48,MATCH(H$1,Drivers!$A$25:$F$25,0),0)*$F374)","v":0},{"$f":"IF($F374=\"\",0,VLOOKUP($E374,Drivers!$A$26:$F$48,MATCH(I$1,Drivers!$A$25:$F$25,0),0)*$F374)","v":0},{"$f":"IF($F374=\"\",0,VLOOKUP($E374,Drivers!$A$26:$F$48,MATCH(J$1,Drivers!$A$25:$F$25,0),0)*$F374)","v":0},{"$f":"IF($F374=\"\",0,VLOOKUP($E374,Drivers!$A$26:$F$48,MATCH(K$1,Drivers!$A$25:$F$25,0),0)*$F374)","v":0}]
["VEÍCULOS",1001,"CONSELHO DE ADMINISTRAÇÃO",{"$f":"VLOOKUP(B375,Centro_Custo!$A$2:$C$36,3)","v":"Encargos de Gestão"},"Fixo",{"$f":"SUMIFS('Classificação OPEX'!$O$4:$O$1666,'Classificação OPEX'!$Q$4:$Q$1666,\"N\",'Classificação OPEX'!$S$4:$S$1666,\"NÃO\",'Classificação OPEX'!$V$4:$V$1666,DRIVER_OPEX!A375,'Classificação OPEX'!$W$4:$W$1666,DRIVER_OPEX!B375)","v":0},{"$f":"IF($F375=\"\",0,VLOOKUP($E375,Drivers!$A$26:$F$48,MATCH(G$1,Drivers!$A$25:$F$25,0),0)*$F375)","v":0},{"$f":"IF($F375=\"\",0,VLOOKUP($E375,Drivers!$A$26:$F$48,MATCH(H$1,Drivers!$A$25:$F$25,0),0)*$F375)","v":0},{"$f":"IF($F375=\"\",0,VLOOKUP($E375,Drivers!$A$26:$F$48,MATCH(I$1,Drivers!$A$25:$F$25,0),0)*$F375)","v":0},{"$f":"IF($F375=\"\",0,VLOOKUP($E375,Drivers!$A$26:$F$48,MATCH(J$1,Drivers!$A$25:$F$25,0),0)*$F375)","v":0},{"$f":"IF($F375=\"\",0,VLOOKUP($E375,Drivers!$A$26:$F$48,MATCH(K$1,Drivers!$A$25:$F$25,0),0)*$F375)","v":0}]
["VEÍCULOS",1002,"CONSELHO FISCAL",{"$f":"VLOOKUP(B376,Centro_Custo!$A$2:$C$36,3)","v":"Encargos de Gestão"},"Fixo",{"$f":"SUMIFS('Classificação OPEX'!$O$4:$O$1666,'Classificação OPEX'!$Q$4:$Q$1666,\"N\",'Classificação OPEX'!$S$4:$S$1666,\"NÃO\",'Classificação OPEX'!$V$4:$V$1666,DRIVER_OPEX!A376,'Classificação OPEX'!$W$4:$W$1666,DRIVER_OPEX!B376)","v":0},{"$f":"IF($F376=\"\",0,VLOOKUP($E376,Drivers!$A$26:$F$48,MATCH(G$1,Drivers!$A$25:$F$25,0),0)*$F376)","v":0},{"$f":"IF($F376=\"\",0,VLOOKUP($E376,Drivers!$A$26:$F$48,MATCH(H$1,Drivers!$A$25:$F$25,0),0)*$F376)","v":0},{"$f":"IF($F376=\"\",0,VLOOKUP($E376,Drivers!$A$26:$F$48,MATCH(I$1,Drivers!$A$25:$F$25,0),0)*$F376)","v":0},{"$f":"IF($F376=\"\",0,VLOOKUP($E376,Drivers!$A$26:$F$48,MATCH(J$1,Drivers!$A$25:$F$25,0),0)*$F376)","v":0},{"$f":"IF($F376=\"\",0,VLOOKUP($E376,Drivers!$A$26:$F$48,MATCH(K$1,Drivers!$A$25:$F$25,0),0)*$F376)","v":0}]
["VEÍCULOS",1003,"COMITÊ DE INDICAÇÃO E AVALIAÇÃO",{"$f":"VLOOKUP(B377,Centro_Custo!$A$2:$C$36,3)","v":"Encargos de Gestão"},"Fixo",{"$f":"SUMIFS('Classificação OPEX'!$O$4:$O$1666,'Classificação OPEX'!$Q$4:$Q$1666,\"N\",'Classificação OPEX'!$S$4:$S$1666,\"NÃO\",'Classificação OPEX'!$V$4:$V$1666,DRIVER_OPEX!A377,'Classificação OPEX'!$W$4:$W$1666,DRIVER_OPEX!B377)","v":0},{"$f":"IF($F377=\"\",0,VLOOKUP($E377,Drivers!$A$26:$F$48,MATCH(G$1,Drivers!$A$25:$F$25,0),0)*$F377)","v":0},{"$f":"IF($F377=\"\",0,VLOOKUP($E377,Drivers!$A$26:$F$48,MATCH(H$1,Drivers!$A$25:$F$25,0),0)*$F377)","v":0},{"$f":"IF($F377=\"\",0,VLOOKUP($E377,Drivers!$A$26:$F$48,MATCH(I$1,Drivers!$A$25:$F$25,0),0)*$F377)","v":0},{"$f":"IF($F377=\"\",0,VLOOKUP($E377,Drivers!$A$26:$F$48,MATCH(J$1,Drivers!$A$25:$F$25,0),0)*$F377)","v":0},{"$f":"IF($F377=\"\",0,VLOOKUP($E377,Drivers!$A$26:$F$48,MATCH(K$1,Drivers!$A$25:$F$25,0),0)*$F377)","v":0}]
["VEÍCULOS",1004,"COMITÊ DE AUDITORIA ESTATUTÁRIA",{"$f":"VLOOKUP(B378,Centro_Custo!$A$2:$C$36,3)","v":"Encargos de Gestão"},"Fixo",{"$f":"SUMIFS('Classificação OPEX'!$O$4:$O$1666,'Classificação OPEX'!$Q$4:$Q$1666,\"N\",'Classificação OPEX'!$S$4:$S$1666,\"NÃO\",'Classificação OPEX'!$V$4:$V$1666,DRIVER_OPEX!A378,'Classificação OPEX'!$W$4:$W$1666,DRIVER_OPEX!B378)","v":0},{"$f":"IF($F378=\"\",0,VLOOKUP($E378,Drivers!$A$26:$F$48,MATCH(G$1,Drivers!$A$25:$F$25,0),0)*$F378)","v":0},{"$f":"IF($F378=\"\",0,VLOOKUP($E378,Drivers!$A$26:$F$48,MATCH(H$1,Drivers!$A$25:$F$25,0),0)*$F378)","v":0},{"$f":"IF($F378=\"\",0,VLOOKUP($E378,Drivers!$A$26:$F$48,MATCH(I$1,Drivers!$A$25:$F$25,0),0)*$F378)","v":0},{"$f":"IF($F378=\"\",0,VLOOKUP($E378,Drivers!$A$26:$F$48,MATCH(J$1,Drivers!$A$25:$F$25,0),0)*$F378)","v":0},{"$f":"IF($F378=\"\",0,VLOOKUP($E378,Drivers!$A$26:$F$48,MATCH(K$1,Drivers!$A$25:$F$25,0),0)*$F378)","v":0}]
["VEÍCULOS",1005,"AUDITORIA INTERNA",{"$f":"VLOOKUP(B379,Centro_Custo!$A$2:$C$36,3)","v":"Encargos de Gestão"},"Fixo",{"$f":"SUMIFS('Classificação OPEX'!$O$4:$O$1666,'Classificação OPEX'!$Q$4:$Q$1666,\"N\",'Classificação OPEX'!$S$4:$S$1666,\"NÃO\",'Classificação OPEX'!$V$4:$V$1666,DRIVER_OPEX!A379,'Classificação OPEX'!$W$4:$W$1666,DRIVER_OPEX!B379)","v":0},{"$f":"IF($F379=\"\",0,VLOOKUP($E379,Drivers!$A$26:$F$48,MATCH(G$1,Drivers!$A$25:$F$25,0),0)*$F379)","v":0},{"$f":"IF($F379=\"\",0,VLOOKUP($E379,Drivers!$A$26:$F$48,MATCH(H$1,Drivers!$A$25:$F$25,0),0)*$F379)","v":0},{"$f":"IF($F379=\"\",0,VLOOKUP($E379,Drivers!$A$26:$F$48,MATCH(I$1,Drivers!$A$25:$F$25,0),0)*$F379)","v":0},{"$f":"IF($F379=\"\",0,VLOOKUP($E379,Drivers!$A$26:$F$48,MATCH(J$1,Drivers!$A$25:$F$25,0),0)*$F379)","v":0},{"$f":"IF($F379=\"\",0,VLOOKUP($E379,Drivers!$A$26:$F$48,MATCH(K$1,Drivers!$A$25:$F$25,0),0)*$F379)","v":0}]
["VEÍCULOS",1010,"GOVERNANÇA SOCIETÁRIA",{"$f":"VLOOKUP(B380,Centro_Custo!$A$2:$C$36,3)","v":"Encargos de Gestão"},"Fixo",{"$f":"SUMIFS('Classificação OPEX'!$O$4:$O$1666,'Classificação OPEX'!$Q$4:$Q$1666,\"N\",'Classificação OPEX'!$S$4:$S$1666,\"NÃO\",'Classificação OPEX'!$V$4:$V$1666,DRIVER_OPEX!A380,'Classificação OPEX'!$W$4:$W$1666,DRIVER_OPEX!B380)","v":0},{"$f":"IF($F380=\"\",0,VLOOKUP($E380,Drivers!$A$26:$F$48,MATCH(G$1,Drivers!$A$25:$F$25,0),0)*$F380)","v":0},{"$f":"IF($F380=\"\",0,VLOOKUP($E380,Drivers!$A$26:$F$48,MATCH(H$1,Drivers!$A$25:$F$25,0),0)*$F380)","v":0},{"$f":"IF($F380=\"\",0,VLOOKUP($E380,Drivers!$A$26:$F$48,MATCH(I$1,Drivers!$A$25:$F$25,0),0)*$F380)","v":0},{"$f":"IF($F380=\"\",0,VLOOKUP($E380,Drivers!$A$26:$F$48,MATCH(J$1,Drivers!$A$25:$F$25,0),0)*$F380)","v":0},{"$f":"IF($F380=\"\",0,VLOOKUP($E380,Drivers!$A$26:$F$48,MATCH(K$1,Drivers!$A$25:$F$25,0),0)*$F380)","v":0}]
["VEÍCULOS",2100,"SECRETARIA",{"$f":"VLOOKUP(B381,Centro_Custo!$A$2:$C$36,3)","v":"Encargos de Gestão"},"Fixo",{"$f":"SUMIFS('Classificação OPEX'!$O$4:$O$1666,'Classificação OPEX'!$Q$4:$Q$1666,\"N\",'Classificação OPEX'!$S$4:$S$1666,\"NÃO\",'Classificação OPEX'!$V$4:$V$1666,DRIVER_OPEX!A381,'Classificação OPEX'!$W$4:$W$1666,DRIVER_OPEX!B381)","v":54.153607814829456},{"$f":"IF($F381=\"\",0,VLOOKUP($E381,Drivers!$A$26:$F$48,MATCH(G$1,Drivers!$A$25:$F$25,0),0)*$F381)","v":54.153607814829456},{"$f":"IF($F381=\"\",0,VLOOKUP($E381,Drivers!$A$26:$F$48,MATCH(H$1,Drivers!$A$25:$F$25,0),0)*$F381)","v":54.153607814829456},{"$f":"IF($F381=\"\",0,VLOOKUP($E381,Drivers!$A$26:$F$48,MATCH(I$1,Drivers!$A$25:$F$25,0),0)*$F381)","v":54.153607814829456},{"$f":"IF($F381=\"\",0,VLOOKUP($E381,Drivers!$A$26:$F$48,MATCH(J$1,Drivers!$A$25:$F$25,0),0)*$F381)","v":54.153607814829456},{"$f":"IF($F381=\"\",0,VLOOKUP($E381,Drivers!$A$26:$F$48,MATCH(K$1,Drivers!$A$25:$F$25,0),0)*$F381)","v":54.153607814829456}]
["VEÍCULOS",2110,"ASSESSORIA DA DIRETORIA EXECUTIVA",{"$f":"VLOOKUP(B382,Centro_Custo!$A$2:$C$36,3)","v":"Encargos de Gestão"},"Fixo",{"$f":"SUMIFS('Classificação OPEX'!$O$4:$O$1666,'Classificação OPEX'!$Q$4:$Q$1666,\"N\",'Classificação OPEX'!$S$4:$S$1666,\"NÃO\",'Classificação OPEX'!$V$4:$V$1666,DRIVER_OPEX!A382,'Classificação OPEX'!$W$4:$W$1666,DRIVER_OPEX!B382)","v":0},{"$f":"IF($F382=\"\",0,VLOOKUP($E382,Drivers!$A$26:$F$48,MATCH(G$1,Drivers!$A$25:$F$25,0),0)*$F382)","v":0},{"$f":"IF($F382=\"\",0,VLOOKUP($E382,Drivers!$A$26:$F$48,MATCH(H$1,Drivers!$A$25:$F$25,0),0)*$F382)","v":0},{"$f":"IF($F382=\"\",0,VLOOKUP($E382,Drivers!$A$26:$F$48,MATCH(I$1,Drivers!$A$25:$F$25,0),0)*$F382)","v":0},{"$f":"IF($F382=\"\",0,VLOOKUP($E382,Drivers!$A$26:$F$48,MATCH(J$1,Drivers!$A$25:$F$25,0),0)*$F382)","v":0},{"$f":"IF($F382=\"\",0,VLOOKUP($E382,Drivers!$A$26:$F$48,MATCH(K$1,Drivers!$A$25:$F$25,0),0)*$F382)","v":0}]
["VEÍCULOS",2120,"ASSESSORIA DA PRESIDÊNCIA",{"$f":"VLOOKUP(B383,Centro_Custo!$A$2:$C$36,3)","v":"Encargos de Gestão"},"Fixo",{"$f":"SUMIFS('Classificação OPEX'!$O$4:$O$1666,'Classificação OPEX'!$Q$4:$Q$1666,\"N\",'Classificação OPEX'!$S$4:$S$1666,\"NÃO\",'Classificação OPEX'!$V$4:$V$1666,DRIVER_OPEX!A383,'Classificação OPEX'!$W$4:$W$1666,DRIVER_OPEX!B383)","v":319.89510817736908},{"$f":"IF($F383=\"\",0,VLOOKUP($E383,Drivers!$A$26:$F$48,MATCH(G$1,Drivers!$A$25:$F$25,0),0)*$F383)","v":319.89510817736908},{"$f":"IF($F383=\"\",0,VLOOKUP($E383,Drivers!$A$26:$F$48,MATCH(H$1,Drivers!$A$25:$F$25,0),0)*$F383)","v":319.89510817736908},{"$f":"IF($F383=\"\",0,VLOOKUP($E383,Drivers!$A$26:$F$48,MATCH(I$1,Drivers!$A$25:$F$25,0),0)*$F383)","v":319.89510817736908},{"$f":"IF($F383=\"\",0,VLOOKUP($E383,Drivers!$A$26:$F$48,MATCH(J$1,Drivers!$A$25:$F$25,0),0)*$F383)","v":319.89510817736908},{"$f":"IF($F383=\"\",0,VLOOKUP($E383,Drivers!$A$26:$F$48,MATCH(K$1,Drivers!$A$25:$F$25,0),0)*$F383)","v":319.89510817736908}]
["VEÍCULOS",2140,"ASSESSORIA DTC",{"$f":"VLOOKUP(B384,Centro_Custo!$A$2:$C$36,3)","v":"Encargos de Comercialização"},"Fixo",{"$f":"SUMIFS('Classificação OPEX'!$O$4:$O$1666,'Classificação OPEX'!$Q$4:$Q$1666,\"N\",'Classificação OPEX'!$S$4:$S$1666,\"NÃO\",'Classificação OPEX'!$V$4:$V$1666,DRIVER_OPEX!A384,'Classificação OPEX'!$W$4:$W$1666,DRIVER_OPEX!B384)","v":0},{"$f":"IF($F384=\"\",0,VLOOKUP($E384,Drivers!$A$26:$F$48,MATCH(G$1,Drivers!$A$25:$F$25,0),0)*$F384)","v":0},{"$f":"IF($F384=\"\",0,VLOOKUP($E384,Drivers!$A$26:$F$48,MATCH(H$1,Drivers!$A$25:$F$25,0),0)*$F384)","v":0},{"$f":"IF($F384=\"\",0,VLOOKUP($E384,Drivers!$A$26:$F$48,MATCH(I$1,Drivers!$A$25:$F$25,0),0)*$F384)","v":0},{"$f":"IF($F384=\"\",0,VLOOKUP($E384,Drivers!$A$26:$F$48,MATCH(J$1,Drivers!$A$25:$F$25,0),0)*$F384)","v":0},{"$f":"IF($F384=\"\",0,VLOOKUP($E384,Drivers!$A$26:$F$48,MATCH(K$1,Drivers!$A$25:$F$25,0),0)*$F384)","v":0}]
["VEÍCULOS",2310,"ASSESSORIA DAF",{"$f":"VLOOKUP(B385,Centro_Custo!$A$2:$C$36,3)","v":"Encargos de Gestão"},"Fixo",{"$f":"SUMIFS('Classificação OPEX'!$O$4:$O$1666,'Classificação OPEX'!$Q$4:$Q$1666,\"N\",'Classificação OPEX'!$S$4:$S$1666,\"NÃO\",'Classificação OPEX'!$V$4:$V$1666,DRIVER_OPEX!A385,'Classificação OPEX'!$W$4:$W$1666,DRIVER_OPEX!B385)","v":231.03541080445038},{"$f":"IF($F385=\"\",0,VLOOKUP($E385,Drivers!$A$26:$F$48,MATCH(G$1,Drivers!$A$25:$F$25,0),0)*$F385)","v":231.03541080445038},{"$f":"IF($F385=\"\",0,VLOOKUP($E385,Drivers!$A$26:$F$48,MATCH(H$1,Drivers!$A$25:$F$25,0),0)*$F385)","v":231.03541080445038},{"$f":"IF($F385=\"\",0,VLOOKUP($E385,Drivers!$A$26:$F$48,MATCH(I$1,Drivers!$A$25:$F$25,0),0)*$F385)","v":231.03541080445038},{"$f":"IF($F385=\"\",0,VLOOKUP($E385,Drivers!$A$26:$F$48,MATCH(J$1,Drivers!$A$25:$F$25,0),0)*$F385)","v":231.03541080445038},{"$f":"IF($F385=\"\",0,VLOOKUP($E385,Drivers!$A$26:$F$48,MATCH(K$1,Drivers!$A$25:$F$25,0),0)*$F385)","v":231.03541080445038}]
["VEÍCULOS",3100,"SMS",{"$f":"VLOOKUP(B386,Centro_Custo!$A$2:$C$36,3)","v":"OPEX&ODESP"},"Fixo",{"$f":"SUMIFS('Classificação OPEX'!$O$4:$O$1666,'Classificação OPEX'!$Q$4:$Q$1666,\"N\",'Classificação OPEX'!$S$4:$S$1666,\"NÃO\",'Classificação OPEX'!$V$4:$V$1666,DRIVER_OPEX!A386,'Classificação OPEX'!$W$4:$W$1666,DRIVER_OPEX!B386)","v":7022.4699505504759},{"$f":"IF($F386=\"\",0,VLOOKUP($E386,Drivers!$A$26:$F$48,MATCH(G$1,Drivers!$A$25:$F$25,0),0)*$F386)","v":7022.4699505504759},{"$f":"IF($F386=\"\",0,VLOOKUP($E386,Drivers!$A$26:$F$48,MATCH(H$1,Drivers!$A$25:$F$25,0),0)*$F386)","v":7022.4699505504759},{"$f":"IF($F386=\"\",0,VLOOKUP($E386,Drivers!$A$26:$F$48,MATCH(I$1,Drivers!$A$25:$F$25,0),0)*$F386)","v":7022.4699505504759},{"$f":"IF($F386=\"\",0,VLOOKUP($E386,Drivers!$A$26:$F$48,MATCH(J$1,Drivers!$A$25:$F$25,0),0)*$F386)","v":7022.4699505504759},{"$f":"IF($F386=\"\",0,VLOOKUP($E386,Drivers!$A$26:$F$48,MATCH(K$1,Drivers!$A$25:$F$25,0),0)*$F386)","v":7022.4699505504759}]
["VEÍCULOS",3300,"GERÊNCIA JURÍDICA",{"$f":"VLOOKUP(B387,Centro_Custo!$A$2:$C$36,3)","v":"Encargos de Gestão"},"Fixo",{"$f":"SUMIFS('Classificação OPEX'!$O$4:$O$1666,'Classificação OPEX'!$Q$4:$Q$1666,\"N\",'Classificação OPEX'!$S$4:$S$1666,\"NÃO\",'Classificação OPEX'!$V$4:$V$1666,DRIVER_OPEX!A387,'Classificação OPEX'!$W$4:$W$1666,DRIVER_OPEX!B387)","v":0},{"$f":"IF($F387=\"\",0,VLOOKUP($E387,Drivers!$A$26:$F$48,MATCH(G$1,Drivers!$A$25:$F$25,0),0)*$F387)","v":0},{"$f":"IF($F387=\"\",0,VLOOKUP($E387,Drivers!$A$26:$F$48,MATCH(H$1,Drivers!$A$25:$F$25,0),0)*$F387)","v":0},{"$f":"IF($F387=\"\",0,VLOOKUP($E387,Drivers!$A$26:$F$48,MATCH(I$1,Drivers!$A$25:$F$25,0),0)*$F387)","v":0},{"$f":"IF($F387=\"\",0,VLOOKUP($E387,Drivers!$A$26:$F$48,MATCH(J$1,Drivers!$A$25:$F$25,0),0)*$F387)","v":0},{"$f":"IF($F387=\"\",0,VLOOKUP($E387,Drivers!$A$26:$F$48,MATCH(K$1,Drivers!$A$25:$F$25,0),0)*$F387)","v":0}]
["VEÍCULOS",3400,"MARKETING",{"$f":"VLOOKUP(B388,Centro_Custo!$A$2:$C$36,3)","v":"Encargos de Comercialização"},"Fixo",{"$f":"SUMIFS('Classificação OPEX'!$O$4:$O$1666,'Classificação OPEX'!$Q$4:$Q$1666,\"N\",'Classificação OPEX'!$S$4:$S$1666,\"NÃO\",'Classificação OPEX'!$V$4:$V$1666,DRIVER_OPEX!A388,'Classificação OPEX'!$W$4:$W$1666,DRIVER_OPEX!B388)","v":0},{"$f":"IF($F388=\"\",0,VLOOKUP($E388,Drivers!$A$26:$F$48,MATCH(G$1,Drivers!$A$25:$F$25,0),0)*$F388)","v":0},{"$f":"IF($F388=\"\",0,VLOOKUP($E388,Drivers!$A$26:$F$48,MATCH(H$1,Drivers!$A$25:$F$25,0),0)*$F388)","v":0},{"$f":"IF($F388=\"\",0,VLOOKUP($E388,Drivers!$A$26:$F$48,MATCH(I$1,Drivers!$A$25:$F$25,0),0)*$F388)","v":0},{"$f":"IF($F388=\"\",0,VLOOKUP($E388,Drivers!$A$26:$F$48,MATCH(J$1,Drivers!$A$25:$F$25,0),0)*$F388)","v":0},{"$f":"IF($F388=\"\",0,VLOOKUP($E388,Drivers!$A$26:$F$48,MATCH(K$1,Drivers!$A$25:$F$25,0),0)*$F388)","v":0}]
["VEÍCULOS",3500,"ASSESSORIA DE COMUNICAÇÃO INSTITUCIONAL",{"$f":"VLOOKUP(B389,Centro_Custo!$A$2:$C$36,3)","v":"Encargos de Gestão"},"Fixo",{"$f":"SUMIFS('Classificação OPEX'!$O$4:$O$1666,'Classificação OPEX'!$Q$4:$Q$1666,\"N\",'Classificação OPEX'!$S$4:$S$1666,\"NÃO\",'Classificação OPEX'!$V$4:$V$1666,DRIVER_OPEX!A389,'Classificação OPEX'!$W$4:$W$1666,DRIVER_OPEX!B389)","v":0},{"$f":"IF($F389=\"\",0,VLOOKUP($E389,Drivers!$A$26:$F$48,MATCH(G$1,Drivers!$A$25:$F$25,0),0)*$F389)","v":0},{"$f":"IF($F389=\"\",0,VLOOKUP($E389,Drivers!$A$26:$F$48,MATCH(H$1,Drivers!$A$25:$F$25,0),0)*$F389)","v":0},{"$f":"IF($F389=\"\",0,VLOOKUP($E389,Drivers!$A$26:$F$48,MATCH(I$1,Drivers!$A$25:$F$25,0),0)*$F389)","v":0},{"$f":"IF($F389=\"\",0,VLOOKUP($E389,Drivers!$A$26:$F$48,MATCH(J$1,Drivers!$A$25:$F$25,0),0)*$F389)","v":0},{"$f":"IF($F389=\"\",0,VLOOKUP($E389,Drivers!$A$26:$F$48,MATCH(K$1,Drivers!$A$25:$F$25,0),0)*$F389)","v":0}]
["VEÍCULOS",3600,"GERÊNCIA DE GOVERNANÇA, RISCO E COMPLIANCE",{"$f":"VLOOKUP(B390,Centro_Custo!$A$2:$C$36,3)","v":"Encargos de Gestão"},"Fixo",{"$f":"SUMIFS('Classificação OPEX'!$O$4:$O$1666,'Classificação OPEX'!$Q$4:$Q$1666,\"N\",'Classificação OPEX'!$S$4:$S$1666,\"NÃO\",'Classificação OPEX'!$V$4:$V$1666,DRIVER_OPEX!A390,'Classificação OPEX'!$W$4:$W$1666,DRIVER_OPEX!B390)","v":0},{"$f":"IF($F390=\"\",0,VLOOKUP($E390,Drivers!$A$26:$F$48,MATCH(G$1,Drivers!$A$25:$F$25,0),0)*$F390)","v":0},{"$f":"IF($F390=\"\",0,VLOOKUP($E390,Drivers!$A$26:$F$48,MATCH(H$1,Drivers!$A$25:$F$25,0),0)*$F390)","v":0},{"$f":"IF($F390=\"\",0,VLOOKUP($E390,Drivers!$A$26:$F$48,MATCH(I$1,Drivers!$A$25:$F$25,0),0)*$F390)","v":0},{"$f":"IF($F390=\"\",0,VLOOKUP($E390,Drivers!$A$26:$F$48,MATCH(J$1,Drivers!$A$25:$F$25,0),0)*$F390)","v":0},{"$f":"IF($F390=\"\",0,VLOOKUP($E390,Drivers!$A$26:$F$48,MATCH(K$1,Drivers!$A$25:$F$25,0),0)*$F390)","v":0}]
["VEÍCULOS",3700,"GERÊNCIA DE REGULAÇÃO",{"$f":"VLOOKUP(B391,Centro_Custo!$A$2:$C$36,3)","v":"Encargos de Gestão"},"Fixo",{"$f":"SUMIFS('Classificação OPEX'!$O$4:$O$1666,'Classificação OPEX'!$Q$4:$Q$1666,\"N\",'Classificação OPEX'!$S$4:$S$1666,\"NÃO\",'Classificação OPEX'!$V$4:$V$1666,DRIVER_OPEX!A391,'Classificação OPEX'!$W$4:$W$1666,DRIVER_OPEX!B391)","v":0},{"$f":"IF($F391=\"\",0,VLOOKUP($E391,Drivers!$A$26:$F$48,MATCH(G$1,Drivers!$A$25:$F$25,0),0)*$F391)","v":0},{"$f":"IF($F391=\"\",0,VLOOKUP($E391,Drivers!$A$26:$F$48,MATCH(H$1,Drivers!$A$25:$F$25,0),0)*$F391)","v":0},{"$f":"IF($F391=\"\",0,VLOOKUP($E391,Drivers!$A$26:$F$48,MATCH(I$1,Drivers!$A$25:$F$25,0),0)*$F391)","v":0},{"$f":"IF($F391=\"\",0,VLOOKUP($E391,Drivers!$A$26:$F$48,MATCH(J$1,Drivers!$A$25:$F$25,0),0)*$F391)","v":0},{"$f":"IF($F391=\"\",0,VLOOKUP($E391,Drivers!$A$26:$F$48,MATCH(K$1,Drivers!$A$25:$F$25,0),0)*$F391)","v":0}]
["VEÍCULOS",4200,"GERÊNCIA FINANCEIRA",{"$f":"VLOOKUP(B392,Centro_Custo!$A$2:$C$36,3)","v":"Encargos de Gestão"},"Fixo",{"$f":"SUMIFS('Classificação OPEX'!$O$4:$O$1666,'Classificação OPEX'!$Q$4:$Q$1666,\"N\",'Classificação OPEX'!$S$4:$S$1666,\"NÃO\",'Classificação OPEX'!$V$4:$V$1666,DRIVER_OPEX!A392,'Classificação OPEX'!$W$4:$W$1666,DRIVER_OPEX!B392)","v":30.194918393517831},{"$f":"IF($F392=\"\",0,VLOOKUP($E392,Drivers!$A$26:$F$48,MATCH(G$1,Drivers!$A$25:$F$25,0),0)*$F392)","v":30.194918393517831},{"$f":"IF($F392=\"\",0,VLOOKUP($E392,Drivers!$A$26:$F$48,MATCH(H$1,Drivers!$A$25:$F$25,0),0)*$F392)","v":30.194918393517831},{"$f":"IF($F392=\"\",0,VLOOKUP($E392,Drivers!$A$26:$F$48,MATCH(I$1,Drivers!$A$25:$F$25,0),0)*$F392)","v":30.194918393517831},{"$f":"IF($F392=\"\",0,VLOOKUP($E392,Drivers!$A$26:$F$48,MATCH(J$1,Drivers!$A$25:$F$25,0),0)*$F392)","v":30.194918393517831},{"$f":"IF($F392=\"\",0,VLOOKUP($E392,Drivers!$A$26:$F$48,MATCH(K$1,Drivers!$A$25:$F$25,0),0)*$F392)","v":30.194918393517831}]
["VEÍCULOS",4300,"GERÊNCIA DE TECNOLOGIA E SISTEMAS DE INFORMAÇÃO",{"$f":"VLOOKUP(B393,Centro_Custo!$A$2:$C$36,3)","v":"Encargos de Gestão"},"Fixo",{"$f":"SUMIFS('Classificação OPEX'!$O$4:$O$1666,'Classificação OPEX'!$Q$4:$Q$1666,\"N\",'Classificação OPEX'!$S$4:$S$1666,\"NÃO\",'Classificação OPEX'!$V$4:$V$1666,DRIVER_OPEX!A393,'Classificação OPEX'!$W$4:$W$1666,DRIVER_OPEX!B393)","v":0},{"$f":"IF($F393=\"\",0,VLOOKUP($E393,Drivers!$A$26:$F$48,MATCH(G$1,Drivers!$A$25:$F$25,0),0)*$F393)","v":0},{"$f":"IF($F393=\"\",0,VLOOKUP($E393,Drivers!$A$26:$F$48,MATCH(H$1,Drivers!$A$25:$F$25,0),0)*$F393)","v":0},{"$f":"IF($F393=\"\",0,VLOOKUP($E393,Drivers!$A$26:$F$48,MATCH(I$1,Drivers!$A$25:$F$25,0),0)*$F393)","v":0},{"$f":"IF($F393=\"\",0,VLOOKUP($E393,Drivers!$A$26:$F$48,MATCH(J$1,Drivers!$A$25:$F$25,0),0)*$F393)","v":0},{"$f":"IF($F393=\"\",0,VLOOKUP($E393,Drivers!$A$26:$F$48,MATCH(K$1,Drivers!$A$25:$F$25,0),0)*$F393)","v":0}]
["VEÍCULOS",4500,"GERÊNCIA CONTÁBIL",{"$f":"VLOOKUP(B394,Centro_Custo!$A$2:$C$36,3)","v":"Encargos de Gestão"},"Fixo",{"$f":"SUMIFS('Classificação OPEX'!$O$4:$O$1666,'Classificação OPEX'!$Q$4:$Q$1666,\"N\",'Classificação OPEX'!$S$4:$S$1666,\"NÃO\",'Classificação OPEX'!$V$4:$V$1666,DRIVER_OPEX!A394,'Classificação OPEX'!$W$4:$W$1666,DRIVER_OPEX!B394)","v":0},{"$f":"IF($F394=\"\",0,VLOOKUP($E394,Drivers!$A$26:$F$48,MATCH(G$1,Drivers!$A$25:$F$25,0),0)*$F394)","v":0},{"$f":"IF($F394=\"\",0,VLOOKUP($E394,Drivers!$A$26:$F$48,MATCH(H$1,Drivers!$A$25:$F$25,0),0)*$F394)","v":0},{"$f":"IF($F394=\"\",0,VLOOKUP($E394,Drivers!$A$26:$F$48,MATCH(I$1,Drivers!$A$25:$F$25,0),0)*$F394)","v":0},{"$f":"IF($F394=\"\",0,VLOOKUP($E394,Drivers!$A$26:$F$48,MATCH(J$1,Drivers!$A$25:$F$25,0),0)*$F394)","v":0},{"$f":"IF($F394=\"\",0,VLOOKUP($E394,Drivers!$A$26:$F$48,MATCH(K$1,Drivers!$A$25:$F$25,0),0)*$F394)","v":0}]
["VEÍCULOS",4600,"GERÊNCIA DE PESSOAS E CULTURA",{"$f":"VLOOKUP(B395,Centro_Custo!$A$2:$C$36,3)","v":"Encargos de Gestão"},"Fixo",{"$f":"SUMIFS('Classificação OPEX'!$O$4:$O$1666,'Classificação OPEX'!$Q$4:$Q$1666,\"N\",'Classificação OPEX'!$S$4:$S$1666,\"NÃO\",'Classificação OPEX'!$V$4:$V$1666,DRIVER_OPEX!A395,'Classificação OPEX'!$W$4:$W$1666,DRIVER_OPEX!B395)","v":0},{"$f":"IF($F395=\"\",0,VLOOKUP($E395,Drivers!$A$26:$F$48,MATCH(G$1,Drivers!$A$25:$F$25,0),0)*$F395)","v":0},{"$f":"IF($F395=\"\",0,VLOOKUP($E395,Drivers!$A$26:$F$48,MATCH(H$1,Drivers!$A$25:$F$25,0),0)*$F395)","v":0},{"$f":"IF($F395=\"\",0,VLOOKUP($E395,Drivers!$A$26:$F$48,MATCH(I$1,Drivers!$A$25:$F$25,0),0)*$F395)","v":0},{"$f":"IF($F395=\"\",0,VLOOKUP($E395,Drivers!$A$26:$F$48,MATCH(J$1,Drivers!$A$25:$F$25,0),0)*$F395)","v":0},{"$f":"IF($F395=\"\",0,VLOOKUP($E395,Drivers!$A$26:$F$48,MATCH(K$1,Drivers!$A$25:$F$25,0),0)*$F395)","v":0}]
["VEÍCULOS",9999,"RATEIO",{"$f":"VLOOKUP(B396,Centro_Custo!$A$2:$C$36,3)","v":"Encargos de Gestão"},"Fixo",{"$f":"SUMIFS('Classificação OPEX'!$O$4:$O$1666,'Classificação OPEX'!$Q$4:$Q$1666,\"N\",'Classificação OPEX'!$S$4:$S$1666,\"NÃO\",'Classificação OPEX'!$V$4:$V$1666,DRIVER_OPEX!A396,'Classificação OPEX'!$W$4:$W$1666,DRIVER_OPEX!B396)","v":0},{"$f":"IF($F396=\"\",0,VLOOKUP($E396,Drivers!$A$26:$F$48,MATCH(G$1,Drivers!$A$25:$F$25,0),0)*$F396)","v":0},{"$f":"IF($F396=\"\",0,VLOOKUP($E396,Drivers!$A$26:$F$48,MATCH(H$1,Drivers!$A$25:$F$25,0),0)*$F396)","v":0},{"$f":"IF($F396=\"\",0,VLOOKUP($E396,Drivers!$A$26:$F$48,MATCH(I$1,Drivers!$A$25:$F$25,0),0)*$F396)","v":0},{"$f":"IF($F396=\"\",0,VLOOKUP($E396,Drivers!$A$26:$F$48,MATCH(J$1,Drivers!$A$25:$F$25,0),0)*$F396)","v":0},{"$f":"IF($F396=\"\",0,VLOOKUP($E396,Drivers!$A$26:$F$48,MATCH(K$1,Drivers!$A$25:$F$25,0),0)*$F396)","v":0}]
["VEÍCULOS","5400","GERÊNCIA COMERCIAL",{"$f":"VLOOKUP(B397,Centro_Custo!$A$2:$C$36,3)","v":"Encargos de Gestão"},"Fixo",{"$f":"SUMIFS('Classificação OPEX'!$O$4:$O$1666,'Classificação OPEX'!$Q$4:$Q$1666,\"N\",'Classificação OPEX'!$S$4:$S$1666,\"NÃO\",'Classificação OPEX'!$V$4:$V$1666,DRIVER_OPEX!A397,'Classificação OPEX'!$W$4:$W$1666,DRIVER_OPEX!B397)","v":118.16342277784017},{"$f":"IF($F397=\"\",0,VLOOKUP($E397,Drivers!$A$26:$F$48,MATCH(G$1,Drivers!$A$25:$F$25,0),0)*$F397)","v":118.16342277784017},{"$f":"IF($F397=\"\",0,VLOOKUP($E397,Drivers!$A$26:$F$48,MATCH(H$1,Drivers!$A$25:$F$25,0),0)*$F397)","v":118.16342277784017},{"$f":"IF($F397=\"\",0,VLOOKUP($E397,Drivers!$A$26:$F$48,MATCH(I$1,Drivers!$A$25:$F$25,0),0)*$F397)","v":118.16342277784017},{"$f":"IF($F397=\"\",0,VLOOKUP($E397,Drivers!$A$26:$F$48,MATCH(J$1,Drivers!$A$25:$F$25,0),0)*$F397)","v":118.16342277784017},{"$f":"IF($F397=\"\",0,VLOOKUP($E397,Drivers!$A$26:$F$48,MATCH(K$1,Drivers!$A$25:$F$25,0),0)*$F397)","v":118.16342277784017}]
["VEÍCULOS","5500","GERÊNCIA COMERCIAL",{"$f":"VLOOKUP(B398,Centro_Custo!$A$2:$C$36,3)","v":"Encargos de Gestão"},"Fixo",{"$f":"SUMIFS('Classificação OPEX'!$O$4:$O$1666,'Classificação OPEX'!$Q$4:$Q$1666,\"N\",'Classificação OPEX'!$S$4:$S$1666,\"NÃO\",'Classificação OPEX'!$V$4:$V$1666,DRIVER_OPEX!A398,'Classificação OPEX'!$W$4:$W$1666,DRIVER_OPEX!B398)","v":0},{"$f":"IF($F398=\"\",0,VLOOKUP($E398,Drivers!$A$26:$F$48,MATCH(G$1,Drivers!$A$25:$F$25,0),0)*$F398)","v":0},{"$f":"IF($F398=\"\",0,VLOOKUP($E398,Drivers!$A$26:$F$48,MATCH(H$1,Drivers!$A$25:$F$25,0),0)*$F398)","v":0},{"$f":"IF($F398=\"\",0,VLOOKUP($E398,Drivers!$A$26:$F$48,MATCH(I$1,Drivers!$A$25:$F$25,0),0)*$F398)","v":0},{"$f":"IF($F398=\"\",0,VLOOKUP($E398,Drivers!$A$26:$F$48,MATCH(J$1,Drivers!$A$25:$F$25,0),0)*$F398)","v":0},{"$f":"IF($F398=\"\",0,VLOOKUP($E398,Drivers!$A$26:$F$48,MATCH(K$1,Drivers!$A$25:$F$25,0),0)*$F398)","v":0}]
["VIAGENS_REPRESENTAÇÕES","TOTAL","TOTAL",null,null,{"$f":"SUM(F400:F434)","v":322794.32599003753},{"$f":"SUM(G400:G434)","v":491986.28645428276},589526.36900184385,404325.30411682819,454006.42694921978,424526.21806656796]
["VIAGENS_REPRESENTAÇÕES",1001,{"$f":"VLOOKUP(B400,Centro_Custo!$A$2:$B$36,2,0)","v":"CONSELHO DE ADMINISTRAÇÃO"},{"$f":"VLOOKUP(B400,Centro_Custo!$A$2:$C$36,3)","v":"Encargos de Gestão"},"Fixo",{"$f":"SUMIFS('Classificação OPEX'!$O$4:$O$1666,'Classificação OPEX'!$Q$4:$Q$1666,\"N\",'Classificação OPEX'!$S$4:$S$1666,\"NÃO\",'Classificação OPEX'!$V$4:$V$1666,DRIVER_OPEX!A400,'Classificação OPEX'!$W$4:$W$1666,DRIVER_OPEX!B400)","v":13704.388826800796},{"$f":"IF($F400=\"\",0,VLOOKUP($E400,Drivers!$A$26:$F$48,MATCH(G$1,Drivers!$A$25:$F$25,0),0)*$F400)","v":13704.388826800796},{"$f":"IF($F400=\"\",0,VLOOKUP($E400,Drivers!$A$26:$F$48,MATCH(H$1,Drivers!$A$25:$F$25,0),0)*$F400)","v":13704.388826800796},{"$f":"IF($F400=\"\",0,VLOOKUP($E400,Drivers!$A$26:$F$48,MATCH(I$1,Drivers!$A$25:$F$25,0),0)*$F400)","v":13704.388826800796},{"$f":"IF($F400=\"\",0,VLOOKUP($E400,Drivers!$A$26:$F$48,MATCH(J$1,Drivers!$A$25:$F$25,0),0)*$F400)","v":13704.388826800796},{"$f":"IF($F400=\"\",0,VLOOKUP($E400,Drivers!$A$26:$F$48,MATCH(K$1,Drivers!$A$25:$F$25,0),0)*$F400)","v":13704.388826800796}]
["VIAGENS_REPRESENTAÇÕES",1005,{"$f":"VLOOKUP(B401,Centro_Custo!$A$2:$B$36,2,0)","v":"AUDITORIA INTERNA"},{"$f":"VLOOKUP(B401,Centro_Custo!$A$2:$C$36,3)","v":"Encargos de Gestão"},"Fixo",{"$f":"SUMIFS('Classificação OPEX'!$O$4:$O$1666,'Classificação OPEX'!$Q$4:$Q$1666,\"N\",'Classificação OPEX'!$S$4:$S$1666,\"NÃO\",'Classificação OPEX'!$V$4:$V$1666,DRIVER_OPEX!A401,'Classificação OPEX'!$W$4:$W$1666,DRIVER_OPEX!B401)","v":1159.4242924407595},{"$f":"IF($F401=\"\",0,VLOOKUP($E401,Drivers!$A$26:$F$48,MATCH(G$1,Drivers!$A$25:$F$25,0),0)*$F401)","v":1159.4242924407595},{"$f":"IF($F401=\"\",0,VLOOKUP($E401,Drivers!$A$26:$F$48,MATCH(H$1,Drivers!$A$25:$F$25,0),0)*$F401)","v":1159.4242924407595},{"$f":"IF($F401=\"\",0,VLOOKUP($E401,Drivers!$A$26:$F$48,MATCH(I$1,Drivers!$A$25:$F$25,0),0)*$F401)","v":1159.4242924407595},{"$f":"IF($F401=\"\",0,VLOOKUP($E401,Drivers!$A$26:$F$48,MATCH(J$1,Drivers!$A$25:$F$25,0),0)*$F401)","v":1159.4242924407595},{"$f":"IF($F401=\"\",0,VLOOKUP($E401,Drivers!$A$26:$F$48,MATCH(K$1,Drivers!$A$25:$F$25,0),0)*$F401)","v":1159.4242924407595}]
["VIAGENS_REPRESENTAÇÕES",2120,{"$f":"VLOOKUP(B402,Centro_Custo!$A$2:$B$36,2,0)","v":"ASSESSORIA DA PRESIDÊNCIA"},{"$f":"VLOOKUP(B402,Centro_Custo!$A$2:$C$36,3)","v":"Encargos de Gestão"},"Fixo",{"$f":"SUMIFS('Classificação OPEX'!$O$4:$O$1666,'Classificação OPEX'!$Q$4:$Q$1666,\"N\",'Classificação OPEX'!$S$4:$S$1666,\"NÃO\",'Classificação OPEX'!$V$4:$V$1666,DRIVER_OPEX!A402,'Classificação OPEX'!$W$4:$W$1666,DRIVER_OPEX!B402)","v":15298.792350004231},{"$f":"IF($F402=\"\",0,VLOOKUP($E402,Drivers!$A$26:$F$48,MATCH(G$1,Drivers!$A$25:$F$25,0),0)*$F402)","v":15298.792350004231},{"$f":"IF($F402=\"\",0,VLOOKUP($E402,Drivers!$A$26:$F$48,MATCH(H$1,Drivers!$A$25:$F$25,0),0)*$F402)","v":15298.792350004231},{"$f":"IF($F402=\"\",0,VLOOKUP($E402,Drivers!$A$26:$F$48,MATCH(I$1,Drivers!$A$25:$F$25,0),0)*$F402)","v":15298.792350004231},{"$f":"IF($F402=\"\",0,VLOOKUP($E402,Drivers!$A$26:$F$48,MATCH(J$1,Drivers!$A$25:$F$25,0),0)*$F402)","v":15298.792350004231},{"$f":"IF($F402=\"\",0,VLOOKUP($E402,Drivers!$A$26:$F$48,MATCH(K$1,Drivers!$A$25:$F$25,0),0)*$F402)","v":15298.792350004231}]
["VIAGENS_REPRESENTAÇÕES",2130,{"$f":"VLOOKUP(B403,Centro_Custo!$A$2:$B$36,2,0)","v":"ASSESSORIA DE RELAÇÕES INSTITUCIONAIS E NOVOS NEGÓCIOS"},{"$f":"VLOOKUP(B403,Centro_Custo!$A$2:$C$36,3)","v":"Encargos de Gestão"},"Município",{"$f":"SUMIFS('Classificação OPEX'!$O$4:$O$1666,'Classificação OPEX'!$Q$4:$Q$1666,\"N\",'Classificação OPEX'!$S$4:$S$1666,\"NÃO\",'Classificação OPEX'!$V$4:$V$1666,DRIVER_OPEX!A403,'Classificação OPEX'!$W$4:$W$1666,DRIVER_OPEX!B403)","v":4521.0675913261002},{"$f":"IF($F403=\"\",0,VLOOKUP($E403,Drivers!$A$26:$F$48,MATCH(G$1,Drivers!$A$25:$F$25,0),0)*$F403)","v":4822.4720974145066},{"$f":"IF($F403=\"\",0,VLOOKUP($E403,Drivers!$A$26:$F$48,MATCH(H$1,Drivers!$A$25:$F$25,0),0)*$F403)","v":5726.6856156797267},{"$f":"IF($F403=\"\",0,VLOOKUP($E403,Drivers!$A$26:$F$48,MATCH(I$1,Drivers!$A$25:$F$25,0),0)*$F403)","v":6028.090121768133},{"$f":"IF($F403=\"\",0,VLOOKUP($E403,Drivers!$A$26:$F$48,MATCH(J$1,Drivers!$A$25:$F$25,0),0)*$F403)","v":6028.090121768133},{"$f":"IF($F403=\"\",0,VLOOKUP($E403,Drivers!$A$26:$F$48,MATCH(K$1,Drivers!$A$25:$F$25,0),0)*$F403)","v":6028.090121768133}]
["VIAGENS_REPRESENTAÇÕES",2140,{"$f":"VLOOKUP(B404,Centro_Custo!$A$2:$B$36,2,0)","v":"ASSESSORIA DTC"},{"$f":"VLOOKUP(B404,Centro_Custo!$A$2:$C$36,3)","v":"Encargos de Comercialização"},"Fixo",{"$f":"SUMIFS('Classificação OPEX'!$O$4:$O$1666,'Classificação OPEX'!$Q$4:$Q$1666,\"N\",'Classificação OPEX'!$S$4:$S$1666,\"NÃO\",'Classificação OPEX'!$V$4:$V$1666,DRIVER_OPEX!A404,'Classificação OPEX'!$W$4:$W$1666,DRIVER_OPEX!B404)","v":1148.0202308692042},{"$f":"IF($F404=\"\",0,VLOOKUP($E404,Drivers!$A$26:$F$48,MATCH(G$1,Drivers!$A$25:$F$25,0),0)*$F404)","v":1148.0202308692042},{"$f":"IF($F404=\"\",0,VLOOKUP($E404,Drivers!$A$26:$F$48,MATCH(H$1,Drivers!$A$25:$F$25,0),0)*$F404)","v":1148.0202308692042},{"$f":"IF($F404=\"\",0,VLOOKUP($E404,Drivers!$A$26:$F$48,MATCH(I$1,Drivers!$A$25:$F$25,0),0)*$F404)","v":1148.0202308692042},{"$f":"IF($F404=\"\",0,VLOOKUP($E404,Drivers!$A$26:$F$48,MATCH(J$1,Drivers!$A$25:$F$25,0),0)*$F404)","v":1148.0202308692042},{"$f":"IF($F404=\"\",0,VLOOKUP($E404,Drivers!$A$26:$F$48,MATCH(K$1,Drivers!$A$25:$F$25,0),0)*$F404)","v":1148.0202308692042}]
["VIAGENS_REPRESENTAÇÕES",2200,{"$f":"VLOOKUP(B405,Centro_Custo!$A$2:$B$36,2,0)","v":"DIRETORIA COLEGIADA - PRESIDÊNCIA"},{"$f":"VLOOKUP(B405,Centro_Custo!$A$2:$C$36,3)","v":"Encargos de Gestão"},"Fixo",{"$f":"SUMIFS('Classificação OPEX'!$O$4:$O$1666,'Classificação OPEX'!$Q$4:$Q$1666,\"N\",'Classificação OPEX'!$S$4:$S$1666,\"NÃO\",'Classificação OPEX'!$V$4:$V$1666,DRIVER_OPEX!A405,'Classificação OPEX'!$W$4:$W$1666,DRIVER_OPEX!B405)","v":74120.464560876397},{"$f":"IF($F405=\"\",0,VLOOKUP($E405,Drivers!$A$26:$F$48,MATCH(G$1,Drivers!$A$25:$F$25,0),0)*$F405)","v":74120.464560876397},{"$f":"IF($F405=\"\",0,VLOOKUP($E405,Drivers!$A$26:$F$48,MATCH(H$1,Drivers!$A$25:$F$25,0),0)*$F405)","v":74120.464560876397},{"$f":"IF($F405=\"\",0,VLOOKUP($E405,Drivers!$A$26:$F$48,MATCH(I$1,Drivers!$A$25:$F$25,0),0)*$F405)","v":74120.464560876397},{"$f":"IF($F405=\"\",0,VLOOKUP($E405,Drivers!$A$26:$F$48,MATCH(J$1,Drivers!$A$25:$F$25,0),0)*$F405)","v":74120.464560876397},{"$f":"IF($F405=\"\",0,VLOOKUP($E405,Drivers!$A$26:$F$48,MATCH(K$1,Drivers!$A$25:$F$25,0),0)*$F405)","v":74120.464560876397}]
["VIAGENS_REPRESENTAÇÕES",2300,{"$f":"VLOOKUP(B406,Centro_Custo!$A$2:$B$36,2,0)","v":"DIRETORIA COLEGIADA - DAF"},{"$f":"VLOOKUP(B406,Centro_Custo!$A$2:$C$36,3)","v":"Encargos de Gestão"},"Fixo",{"$f":"SUMIFS('Classificação OPEX'!$O$4:$O$1666,'Classificação OPEX'!$Q$4:$Q$1666,\"N\",'Classificação OPEX'!$S$4:$S$1666,\"NÃO\",'Classificação OPEX'!$V$4:$V$1666,DRIVER_OPEX!A406,'Classificação OPEX'!$W$4:$W$1666,DRIVER_OPEX!B406)","v":12781.415064727129},{"$f":"IF($F406=\"\",0,VLOOKUP($E406,Drivers!$A$26:$F$48,MATCH(G$1,Drivers!$A$25:$F$25,0),0)*$F406)","v":12781.415064727129},{"$f":"IF($F406=\"\",0,VLOOKUP($E406,Drivers!$A$26:$F$48,MATCH(H$1,Drivers!$A$25:$F$25,0),0)*$F406)","v":12781.415064727129},{"$f":"IF($F406=\"\",0,VLOOKUP($E406,Drivers!$A$26:$F$48,MATCH(I$1,Drivers!$A$25:$F$25,0),0)*$F406)","v":12781.415064727129},{"$f":"IF($F406=\"\",0,VLOOKUP($E406,Drivers!$A$26:$F$48,MATCH(J$1,Drivers!$A$25:$F$25,0),0)*$F406)","v":12781.415064727129},{"$f":"IF($F406=\"\",0,VLOOKUP($E406,Drivers!$A$26:$F$48,MATCH(K$1,Drivers!$A$25:$F$25,0),0)*$F406)","v":12781.415064727129}]
["VIAGENS_REPRESENTAÇÕES",2400,{"$f":"VLOOKUP(B407,Centro_Custo!$A$2:$B$36,2,0)","v":"DIRETORIA COLEGIADA - DTC"},{"$f":"VLOOKUP(B407,Centro_Custo!$A$2:$C$36,3)","v":"Encargos de Comercialização"},"Município",{"$f":"SUMIFS('Classificação OPEX'!$O$4:$O$1666,'Classificação OPEX'!$Q$4:$Q$1666,\"N\",'Classificação OPEX'!$S$4:$S$1666,\"NÃO\",'Classificação OPEX'!$V$4:$V$1666,DRIVER_OPEX!A407,'Classificação OPEX'!$W$4:$W$1666,DRIVER_OPEX!B407)","v":19931.937479198092},{"$f":"IF($F407=\"\",0,VLOOKUP($E407,Drivers!$A$26:$F$48,MATCH(G$1,Drivers!$A$25:$F$25,0),0)*$F407)","v":21260.733311144631},{"$f":"IF($F407=\"\",0,VLOOKUP($E407,Drivers!$A$26:$F$48,MATCH(H$1,Drivers!$A$25:$F$25,0),0)*$F407)","v":25247.120806984247},{"$f":"IF($F407=\"\",0,VLOOKUP($E407,Drivers!$A$26:$F$48,MATCH(I$1,Drivers!$A$25:$F$25,0),0)*$F407)","v":26575.916638930787},{"$f":"IF($F407=\"\",0,VLOOKUP($E407,Drivers!$A$26:$F$48,MATCH(J$1,Drivers!$A$25:$F$25,0),0)*$F407)","v":26575.916638930787},{"$f":"IF($F407=\"\",0,VLOOKUP($E407,Drivers!$A$26:$F$48,MATCH(K$1,Drivers!$A$25:$F$25,0),0)*$F407)","v":26575.916638930787}]
["VIAGENS_REPRESENTAÇÕES",2410,{"$f":"VLOOKUP(B408,Centro_Custo!$A$2:$B$36,2,0)","v":"ASSESSORIA DE SEGURANÇA DO TRABALHO"},{"$f":"VLOOKUP(B408,Centro_Custo!$A$2:$C$36,3)","v":"OPEX&ODESP"},"Extensão de Rede",{"$f":"SUMIFS('Classificação OPEX'!$O$4:$O$1666,'Classificação OPEX'!$Q$4:$Q$1666,\"N\",'Classificação OPEX'!$S$4:$S$1666,\"NÃO\",'Classificação OPEX'!$V$4:$V$1666,DRIVER_OPEX!A408,'Classificação OPEX'!$W$4:$W$1666,DRIVER_OPEX!B408)","v":4734.984106600481},{"$f":"IF($F408=\"\",0,VLOOKUP($E408,Drivers!$A$26:$F$48,MATCH(G$1,Drivers!$A$25:$F$25,0),0)*$F408)","v":5068.2409244383234},{"$f":"IF($F408=\"\",0,VLOOKUP($E408,Drivers!$A$26:$F$48,MATCH(H$1,Drivers!$A$25:$F$25,0),0)*$F408)","v":5527.7228556338923},{"$f":"IF($F408=\"\",0,VLOOKUP($E408,Drivers!$A$26:$F$48,MATCH(I$1,Drivers!$A$25:$F$25,0),0)*$F408)","v":5691.2590615137933},{"$f":"IF($F408=\"\",0,VLOOKUP($E408,Drivers!$A$26:$F$48,MATCH(J$1,Drivers!$A$25:$F$25,0),0)*$F408)","v":5926.6491493215717},{"$f":"IF($F408=\"\",0,VLOOKUP($E408,Drivers!$A$26:$F$48,MATCH(K$1,Drivers!$A$25:$F$25,0),0)*$F408)","v":6111.9837238762229}]
["VIAGENS_REPRESENTAÇÕES",3100,{"$f":"VLOOKUP(B409,Centro_Custo!$A$2:$B$36,2,0)","v":"SMS"},{"$f":"VLOOKUP(B409,Centro_Custo!$A$2:$C$36,3)","v":"OPEX&ODESP"},"Extensão adicional de rede ",{"$f":"SUMIFS('Classificação OPEX'!$O$4:$O$1666,'Classificação OPEX'!$Q$4:$Q$1666,\"N\",'Classificação OPEX'!$S$4:$S$1666,\"NÃO\",'Classificação OPEX'!$V$4:$V$1666,DRIVER_OPEX!A409,'Classificação OPEX'!$W$4:$W$1666,DRIVER_OPEX!B409)","v":3051.7404718459966},{"$f":"IF($F409=\"\",0,VLOOKUP($E409,Drivers!$A$26:$F$48,MATCH(G$1,Drivers!$A$25:$F$25,0),0)*$F409)","v":12121.267884329953},{"$f":"IF($F409=\"\",0,VLOOKUP($E409,Drivers!$A$26:$F$48,MATCH(H$1,Drivers!$A$25:$F$25,0),0)*$F409)","v":16712.346988624166},{"$f":"IF($F409=\"\",0,VLOOKUP($E409,Drivers!$A$26:$F$48,MATCH(I$1,Drivers!$A$25:$F$25,0),0)*$F409)","v":5948.163860886868},{"$f":"IF($F409=\"\",0,VLOOKUP($E409,Drivers!$A$26:$F$48,MATCH(J$1,Drivers!$A$25:$F$25,0),0)*$F409)","v":8561.6442302536307},{"$f":"IF($F409=\"\",0,VLOOKUP($E409,Drivers!$A$26:$F$48,MATCH(K$1,Drivers!$A$25:$F$25,0),0)*$F409)","v":6741.0174560880196}]
["VIAGENS_REPRESENTAÇÕES",3200,{"$f":"VLOOKUP(B410,Centro_Custo!$A$2:$B$36,2,0)","v":"GERÊNCIA DE PLANEJAMENTO E MEIO AMBIENTE"},{"$f":"VLOOKUP(B410,Centro_Custo!$A$2:$C$36,3)","v":"OPEX&ODESP"},"Município",{"$f":"SUMIFS('Classificação OPEX'!$O$4:$O$1666,'Classificação OPEX'!$Q$4:$Q$1666,\"N\",'Classificação OPEX'!$S$4:$S$1666,\"NÃO\",'Classificação OPEX'!$V$4:$V$1666,DRIVER_OPEX!A410,'Classificação OPEX'!$W$4:$W$1666,DRIVER_OPEX!B410)","v":14674.894631343046},{"$f":"IF($F410=\"\",0,VLOOKUP($E410,Drivers!$A$26:$F$48,MATCH(G$1,Drivers!$A$25:$F$25,0),0)*$F410)","v":15653.220940099249},{"$f":"IF($F410=\"\",0,VLOOKUP($E410,Drivers!$A$26:$F$48,MATCH(H$1,Drivers!$A$25:$F$25,0),0)*$F410)","v":18588.199866367857},{"$f":"IF($F410=\"\",0,VLOOKUP($E410,Drivers!$A$26:$F$48,MATCH(I$1,Drivers!$A$25:$F$25,0),0)*$F410)","v":19566.526175124061},{"$f":"IF($F410=\"\",0,VLOOKUP($E410,Drivers!$A$26:$F$48,MATCH(J$1,Drivers!$A$25:$F$25,0),0)*$F410)","v":19566.526175124061},{"$f":"IF($F410=\"\",0,VLOOKUP($E410,Drivers!$A$26:$F$48,MATCH(K$1,Drivers!$A$25:$F$25,0),0)*$F410)","v":19566.526175124061}]
["VIAGENS_REPRESENTAÇÕES",3500,{"$f":"VLOOKUP(B411,Centro_Custo!$A$2:$B$36,2,0)","v":"ASSESSORIA DE COMUNICAÇÃO INSTITUCIONAL"},{"$f":"VLOOKUP(B411,Centro_Custo!$A$2:$C$36,3)","v":"Encargos de Gestão"},"Município",{"$f":"SUMIFS('Classificação OPEX'!$O$4:$O$1666,'Classificação OPEX'!$Q$4:$Q$1666,\"N\",'Classificação OPEX'!$S$4:$S$1666,\"NÃO\",'Classificação OPEX'!$V$4:$V$1666,DRIVER_OPEX!A411,'Classificação OPEX'!$W$4:$W$1666,DRIVER_OPEX!B411)","v":4488.9853557189708},{"$f":"IF($F411=\"\",0,VLOOKUP($E411,Drivers!$A$26:$F$48,MATCH(G$1,Drivers!$A$25:$F$25,0),0)*$F411)","v":4788.2510461002357},{"$f":"IF($F411=\"\",0,VLOOKUP($E411,Drivers!$A$26:$F$48,MATCH(H$1,Drivers!$A$25:$F$25,0),0)*$F411)","v":5686.0481172440295},{"$f":"IF($F411=\"\",0,VLOOKUP($E411,Drivers!$A$26:$F$48,MATCH(I$1,Drivers!$A$25:$F$25,0),0)*$F411)","v":5985.3138076252944},{"$f":"IF($F411=\"\",0,VLOOKUP($E411,Drivers!$A$26:$F$48,MATCH(J$1,Drivers!$A$25:$F$25,0),0)*$F411)","v":5985.3138076252944},{"$f":"IF($F411=\"\",0,VLOOKUP($E411,Drivers!$A$26:$F$48,MATCH(K$1,Drivers!$A$25:$F$25,0),0)*$F411)","v":5985.3138076252944}]
["VIAGENS_REPRESENTAÇÕES",3600,{"$f":"VLOOKUP(B412,Centro_Custo!$A$2:$B$36,2,0)","v":"GERÊNCIA DE GOVERNANÇA, RISCO E COMPLIANCE"},{"$f":"VLOOKUP(B412,Centro_Custo!$A$2:$C$36,3)","v":"Encargos de Gestão"},"Fixo",{"$f":"SUMIFS('Classificação OPEX'!$O$4:$O$1666,'Classificação OPEX'!$Q$4:$Q$1666,\"N\",'Classificação OPEX'!$S$4:$S$1666,\"NÃO\",'Classificação OPEX'!$V$4:$V$1666,DRIVER_OPEX!A412,'Classificação OPEX'!$W$4:$W$1666,DRIVER_OPEX!B412)","v":2941.629075462743},{"$f":"IF($F412=\"\",0,VLOOKUP($E412,Drivers!$A$26:$F$48,MATCH(G$1,Drivers!$A$25:$F$25,0),0)*$F412)","v":2941.629075462743},{"$f":"IF($F412=\"\",0,VLOOKUP($E412,Drivers!$A$26:$F$48,MATCH(H$1,Drivers!$A$25:$F$25,0),0)*$F412)","v":2941.629075462743},{"$f":"IF($F412=\"\",0,VLOOKUP($E412,Drivers!$A$26:$F$48,MATCH(I$1,Drivers!$A$25:$F$25,0),0)*$F412)","v":2941.629075462743},{"$f":"IF($F412=\"\",0,VLOOKUP($E412,Drivers!$A$26:$F$48,MATCH(J$1,Drivers!$A$25:$F$25,0),0)*$F412)","v":2941.629075462743},{"$f":"IF($F412=\"\",0,VLOOKUP($E412,Drivers!$A$26:$F$48,MATCH(K$1,Drivers!$A$25:$F$25,0),0)*$F412)","v":2941.629075462743}]
["VIAGENS_REPRESENTAÇÕES",3700,{"$f":"VLOOKUP(B413,Centro_Custo!$A$2:$B$36,2,0)","v":"GERÊNCIA DE REGULAÇÃO"},{"$f":"VLOOKUP(B413,Centro_Custo!$A$2:$C$36,3)","v":"Encargos de Gestão"},"Fixo",{"$f":"SUMIFS('Classificação OPEX'!$O$4:$O$1666,'Classificação OPEX'!$Q$4:$Q$1666,\"N\",'Classificação OPEX'!$S$4:$S$1666,\"NÃO\",'Classificação OPEX'!$V$4:$V$1666,DRIVER_OPEX!A413,'Classificação OPEX'!$W$4:$W$1666,DRIVER_OPEX!B413)","v":3592.205924128496},{"$f":"IF($F413=\"\",0,VLOOKUP($E413,Drivers!$A$26:$F$48,MATCH(G$1,Drivers!$A$25:$F$25,0),0)*$F413)","v":3592.205924128496},{"$f":"IF($F413=\"\",0,VLOOKUP($E413,Drivers!$A$26:$F$48,MATCH(H$1,Drivers!$A$25:$F$25,0),0)*$F413)","v":3592.205924128496},{"$f":"IF($F413=\"\",0,VLOOKUP($E413,Drivers!$A$26:$F$48,MATCH(I$1,Drivers!$A$25:$F$25,0),0)*$F413)","v":3592.205924128496},{"$f":"IF($F413=\"\",0,VLOOKUP($E413,Drivers!$A$26:$F$48,MATCH(J$1,Drivers!$A$25:$F$25,0),0)*$F413)","v":3592.205924128496},{"$f":"IF($F413=\"\",0,VLOOKUP($E413,Drivers!$A$26:$F$48,MATCH(K$1,Drivers!$A$25:$F$25,0),0)*$F413)","v":3592.205924128496}]
["VIAGENS_REPRESENTAÇÕES",4100,{"$f":"VLOOKUP(B414,Centro_Custo!$A$2:$B$36,2,0)","v":"GERÊNCIA DE SERVIÇOS CORPORATIVOS"},{"$f":"VLOOKUP(B414,Centro_Custo!$A$2:$C$36,3)","v":"Encargos de Gestão"},"Funcionário",{"$f":"SUMIFS('Classificação OPEX'!$O$4:$O$1666,'Classificação OPEX'!$Q$4:$Q$1666,\"N\",'Classificação OPEX'!$S$4:$S$1666,\"NÃO\",'Classificação OPEX'!$V$4:$V$1666,DRIVER_OPEX!A414,'Classificação OPEX'!$W$4:$W$1666,DRIVER_OPEX!B414)","v":3957.4857801530961},{"$f":"IF($F414=\"\",0,VLOOKUP($E414,Drivers!$A$26:$F$48,MATCH(G$1,Drivers!$A$25:$F$25,0),0)*$F414)","v":4217.8466867421157},{"$f":"IF($F414=\"\",0,VLOOKUP($E414,Drivers!$A$26:$F$48,MATCH(H$1,Drivers!$A$25:$F$25,0),0)*$F414)","v":4321.9910493777234},{"$f":"IF($F414=\"\",0,VLOOKUP($E414,Drivers!$A$26:$F$48,MATCH(I$1,Drivers!$A$25:$F$25,0),0)*$F414)","v":4348.0271400366246},{"$f":"IF($F414=\"\",0,VLOOKUP($E414,Drivers!$A$26:$F$48,MATCH(J$1,Drivers!$A$25:$F$25,0),0)*$F414)","v":4348.0271400366246},{"$f":"IF($F414=\"\",0,VLOOKUP($E414,Drivers!$A$26:$F$48,MATCH(K$1,Drivers!$A$25:$F$25,0),0)*$F414)","v":4348.0271400366246}]
["VIAGENS_REPRESENTAÇÕES",4200,{"$f":"VLOOKUP(B415,Centro_Custo!$A$2:$B$36,2,0)","v":"GERÊNCIA FINANCEIRA"},{"$f":"VLOOKUP(B415,Centro_Custo!$A$2:$C$36,3)","v":"Encargos de Gestão"},"Fixo",{"$f":"SUMIFS('Classificação OPEX'!$O$4:$O$1666,'Classificação OPEX'!$Q$4:$Q$1666,\"N\",'Classificação OPEX'!$S$4:$S$1666,\"NÃO\",'Classificação OPEX'!$V$4:$V$1666,DRIVER_OPEX!A415,'Classificação OPEX'!$W$4:$W$1666,DRIVER_OPEX!B415)","v":12751.657661188412},{"$f":"IF($F415=\"\",0,VLOOKUP($E415,Drivers!$A$26:$F$48,MATCH(G$1,Drivers!$A$25:$F$25,0),0)*$F415)","v":12751.657661188412},{"$f":"IF($F415=\"\",0,VLOOKUP($E415,Drivers!$A$26:$F$48,MATCH(H$1,Drivers!$A$25:$F$25,0),0)*$F415)","v":12751.657661188412},{"$f":"IF($F415=\"\",0,VLOOKUP($E415,Drivers!$A$26:$F$48,MATCH(I$1,Drivers!$A$25:$F$25,0),0)*$F415)","v":12751.657661188412},{"$f":"IF($F415=\"\",0,VLOOKUP($E415,Drivers!$A$26:$F$48,MATCH(J$1,Drivers!$A$25:$F$25,0),0)*$F415)","v":12751.657661188412},{"$f":"IF($F415=\"\",0,VLOOKUP($E415,Drivers!$A$26:$F$48,MATCH(K$1,Drivers!$A$25:$F$25,0),0)*$F415)","v":12751.657661188412}]
["VIAGENS_REPRESENTAÇÕES",4300,{"$f":"VLOOKUP(B416,Centro_Custo!$A$2:$B$36,2,0)","v":"GERÊNCIA DE TECNOLOGIA E SISTEMAS DE INFORMAÇÃO"},{"$f":"VLOOKUP(B416,Centro_Custo!$A$2:$C$36,3)","v":"Encargos de Gestão"},"Município",{"$f":"SUMIFS('Classificação OPEX'!$O$4:$O$1666,'Classificação OPEX'!$Q$4:$Q$1666,\"N\",'Classificação OPEX'!$S$4:$S$1666,\"NÃO\",'Classificação OPEX'!$V$4:$V$1666,DRIVER_OPEX!A416,'Classificação OPEX'!$W$4:$W$1666,DRIVER_OPEX!B416)","v":8610.45487771443},{"$f":"IF($F416=\"\",0,VLOOKUP($E416,Drivers!$A$26:$F$48,MATCH(G$1,Drivers!$A$25:$F$25,0),0)*$F416)","v":9184.4852028953919},{"$f":"IF($F416=\"\",0,VLOOKUP($E416,Drivers!$A$26:$F$48,MATCH(H$1,Drivers!$A$25:$F$25,0),0)*$F416)","v":10906.576178438278},{"$f":"IF($F416=\"\",0,VLOOKUP($E416,Drivers!$A$26:$F$48,MATCH(I$1,Drivers!$A$25:$F$25,0),0)*$F416)","v":11480.606503619239},{"$f":"IF($F416=\"\",0,VLOOKUP($E416,Drivers!$A$26:$F$48,MATCH(J$1,Drivers!$A$25:$F$25,0),0)*$F416)","v":11480.606503619239},{"$f":"IF($F416=\"\",0,VLOOKUP($E416,Drivers!$A$26:$F$48,MATCH(K$1,Drivers!$A$25:$F$25,0),0)*$F416)","v":11480.606503619239}]
["VIAGENS_REPRESENTAÇÕES",4500,{"$f":"VLOOKUP(B417,Centro_Custo!$A$2:$B$36,2,0)","v":"GERÊNCIA CONTÁBIL"},{"$f":"VLOOKUP(B417,Centro_Custo!$A$2:$C$36,3)","v":"Encargos de Gestão"},"Fixo",{"$f":"SUMIFS('Classificação OPEX'!$O$4:$O$1666,'Classificação OPEX'!$Q$4:$Q$1666,\"N\",'Classificação OPEX'!$S$4:$S$1666,\"NÃO\",'Classificação OPEX'!$V$4:$V$1666,DRIVER_OPEX!A417,'Classificação OPEX'!$W$4:$W$1666,DRIVER_OPEX!B417)","v":2793.0912467437443},{"$f":"IF($F417=\"\",0,VLOOKUP($E417,Drivers!$A$26:$F$48,MATCH(G$1,Drivers!$A$25:$F$25,0),0)*$F417)","v":2793.0912467437443},{"$f":"IF($F417=\"\",0,VLOOKUP($E417,Drivers!$A$26:$F$48,MATCH(H$1,Drivers!$A$25:$F$25,0),0)*$F417)","v":2793.0912467437443},{"$f":"IF($F417=\"\",0,VLOOKUP($E417,Drivers!$A$26:$F$48,MATCH(I$1,Drivers!$A$25:$F$25,0),0)*$F417)","v":2793.0912467437443},{"$f":"IF($F417=\"\",0,VLOOKUP($E417,Drivers!$A$26:$F$48,MATCH(J$1,Drivers!$A$25:$F$25,0),0)*$F417)","v":2793.0912467437443},{"$f":"IF($F417=\"\",0,VLOOKUP($E417,Drivers!$A$26:$F$48,MATCH(K$1,Drivers!$A$25:$F$25,0),0)*$F417)","v":2793.0912467437443}]
["VIAGENS_REPRESENTAÇÕES",5100,{"$f":"VLOOKUP(B418,Centro_Custo!$A$2:$B$36,2,0)","v":"GERÊNCIA DE ENGENHARIA"},{"$f":"VLOOKUP(B418,Centro_Custo!$A$2:$C$36,3)","v":"OPEX&ODESP"},"Extensão adicional de rede ",{"$f":"SUMIFS('Classificação OPEX'!$O$4:$O$1666,'Classificação OPEX'!$Q$4:$Q$1666,\"N\",'Classificação OPEX'!$S$4:$S$1666,\"NÃO\",'Classificação OPEX'!$V$4:$V$1666,DRIVER_OPEX!A418,'Classificação OPEX'!$W$4:$W$1666,DRIVER_OPEX!B418)","v":51229.515563846333},{"$f":"IF($F418=\"\",0,VLOOKUP($E418,Drivers!$A$26:$F$48,MATCH(G$1,Drivers!$A$25:$F$25,0),0)*$F418)","v":203479.5184789123},{"$f":"IF($F418=\"\",0,VLOOKUP($E418,Drivers!$A$26:$F$48,MATCH(H$1,Drivers!$A$25:$F$25,0),0)*$F418)","v":280549.88556881703},{"$f":"IF($F418=\"\",0,VLOOKUP($E418,Drivers!$A$26:$F$48,MATCH(I$1,Drivers!$A$25:$F$25,0),0)*$F418)","v":99851.725891778129},{"$f":"IF($F418=\"\",0,VLOOKUP($E418,Drivers!$A$26:$F$48,MATCH(J$1,Drivers!$A$25:$F$25,0),0)*$F418)","v":143724.17654525492},{"$f":"IF($F418=\"\",0,VLOOKUP($E418,Drivers!$A$26:$F$48,MATCH(K$1,Drivers!$A$25:$F$25,0),0)*$F418)","v":113161.34575294523}]
["VIAGENS_REPRESENTAÇÕES",5200,{"$f":"VLOOKUP(B419,Centro_Custo!$A$2:$B$36,2,0)","v":"GERÊNCIA DE OPERAÇÕES"},{"$f":"VLOOKUP(B419,Centro_Custo!$A$2:$C$36,3)","v":"OPEX&ODESP"},"Extensão de Rede",{"$f":"SUMIFS('Classificação OPEX'!$O$4:$O$1666,'Classificação OPEX'!$Q$4:$Q$1666,\"N\",'Classificação OPEX'!$S$4:$S$1666,\"NÃO\",'Classificação OPEX'!$V$4:$V$1666,DRIVER_OPEX!A419,'Classificação OPEX'!$W$4:$W$1666,DRIVER_OPEX!B419)","v":41474.05502596614},{"$f":"IF($F419=\"\",0,VLOOKUP($E419,Drivers!$A$26:$F$48,MATCH(G$1,Drivers!$A$25:$F$25,0),0)*$F419)","v":44393.074665655768},{"$f":"IF($F419=\"\",0,VLOOKUP($E419,Drivers!$A$26:$F$48,MATCH(H$1,Drivers!$A$25:$F$25,0),0)*$F419)","v":48417.708850019277},{"$f":"IF($F419=\"\",0,VLOOKUP($E419,Drivers!$A$26:$F$48,MATCH(I$1,Drivers!$A$25:$F$25,0),0)*$F419)","v":49850.133848436068},{"$f":"IF($F419=\"\",0,VLOOKUP($E419,Drivers!$A$26:$F$48,MATCH(J$1,Drivers!$A$25:$F$25,0),0)*$F419)","v":51911.931994853912},{"$f":"IF($F419=\"\",0,VLOOKUP($E419,Drivers!$A$26:$F$48,MATCH(K$1,Drivers!$A$25:$F$25,0),0)*$F419)","v":53535.290420192374}]
["VIAGENS_REPRESENTAÇÕES",5300,{"$f":"VLOOKUP(B420,Centro_Custo!$A$2:$B$36,2,0)","v":"GERÊNCIA COMERCIAL"},{"$f":"VLOOKUP(B420,Centro_Custo!$A$2:$C$36,3)","v":"Encargos de Comercialização"},"Usuários total",{"$f":"SUMIFS('Classificação OPEX'!$O$4:$O$1666,'Classificação OPEX'!$Q$4:$Q$1666,\"N\",'Classificação OPEX'!$S$4:$S$1666,\"NÃO\",'Classificação OPEX'!$V$4:$V$1666,DRIVER_OPEX!A420,'Classificação OPEX'!$W$4:$W$1666,DRIVER_OPEX!B420)","v":7676.0392978259779},{"$f":"IF($F420=\"\",0,VLOOKUP($E420,Drivers!$A$26:$F$48,MATCH(G$1,Drivers!$A$25:$F$25,0),0)*$F420)","v":8554.0094080514737},{"$f":"IF($F420=\"\",0,VLOOKUP($E420,Drivers!$A$26:$F$48,MATCH(H$1,Drivers!$A$25:$F$25,0),0)*$F420)","v":9398.9172961590175},{"$f":"IF($F420=\"\",0,VLOOKUP($E420,Drivers!$A$26:$F$48,MATCH(I$1,Drivers!$A$25:$F$25,0),0)*$F420)","v":10556.375258610437},{"$f":"IF($F420=\"\",0,VLOOKUP($E420,Drivers!$A$26:$F$48,MATCH(J$1,Drivers!$A$25:$F$25,0),0)*$F420)","v":11454.378833932829},{"$f":"IF($F420=\"\",0,VLOOKUP($E420,Drivers!$A$26:$F$48,MATCH(K$1,Drivers!$A$25:$F$25,0),0)*$F420)","v":12548.934517863227}]
["VIAGENS_REPRESENTAÇÕES","0000","RATEIO",{"$f":"VLOOKUP(B421,Centro_Custo!$A$2:$C$36,3)","v":"Encargos de Gestão"},"Fixo",{"$f":"SUMIFS('Classificação OPEX'!$O$4:$O$1666,'Classificação OPEX'!$Q$4:$Q$1666,\"N\",'Classificação OPEX'!$S$4:$S$1666,\"NÃO\",'Classificação OPEX'!$V$4:$V$1666,DRIVER_OPEX!A421,'Classificação OPEX'!$W$4:$W$1666,DRIVER_OPEX!B421)","v":0},{"$f":"IF($F421=\"\",0,VLOOKUP($E421,Drivers!$A$26:$F$48,MATCH(G$1,Drivers!$A$25:$F$25,0),0)*$F421)","v":0},{"$f":"IF($F421=\"\",0,VLOOKUP($E421,Drivers!$A$26:$F$48,MATCH(H$1,Drivers!$A$25:$F$25,0),0)*$F421)","v":0},{"$f":"IF($F421=\"\",0,VLOOKUP($E421,Drivers!$A$26:$F$48,MATCH(I$1,Drivers!$A$25:$F$25,0),0)*$F421)","v":0},{"$f":"IF($F421=\"\",0,VLOOKUP($E421,Drivers!$A$26:$F$48,MATCH(J$1,Drivers!$A$25:$F$25,0),0)*$F421)","v":0},{"$f":"IF($F421=\"\",0,VLOOKUP($E421,Drivers!$A$26:$F$48,MATCH(K$1,Drivers!$A$25:$F$25,0),0)*$F421)","v":0}]
["VIAGENS_REPRESENTAÇÕES",1002,"CONSELHO FISCAL",{"$f":"VLOOKUP(B422,Centro_Custo!$A$2:$C$36,3)","v":"Encargos de Gestão"},"Fixo",{"$f":"SUMIFS('Classificação OPEX'!$O$4:$O$1666,'Classificação OPEX'!$Q$4:$Q$1666,\"N\",'Classificação OPEX'!$S$4:$S$1666,\"NÃO\",'Classificação OPEX'!$V$4:$V$1666,DRIVER_OPEX!A422,'Classificação OPEX'!$W$4:$W$1666,DRIVER_OPEX!B422)","v":773.88650533085297},{"$f":"IF($F422=\"\",0,VLOOKUP($E422,Drivers!$A$26:$F$48,MATCH(G$1,Drivers!$A$25:$F$25,0),0)*$F422)","v":773.88650533085297},{"$f":"IF($F422=\"\",0,VLOOKUP($E422,Drivers!$A$26:$F$48,MATCH(H$1,Drivers!$A$25:$F$25,0),0)*$F422)","v":773.88650533085297},{"$f":"IF($F422=\"\",0,VLOOKUP($E422,Drivers!$A$26:$F$48,MATCH(I$1,Drivers!$A$25:$F$25,0),0)*$F422)","v":773.88650533085297},{"$f":"IF($F422=\"\",0,VLOOKUP($E422,Drivers!$A$26:$F$48,MATCH(J$1,Drivers!$A$25:$F$25,0),0)*$F422)","v":773.88650533085297},{"$f":"IF($F422=\"\",0,VLOOKUP($E422,Drivers!$A$26:$F$48,MATCH(K$1,Drivers!$A$25:$F$25,0),0)*$F422)","v":773.88650533085297}]
["VIAGENS_REPRESENTAÇÕES",1003,"COMITÊ DE INDICAÇÃO E AVALIAÇÃO",{"$f":"VLOOKUP(B423,Centro_Custo!$A$2:$C$36,3)","v":"Encargos de Gestão"},"Fixo",{"$f":"SUMIFS('Classificação OPEX'!$O$4:$O$1666,'Classificação OPEX'!$Q$4:$Q$1666,\"N\",'Classificação OPEX'!$S$4:$S$1666,\"NÃO\",'Classificação OPEX'!$V$4:$V$1666,DRIVER_OPEX!A423,'Classificação OPEX'!$W$4:$W$1666,DRIVER_OPEX!B423)","v":0},{"$f":"IF($F423=\"\",0,VLOOKUP($E423,Drivers!$A$26:$F$48,MATCH(G$1,Drivers!$A$25:$F$25,0),0)*$F423)","v":0},{"$f":"IF($F423=\"\",0,VLOOKUP($E423,Drivers!$A$26:$F$48,MATCH(H$1,Drivers!$A$25:$F$25,0),0)*$F423)","v":0},{"$f":"IF($F423=\"\",0,VLOOKUP($E423,Drivers!$A$26:$F$48,MATCH(I$1,Drivers!$A$25:$F$25,0),0)*$F423)","v":0},{"$f":"IF($F423=\"\",0,VLOOKUP($E423,Drivers!$A$26:$F$48,MATCH(J$1,Drivers!$A$25:$F$25,0),0)*$F423)","v":0},{"$f":"IF($F423=\"\",0,VLOOKUP($E423,Drivers!$A$26:$F$48,MATCH(K$1,Drivers!$A$25:$F$25,0),0)*$F423)","v":0}]
["VIAGENS_REPRESENTAÇÕES",1004,"COMITÊ DE AUDITORIA ESTATUTÁRIA",{"$f":"VLOOKUP(B424,Centro_Custo!$A$2:$C$36,3)","v":"Encargos de Gestão"},"Fixo",{"$f":"SUMIFS('Classificação OPEX'!$O$4:$O$1666,'Classificação OPEX'!$Q$4:$Q$1666,\"N\",'Classificação OPEX'!$S$4:$S$1666,\"NÃO\",'Classificação OPEX'!$V$4:$V$1666,DRIVER_OPEX!A424,'Classificação OPEX'!$W$4:$W$1666,DRIVER_OPEX!B424)","v":0},{"$f":"IF($F424=\"\",0,VLOOKUP($E424,Drivers!$A$26:$F$48,MATCH(G$1,Drivers!$A$25:$F$25,0),0)*$F424)","v":0},{"$f":"IF($F424=\"\",0,VLOOKUP($E424,Drivers!$A$26:$F$48,MATCH(H$1,Drivers!$A$25:$F$25,0),0)*$F424)","v":0},{"$f":"IF($F424=\"\",0,VLOOKUP($E424,Drivers!$A$26:$F$48,MATCH(I$1,Drivers!$A$25:$F$25,0),0)*$F424)","v":0},{"$f":"IF($F424=\"\",0,VLOOKUP($E424,Drivers!$A$26:$F$48,MATCH(J$1,Drivers!$A$25:$F$25,0),0)*$F424)","v":0},{"$f":"IF($F424=\"\",0,VLOOKUP($E424,Drivers!$A$26:$F$48,MATCH(K$1,Drivers!$A$25:$F$25,0),0)*$F424)","v":0}]
["VIAGENS_REPRESENTAÇÕES",1010,"GOVERNANÇA SOCIETÁRIA",{"$f":"VLOOKUP(B425,Centro_Custo!$A$2:$C$36,3)","v":"Encargos de Gestão"},"Fixo",{"$f":"SUMIFS('Classificação OPEX'!$O$4:$O$1666,'Classificação OPEX'!$Q$4:$Q$1666,\"N\",'Classificação OPEX'!$S$4:$S$1666,\"NÃO\",'Classificação OPEX'!$V$4:$V$1666,DRIVER_OPEX!A425,'Classificação OPEX'!$W$4:$W$1666,DRIVER_OPEX!B425)","v":0},{"$f":"IF($F425=\"\",0,VLOOKUP($E425,Drivers!$A$26:$F$48,MATCH(G$1,Drivers!$A$25:$F$25,0),0)*$F425)","v":0},{"$f":"IF($F425=\"\",0,VLOOKUP($E425,Drivers!$A$26:$F$48,MATCH(H$1,Drivers!$A$25:$F$25,0),0)*$F425)","v":0},{"$f":"IF($F425=\"\",0,VLOOKUP($E425,Drivers!$A$26:$F$48,MATCH(I$1,Drivers!$A$25:$F$25,0),0)*$F425)","v":0},{"$f":"IF($F425=\"\",0,VLOOKUP($E425,Drivers!$A$26:$F$48,MATCH(J$1,Drivers!$A$25:$F$25,0),0)*$F425)","v":0},{"$f":"IF($F425=\"\",0,VLOOKUP($E425,Drivers!$A$26:$F$48,MATCH(K$1,Drivers!$A$25:$F$25,0),0)*$F425)","v":0}]
["VIAGENS_REPRESENTAÇÕES",2100,"SECRETARIA",{"$f":"VLOOKUP(B426,Centro_Custo!$A$2:$C$36,3)","v":"Encargos de Gestão"},"Fixo",{"$f":"SUMIFS('Classificação OPEX'!$O$4:$O$1666,'Classificação OPEX'!$Q$4:$Q$1666,\"N\",'Classificação OPEX'!$S$4:$S$1666,\"NÃO\",'Classificação OPEX'!$V$4:$V$1666,DRIVER_OPEX!A426,'Classificação OPEX'!$W$4:$W$1666,DRIVER_OPEX!B426)","v":400.04442843379582},{"$f":"IF($F426=\"\",0,VLOOKUP($E426,Drivers!$A$26:$F$48,MATCH(G$1,Drivers!$A$25:$F$25,0),0)*$F426)","v":400.04442843379582},{"$f":"IF($F426=\"\",0,VLOOKUP($E426,Drivers!$A$26:$F$48,MATCH(H$1,Drivers!$A$25:$F$25,0),0)*$F426)","v":400.04442843379582},{"$f":"IF($F426=\"\",0,VLOOKUP($E426,Drivers!$A$26:$F$48,MATCH(I$1,Drivers!$A$25:$F$25,0),0)*$F426)","v":400.04442843379582},{"$f":"IF($F426=\"\",0,VLOOKUP($E426,Drivers!$A$26:$F$48,MATCH(J$1,Drivers!$A$25:$F$25,0),0)*$F426)","v":400.04442843379582},{"$f":"IF($F426=\"\",0,VLOOKUP($E426,Drivers!$A$26:$F$48,MATCH(K$1,Drivers!$A$25:$F$25,0),0)*$F426)","v":400.04442843379582}]
["VIAGENS_REPRESENTAÇÕES",2110,"ASSESSORIA DA DIRETORIA EXECUTIVA",{"$f":"VLOOKUP(B427,Centro_Custo!$A$2:$C$36,3)","v":"Encargos de Gestão"},"Fixo",{"$f":"SUMIFS('Classificação OPEX'!$O$4:$O$1666,'Classificação OPEX'!$Q$4:$Q$1666,\"N\",'Classificação OPEX'!$S$4:$S$1666,\"NÃO\",'Classificação OPEX'!$V$4:$V$1666,DRIVER_OPEX!A427,'Classificação OPEX'!$W$4:$W$1666,DRIVER_OPEX!B427)","v":0},{"$f":"IF($F427=\"\",0,VLOOKUP($E427,Drivers!$A$26:$F$48,MATCH(G$1,Drivers!$A$25:$F$25,0),0)*$F427)","v":0},{"$f":"IF($F427=\"\",0,VLOOKUP($E427,Drivers!$A$26:$F$48,MATCH(H$1,Drivers!$A$25:$F$25,0),0)*$F427)","v":0},{"$f":"IF($F427=\"\",0,VLOOKUP($E427,Drivers!$A$26:$F$48,MATCH(I$1,Drivers!$A$25:$F$25,0),0)*$F427)","v":0},{"$f":"IF($F427=\"\",0,VLOOKUP($E427,Drivers!$A$26:$F$48,MATCH(J$1,Drivers!$A$25:$F$25,0),0)*$F427)","v":0},{"$f":"IF($F427=\"\",0,VLOOKUP($E427,Drivers!$A$26:$F$48,MATCH(K$1,Drivers!$A$25:$F$25,0),0)*$F427)","v":0}]
["VIAGENS_REPRESENTAÇÕES",2310,"ASSESSORIA DAF",{"$f":"VLOOKUP(B428,Centro_Custo!$A$2:$C$36,3)","v":"Encargos de Gestão"},"Fixo",{"$f":"SUMIFS('Classificação OPEX'!$O$4:$O$1666,'Classificação OPEX'!$Q$4:$Q$1666,\"N\",'Classificação OPEX'!$S$4:$S$1666,\"NÃO\",'Classificação OPEX'!$V$4:$V$1666,DRIVER_OPEX!A428,'Classificação OPEX'!$W$4:$W$1666,DRIVER_OPEX!B428)","v":3274.313294796038},{"$f":"IF($F428=\"\",0,VLOOKUP($E428,Drivers!$A$26:$F$48,MATCH(G$1,Drivers!$A$25:$F$25,0),0)*$F428)","v":3274.313294796038},{"$f":"IF($F428=\"\",0,VLOOKUP($E428,Drivers!$A$26:$F$48,MATCH(H$1,Drivers!$A$25:$F$25,0),0)*$F428)","v":3274.313294796038},{"$f":"IF($F428=\"\",0,VLOOKUP($E428,Drivers!$A$26:$F$48,MATCH(I$1,Drivers!$A$25:$F$25,0),0)*$F428)","v":3274.313294796038},{"$f":"IF($F428=\"\",0,VLOOKUP($E428,Drivers!$A$26:$F$48,MATCH(J$1,Drivers!$A$25:$F$25,0),0)*$F428)","v":3274.313294796038},{"$f":"IF($F428=\"\",0,VLOOKUP($E428,Drivers!$A$26:$F$48,MATCH(K$1,Drivers!$A$25:$F$25,0),0)*$F428)","v":3274.313294796038}]
["VIAGENS_REPRESENTAÇÕES",3300,"GERÊNCIA JURÍDICA",{"$f":"VLOOKUP(B429,Centro_Custo!$A$2:$C$36,3)","v":"Encargos de Gestão"},"Fixo",{"$f":"SUMIFS('Classificação OPEX'!$O$4:$O$1666,'Classificação OPEX'!$Q$4:$Q$1666,\"N\",'Classificação OPEX'!$S$4:$S$1666,\"NÃO\",'Classificação OPEX'!$V$4:$V$1666,DRIVER_OPEX!A429,'Classificação OPEX'!$W$4:$W$1666,DRIVER_OPEX!B429)","v":9630.3466145670136},{"$f":"IF($F429=\"\",0,VLOOKUP($E429,Drivers!$A$26:$F$48,MATCH(G$1,Drivers!$A$25:$F$25,0),0)*$F429)","v":9630.3466145670136},{"$f":"IF($F429=\"\",0,VLOOKUP($E429,Drivers!$A$26:$F$48,MATCH(H$1,Drivers!$A$25:$F$25,0),0)*$F429)","v":9630.3466145670136},{"$f":"IF($F429=\"\",0,VLOOKUP($E429,Drivers!$A$26:$F$48,MATCH(I$1,Drivers!$A$25:$F$25,0),0)*$F429)","v":9630.3466145670136},{"$f":"IF($F429=\"\",0,VLOOKUP($E429,Drivers!$A$26:$F$48,MATCH(J$1,Drivers!$A$25:$F$25,0),0)*$F429)","v":9630.3466145670136},{"$f":"IF($F429=\"\",0,VLOOKUP($E429,Drivers!$A$26:$F$48,MATCH(K$1,Drivers!$A$25:$F$25,0),0)*$F429)","v":9630.3466145670136}]
["VIAGENS_REPRESENTAÇÕES",3400,"MARKETING",{"$f":"VLOOKUP(B430,Centro_Custo!$A$2:$C$36,3)","v":"Encargos de Comercialização"},"Fixo",{"$f":"SUMIFS('Classificação OPEX'!$O$4:$O$1666,'Classificação OPEX'!$Q$4:$Q$1666,\"N\",'Classificação OPEX'!$S$4:$S$1666,\"NÃO\",'Classificação OPEX'!$V$4:$V$1666,DRIVER_OPEX!A430,'Classificação OPEX'!$W$4:$W$1666,DRIVER_OPEX!B430)","v":2011.368405673283},{"$f":"IF($F430=\"\",0,VLOOKUP($E430,Drivers!$A$26:$F$48,MATCH(G$1,Drivers!$A$25:$F$25,0),0)*$F430)","v":2011.368405673283},{"$f":"IF($F430=\"\",0,VLOOKUP($E430,Drivers!$A$26:$F$48,MATCH(H$1,Drivers!$A$25:$F$25,0),0)*$F430)","v":2011.368405673283},{"$f":"IF($F430=\"\",0,VLOOKUP($E430,Drivers!$A$26:$F$48,MATCH(I$1,Drivers!$A$25:$F$25,0),0)*$F430)","v":2011.368405673283},{"$f":"IF($F430=\"\",0,VLOOKUP($E430,Drivers!$A$26:$F$48,MATCH(J$1,Drivers!$A$25:$F$25,0),0)*$F430)","v":2011.368405673283},{"$f":"IF($F430=\"\",0,VLOOKUP($E430,Drivers!$A$26:$F$48,MATCH(K$1,Drivers!$A$25:$F$25,0),0)*$F430)","v":2011.368405673283}]
["VIAGENS_REPRESENTAÇÕES",4600,"GERÊNCIA DE PESSOAS E CULTURA",{"$f":"VLOOKUP(B431,Centro_Custo!$A$2:$C$36,3)","v":"Encargos de Gestão"},"Fixo",{"$f":"SUMIFS('Classificação OPEX'!$O$4:$O$1666,'Classificação OPEX'!$Q$4:$Q$1666,\"N\",'Classificação OPEX'!$S$4:$S$1666,\"NÃO\",'Classificação OPEX'!$V$4:$V$1666,DRIVER_OPEX!A431,'Classificação OPEX'!$W$4:$W$1666,DRIVER_OPEX!B431)","v":961.96287734141492},{"$f":"IF($F431=\"\",0,VLOOKUP($E431,Drivers!$A$26:$F$48,MATCH(G$1,Drivers!$A$25:$F$25,0),0)*$F431)","v":961.96287734141492},{"$f":"IF($F431=\"\",0,VLOOKUP($E431,Drivers!$A$26:$F$48,MATCH(H$1,Drivers!$A$25:$F$25,0),0)*$F431)","v":961.96287734141492},{"$f":"IF($F431=\"\",0,VLOOKUP($E431,Drivers!$A$26:$F$48,MATCH(I$1,Drivers!$A$25:$F$25,0),0)*$F431)","v":961.96287734141492},{"$f":"IF($F431=\"\",0,VLOOKUP($E431,Drivers!$A$26:$F$48,MATCH(J$1,Drivers!$A$25:$F$25,0),0)*$F431)","v":961.96287734141492},{"$f":"IF($F431=\"\",0,VLOOKUP($E431,Drivers!$A$26:$F$48,MATCH(K$1,Drivers!$A$25:$F$25,0),0)*$F431)","v":961.96287734141492}]
["VIAGENS_REPRESENTAÇÕES",9999,"RATEIO",{"$f":"VLOOKUP(B432,Centro_Custo!$A$2:$C$36,3)","v":"Encargos de Gestão"},"Fixo",{"$f":"SUMIFS('Classificação OPEX'!$O$4:$O$1666,'Classificação OPEX'!$Q$4:$Q$1666,\"N\",'Classificação OPEX'!$S$4:$S$1666,\"NÃO\",'Classificação OPEX'!$V$4:$V$1666,DRIVER_OPEX!A432,'Classificação OPEX'!$W$4:$W$1666,DRIVER_OPEX!B432)","v":0},{"$f":"IF($F432=\"\",0,VLOOKUP($E432,Drivers!$A$26:$F$48,MATCH(G$1,Drivers!$A$25:$F$25,0),0)*$F432)","v":0},{"$f":"IF($F432=\"\",0,VLOOKUP($E432,Drivers!$A$26:$F$48,MATCH(H$1,Drivers!$A$25:$F$25,0),0)*$F432)","v":0},{"$f":"IF($F432=\"\",0,VLOOKUP($E432,Drivers!$A$26:$F$48,MATCH(I$1,Drivers!$A$25:$F$25,0),0)*$F432)","v":0},{"$f":"IF($F432=\"\",0,VLOOKUP($E432,Drivers!$A$26:$F$48,MATCH(J$1,Drivers!$A$25:$F$25,0),0)*$F432)","v":0},{"$f":"IF($F432=\"\",0,VLOOKUP($E432,Drivers!$A$26:$F$48,MATCH(K$1,Drivers!$A$25:$F$25,0),0)*$F432)","v":0}]
["VIAGENS_REPRESENTAÇÕES","5400","GERÊNCIA COMERCIAL",{"$f":"VLOOKUP(B433,Centro_Custo!$A$2:$C$36,3)","v":"Encargos de Gestão"},"Fixo",{"$f":"SUMIFS('Classificação OPEX'!$O$4:$O$1666,'Classificação OPEX'!$Q$4:$Q$1666,\"N\",'Classificação OPEX'!$S$4:$S$1666,\"NÃO\",'Classificação OPEX'!$V$4:$V$1666,DRIVER_OPEX!A433,'Classificação OPEX'!$W$4:$W$1666,DRIVER_OPEX!B433)","v":1091.6939365893188},{"$f":"IF($F433=\"\",0,VLOOKUP($E433,Drivers!$A$26:$F$48,MATCH(G$1,Drivers!$A$25:$F$25,0),0)*$F433)","v":1091.6939365893188},{"$f":"IF($F433=\"\",0,VLOOKUP($E433,Drivers!$A$26:$F$48,MATCH(H$1,Drivers!$A$25:$F$25,0),0)*$F433)","v":1091.6939365893188},{"$f":"IF($F433=\"\",0,VLOOKUP($E433,Drivers!$A$26:$F$48,MATCH(I$1,Drivers!$A$25:$F$25,0),0)*$F433)","v":1091.6939365893188},{"$f":"IF($F433=\"\",0,VLOOKUP($E433,Drivers!$A$26:$F$48,MATCH(J$1,Drivers!$A$25:$F$25,0),0)*$F433)","v":1091.6939365893188},{"$f":"IF($F433=\"\",0,VLOOKUP($E433,Drivers!$A$26:$F$48,MATCH(K$1,Drivers!$A$25:$F$25,0),0)*$F433)","v":1091.6939365893188}]
["VIAGENS_REPRESENTAÇÕES","5500","GERÊNCIA COMERCIAL",{"$f":"VLOOKUP(B434,Centro_Custo!$A$2:$C$36,3)","v":"Encargos de Gestão"},"Fixo",{"$f":"SUMIFS('Classificação OPEX'!$O$4:$O$1666,'Classificação OPEX'!$Q$4:$Q$1666,\"N\",'Classificação OPEX'!$S$4:$S$1666,\"NÃO\",'Classificação OPEX'!$V$4:$V$1666,DRIVER_OPEX!A434,'Classificação OPEX'!$W$4:$W$1666,DRIVER_OPEX!B434)","v":8.4605125251256972},{"$f":"IF($F434=\"\",0,VLOOKUP($E434,Drivers!$A$26:$F$48,MATCH(G$1,Drivers!$A$25:$F$25,0),0)*$F434)","v":8.4605125251256972},{"$f":"IF($F434=\"\",0,VLOOKUP($E434,Drivers!$A$26:$F$48,MATCH(H$1,Drivers!$A$25:$F$25,0),0)*$F434)","v":8.4605125251256972},{"$f":"IF($F434=\"\",0,VLOOKUP($E434,Drivers!$A$26:$F$48,MATCH(I$1,Drivers!$A$25:$F$25,0),0)*$F434)","v":8.4605125251256972},{"$f":"IF($F434=\"\",0,VLOOKUP($E434,Drivers!$A$26:$F$48,MATCH(J$1,Drivers!$A$25:$F$25,0),0)*$F434)","v":8.4605125251256972},{"$f":"IF($F434=\"\",0,VLOOKUP($E434,Drivers!$A$26:$F$48,MATCH(K$1,Drivers!$A$25:$F$25,0),0)*$F434)","v":8.4605125251256972}]
["SERVIÇOS","TOTAL","TOTAL",null,null,{"$f":"SUM(F436)","v":0},{"$f":"SUM(G436)","v":1428963.0831782087},3775420.403630862,10645438.780283783,11906434.031279141,12240609.056259809]
["TRANSPORTE LONDRINA",null,"GERÊNCIA DE OPERAÇÕES","OPEX&ODESP","Fixo",null,{"$f":"'Transporte Norte do Paraná'!B4","v":1428963.0831782087},{"$f":"'Transporte Norte do Paraná'!C4","v":3775420.403630862},{"$f":"'Transporte Norte do Paraná'!D4","v":10645438.780283783},{"$f":"'Transporte Norte do Paraná'!E4","v":11906434.031279141},{"$f":"'Transporte Norte do Paraná'!F4","v":12240609.056259809}]
[]
[null,null,null,null,null,"Orçamento Base","Ano 1","Ano 2","Ano 3","Ano 4","Ano 5"]
[null,null,null,"OPEX&ODESP",null,{"$f":"SUMIF($D$4:F$434,$D439,F$4:F$434)","v":25238671.469638016},{"$f":"SUMIF($D$4:G$436,$D439,G$4:G$436)+'Taxa Agepar'!K7","v":29993561.821048975},{"$f":"SUMIF($D$4:H$436,$D439,H$4:H$436)+'Taxa Agepar'!K8","v":35972587.003616035},{"$f":"SUMIF($D$4:I$436,$D439,I$4:I$436)+'Taxa Agepar'!K9","v":42841103.977648944},{"$f":"SUMIF($D$4:J$436,$D439,J$4:J$436)+'Taxa Agepar'!K10","v":45314097.072591886},{"$f":"SUMIF($D$4:K$436,$D439,K$4:K$436)+'Taxa Agepar'!K11","v":46349924.081808135}]
[null,null,null,"Encargos de Gestão",null,{"$f":"SUMIF($D$4:F$434,$D440,F$4:F$434)","v":34208025.085966341},{"$f":"SUMIF($D$4:G$434,$D440,G$4:G$434)","v":35845507.755291812},{"$f":"SUMIF($D$4:H$434,$D440,H$4:H$434)","v":37038888.196465723},{"$f":"SUMIF($D$4:I$434,$D440,I$4:I$434)","v":37501300.938847385},{"$f":"SUMIF($D$4:J$434,$D440,J$4:J$434)","v":37629875.042026214},{"$f":"SUMIF($D$4:K$434,$D440,K$4:K$434)","v":37803187.230050899}]
[null,null,null,"Encargos de Comercialização",null,{"$f":"SUMIF($D$4:F$434,$D441,F$4:F$434)","v":10019618.334500179},{"$f":"SUMIF($D$4:G$434,$D441,G$4:G$434)","v":10698422.49599961},{"$f":"SUMIF($D$4:H$434,$D441,H$4:H$434)","v":11115130.575988462},{"$f":"SUMIF($D$4:I$434,$D441,I$4:I$434)","v":11491273.157436453},{"$f":"SUMIF($D$4:J$434,$D441,J$4:J$434)","v":11749061.935402742},{"$f":"SUMIF($D$4:K$434,$D441,K$4:K$434)","v":12063274.684583798}]
[null,null,null,"Total",null,{"$f":"SUM(F439:F441)","v":69466314.890104532},{"$f":"SUM(G439:G441)","v":76537492.072340399},84126605.776070222,91833678.073932797,94693034.050020829,96216385.99644284]
[]
[null,null,null,"Valores em R$ mil"]
[null,null,null,null,null,"Orçamento Base","Ano 1","Ano 2","Ano 3","Ano 4","Ano 5"]
[null,null,null,"OPEX&ODESP",null,{"$f":"F439/1000","v":25238.671469638015},{"$f":"G439/1000","v":29993.561821048974},35972.587003616034,42841.103977648942,45314.097072591889,46349.924081808138]
[null,null,null,"Atividades de Gestão",null,{"$f":"F440/1000","v":34208.025085966343},35845.507755291816,37038.888196465727,37501.300938847387,37629.875042026215,37803.187230050899]
[null,null,null,"Atividades de Comercialização",null,{"$f":"F441/1000","v":10019.618334500179},10698.42249599961,11115.130575988462,11491.273157436453,11749.061935402742,12063.274684583797]
[null,null,null,"Total",null,{"$f":"F442/1000","v":69466.314890104535},76537.492072340392,84126.605776070224,91833.678073932795,94693.034050020826,96216.385996442841]

{"sheet":"Centro_Custo","index":10,"n_rows":36,"n_cols":3,"rows_kept":36,"cut":false,"hidden":false,"merged":[]}
["Código_CC","Descrição_CC","Alocação"]
["0000","RATEIO","Encargos de Gestão"]
[1001,"CONSELHO DE ADMINISTRAÇÃO","Encargos de Gestão"]
[1002,"CONSELHO FISCAL","Encargos de Gestão"]
[1003,"COMITÊ DE INDICAÇÃO E AVALIAÇÃO","Encargos de Gestão"]
[1004,"COMITÊ DE AUDITORIA ESTATUTÁRIA","Encargos de Gestão"]
[1005,"AUDITORIA INTERNA","Encargos de Gestão"]
[1010,"GOVERNANÇA SOCIETÁRIA","Encargos de Gestão"]
[2100,"SECRETARIA","Encargos de Gestão"]
[2110,"ASSESSORIA DA DIRETORIA EXECUTIVA","Encargos de Gestão"]
[2120,"ASSESSORIA DA PRESIDÊNCIA","Encargos de Gestão"]
[2130,"ASSESSORIA DE RELAÇÕES INSTITUCIONAIS E NOVOS NEGÓCIOS","Encargos de Gestão"]
[2140,"ASSESSORIA DTC","Encargos de Comercialização"]
[2200,"DIRETORIA COLEGIADA - PRESIDÊNCIA","Encargos de Gestão"]
[2300,"DIRETORIA COLEGIADA - DAF","Encargos de Gestão"]
[2310,"ASSESSORIA DAF","Encargos de Gestão"]
[2400,"DIRETORIA COLEGIADA - DTC","Encargos de Comercialização"]
[2410,"ASSESSORIA DE SEGURANÇA DO TRABALHO","OPEX&ODESP"]
[3100,"SMS","OPEX&ODESP"]
[3200,"GERÊNCIA DE PLANEJAMENTO E MEIO AMBIENTE","OPEX&ODESP"]
[3300,"GERÊNCIA JURÍDICA","Encargos de Gestão"]
[3400,"MARKETING","Encargos de Comercialização"]
[3500,"ASSESSORIA DE COMUNICAÇÃO INSTITUCIONAL","Encargos de Gestão"]
[3600,"GERÊNCIA DE GOVERNANÇA, RISCO E COMPLIANCE","Encargos de Gestão"]
[3700,"GERÊNCIA DE REGULAÇÃO","Encargos de Gestão"]
[4100,"GERÊNCIA DE SERVIÇOS CORPORATIVOS","Encargos de Gestão"]
[4200,"GERÊNCIA FINANCEIRA","Encargos de Gestão"]
[4300,"GERÊNCIA DE TECNOLOGIA E SISTEMAS DE INFORMAÇÃO","Encargos de Gestão"]
[4500,"GERÊNCIA CONTÁBIL","Encargos de Gestão"]
[4600,"GERÊNCIA DE PESSOAS E CULTURA","Encargos de Gestão"]
[5100,"GERÊNCIA DE ENGENHARIA","OPEX&ODESP"]
[5200,"GERÊNCIA DE OPERAÇÕES","OPEX&ODESP"]
[5300,"GERÊNCIA COMERCIAL","Encargos de Comercialização"]
[5400,"GERÊNCIA COMERCIAL","Encargos de Comercialização"]
[5500,"GERÊNCIA COMERCIAL","Encargos de Comercialização"]
[9999,"RATEIO","Encargos de Gestão"]

{"sheet":"Drivers","index":11,"n_rows":49,"n_cols":7,"rows_kept":49,"cut":false,"hidden":false,"merged":[]}
["Driver","2023/2024","2024/2025","2025/2026","2026/2027","2027/2028","2028/2029"]
["Captação",2495,{"$f":"SUM(C3:C6)","v":6267},{"$f":"SUM(D3:D6)","v":6031},{"$f":"SUM(E3:E6)","v":8262},{"$f":"SUM(F3:F6)","v":6410},{"$f":"SUM(G3:G6)","v":7813.0000000000009}]
["Captação usuários comerciais",69,58,70,71,72,71]
["Captação usuários industriais",4,18,20,16,14,20]
["Captação usuários GNV",2,4,0,1,0,1]
["Captação usuários residenciais",2420,6187,5941,8174,6324,7721.0000000000009]
["Extensão adicional de rede ",15.588690000000042,{"$f":"SUM(C8:C9)+9","v":61.917023809523812},{"$f":"SUM(D8:D9)","v":85.368857142857138},{"$f":"SUM(E8:E9)","v":30.384},{"$f":"SUM(F8:F9)","v":43.734000000000002},{"$f":"SUM(G8:G9)","v":34.433999999999997}]
["Extensão adicional de rede - Aço",0,28.26,48.082000000000001,0.75,0,15]
["Extensão adicional de rede - PEAD ",14.61369000000002,24.657023809523807,37.286857142857144,29.634,43.734000000000002,19.434000000000001]
["Extensão de Rede",879.73031000000003,{"$f":"B10+C7","v":941.64733380952384},{"$f":"C10+D7","v":1027.0161909523811},{"$f":"D10+E7","v":1057.4001909523811},{"$f":"E10+F7","v":1101.134190952381},{"$f":"F10+G7","v":1135.568190952381}]
["Extensão de Rede - Aço",471.15717699999999,{"$f":"B11+C8","v":499.41717699999998},{"$f":"C11+D8","v":547.49917700000003},548.24917700000003,548.24917700000003,563.24917700000003]
["Extensão de Rede - PEAD",408.57313300000004,{"$f":"B12+C9","v":433.23015680952386},470.51701395238103,500.15101395238105,543.88501395238109,563.31901395238106]
["Fixo",1,1,1,1,1,1]
["Mesoregião",2,{"$f":"B14+(C15-B15)","v":3},{"$f":"C14+(D15-C15)","v":6},{"$f":"D14+(E15-D15)","v":7},{"$f":"E14+(F15-E15)","v":7},{"$f":"F14+(G15-F15)","v":7}]
["Município",15,16,19,20,20,20]
["Volume distribuído",299535490.1643998,{"$f":"VOLUME!E4","v":297937461.93578792},{"$f":"VOLUME!F4","v":506405156.03942132},{"$f":"VOLUME!G4","v":531705707.72671223},{"$f":"VOLUME!H4","v":590511217.48545504},{"$f":"VOLUME!I4","v":643738410.42370522}]
["Volume distribuído - Sem Termoelétrica",299535490.1643998,{"$f":"C16-VOLUME!E19","v":297937461.93578792},{"$f":"D16-VOLUME!F19","v":321383391.03942132},{"$f":"E16-VOLUME!G19","v":346683942.72671223},{"$f":"F16-VOLUME!H19","v":405489452.48545504},{"$f":"G16-VOLUME!I19","v":458716645.42370522}]
["Usuários comerciais",635,{"$f":"B18+C3","v":693},763,834,906,977]
["Usuários industriais",175,193,213,229,243,263]
["Usuários GNV",34,38,38,39,39,40]
["Usuários residenciais",53946,60133,66074,74248,80572,88293]
["Usuários total",54792,{"$f":"B22+C2","v":61059},{"$f":"C22+D2","v":67090},{"$f":"D22+E2","v":75352},{"$f":"E22+F2","v":81762},{"$f":"F22+G2","v":89575}]
["Funcionário",152,{"$f":"B23+10","v":162},{"$f":"C23+4","v":166},{"$f":"D23+1","v":167},{"$f":"E23","v":167},{"$f":"F23","v":167}]
[null,{"$f":"(B15+B11)","v":486.15717699999999},{"$f":"(C15+C11)","v":515.41717700000004},566.49917700000003,568.24917700000003,568.24917700000003,583.24917700000003]
["Driver","2024/2025","2025/2026","2026/2027","2027/2028","2028/2029"]
[{"$f":"A2","v":"Captação"},{"$f":"IF(B2=0,0,C2/B2)","v":2.5118236472945892},{"$f":"IF(ISERROR(D2/$B2)=TRUE,0,D2/$B2)","v":2.4172344689378757},3.3114228456913826,2.5691382765531063,3.1314629258517037]
["Captação usuários comerciais",{"$f":"IF(B3=0,0,C3/B3)","v":0.84057971014492749},1.0144927536231885,1.0289855072463767,1.0434782608695652,1.0289855072463767]
["Captação usuários industriais",4.5,5,4,3.5,5]
["Captação usuários GNV",2,0,0.5,0,0.5]
["Captação usuários residenciais",2.556611570247934,2.4549586776859504,3.3776859504132233,2.6132231404958679,3.1904958677685955]
["Extensão adicional de rede ",3.9719196295213801,5.4763329787722324,1.9491054091139099,2.8054955227154998,2.2089091514424819]
["Extensão adicional de rede - Aço",0,0,0,0,0]
["Extensão adicional de rede - PEAD ",1.6872551566047846,2.5515018549631949,2.0278245946095721,2.9926733083841208,1.3298489293258564]
["Extensão de Rede",1.0703818239586673,1.1674216282855834,1.2019594856887232,1.2516724482897275,1.2908139892922195]
["Extensão de Rede - Aço",1.0599799841317072,1.1620308545146072,1.1636226799958096,1.1636226799958096,1.1954591896198581]
["Extensão de Rede - PEAD",1.0603491072172966,1.1516102649666418,1.2241407316236357,1.3311815438250587,1.3787470796626782]
["Fixo",1,1,1,1,1]
["Mesoregião",{"$f":"IF(B14=0,0,C14/B14)","v":1.5},3,3.5,3.5,3.5]
["Município",1.0666666666666667,1.2666666666666666,1.3333333333333333,1.3333333333333333,1.3333333333333333]
["Volume distribuído",{"$f":"IF(ISERROR(C16/$B16)=TRUE,0,C16/$B16)","v":0.99466497867169323},1.6906349086095984,1.7751008651258187,1.9714232098552109,2.149122329612394]
["Volume distribuído - Sem Termoelétrica",{"$f":"IF(ISERROR(C17/$B17)=TRUE,0,C17/$B17)","v":0.99466497867169323},1.0729392729490261,1.1574052294652464,1.3537275741946388,1.5314266939518217]
[{"$f":"A18","v":"Usuários comerciais"},{"$f":"IF(B18=0,0,C18/B18)","v":1.0913385826771653},{"$f":"IF(ISERROR(D18/$B18)=TRUE,0,D18/$B18)","v":1.2015748031496063},1.3133858267716536,1.426771653543307,1.5385826771653544]
["Usuários industriais",1.1028571428571428,1.2171428571428571,1.3085714285714285,1.3885714285714286,1.5028571428571429]
["Usuários GNV",1.1176470588235294,1.1176470588235294,1.1470588235294117,1.1470588235294117,1.1764705882352942]
["Usuários residenciais",1.1146887628369111,1.2248174100025953,1.3763393022652282,1.4935676417157899,1.636692247803359]
["Usuários total",1.1143780113885238,1.2244488246459337,1.375237260914002,1.4922251423565485,1.6348189516717768]
["Funcionário",1.0657894736842106,1.0921052631578947,1.0986842105263157,1.0986842105263157,1.0986842105263157]
["Extensão de Rede/Município",1.0601862964989202,1.1652593107763582,1.1688589696578726,1.1688589696578726,1.1997131886422816]
[null,100,{"$f":"IF(ISERROR(D25/$B25)=TRUE,0,D25/$B25)","v":0}]

{"sheet":"Transporte Norte do Paraná","index":12,"n_rows":4,"n_cols":7,"rows_kept":4,"cut":false,"hidden":false,"merged":[]}
[null,"2024/2025","2025/2026","2026/2027","2027/2028","2028/2029","Total"]
["Volume - m³",1593818.6660102999,4210980.383033853,11873574.087127231,13280046.929180423,13652774.81753429,{"$f":"SUM(B2:F2)","v":44611194.882886097}]
["R$/m³ COM IMPOSTOS",{"$f":"'GLINK Londrina'!C20","v":0.89656565935147237},{"$f":"B3","v":0.89656565935147237},{"$f":"C3","v":0.89656565935147237},0.89656565935147237,0.89656565935147237,0.89656565935147237]
["Serviço de Logísitca",{"$f":"B2*B3","v":1428963.0831782087},{"$f":"C2*C3","v":3775420.403630862},10645438.780283783,11906434.031279141,12240609.056259809,{"$f":"SUM(B4:F4)","v":39996865.354631804}]

{"sheet":"GLINK Londrina","index":13,"n_rows":21,"n_cols":3,"rows_kept":21,"cut":false,"hidden":false,"merged":[]}
[null,"4.3 GNLINK LONDRINA OUT/23","2024-02-01"]
[null,"Fator de Preço BRENT %",5.3999999999999999E-2]
[null,"BRENTt (US$/bbl)¹",95]
[null,"TCt (R$/US$)²",5.03]
[null,"Parcela Fixa Molécula01 (USD/MMBTU)",7.01]
[null,"CPI0 (jun/23)",305.10899999999998]
[null,"CPIt",319.17511589128475]
[null,"Parcela Fixa Moléculat1 (USD/MMBTU)",{"$f":"C5*C7/C6","v":7.3331745782586095}]
[null,"Parcela Fixa Molécula02 (R$/m³)",1.1697]
[null,"IPCA0 (jun/23)",6659.95]
[null,"IPCAt",6967.3535995852399]
[null,"Parcela Fixa Moléculat2 (R$/m³)",{"$f":"C9*C11/C10","v":1.2236898933828113}]
[null,"Fator Energético",26.8081]
[null,"PM (R$/m³)",{"$f":"((C2*C3+C8)*C4/C13)+C12","v":3.5621535714741643}]
[null,"PM  Faturado (R$/m³)",{"$f":"(C14/(1-9.25%))/(1-12%)","v":4.4604978355549267}]
[null,"Preço de Logística Base (R$/m³)",0.68859999999999999]
[null,"IPCA0 (Índice Acumulado)",{"$f":"'Série - IPCA'!C431","v":6659.95}]
[null,"IPCAt (Índice Acumulado)",{"$f":"'Série - IPCA'!C444","v":6924.9295018153834}]
[null,"PT (R$/m³)",{"$f":"(C18/C17)*C16","v":0.71599733555808576}]
[null,"PT Faturado (R$/m³)",{"$f":"(C19/(1-9.25%))/(1-12%)","v":0.89656565935147237}]
[null,"PG (R$/m³)",{"$f":"C19+C14","v":4.2781509070322503}]

{"sheet":"rWACC","index":14,"n_rows":24,"n_cols":4,"rows_kept":24,"cut":false,"hidden":false,"merged":[]}
[]
[]
[null,null,"CLÁUSULA I - METODOLOGIA DE CÁLCULO DA TAXA DE REMUNERAÇÃO REGULATÓRIA",{"$f":"(D5*D21)+((D13*D22)*(1-D4))","v":8.709704577308397E-2}]
[null,null,"𝒕: taxa de tributos sobre o lucro (IR + CSLL)",0.34]
[null,null,"REMUNERAÇÃO DO CAPITAL PRÓPRIO - 𝑟𝑃  = 𝑟𝑓  + 𝛽 ∙ (𝑟𝑚  − 𝑟𝑓) + 𝑟B",{"$f":"D12","v":8.709704577308397E-2}]
[null,null,"𝑟𝑓: taxa de retorno do ativo livre de risco estadunidense;",{"$f":"'Taxa livre de risco'!G2","v":3.742560000000001E-2}]
[null,null,"𝑟𝑚: taxa de retorno do mercado estadunidense",{"$f":"'RetornoMerdado-SP500'!P3","v":0.11783779819146287}]
[null,null,"𝑟𝑚 - 𝑟𝑓 : prêmio de risco de mercado",{"$f":"D7-D6","v":8.0412198191462864E-2}]
[null,null,"𝛽: beta do setor regulado",{"$f":"Beta_Damodaran!I14","v":0.65}]
[null,null,"𝑟𝐵: prêmio de risco Brasil",{"$f":"'Risco-Brasil'!F3","v":2.53E-2}]
[null,null," 𝑟𝑃 Nominal = 𝑟𝑓  + (𝛽 sreg )∙ (𝑟𝑚  − 𝑟𝑓) + 𝑟B",{"$f":"D6+(D9)*(D7-D6)+D10","v":0.11499352882445087}]
[null,null," 𝑟𝑃 Real = [1+( 𝑟𝑃 Nominal)]/[1+(Média do índice US CPI (Consumer Price Index))]-1",{"$f":"((1+D11)/(1+D24))-1","v":8.709704577308397E-2}]
[null,null,"REMUNERAÇÃO DO CAPITAL DE TERCEIROS - 𝑟d  = 𝑟𝑓  + 𝑟C + 𝑟B",{"$f":"D19","v":5.4297404634959801E-2}]
[null,null,"𝑟𝑓: taxa de retorno do ativo livre de risco estadunidense",{"$f":"'Taxa livre de risco'!G6","v":2.41894E-2}]
[null,null,"IGUUU510 (Bloomberg)",{"$f":"'RendimDividaRiscoBB-IGUUU510'!H3","v":5.6052201438848925E-2}]
[null,null,"𝑟C: prêmio de risco de crédito (IGUUU510 (Bloomberg) - 𝑟𝑓)",{"$f":"D15-D14","v":3.1862801438848926E-2}]
[null,null,"𝑟B: prêmio de risco Brasil",{"$f":"'Risco-Brasil'!F3","v":2.53E-2}]
[null,null,"𝑟d Nominal  = 𝑟𝑓  + 𝑟C + 𝑟B",{"$f":"D14+D16+D17","v":8.1352201438848928E-2}]
[null,null,"𝑟d Real  = 𝑟𝑓  + 𝑟C + 𝑟B = [(1)+(16)/[1+(9)]-1",{"$f":"((1+D18)/(1+D24))-1","v":5.4297404634959801E-2}]
[null,null,"ESTRUTURA CAPITAL REGULATÓRIA"]
[null,null,"𝒘e: participação do capital próprio dívida na estrutura de capital ",{"$f":"100%-D22","v":1}]
[null,null,"𝒘𝒅: participação da dívida na estrutura de capital ",0]
[null,null,"INFLAÇÃO AMERICANA"]
[null,null,"Média do índice US CPI (Consumer Price Index)",{"$f":"'Inflação americana'!H6","v":2.5661446841232304E-2}]

{"sheet":"Taxa livre de risco","index":15,"n_rows":32,"n_cols":7,"rows_kept":32,"cut":false,"hidden":false,"merged":[[0,0,0,3]]}
["USGG10YR Index (Bloomberg)"]
[null,"2023-12-31",3.8791000000000002,{"$f":"(C2/100+1)*D3","v":299.97497203992253},null,"Rendimento médio anual",{"$f":"SUM(C2:C31)/100/30","v":3.742560000000001E-2}]
[null,"2022-12-31",3.8748,288.77317192767606,null,"(média aritm.)"]
[null,"2021-12-31",1.5101,278.0011821227825]
[null,"2020-12-31",0.91320000000000001,273.86553862402116]
[null,"2019-12-31",1.9175,271.38723043568251,null,"Média para compor rC",{"$f":"SUM(C2:C6)/100/5","v":2.41894E-2}]
[null,"2018-12-31",2.6842000000000001,266.28128676202078,null,"(média aritm.)"]
[null,"2017-12-29",2.4054000000000002,259.320603132732]
[null,"2016-12-30",2.4443000000000001,253.2294226014761]
[null,"2015-12-31",2.2694000000000001,247.18742048261944]
[null,"2014-12-31",2.1711999999999998,241.70223007333519]
[null,"2013-12-31",3.0282,236.56591101341201]
[null,"2012-12-31",1.7574000000000001,229.61277690322845]
[null,"2011-12-30",1.8762000000000001,225.64725209491246]
[null,"2010-12-31",3.2934999999999999,221.49162620407168]
[null,"2009-12-31",3.8368000000000002,214.42939410908886]
[null,"2008-12-31",2.2122999999999999,206.50616554929357]
[null,"2007-12-31",4.0232000000000001,202.03651179876942]
[null,"2006-12-29",4.7022000000000004,194.22255016070397]
[null,"2005-12-30",4.3910999999999998,185.49997054570392]
[null,"2004-12-31",4.2182000000000004,177.69711263288144]
[null,"2003-12-31",4.2454999999999998,170.50487595533357]
[null,"2002-12-31",3.8159999999999998,163.56089802949154]
[null,"2001-12-31",5.0510000000000002,157.5488345047888]
[null,"2000-12-29",5.1120000000000001,149.97366470075372]
[null,"1999-12-31",6.4420000000000002,142.67986975868951]
[null,"1998-12-31",4.6479999999999997,134.04470956829965]
[null,"1997-12-31",5.742,128.09103811663829]
[null,"1996-12-31",6.4180000000000001,121.13544108929119]
[null,"1995-12-29",5.5720000000000001,113.82984184]
[null,"1994-12-30",7.8220000000000001,{"$f":"(C31/100+1)*D32","v":107.822}]
[null,"1993-12-31",null,100]

{"sheet":"Beta_Damodaran","index":16,"n_rows":18,"n_cols":9,"rows_kept":18,"cut":false,"hidden":false,"merged":[[10,2,10,7],[0,1,0,6],[0,7,6,7],[0,8,0,10],[1,1,1,6],[1,8,6,10],[2,1,2,4],[2,5,2,6],[3,1,3,6],[4,1,4,6],[5,1,5,6],[6,1,6,6]]}
["Date updated:","2024-01-05",null,null,null,null,null,"YouTube Video explaining estimation choices and process.","Notes"]
["Created by:","Aswath Damodaran, adamodar@stern.nyu.edu",null,null,null,null,null,null,"if you are looking for a pure-play beta, i.e., a beta for a  business, the unlevered beta corrected for cash is your best bet. Since even sector betas can move over time, I have also reported the average of the this sector beta across time in the last column. This number, for obvious reasons, is less likely to be volatile over time."]
["What is this data?","Beta, Unlevered beta and other risk measures",null,null,null,"US companies"]
["Home Page:","http://www.damodaran.com"]
["Data website:","https://pages.stern.nyu.edu/~adamodar/New_Home_Page/data.html"]
["Companies in each industry:","https://pages.stern.nyu.edu/~adamodar/pc/datasets/indname.xls"]
["Variable definitions:","https://pages.stern.nyu.edu/~adamodar/New_Home_Page/datafile/variable.htm"]
[]
[]
[]
[null,null,"Unlevered beta corrected for cash - Over time"]
["date updated","data de divulgação","2020-01-05","2021-01-05","2022-01-05","2023-01-05","2024-01-05"]
["Industry Name","Number of firms","Ano de\n2019","Ano de\n2020","Ano de\n2021","Ano de\n2022","Ano de\n2023","Average (2019-23)","Média\n2019-2023"]
["Oil/Gas Distribution",24,0.6175192303191579,0.6,0.86451087132141691,0.65648991865828199,0.52912157126984105,{"$f":"AVERAGE(Beta_Damodaran!$C$14:$G$14)","v":0.65352831831373959},{"$f":"ROUND(Beta_Damodaran!$H$14:$H$14,2)","v":0.65}]
[]
[]
[]
["Fonte: Damodaran, adaptado pela Agepar"]

{"sheet":"RetornoMerdado-SP500","index":17,"n_rows":39,"n_cols":16,"rows_kept":39,"cut":false,"hidden":false,"merged":[[6,0,6,3]]}
["SPX Index (Bloomberg)"]
[null,null,"s/ dividendos",null,null,"c/ dividendos",null,"período","30 anos",null,"media dos retornos dos anos da amostra do SP500 s/ div","media dos retornos dos anos da amostra do SP500 c/ div"]
[null,"1993-12-31",466.45,null,"1993-12-31",466.45,null,null,null,null,{"$f":"SUM(H9:H39)/30","v":9.6655938124060981E-2},{"$f":"SUM(I9:I39)/30","v":0.11783779819146287},null,"c/ dividendos","rendimento médio anual",{"$f":"L3","v":0.11783779819146287}]
[null,"2023-12-29",4769.83,null,"2023-12-29",8458.6257000000005]
[]
[]
["SPX Index (Bloomberg)"]
["ANO","data","SPX Index s/ div",null,"data","SPX Index c/ div",null,"Retorno DO ANO\n(s/ div)","Retorno DO ANO\n(c/ div)"]
[1993,"1993-12-31",466.45,0,"1993-12-31",466.45,null,0,0]
[1994,"1994-12-30",459.27,-1.8900000000000432,"1994-12-30",472.57889999999998,null,{"$f":"C10/C9-1","v":-1.5392860971165212E-2},{"$f":"F10/F9-1","v":1.3139457605316762E-2}]
[1995,"1995-12-29",615.92999999999995,1.8099999999999454,"1995-12-29",650.07510000000002,null,{"$f":"C11/C10-1","v":0.34110653863740281},0.3755906156622737]
[1996,"1996-12-31",740.74,-13.110000000000014,"1996-12-31",799.13210000000004,null,0.20263666325718832,0.22929196949706276]
[1997,"1997-12-31",970.43,-0.41000000000008185,"1997-12-31",1065.5944,null,0.31008181008180991,0.33343961530265132]
[1998,"1998-12-31",1229.23,-2.7000000000000455,"1998-12-31",1369.9477999999999,null,0.26668590212586185,0.28561843042718693]
[1999,"1999-12-31",1469.25,4.7799999999999727,"1999-12-31",1658.1351999999999,null,0.19526044759727634,0.21036378174409287]
[2000,"2000-12-29",1320.28,-13.940000000000055,"2000-12-29",1507.2221999999999,null,-0.10139186659860477,-9.1013688147986938E-2]
[2001,"2001-12-31",1148.08,-12.940000000000055,"2001-12-31",1328.0068000000001,null,-0.1304268791468477,-0.11890443227282599]
[2002,"2002-12-31",879.82,0.43000000000006366,"2002-12-31",1034.5500999999999,null,-0.23365967528395226,-0.22097529922286552]
[2003,"2003-12-31",1111.92,2.2799999999999727,"2003-12-31",1331.1057000000001,null,0.26380395990088878,0.28665175325970216]
[2004,"2004-12-31",1211.92,-1.6299999999998818,"2004-12-31",1475.8724,null,8.9934527663860786E-2,0.10875672758369226]
[2005,"2005-12-30",1248.29,-6.1300000000001091,"2005-12-30",1548.2925,null,3.0010231698461842E-2,4.9069350439780557E-2]
[2006,"2006-12-29",1418.3,-6.4300000000000637,"2006-12-29",1792.5621000000001,null,0.13619431382130753,0.1577670885830682]
[2007,"2007-12-31",1468.36,-10.130000000000109,"2007-12-31",1892.432,null,3.5295776633998521E-2,5.5713495225632625E-2]
[2008,"2008-12-31",903.25,12.610000000000014,"2008-12-31",1192.2346,null,-0.38485793674575708,-0.36999871065380419]
[2009,"2009-12-31",1115.0999999999999,-11.320000000000164,"2009-12-31",1507.5585000000001,null,0.23454193191253792,0.26448142001582586]
[2010,"2010-12-31",1257.6400000000001,-0.24000000000000909,"2010-12-31",1734.5764999999999,null,0.12782710070845682,0.15058652781964987]
[2011,"2011-12-30",1257.6099999999999,-5.4100000000000819,"2011-12-30",1771.0986,null,-2.385420311079578E-5,2.1055341174056164E-2]
[2012,"2012-12-31",1426.19,23.759999999999991,"2012-12-31",2054.2946999999999,null,0.13404791628565316,0.15989855110268847]
[2013,"2013-12-31",1848.36,7.2899999999999636,"2013-12-31",2719.2869000000001,null,0.29601245275874866,0.32370827807714253]
[2014,"2014-12-31",2058.9,-21.449999999999818,"2014-12-31",3091.1300999999999,null,0.11390638187366098,0.13674290859121929]
[2015,"2015-12-31",2043.94,-19.420000000000073,"2015-12-31",3133.5077000000001,null,-7.26601583369757E-3,1.3709419736167128E-2]
[2016,"2016-12-30",2238.83,-10.430000000000291,"2016-12-30",3507.8904000000002,null,9.5350157049619799E-2,0.11947719164692017]
[2017,"2017-12-29",2673.61,-13.929999999999836,"2017-12-29",4273.2622000000001,null,0.19419964892376829,0.21818577912240356]
[2018,"2018-12-31",2506.85,21.110000000000127,"2018-12-31",4085.4661000000001,null,-6.2372597349650949E-2,-4.394677677395975E-2]
[2019,"2019-12-31",3230.78,9.4900000000002365,"2019-12-31",5371.3401999999996,null,0.28878074077028959,0.3147435490897843]
[2020,"2020-12-31",3756.07,24.0300000000002,"2020-12-31",6358.9561999999996,null,0.16258921994069531,0.18386770586603318]
[2021,"2021-12-31",4766.18,-12.549999999999272,"2021-12-31",8182.6230999999998,null,0.268927362908572,0.28678714597845478]
[2022,"2022-12-30",3839.5,-9.7800000000002001,"2022-12-30",6699.4418999999998,null,-0.19442824232404154,-0.1812598700776038]
[2023,"2023-12-29",4769.83,-13.520000000000437,"2023-12-29",8458.6257000000005,null,0.24230498762859742,0.26258661934212779]

{"sheet":"RendimDividaRiscoBB-IGUUU510","index":18,"n_rows":1254,"n_cols":8,"rows_kept":1254,"cut":false,"hidden":false,"merged":[[0,0,0,2]]}
["IGUUU510 (Bloomberg)"]
[null,"data","taxa %"]
[null,"12/29/2023",6.3015999999999996,{"$f":"(1+C3/100)^(1/252)*D4","v":131.04707309546021},null,"Média",{"$f":"AVERAGE(C3:C1253)","v":5.6052201438848925},{"$f":"G3/100","v":5.6052201438848925E-2}]
[null,"12/28/2023",6.2976000000000001,131.01529795461821,null,"Média para compor rC"]
[null,"12/27/2023",6.3266,130.98355007723802]
[null,"12/26/2023",6.2873000000000001,130.95166814209625]
[null,"12/22/2023",6.3989000000000003,130.91998602673456]
[null,"12/21/2023",6.3708,130.88776650387959]
[null,"12/20/2023",6.4187000000000003,130.85569206740672]
[null,"12/19/2023",6.4387999999999996,130.82339176834245]
[null,"12/18/2023",6.6158000000000001,130.79100142228012]
[null,"12/15/2023",6.4866999999999999,130.75775694972558]
[null,"12/14/2023",6.4560000000000004,130.72514945623772]
[null,"12/13/2023",6.8888999999999996,130.69269963376848]
[null,"2023-12-12",7.0063000000000004,130.65815372265129]
[null,"2023-11-12",6.9753999999999996,130.62304793641522]
[null,"2023-08-12",6.9831000000000003,130.58810124562487]
[null,"2023-07-12",6.8888999999999996,130.55312661565597]
[null,"2023-06-12",6.8789999999999996,130.51861759777836]
[null,"2023-05-12",6.9073000000000002,130.48416566172489]
[null,"2023-04-12",6.9097,130.44958576969523]
[null,"2023-01-12",6.9039000000000001,130.41500342390043]
[null,"11/30/2023",7.0910000000000002,130.38045831542181]
[null,"11/29/2023",6.9999000000000002,130.34501788390554]
[null,"11/28/2023",7.1917999999999997,130.31002716097555]
[null,"11/27/2023",7.2728000000000002,130.27411951000892]
[null,"11/24/2023",7.2691999999999997,130.23783136539254]
[null,"11/22/2023",7.2602000000000002,130.20157066838951]
[null,"11/21/2023",7.2755999999999998,130.16536340621832]
[null,"11/20/2023",7.2751000000000001,130.12909207750874]
[null,"11/17/2023",7.3536999999999999,130.09283326216504]
[null,"11/16/2023",7.3411,130.05620654645239]
[null,"11/15/2023",7.3239000000000001,130.01965070294156]
[null,"11/14/2023",7.3189000000000002,129.98318779222183]
[null,"11/13/2023",7.5265000000000004,129.94675913139537]
[null,"2023-10-11",7.5130999999999997,129.90934441938958]
[null,"2023-09-11",7.4694000000000003,129.87200470896752]
[null,"2023-08-11",7.4650999999999996,129.83488518996921]
[null,"2023-07-11",7.4328000000000003,129.79779688943151]
[null,"2023-06-11",7.5308999999999999,129.76087397358938]
[null,"2023-03-11",7.3949999999999996,129.72349171799956]
[null,"2023-02-11",7.7397999999999998,129.68677104258148]
[null,"2023-01-11",7.9805999999999999,129.64841162599461]
[null,"10/31/2023",8.1903000000000006,129.60891531811967]
[null,"10/30/2023",8.3133999999999997,129.56843349936145]
[null,"10/27/2023",8.3496000000000006,129.52737982425037]
[null,"10/26/2023",8.3794000000000004,129.48616745434214]
[null,"10/25/2023",8.4108999999999998,129.44482693899045]
[null,"10/24/2023",8.3835999999999995,129.40335039576047]
[null,"10/23/2023",8.4673999999999996,129.36201642806449]
[null,"10/20/2023",8.5068000000000001,129.32029903884472]
[null,"10/19/2023",8.5200999999999993,129.2784087895663]
[null,"10/18/2023",8.423,129.23646925277697]
[null,"10/17/2023",8.2658000000000005,129.19500225314312]
[null,"10/16/2023",8.1959999999999997,129.15429218233444]
[null,"10/13/2023",8.1868999999999996,129.11392536697619]
[null,"2023-12-10",8.2154000000000007,129.07361424910769]
[null,"2023-11-10",8.1374999999999993,129.03318084731481]
[null,"2023-10-10",8.1644000000000005,128.99312872421893]
[null,"2023-06-10",8.3953000000000007,128.95296175548989]
[null,"2023-05-10",8.4408999999999992,128.91171643147089]
[null,"2023-04-10",8.3976000000000006,128.87026921195974]
[null,"2023-03-10",8.3507999999999996,128.82903948956152]
[null,"2023-02-10",8.2111000000000001,128.78804365393501]
[null,"09/29/2023",8.0925999999999991,128.74772001099404]
[null,"09/28/2023",8.048,128.70796860718872]
[null,"09/27/2023",7.9717000000000002,{"$f":"(1+C67/100)^(1/252)*D68","v":128.66844019383311}]
[null,"09/26/2023",7.9974999999999996,128.62928449888562]
[null,"09/25/2023",7.8990999999999998,128.59001880243878]
[null,"09/22/2023",7.7511000000000001,128.55123009370561]
[null,"09/21/2023",7.8521999999999998,128.51315306889072]
[null,"09/20/2023",7.6356000000000002,128.47460919544406]
[null,"09/19/2023",7.6599000000000004,128.43710148161551]
[null,"09/18/2023",7.5547000000000004,128.39948970044139]
[null,"09/15/2023",7.5461,128.36238691190349]
[null,"09/14/2023",7.4764999999999997,128.32533556382845]
[null,"09/13/2023",7.5759999999999996,128.2886244763348]
[null,"2023-12-09",7.5365000000000002,128.25145294503093]
[null,"2023-11-09",7.4767000000000001,128.21447903611238]
[null,"2023-08-09",7.5457000000000001,128.17779871574339]
[null,"2023-07-09",7.5709999999999997,128.1408025396648]
[null,"2023-06-09",7.5243000000000002,128.10369746759079]
[null,"2023-05-09",7.4710999999999999,128.06682381410496]
[null,"2023-01-09",7.383,128.03021220839193]
[null,"08/31/2023",7.3559000000000001,127.99402760343742]
[null,"08/30/2023",7.3468999999999998,127.95798138596881]
[null,"08/29/2023",7.3970000000000002,127.92198787780889]
[null,"08/28/2023",7.5065999999999997,127.88576770126147]
[null,"08/25/2023",7.5743,127.84904029883683]
[null,"08/24/2023",7.6329000000000002,127.81200415179732]
[null,"08/23/2023",7.5750000000000002,127.77470260233449]
[null,"08/22/2023",7.7077999999999998,127.7376846915007]
[null,"08/21/2023",7.6985999999999999,127.70005231756379]
[null,"08/18/2023",7.6341000000000001,127.66247430385941]
[null,"08/17/2023",7.5984999999999996,127.62521074785842]
[null,"08/16/2023",7.5004,127.58812555586782]
[null,"08/15/2023",7.4347000000000003,127.55151282437733]
[null,"08/14/2023",7.4443000000000001,127.51521994848466]
[null,"2023-11-08",7.3358999999999996,127.47889219849644]
[null,"2023-10-08",7.3251999999999997,127.44308527932215]
[null,"2023-09-08",7.2949000000000002,127.40733882052832]
[null,"2023-08-08",7.3624999999999998,127.37174510486324]
[null,"2023-07-08",7.4335000000000004,127.33584307339524]
[null,"2023-04-08",7.3539000000000003,127.29961720552866]
[null,"2023-03-08",7.3409000000000004,127.26377595916912]
[null,"2023-02-08",7.3657000000000004,127.22800594511506]
[null,"2023-01-08",7.2404999999999999,127.19212938557088]
[null,"07/31/2023",7.1529999999999996,127.15685169192574]
[null,"07/28/2023",7.2098000000000004,127.12199554448378]
[null,"07/27/2023",7.2190000000000003,127.08688169449489]
[null,"07/26/2023",7.1315999999999997,127.0517342808909]
[null,"07/25/2023",7.1398000000000001,127.01700762138361]
[null,"07/24/2023",7.1192000000000002,126.98225188604489]
[null,"07/21/2023",7.0772000000000004,126.94760252929618]
[null,"07/20/2023",7.0121000000000002,126.91316012987755]
[null,"07/19/2023",7.0373999999999999,126.87903327484277]
[null,"07/18/2023",7.0168999999999997,126.84479660699932]
[null,"07/17/2023",7.0896999999999997,126.81066556370477]
[null,"07/14/2023",7.0469999999999997,126.77620159165819]
[null,"07/13/2023",7.0387000000000004,126.74194756542849]
[null,"2023-12-07",7.0824999999999996,126.70774178167572]
[null,"2023-11-07",7.3197000000000001,126.67333957919914]
[null,"2023-10-07",7.3414999999999999,126.63783477948694]
[null,"2023-07-07",7.4340000000000002,126.60223789045965]
[null,"2023-06-07",7.5469999999999997,126.56621838899973]
[null,"2023-05-07",7.3353999999999999,126.52968129677883]
[null,"2023-03-07",7.2275,126.49414333506375]
[null,"06/30/2023",7.3289,126.45912006905778]
[null,"06/29/2023",7.1241000000000003,126.42363230727398]
[null,"06/28/2023",7.0792999999999999,126.38911243794612]
[null,"06/27/2023",7.1430999999999996,{"$f":"(1+C131/100)^(1/252)*D132","v":126.35481173002721}]
[null,"06/26/2023",7.1673,126.32022175238129]
[null,"06/23/2023",7.2007000000000003,126.28552806757264]
[null,"06/22/2023",7.3044000000000002,126.25068779441378]
[null,"06/21/2023",7.0797999999999996,126.21537286745979]
[null,"06/20/2023",7.0087000000000002,126.18111697260828]
[null,"06/16/2023",6.9977,126.14720286830286]
[null,"06/15/2023",6.976,126.11334932576136]
[null,"06/14/2023",7.2069999999999999,126.07960634670422]
[null,"06/13/2023",7.1558999999999999,126.04479349052104]
[null,"2023-12-06",7.2704000000000004,126.01022864672872]
[null,"2023-09-06",7.0030999999999999,125.97513940270967]
[null,"2023-08-06",6.9756,125.94130681424738]
[null,"2023-07-06",7.1191000000000004,125.90761173522006]
[null,"2023-06-06",7.1082999999999998,125.87325607937274]
[null,"2023-05-06",7.0796999999999999,125.83896014722319]
[null,"2023-02-06",7.0970000000000004,125.8048068801118]
[null,"2023-01-06",7.1349,125.77058225497282]
[null,"05/31/2023",7.1040999999999999,125.73619039967015]
[null,"05/30/2023",7.1425999999999998,125.70195137331297]
[null,"05/26/2023",7.2217000000000002,125.6675424451643]
[null,"05/25/2023",7.2274000000000003,125.63277501279133]
[null,"05/24/2023",7.1981000000000002,125.59799070431271]
[null,"05/23/2023",7.0286,125.56335219725379]
[null,"05/22/2023",6.9496000000000002,125.52951150425892]
[null,"05/19/2023",6.9928999999999997,125.49604765101979]
[null,"05/18/2023",6.9202000000000004,125.46239119118137]
[null,"05/17/2023",6.8516000000000004,125.42908207484514]
[null,"05/16/2023",6.9333999999999998,125.39610116628381]
[null,"05/15/2023",6.8765999999999998,125.3627482370326]
[null,"2023-12-05",6.8460000000000001,125.32966842184827]
[null,"2023-11-05",6.6901000000000002,125.29673971256609]
[null,"2023-10-05",6.7160000000000002,125.2645454787404]
[null,"2023-09-05",6.9873000000000003,125.23223889163263]
[null,"2023-08-05",6.8780999999999999,125.19867918618766]
[null,"2023-05-05",6.8868999999999998,125.16563569343663]
[null,"2023-04-05",6.9875999999999996,125.13256003850465]
[null,"2023-03-05",6.6501999999999999,125.09902565296666]
[null,"2023-02-05",6.7968000000000002,125.06706786079484]
[null,"2023-01-05",6.6680999999999999,125.03443667229332]
[null,"04/28/2023",6.6588000000000003,125.00241213219199]
[null,"04/27/2023",6.6787000000000001,124.97043903323711]
[null,"04/26/2023",6.6574,124.93838161882402]
[null,"04/25/2023",6.6944999999999997,124.90643140365027]
[null,"04/24/2023",6.6744000000000003,124.87431702133928]
[null,"04/21/2023",6.6525999999999996,124.84230423334394]
[null,"04/20/2023",6.7321,124.81040087783441]
[null,"04/19/2023",6.6204000000000001,124.77813672099731]
[null,"04/18/2023",6.5571999999999999,124.74639924142315]
[null,"04/17/2023",6.5940000000000003,124.7149632768283]
[null,"04/14/2023",6.5629,124.68336439062487]
[null,"04/13/2023",6.5016999999999996,124.65191785141361]
[null,"2023-12-04",6.5204000000000004,124.62076333569692]
[null,"2023-11-04",6.6170999999999998,124.58952980482016]
[null,"2023-10-04",6.6822999999999997,124.55785559623021]
[null,"2023-07-04",6.7065000000000001,124.52588734229904]
[null,"2023-06-04",6.6576000000000004,124.49381524074077]
[null,"2023-05-04",6.6737000000000002,124.46197778740471]
[null,"2023-04-04",6.6555,124.43007394686425]
[null,"2023-03-04",6.6325000000000003,124.39826251395775]
[null,"03/31/2023",6.7175000000000002,124.36656565128716]
[null,"03/30/2023",6.8433999999999999,124.33448372429565]
[null,"03/29/2023",6.9234999999999998,124.30182848981042]
[null,"03/28/2023",7.0542999999999996,124.26881227244149]
[null,"03/27/2023",7.0136000000000003,{"$f":"(1+C195/100)^(1/252)*D196","v":124.23520210648333}]
[null,"03/24/2023",7.0694999999999997,124.20178844390108]
[null,"03/23/2023",7.0453999999999999,124.16812645050159]
[null,"03/22/2023",7.0206,124.13458447035468]
[null,"03/21/2023",7.1219000000000001,124.10116565718666]
[null,"03/20/2023",7.1757999999999997,124.06729004653684]
[null,"03/17/2023",7.1947999999999999,124.03317608946114]
[null,"03/16/2023",7.2526999999999999,123.99898428845009]
[null,"03/15/2023",7.4131,123.96453627817763]
[null,"03/14/2023",7.2804000000000002,123.92936290690226]
[null,"03/13/2023",7.3482000000000003,123.89480727767379]
[null,"2023-10-03",7.3437999999999999,123.85995075409433]
[null,"2023-09-03",7.3613,123.82512417775821]
[null,"2023-08-03",7.2649999999999997,123.79022731614634]
[null,"2023-07-03",7.1925999999999997,123.75578098372195]
[null,"2023-06-03",7.1771000000000003,123.7216757275135]
[null,"2023-03-03",7.2847,123.68765084824216]
[null,"2023-02-03",7.4073000000000002,123.65314294910952]
[null,"2023-01-03",7.3346,123.61808442065578]
[null,"02/28/2023",7.2343000000000002,123.58336788443788]
[null,"02/27/2023",7.2217000000000002,123.5491194534583]
[null,"02/24/2023",7.3155000000000001,123.51493810820591]
[null,"02/23/2023",7.2430000000000003,123.48033774188238]
[null,"02/22/2023",7.3598999999999997,123.44607812191188]
[null,"02/21/2023",7.4428999999999998,123.41129447060894]
[null,"02/17/2023",7.1650999999999998,123.37614226536098]
[null,"02/16/2023",7.1322000000000001,123.34226721608009]
[null,"02/15/2023",7.0236000000000001,123.30855171331876]
[null,"02/14/2023",6.9683000000000002,123.2753415673177]
[null,"02/13/2023",6.8513999999999999,123.2423931306587]
[null,"2023-10-02",6.8716999999999997,123.20998811545479]
[null,"2023-09-02",6.7088999999999999,123.17749876567649]
[null,"2023-08-02",6.6775000000000002,123.14576295563941]
[null,"2023-07-02",6.6308999999999996,123.11417910267519]
[null,"2023-06-02",6.6566999999999998,123.08281675513176]
[null,"2023-03-02",6.6102999999999996,123.05134426419525]
[null,"2023-02-02",6.5042999999999997,123.02009224281116]
[null,"2023-01-02",6.6551999999999998,122.9893336581255]
[null,"01/31/2023",6.7454999999999998,122.95789193315872]
[null,"01/30/2023",6.7931999999999997,122.92604542110209]
[null,"01/27/2023",6.6999000000000004,122.89398928497206]
[null,"01/26/2023",6.7805,122.86236764154401]
[null,"01/25/2023",6.7133000000000003,122.83038607941108]
[null,"01/24/2023",6.7987000000000002,122.79871960788616]
[null,"01/23/2023",6.7972999999999999,122.76667158598291]
[null,"01/20/2023",6.7746000000000004,122.73463831254345]
[null,"01/19/2023",6.7571000000000003,122.70271690340697]
[null,"01/18/2023",6.5902000000000003,122.67088358618136]
[null,"01/17/2023",6.6083999999999996,122.6398199556901]
[null,"01/13/2023",6.5949999999999998,122.60868112257565]
[null,"2023-12-01",6.5627000000000004,122.57761133938254]
[null,"2023-11-01",6.6768999999999998,122.54669680734035]
[null,"2023-10-01",6.7382,122.51526933452348]
[null,"2023-09-01",6.7131999999999996,122.48357070355837]
[null,"2023-06-01",6.7948000000000004,122.45199409864222]
[null,"2023-05-01",7.0068999999999999,122.42005430539864]
[null,"2023-04-01",6.9972000000000003,122.38715924343438]
[null,"2023-03-01",7.1124999999999998,122.35431703534408]
[null,"2022-12-30",7.1153000000000004,122.32096085396634]
[null,"2022-12-29",7.1999000000000004,122.28760108103026]
[null,"2022-12-28",7.0686,122.2538673960451]
[null,"2022-12-27",6.9352999999999998,122.22073741797502]
[null,"2022-12-23",6.8826000000000001,122.18822045865772]
[null,"2022-12-22",6.8315000000000001,122.15595110226715]
[null,"2022-12-21",6.8967000000000001,{"$f":"(1+C259/100)^(1/252)*D260","v":122.12392201688063}]
[null,"2022-12-20",6.9790999999999999,122.0916057314149]
[null,"2022-12-19",6.9149000000000003,122.05892477715673]
[null,"2022-12-16",6.7839999999999998,122.02654325382994]
[null,"2022-12-15",6.6909000000000001,121.99476339256198]
[null,"2022-12-14",6.7127999999999997,121.96341395237981]
[null,"2022-12-13",6.6684999999999999,121.93197325899571]
[null,"2022-12-12",6.7995999999999999,121.90074152572218]
[null,"2022-12-09",6.7908999999999997,121.86892378285594]
[null,"2022-12-08",6.8048999999999999,121.83715373126586]
[null,"2022-12-07",6.9096000000000002,121.80532859948501]
[null,"2022-12-06",6.9249000000000001,121.77303830890376]
[null,"2022-12-05",6.7104999999999997,121.74068744642034]
[null,"2022-12-02",6.6435000000000004,121.70931457896138]
[null,"2022-12-01",6.6151999999999997,121.67825305690786]
[null,"2022-11-30",6.7869999999999999,121.64732758047984]
[null,"2022-11-29",6.8678999999999997,121.61563292179858]
[null,"2022-11-28",6.8060999999999998,121.58358114442237]
[null,"2022-11-25",6.7462,121.55181682907171]
[null,"2022-11-23",6.7775999999999996,121.52033133300303]
[null,"2022-11-22",6.8114999999999997,121.48871220149536]
[null,"2022-11-21",6.8868999999999998,121.45694830376166]
[null,"2022-11-18",6.9036999999999997,121.42485268830835]
[null,"2022-11-17",6.9260000000000002,121.39268984610521]
[null,"2022-11-16",6.8319000000000001,121.36043507461724]
[null,"2022-11-15",6.8853999999999997,121.328612769502]
[null,"2022-11-14",6.98,121.29655782224714]
[null,"2022-11-10",7.0166000000000004,121.26408563467636]
[null,"2022-11-09",7.3489000000000004,121.23145758209365]
[null,"2022-11-08",7.3174999999999999,121.19734722829268]
[null,"2022-11-07",7.2797000000000001,121.16338713053591]
[null,"2022-11-04",7.2354000000000003,121.12960588375279]
[null,"2022-11-03",7.3166000000000002,121.09603253000435]
[null,"2022-11-02",7.1022999999999996,121.06210484998181]
[null,"2022-11-01",7.0686,121.0291466881847]
[null,"2022-10-31",7.0583,120.99634860121186]
[null,"2022-10-28",6.9763999999999999,120.96360558189255]
[null,"2022-10-27",7.0422000000000002,120.93123867763515]
[null,"2022-10-26",7.1087999999999996,120.89858543154071]
[null,"2022-10-25",7.2598000000000003,120.86564267913656]
[null,"2022-10-24",7.4005000000000001,120.83203339800666]
[null,"2022-10-21",7.4653,120.79780506862036]
[null,"2022-10-20",7.4776999999999996,120.7632973853684]
[null,"2022-10-19",7.4370000000000003,120.72874428349185]
[null,"2022-10-18",7.2731000000000003,120.69438247104215]
[null,"2022-10-17",7.4069000000000003,120.66076144435296]
[null,"2022-10-14",7.4798999999999998,120.62655310798949]
[null,"2022-10-13",7.4739000000000004,120.59202933642872]
[null,"2022-10-12",7.4791999999999996,120.5575421529965]
[null,"2022-10-11",7.4747000000000003,120.52304124751267]
[null,"2022-10-07",7.3129999999999997,120.4885702344293]
[null,"2022-10-06",7.2083000000000004,120.45482878305435]
[null,"2022-10-05",7.1165000000000003,120.42156323496307]
[null,"2022-10-04",7.0906000000000002,120.38871612000823]
[null,"2022-10-03",7.3719999999999999,120.35599345960348]
[null,"2022-09-30",7.4687000000000001,120.32202669764833]
[null,"2022-09-29",7.5483000000000002,120.28763982589327]
[null,"2022-09-28",7.4082999999999997,120.25290946340144]
[null,"2022-09-27",7.4919000000000002,120.21881053828686]
[null,"2022-09-26",7.407,120.18435021937462]
[null,"2022-09-23",7.2530999999999999,120.15027650567639]
[null,"2022-09-22",7.0766,120.1168959226495]
[null,"2022-09-21",6.9372999999999996,120.0843094456273]
[null,"2022-09-20",6.9118000000000004,120.05235197533732]
[null,"2022-09-19",6.8414000000000001,{"$f":"(1+C323/100)^(1/252)*D324","v":120.0205165938264}]
[null,"2022-09-16",6.8997999999999999,119.98900329362795]
[null,"2022-09-15",6.8152999999999997,119.95723814340458]
[null,"2022-09-14",6.7417999999999996,119.9258577275434]
[null,"2022-09-13",6.7317999999999998,119.89481301412961]
[null,"2022-09-12",6.5419,119.86382090001999]
[null,"2022-09-09",6.5842000000000001,119.83368362401566]
[null,"2022-09-08",6.7380000000000004,119.80336521208787]
[null,"2022-09-07",6.8882000000000003,119.7723691282952]
[null,"2022-09-06",6.8666999999999998,119.7407128923803]
[null,"2022-09-02",6.9543999999999997,119.70916058395389]
[null,"2022-09-01",6.9143999999999997,119.67722701503325]
[null,"2022-08-31",6.8226000000000004,119.6454795626664]
[null,"2022-08-30",6.8556999999999997,119.61414826362555]
[null,"2022-08-29",6.6817000000000002,119.58267815291399]
[null,"2022-08-26",6.5171000000000001,119.55198946564543]
[null,"2022-08-25",6.4775,119.52204100844719]
[null,"2022-08-24",6.4565999999999999,119.49227637106871]
[null,"2022-08-23",6.4204999999999997,119.46261220584705]
[null,"2022-08-22",6.4284999999999997,119.43311614784952]
[null,"2022-08-19",6.2256999999999998,119.40359175495939]
[null,"2022-08-18",6.1497999999999999,119.37497817535311]
[null,"2022-08-17",6.0862999999999996,119.34670996666166]
[null,"2022-08-16",5.9470000000000001,119.31873178159866]
[null,"2022-08-15",5.9387999999999996,119.29138214697085]
[null,"2022-08-12",5.9191000000000003,119.26407541247815]
[null,"2022-08-11",5.9101999999999997,119.23686292440136]
[null,"2022-08-10",5.9493999999999998,119.20969639611346]
[null,"2022-08-09",6.0567000000000002,119.18236104057934]
[null,"2022-08-08",6.0350999999999999,119.15455333148753]
[null,"2022-08-05",6.0110999999999999,119.12684839776435]
[null,"2022-08-04",5.9923000000000002,119.09925688984359]
[null,"2022-08-03",5.9779999999999998,119.07175557426582]
[null,"2022-08-02",5.9516999999999998,119.04432434713306]
[null,"2022-08-01",6.0891999999999999,119.01701665962366]
[null,"2022-07-29",6.1006,118.9891028564132]
[null,"2022-07-28",6.2981999999999996,118.96114487582157]
[null,"2022-07-27",6.4143999999999997,118.93231531990281]
[null,"2022-07-26",6.4204999999999997,118.90297724186584]
[null,"2022-07-25",6.3212000000000002,118.87361936120304]
[null,"2022-07-22",6.3518999999999997,118.84470898505413]
[null,"2022-07-21",6.4226999999999999,118.81566951769656]
[null,"2022-07-20",6.5461,118.7863234493677]
[null,"2022-07-19",6.7019000000000002,118.75643851072935]
[null,"2022-07-18",6.7447999999999997,118.72587266251958]
[null,"2022-07-15",6.8059000000000003,118.69512534658872]
[null,"2022-07-14",6.9032,118.66411653644863]
[null,"2022-07-13",6.9238,118.63268715593061]
[null,"2022-07-12",6.9050000000000002,118.60117541733899]
[null,"2022-07-11",6.9522000000000004,118.56975478510252]
[null,"2022-07-08",7.0137999999999998,118.53813483940857]
[null,"2022-07-07",7.0686,118.50625255192668]
[null,"2022-07-06",7.2060000000000004,118.47413815234295]
[null,"2022-07-05",7.2786999999999997,118.44142968739068]
[null,"2022-07-01",7.2956000000000003,118.40841172235976]
[null,"2022-06-30",7.3578000000000001,118.37532896720047]
[null,"2022-06-29",7.3780999999999999,118.34198329700875]
[null,"2022-06-28",7.2041000000000004,118.3085582560456]
[null,"2022-06-27",7.0427999999999997,118.27590382285604]
[null,"2022-06-24",7.1029999999999998,118.2439649268443]
[null,"2022-06-23",7.2473999999999998,118.21177091454994]
[null,"2022-06-22",7.2138,118.17895381804135]
[null,"2022-06-21",7.1432000000000002,118.14629273807874]
[null,"2022-06-17",7.2106000000000003,118.11394942765226]
[null,"2022-06-16",7.2731000000000003,{"$f":"(1+C387/100)^(1/252)*D388","v":118.08132029870312}]
[null,"2022-06-15",7.0750999999999999,118.04842717526211]
[null,"2022-06-14",7.2182000000000004,118.01640841308202]
[null,"2022-06-13",7.1506999999999996,117.98377304187126]
[null,"2022-06-10",6.5357000000000003,117.95144145921856]
[null,"2022-06-09",6.3914,117.92181224329771]
[null,"2022-06-08",6.2584,117.89282456050181]
[null,"2022-06-07",6.2072000000000003,117.8644290600526]
[null,"2022-06-06",6.1586999999999996,117.83626576540181]
[null,"2022-06-03",6.0579999999999998,117.8083227317952]
[null,"2022-06-02",6.03,117.78082988527952]
[null,"2022-06-01",5.9767999999999999,117.75346683477898]
[null,"2022-05-31",5.9527999999999999,117.72634459902797]
[null,"2022-05-27",5.9150999999999998,117.69933439506792]
[null,"2022-05-26",6.1205999999999996,117.6724965687107]
[null,"2022-05-25",6.4034000000000004,117.64475994921273]
[null,"2022-05-24",6.59,117.61578773180467]
[null,"2022-05-23",6.6706000000000003,117.58600506568298]
[null,"2022-05-20",6.7062999999999997,117.55587732766486]
[null,"2022-05-19",6.7805,117.52560125201332]
[null,"2022-05-18",6.7739000000000003,117.49500887136168]
[null,"2022-05-17",6.6798999999999999,117.46445326588683]
[null,"2022-05-16",6.6764999999999999,117.4343160448035]
[null,"2022-05-13",6.6437999999999997,117.40420140449176]
[null,"2022-05-12",6.694,117.37423728321693]
[null,"2022-05-11",6.6117999999999997,117.34406166680122]
[null,"2022-05-10",6.6538000000000004,117.31425260515293]
[null,"2022-05-09",6.7419000000000002,117.28426780092204]
[null,"2022-05-06",6.5891000000000002,117.2539064691198]
[null,"2022-05-05",6.5182000000000002,117.22421936631788]
[null,"2022-05-04",6.3635000000000002,117.19484922621466]
[null,"2022-05-03",6.3723999999999998,117.16616218912203]
[null,"2022-05-02",6.3350999999999997,117.13744328078964]
[null,"2022-04-29",6.2563000000000004,117.10889439586036]
[null,"2022-04-28",6.1083999999999996,117.08069689389583]
[null,"2022-04-27",6.0940000000000003,117.05315317091316]
[null,"2022-04-26",6.0758999999999999,117.02567895413647]
[null,"2022-04-25",6.0391000000000004,116.99829040029786]
[null,"2022-04-22",6.0510999999999999,116.97106931509575]
[null,"2022-04-21",5.9410999999999996,116.94380205014272]
[null,"2022-04-20",5.8875000000000002,116.91702262249007]
[null,"2022-04-19",5.9904999999999999,116.89048406785653]
[null,"2022-04-18",5.8042999999999996,116.86350065751772]
[null,"2022-04-14",5.8552,116.83733869474558]
[null,"2022-04-13",5.8068999999999997,116.81095964597397]
[null,"2022-04-12",5.8061999999999996,116.78479805735765]
[null,"2022-04-11",5.9240000000000004,116.75864539333352]
[null,"2022-04-08",5.5937999999999999,116.73198314034695]
[null,"2022-04-07",5.6087999999999996,116.70677292594868]
[null,"2022-04-06",5.6494999999999997,116.68150238675977]
[null,"2022-04-05",5.4096000000000002,116.65605895108568]
[null,"2022-04-04",5.4546000000000001,116.63167319588237]
[null,"2022-04-01",5.4302000000000001,116.6070950394691]
[null,"2022-03-31",5.4414999999999996,116.58262911765874]
[null,"2022-03-30",5.4413999999999998,116.5581187576483]
[null,"2022-03-29",5.5304000000000002,116.53361398927224]
[null,"2022-03-28",5.5529000000000002,116.50872429218123]
[null,"2022-03-25",5.5698999999999996,116.48374136862314]
[null,"2022-03-24",5.4478999999999997,116.45868937775543]
[null,"2022-03-23",5.4390999999999998,116.4341770311725]
[null,"2022-03-22",5.3925999999999998,116.40970839637642]
[null,"2022-03-21",5.3692000000000002,116.38544862888875]
[null,"2022-03-18",5.3193000000000001,116.36129644968726]
[null,"2022-03-17",5.3929999999999998,116.33736796198451]
[null,"2022-03-16",5.5263,{"$f":"(1+C451/100)^(1/252)*D452","v":116.31312151846303}]
[null,"2022-03-15",5.5961999999999996,116.28829684375673]
[null,"2022-03-14",5.7199,116.26317196480571]
[null,"2022-03-11",5.4539,116.23751248917155]
[null,"2022-03-10",5.4751000000000003,116.21302045664916]
[null,"2022-03-09",5.4164000000000003,116.18844090346334]
[null,"2022-03-08",5.3916000000000004,116.16412316277197]
[null,"2022-03-07",5.3586999999999998,116.13991894814767]
[null,"2022-03-04",5.2168999999999999,116.11586363954534]
[null,"2022-03-03",5.0602999999999998,116.09243375432129]
[null,"2022-03-02",5.12,116.06969463240536]
[null,"2022-03-01",5.1494,116.04669836000559]
[null,"2022-02-28",5.0983999999999998,116.02357789374412]
[null,"2022-02-25",5.2667000000000002,116.00068535422784]
[null,"2022-02-24",5.2854000000000001,115.97706093218359]
[null,"2022-02-23",5.2988999999999997,115.95335958889659]
[null,"2022-02-22",5.3193999999999999,115.92960410561419]
[null,"2022-02-18",5.3170000000000002,115.90576395422897]
[null,"2022-02-17",5.3011999999999997,115.88193918448862]
[null,"2022-02-16",5.3392999999999997,115.85818829105601]
[null,"2022-02-15",5.3221999999999996,115.83427598174461]
[null,"2022-02-14",5.3433000000000002,115.81044321620763]
[null,"2022-02-11",5.3407,115.78652331421928]
[null,"2022-02-10",5.2243000000000004,115.76261969081425]
[null,"2022-02-09",5.0484999999999998,115.73922878259984]
[null,"2022-02-08",5.1505999999999998,115.71661042103815]
[null,"2022-02-07",5.0801999999999996,115.69355048018103]
[null,"2022-02-04",5.0507,115.67080255245965]
[null,"2022-02-03",4.9527999999999999,115.6481879521515]
[null,"2022-02-02",4.7778,115.62600557277563]
[null,"2022-02-01",4.8240999999999996,115.60459300857487]
[null,"2022-01-31",4.9671000000000003,115.58298177703561]
[null,"2022-01-28",4.9577,115.56074942748619]
[null,"2022-01-27",4.8878000000000004,115.5385624144637]
[null,"2022-01-26",4.8263999999999996,115.51668504863346]
[null,"2022-01-25",4.7793999999999999,115.49508019469968]
[null,"2022-01-24",4.7900999999999998,115.47368487903512]
[null,"2022-01-21",4.6814999999999998,115.45224674387228]
[null,"2022-01-20",4.5944000000000003,115.43128754854087]
[null,"2022-01-19",4.6501000000000001,115.41071337651498]
[null,"2022-01-18",4.6718999999999999,115.3898990911333]
[null,"2022-01-14",4.4889999999999999,115.36899320089373]
[null,"2022-01-13",4.4867999999999997,115.34889162291198]
[null,"2022-01-12",4.4466999999999999,115.32880318331019]
[null,"2022-01-11",4.5727000000000002,115.30889388412643]
[null,"2022-01-10",4.593,115.28843645239894]
[null,"2022-01-07",4.4595000000000002,115.26789386430181]
[null,"2022-01-06",4.3952999999999998,115.24793903694101]
[null,"2022-01-05",4.2820999999999998,115.22826877555421]
[null,"2022-01-04",4.1883999999999997,115.20909787677954]
[null,"2022-01-03",4.1261999999999999,115.1903410709497]
[null,"2021-12-31",4.1093999999999999,115.17186024554373]
[null,"2021-12-30",4.101,115.1534561179292]
[null,"2021-12-29",4.0932000000000004,115.1350917962174]
[null,"2021-12-28",4.0265000000000004,115.11676463217033]
[null,"2021-12-27",4.0991999999999997,115.09873314568107]
[null,"2021-12-23",4.1334999999999997,115.08038544729405]
[null,"2021-12-22",4.1258999999999997,115.06189025338799]
[null,"2021-12-21",4.0971000000000002,115.04343135157718]
[null,"2021-12-20",4.2286000000000001,115.025101676822]
[null,"2021-12-17",4.1658999999999997,115.00619877358208]
[null,"2021-12-16",4.1304999999999996,114.98757355189034]
[null,"2021-12-15",4.1052,114.96910641798809]
[null,"2021-12-14",4.0564999999999998,114.95075309245132]
[null,"2021-12-13",4.1079999999999997,{"$f":"(1+C515/100)^(1/252)*D516","v":114.93261609976838}]
[null,"2021-12-10",4.1021000000000001,114.91425633484369]
[null,"2021-12-09",4.1176000000000004,114.89592534228505]
[null,"2021-12-08",4.109,114.87752940438085]
[null,"2021-12-07",4.1086999999999998,114.85917406117807]
[null,"2021-12-06",4.2369000000000003,114.84082296402123]
[null,"2021-12-03",4.3266999999999998,114.82191406204538]
[null,"2021-12-02",4.2676999999999996,114.80261597210473]
[null,"2021-12-01",4.3029000000000002,114.78357879217734]
[null,"2021-11-30",4.4260000000000002,114.76439105047544]
[null,"2021-11-29",4.4257999999999997,114.74466943686551]
[null,"2021-11-26",4.5205000000000002,114.72495208422866]
[null,"2021-11-24",4.3773,114.7048255216346]
[null,"2021-11-23",4.3042999999999996,114.68532643352735]
[null,"2021-11-22",4.1821999999999999,114.66614900863425]
[null,"2021-11-19",4.1196000000000002,114.64750767228725]
[null,"2021-11-18",4.0941000000000001,114.62914277074968]
[null,"2021-11-17",4.0678000000000001,114.61089221122057]
[null,"2021-11-16",4.0635000000000003,114.59275946296316]
[null,"2021-11-15",4.0712000000000002,114.57464837014861]
[null,"2021-11-12",4.1208999999999998,114.55650650442988]
[null,"2021-11-10",3.9556,114.53815050509179]
[null,"2021-11-09",4.0091000000000001,114.5205194871139]
[null,"2021-11-08",4.0068999999999999,114.50265740187727]
[null,"2021-11-05",3.9946000000000002,114.48480771219405]
[null,"2021-11-04",4.0357000000000003,114.46701452660641]
[null,"2021-11-03",4.0849000000000002,114.44904465075287]
[null,"2021-11-02",4.1605999999999996,114.4308629003762]
[null,"2021-11-01",4.1512000000000002,114.4123539553225]
[null,"2021-10-29",4.1186999999999996,114.39388897218475]
[null,"2021-10-28",4.0646000000000004,114.37556861999653]
[null,"2021-10-27",4.0454999999999997,114.35748705679087]
[null,"2021-10-26",4.1547999999999998,114.33949163689168]
[null,"2021-10-25",4.1355000000000004,114.32102273261651]
[null,"2021-10-22",4.1679000000000004,114.30264086855439]
[null,"2021-10-21",4.1280000000000001,114.28412088052595]
[null,"2021-10-20",4.0663999999999998,114.26577760828037]
[null,"2021-10-19",4.0690999999999997,114.24770556012358]
[null,"2021-10-18",4.0571000000000002,114.2296246097048]
[null,"2021-10-15",4.0534999999999997,114.21159878376103]
[null,"2021-10-14",4.0339,114.19359147994989]
[null,"2021-10-13",4.1390000000000002,114.17567236717443]
[null,"2021-10-12",4.1637000000000004,114.1572986489613]
[null,"2021-10-08",4.1459000000000001,114.13882047249825]
[null,"2021-10-07",4.0107999999999997,114.12042268032806]
[null,"2021-10-06",4.0343,114.10261559867062]
[null,"2021-10-05",4.0830000000000002,114.08470902106555]
[null,"2021-10-04",4.0156999999999998,114.06659341305094]
[null,"2021-10-01",4.0629,114.04877341027823]
[null,"2021-09-30",3.9472,114.03075090207786]
[null,"2021-09-29",3.9474,114.01323454861392]
[null,"2021-09-28",3.9792999999999998,113.99572001547909]
[null,"2021-09-27",3.9087000000000001,113.97806939144266]
[null,"2021-09-24",3.8740999999999999,113.96072865662461]
[null,"2021-09-23",3.8723999999999998,113.9435411463173]
[null,"2021-09-22",3.8222,113.92636362715261]
[null,"2021-09-21",3.8108,113.90940720548259]
[null,"2021-09-20",3.7787000000000002,113.89250293625821]
[null,"2021-09-17",3.7671999999999999,113.8757409282959]
[null,"2021-09-16",3.7439,113.85903145760271]
[null,"2021-09-15",3.8008000000000002,113.84242588781312]
[null,"2021-09-14",3.7429999999999999,113.82557507154088]
[null,"2021-09-13",3.7675999999999998,113.80897829907912]
[null,"2021-09-10",3.7947000000000002,113.7922768841004]
[null,"2021-09-09",3.8424999999999998,{"$f":"(1+C579/100)^(1/252)*D580","v":113.77546002403892}]
[null,"2021-09-08",3.8302,113.75843780587992]
[null,"2021-09-07",3.9043999999999999,113.74147159998833]
[null,"2021-09-03",3.7658999999999998,113.72418553712811]
[null,"2021-09-02",3.8155999999999999,113.70750395774282]
[null,"2021-09-01",3.8056999999999999,113.69060879123566]
[null,"2021-08-31",3.8260999999999998,113.67375915335178]
[null,"2021-08-30",3.9255,113.65682338662744]
[null,"2021-08-27",3.8854000000000002,113.6394586225472]
[null,"2021-08-26",3.847,113.62227051926729]
[null,"2021-08-25",3.8597999999999999,113.60525168459539]
[null,"2021-08-24",3.7740999999999998,113.58817984423098]
[null,"2021-08-23",3.8433999999999999,113.57148260158914]
[null,"2021-08-20",3.9708999999999999,113.55448699554563]
[null,"2021-08-19",3.9590000000000001,113.53694108895235]
[null,"2021-08-18",3.9161999999999999,113.51944945545777]
[null,"2021-08-17",3.9068999999999998,113.50214598699915]
[null,"2021-08-16",3.8776000000000002,113.48488546084016]
[null,"2021-08-13",3.8115000000000001,113.46775454561724]
[null,"2021-08-12",3.8971,113.45091278236794]
[null,"2021-08-11",4.0289999999999999,113.43370250380511]
[null,"2021-08-10",4.0071000000000003,113.4159238303267]
[null,"2021-08-09",3.9039999999999999,113.39824268499717]
[null,"2021-08-06",3.8555999999999999,113.38101051703791]
[null,"2021-08-05",3.9464000000000001,113.36399056633876]
[null,"2021-08-04",3.8165,113.34658009613374]
[null,"2021-08-03",3.8965999999999998,113.32973465858494]
[null,"2021-08-02",3.7774999999999999,113.31254492644256]
[null,"2021-07-30",3.8134000000000001,113.29587347181533]
[null,"2021-07-29",3.8549000000000002,113.27904899326444]
[null,"2021-07-28",3.9472999999999998,113.26204737768174]
[null,"2021-07-27",3.9140999999999999,113.24464867305286]
[null,"2021-07-26",3.8304,113.22739617186416]
[null,"2021-07-23",3.9950000000000001,113.21050830144326]
[null,"2021-07-22",3.9434999999999998,113.19291143929394]
[null,"2021-07-21",3.8904000000000001,113.1755397733357]
[null,"2021-07-20",4.0834999999999999,113.15840022651378]
[null,"2021-07-19",3.9683000000000002,113.14042955107782]
[null,"2021-07-16",4.0052000000000003,113.12295884849489]
[null,"2021-07-15",4.0425000000000004,113.10533157468613]
[null,"2021-07-14",4.0780000000000003,113.08754613487818]
[null,"2021-07-13",3.9697,113.06961042210349]
[null,"2021-07-12",3.9222999999999999,113.05214461422236]
[null,"2021-07-09",4.0346000000000002,113.03488604610487]
[null,"2021-07-08",4.0373000000000001,113.01714573828211]
[null,"2021-07-07",4.1219000000000001,112.99939657732021]
[null,"2021-07-06",4.0682,112.98128577608104]
[null,"2021-07-02",4.2046999999999999,112.9634091271393]
[null,"2021-07-01",4.3025000000000002,112.94494782100151]
[null,"2021-06-30",4.2302999999999997,112.92606915169483]
[null,"2021-06-29",4.2183999999999999,112.90750388988388]
[null,"2021-06-28",4.2202000000000002,112.88899282824566]
[null,"2021-06-25",4.2229999999999999,112.87047706569435]
[null,"2021-06-24",4.2012999999999998,112.85195230885337]
[null,"2021-06-23",4.2628000000000004,112.83352382733473]
[null,"2021-06-22",4.3578999999999999,112.81483421158795]
[null,"2021-06-21",4.2807000000000004,112.79573961083952]
[null,"2021-06-18",4.2412000000000001,112.77697942794317]
[null,"2021-06-17",4.2526000000000002,112.75839188620992]
[null,"2021-06-16",4.2887000000000004,112.73975848442164]
[null,"2021-06-15",4.2929000000000004,112.72097329812232]
[null,"2021-06-14",4.2877000000000001,112.70217323100604]
[null,"2021-06-11",4.2313999999999998,112.68339859502251]
[null,"2021-06-10",4.2717000000000001,112.66486851042798]
[null,"2021-06-09",4.2217000000000002,{"$f":"(1+C643/100)^(1/252)*D644","v":112.64616867497611}]
[null,"2021-06-08",4.2755999999999998,112.62768630730264]
[null,"2021-06-07",4.4127000000000001,112.6089759299482]
[null,"2021-06-04",4.3555000000000001,112.58968161965615]
[null,"2021-06-03",4.3383000000000003,112.57063540079099]
[null,"2021-06-02",4.2916999999999996,112.55166602461074]
[null,"2021-06-01",4.3063000000000002,112.53289933342123]
[null,"2021-05-28",4.3266999999999998,112.51407327148721]
[null,"2021-05-27",4.3369,112.49516305976222]
[null,"2021-05-26",4.2788000000000004,112.47621239039573]
[null,"2021-05-25",4.3125,112.45751348220857]
[null,"2021-05-24",4.3505000000000003,112.43867351125643]
[null,"2021-05-21",4.2739000000000003,112.41967421269189]
[null,"2021-05-20",4.3514999999999997,112.40100566329465]
[null,"2021-05-19",4.2827999999999999,112.38200845598912]
[null,"2021-05-18",4.2352999999999996,112.36330810569703]
[null,"2021-05-17",4.3379000000000003,112.34481397744163]
[null,"2021-05-14",4.2676999999999996,112.32588436344705]
[null,"2021-05-13",4.2443999999999997,112.3072578883182]
[null,"2021-05-12",4.2695999999999996,112.28873408605475]
[null,"2021-05-11",4.1041999999999996,112.27010565311301]
[null,"2021-05-10",4.0248999999999997,112.25218746683436]
[null,"2021-05-07",4.0438000000000001,112.23461152790784]
[null,"2021-05-06",4.0297000000000001,112.21695744194234]
[null,"2021-05-05",4.0807000000000002,112.19936647522987]
[null,"2021-05-04",4.0532000000000004,112.18156007961313]
[null,"2021-05-03",4.0514000000000001,112.16387412747092]
[null,"2021-04-30",4.0072000000000001,112.14619866207958]
[null,"2021-04-29",4.0209999999999999,112.12871503464488]
[null,"2021-04-28",4.0305999999999997,112.11117510800099]
[null,"2021-04-27",4.0486000000000004,112.09359687532057]
[null,"2021-04-26",4.0204000000000004,112.07594445281713]
[null,"2021-04-23",4.1132,112.05841534583141]
[null,"2021-04-22",4.0240999999999998,112.04049250981645]
[null,"2021-04-21",3.9508999999999999,112.0229531358258]
[null,"2021-04-20",3.8892000000000002,112.0057293812319]
[null,"2021-04-19",4.0077999999999996,111.98877212613834]
[null,"2021-04-16",4.0016999999999996,111.97131047828891]
[null,"2021-04-15",3.9613999999999998,111.95387760956334]
[null,"2021-04-14",3.9310999999999998,111.93661961014277]
[null,"2021-04-13",3.9885000000000002,111.91949373202878]
[null,"2021-04-12",3.8833000000000002,111.90212529428007]
[null,"2021-04-09",3.9116,111.88520893987359]
[null,"2021-04-08",3.9666999999999999,111.86817422560932]
[null,"2021-04-07",3.9922,111.85090681035639]
[null,"2021-04-06",4.1059000000000001,111.83353322646794]
[null,"2021-04-05",4.0548000000000002,111.81567747098943]
[null,"2021-04-02",4.0976999999999997,111.79804238023098]
[null,"2021-04-01",4.1142000000000003,111.78022723111833]
[null,"2021-03-31",4.3057999999999996,111.76234462926013]
[null,"2021-03-30",4.226,111.74364960199512]
[null,"2021-03-29",4.2118000000000002,111.72529702309046]
[null,"2021-03-26",4.2179000000000002,111.70700785625056]
[null,"2021-03-25",4.2556000000000003,111.68869574097538]
[null,"2021-03-24",4.2961,111.67022635560147]
[null,"2021-03-23",4.2196999999999996,111.65158794219968]
[null,"2021-03-22",4.2213000000000003,111.63327726087944]
[null,"2021-03-19",4.3342000000000001,111.6149627827977]
[null,"2021-03-18",4.2653999999999996,111.59617184977327]
[null,"2021-03-17",4.2930999999999999,111.57767614641566]
[null,"2021-03-16",4.1852999999999998,111.55906591415213]
[null,"2021-03-15",4.0995999999999997,111.54091652765128]
[null,"2021-03-12",4.0448000000000004,111.52313427441946]
[null,"2021-03-11",3.9777,111.50558784834557]
[null,"2021-03-10",3.9719000000000002,{"$f":"(1+C707/100)^(1/252)*D708","v":111.48832959381267}]
[null,"2021-03-09",3.9706000000000001,111.47109868567435]
[null,"2021-03-08",3.9485999999999999,111.45387597062732]
[null,"2021-03-05",3.9175,111.43674949714973]
[null,"2021-03-04",3.7984,111.41975795792322]
[null,"2021-03-03",3.7551000000000001,111.40327596344768]
[null,"2021-03-02",3.6637,111.3869808327744]
[null,"2021-03-01",3.8003999999999998,111.3710775782267]
[null,"2021-02-26",3.7353000000000001,111.35459427071656]
[null,"2021-02-25",3.7120000000000002,111.33839058289018]
[null,"2021-02-24",3.5771000000000002,111.32228848670972]
[null,"2021-02-23",3.4946000000000002,111.30676361016253]
[null,"2021-02-22",3.6349999999999998,111.29159280281445]
[null,"2021-02-19",3.5651999999999999,111.2758254359931]
[null,"2021-02-18",3.4493,111.26035776715631]
[null,"2021-02-17",3.4102000000000001,111.24538655133543]
[null,"2021-02-16",3.5123000000000002,111.23058421096644]
[null,"2021-02-12",3.4813000000000001,111.2153483151981]
[null,"2021-02-11",3.4813999999999998,111.20024667845907]
[null,"2021-02-10",3.4407999999999999,111.18514666596364]
[null,"2021-02-09",3.4651000000000001,111.17022181965048]
[null,"2021-02-08",3.5234999999999999,111.15519536887292]
[null,"2021-02-05",3.4598,111.13992208265105]
[null,"2021-02-04",3.5310000000000001,111.1249223167359]
[null,"2021-02-03",3.5577999999999999,111.10962124850309]
[null,"2021-02-02",3.6042999999999998,111.09420818352994]
[null,"2021-02-01",3.6635,111.07859937619736]
[null,"2021-01-29",3.5728,111.06274100105099]
[null,"2021-01-28",3.5739999999999998,111.0472706152142]
[null,"2021-01-27",3.6065,111.03179727949788]
[null,"2021-01-26",3.5171000000000001,111.01618788631883]
[null,"2021-01-25",3.5670000000000002,111.00096093249471]
[null,"2021-01-22",3.5253999999999999,110.98552381606869]
[null,"2021-01-21",3.7094,110.97026576161522]
[null,"2021-01-20",3.5451000000000001,110.95422794283269]
[null,"2021-01-19",3.5613000000000001,110.93889042609339]
[null,"2021-01-15",3.5960999999999999,110.92348616830097]
[null,"2021-01-14",3.5156999999999998,110.90793618247736]
[null,"2021-01-13",3.5301,110.89273002786204]
[null,"2021-01-12",3.552,110.87746475563611]
[null,"2021-01-11",3.5419,110.86210853523635]
[null,"2021-01-08",3.5362,110.84679734650013]
[null,"2021-01-07",3.5912999999999999,110.83151248454513]
[null,"2021-01-06",3.4841000000000002,110.81599576776898]
[null,"2021-01-05",3.5434000000000001,110.80093646116855]
[null,"2021-01-04",3.5829,110.78562735216023]
[null,"2020-12-31",3.5301,110.77015270419386]
[null,"2020-12-30",3.5851000000000002,110.75490430571803]
[null,"2020-12-29",3.5876999999999999,110.73942461595254]
[null,"2020-12-28",3.4863,110.72393606133316]
[null,"2020-12-24",3.613,110.70887992559994]
[null,"2020-12-23",3.5716000000000001,110.69328837262071]
[null,"2020-12-22",3.6029,110.67787453795945]
[null,"2020-12-21",3.6196999999999999,110.6623301598375]
[null,"2020-12-18",3.7496,110.64671677138598]
[null,"2020-12-17",3.7869999999999999,110.63055557610117]
[null,"2020-12-16",3.7235,110.61423853724972]
[null,"2020-12-15",3.6892999999999998,110.59819250787025]
[null,"2020-12-14",3.637,110.58229351843319]
[null,"2020-12-11",3.6372,110.5666181751599]
[null,"2020-12-10",3.6305000000000001,110.55094420731261]
[null,"2020-12-09",3.6545999999999998,110.53530081928091]
[null,"2020-12-08",3.6991999999999998,110.51955766420484]
[null,"2020-12-07",3.7017000000000002,110.50362811335103]
[null,"2020-12-04",3.8279000000000001,{"$f":"(1+C771/100)^(1/252)*D772","v":110.48769028853091}]
[null,"2020-12-03",3.8028,110.4712216006151]
[null,"2020-12-02",3.8898000000000001,110.45486134067733]
[null,"2020-12-01",3.8363,110.43813635026092]
[null,"2020-11-30",3.8426,110.42163959979662]
[null,"2020-11-27",4.0246000000000004,110.40511873281325]
[null,"2020-11-25",3.8801999999999999,110.38783326283682]
[null,"2020-11-24",3.7538,110.37115889550371]
[null,"2020-11-23",3.8988,110.35502022111548]
[null,"2020-11-20",4.1045999999999996,110.33827241911861]
[null,"2020-11-19",4.0681000000000003,110.32066086923258]
[null,"2020-11-18",4.0743999999999998,110.30320562262382]
[null,"2020-11-17",4.0168999999999997,110.28572664498846]
[null,"2020-11-16",4.0785,110.26849225831077]
[null,"2020-11-13",4.1231999999999998,110.25100154637474]
[null,"2020-11-12",4.0473999999999997,110.23332577835556]
[null,"2020-11-10",4.0293999999999999,110.21597135425503]
[null,"2020-11-09",4.0339,110.19869532027921]
[null,"2020-11-06",4.1475,110.18140308151554]
[null,"2020-11-05",4.0427,110.16363646096072]
[null,"2020-11-04",4.2709000000000001,110.14631275278238]
[null,"2020-11-03",4.2984,110.12803429388379]
[null,"2020-11-02",4.5205000000000002,110.10964364572665]
[null,"2020-10-30",4.9519000000000002,110.09032676134549]
[null,"2020-10-29",4.8940999999999999,110.06921417609068]
[null,"2020-10-28",5.0396999999999998,110.04834620869984]
[null,"2020-10-27",4.7264999999999997,110.0268765660775]
[null,"2020-10-26",4.8239999999999998,110.00671467687937]
[null,"2020-10-23",4.6802999999999999,109.98615033435696]
[null,"2020-10-22",4.7183999999999999,109.96618845623627]
[null,"2020-10-21",4.7382,109.94607143399649]
[null,"2020-10-20",4.7011000000000003,109.92587562103728]
[null,"2020-10-19",4.6105999999999998,109.90583803103551]
[null,"2020-10-16",4.6307999999999998,109.88618116780438]
[null,"2020-10-15",4.5884999999999998,109.86644364227104]
[null,"2020-10-14",4.6425999999999998,109.84688592264823]
[null,"2020-10-13",4.5602999999999998,109.82710630710626]
[null,"2020-10-09",4.6162000000000001,109.80767309487365]
[null,"2020-10-08",4.5372000000000003,109.78801046719612]
[null,"2020-10-07",4.6811999999999996,109.76868041610133]
[null,"2020-10-06",4.7892999999999999,109.74875426323285]
[null,"2020-10-05",4.7012999999999998,109.72838230774943]
[null,"2020-10-02",4.8052000000000001,109.70837988576433]
[null,"2020-10-01",4.7606999999999999,109.68794938491745]
[null,"2020-09-30",4.8144999999999998,109.66770750802313]
[null,"2020-09-29",4.8137999999999996,109.64724597333934]
[null,"2020-09-28",4.8315000000000001,109.62679116164108]
[null,"2020-09-25",4.9782999999999999,109.60626672235092]
[null,"2020-09-24",4.9058000000000002,109.58513759471266]
[null,"2020-09-23",5.0156000000000001,109.56431291013661]
[null,"2020-09-22",4.8978000000000002,109.54303744538474]
[null,"2020-09-21",4.8052999999999999,109.522253905482]
[null,"2020-09-18",4.6769999999999996,109.50185765143563]
[null,"2020-09-17",4.7270000000000003,109.4819973658922]
[null,"2020-09-16",4.6553000000000004,109.46193324931482]
[null,"2020-09-15",4.6809000000000003,109.44217024524582]
[null,"2020-09-14",4.6951000000000001,109.42230460770125]
[null,"2020-09-11",4.6474000000000002,109.40238368933242]
[null,"2020-09-10",4.6271000000000004,109.38266420325422]
[null,"2020-09-09",4.5551000000000004,109.3630324652532]
[null,"2020-09-08",4.6460999999999997,109.34370294741062]
[null,"2020-09-04",4.5141999999999998,109.32399942768124]
[null,"2020-09-03",4.3758999999999997,109.3048465165005]
[null,"2020-09-02",4.5313999999999997,109.28627120723061]
[null,"2020-09-01",4.54,{"$f":"(1+C835/100)^(1/252)*D836","v":109.26705355379296}]
[null,"2020-08-31",4.6043000000000003,109.24780361440533]
[null,"2020-08-28",4.4974999999999996,109.22829054617725]
[null,"2020-08-27",4.5419999999999998,109.20922365496982]
[null,"2020-08-26",4.5662000000000003,109.18997561421976]
[null,"2020-08-25",4.6295000000000002,109.1706306938987]
[null,"2020-08-24",4.7469999999999999,109.15102707567095]
[null,"2020-08-21",4.6801000000000004,109.13094091941088]
[null,"2020-08-20",4.7156000000000002,109.11113508431482]
[null,"2020-08-19",4.6897000000000002,109.09118605928209]
[null,"2020-08-18",4.6730999999999998,109.07134774768141]
[null,"2020-08-17",4.6368,109.0515816667171]
[null,"2020-08-14",4.6402999999999999,109.03196923986242]
[null,"2020-08-13",4.6044999999999998,109.01234587078004]
[null,"2020-08-12",4.6702000000000004,108.99287403139809]
[null,"2020-08-11",4.5324,108.97313415241869]
[null,"2020-08-10",4.3833000000000002,108.95396742704035]
[null,"2020-08-07",4.3691000000000004,108.93542109953167]
[null,"2020-08-06",4.3764000000000003,108.91693672959192]
[null,"2020-08-05",4.4161000000000001,108.89842527177345]
[null,"2020-08-04",4.4667000000000003,108.87975265449076]
[null,"2020-08-03",4.4747000000000003,108.86087394845939]
[null,"2020-07-31",4.4368999999999996,108.84196544145979]
[null,"2020-07-30",4.5263999999999998,108.82321649032009]
[null,"2020-07-29",4.4776999999999996,108.80410091639494]
[null,"2020-07-28",4.6365999999999996,108.78518987478454]
[null,"2020-07-27",4.5408999999999997,108.76562618223993]
[null,"2020-07-24",4.5777000000000001,108.74646086585703]
[null,"2020-07-23",4.6181000000000001,108.72714707370876]
[null,"2020-07-22",4.5202,108.70767009511982]
[null,"2020-07-21",4.5594000000000001,108.68860040136202]
[null,"2020-07-20",4.6238999999999999,108.6693723523494]
[null,"2020-07-17",4.7405999999999997,108.64988182110925]
[null,"2020-07-16",4.7201000000000004,108.62991422551823]
[null,"2020-07-15",4.8330000000000002,108.61003466227277]
[null,"2020-07-14",4.9359000000000002,108.58969441543906]
[null,"2020-07-13",4.9831000000000003,108.56893529935219]
[null,"2020-07-10",5.0309999999999997,108.54798644632623]
[null,"2020-07-09",5.1341999999999999,108.52684518454134]
[null,"2020-07-08",5.0681000000000003,108.50528517689474]
[null,"2020-07-07",5.1090999999999998,108.48400019623055]
[null,"2020-07-06",5.2065999999999999,108.46255146883846]
[null,"2020-07-02",5.0782999999999996,108.44070799807919]
[null,"2020-07-01",5.2957999999999998,108.41939392000596]
[null,"2020-06-30",5.3808999999999996,108.39719459170233]
[null,"2020-06-29",5.5624000000000002,108.37465237590182]
[null,"2020-06-26",5.3226000000000004,108.35137494228037]
[null,"2020-06-25",5.2839999999999998,108.3290801421835]
[null,"2020-06-24",5.2687999999999997,108.30694747315941]
[null,"2020-06-23",5.0823,108.28488136718505]
[null,"2020-06-22",5.0678999999999998,108.26358156304683]
[null,"2020-06-19",5.0952000000000002,108.24234481389304]
[null,"2020-06-18",5.0065,108.22100066050041]
[null,"2020-06-17",5.0552999999999999,108.20002325111442]
[null,"2020-06-16",5.0027999999999997,108.17885045294358]
[null,"2020-06-15",5.1458000000000004,108.15789633734488]
[null,"2020-06-12",5.0830000000000002,108.13636228169054]
[null,"2020-06-11",5.0991,108.11508883354885]
[null,"2020-06-10",4.7938999999999998,108.09375385612157]
[null,"2020-06-09",4.6818,108.07367028203704]
[null,"2020-06-08",4.7176,108.054049364294]
[null,"2020-06-05",4.6862000000000004,108.03428542057509]
[null,"2020-06-04",4.8108000000000004,108.01465363736472]
[null,"2020-06-03",4.7832999999999997,107.99451565372588]
[null,"2020-06-02",4.7735000000000003,{"$f":"(1+C899/100)^(1/252)*D900","v":107.97449386021626}]
[null,"2020-06-01",4.9287000000000001,107.95451584638347]
[null,"2020-05-29",4.9747000000000003,107.93390754624072]
[null,"2020-05-28",5.0147000000000004,107.91311548962159]
[null,"2020-05-27",4.9316000000000004,107.89216432767275]
[null,"2020-05-26",4.9901999999999997,107.87155609978154]
[null,"2020-05-22",5.2099000000000002,107.85071286591833]
[null,"2020-05-21",5.2526000000000002,107.82897919300925]
[null,"2020-05-20",5.0818000000000003,107.80707630758008]
[null,"2020-05-19",5.2983000000000002,107.78587252361798]
[null,"2020-05-18",5.2769000000000004,107.76379275845166]
[null,"2020-05-15",5.4790000000000001,107.74180441635046]
[null,"2020-05-14",5.3926999999999996,107.71900075661402]
[null,"2020-05-13",5.1870000000000003,107.69655172592317]
[null,"2020-05-12",5.2643000000000004,107.67494213122238]
[null,"2020-05-11",5.2224000000000004,107.65302304994164]
[null,"2020-05-08",5.1490999999999998,107.63127847296956]
[null,"2020-05-07",5.2408000000000001,107.6098358641397]
[null,"2020-05-06",5.3152999999999997,107.58802535951853]
[null,"2020-05-05",5.3569000000000004,107.5659172154833]
[null,"2020-05-04",5.3494999999999999,107.54364507533273]
[null,"2020-05-01",5.3329000000000004,107.52140751617584]
[null,"2020-04-30",5.4005000000000001,107.49924177771948]
[null,"2020-04-29",5.3639000000000001,107.4768069823063]
[null,"2020-04-28",5.4368999999999996,107.45452496305286]
[null,"2020-04-27",5.4615999999999998,107.43195229681551]
[null,"2020-04-24",5.4421999999999997,107.40928453456718]
[null,"2020-04-23",5.4404000000000003,107.38669995171691]
[null,"2020-04-22",5.4741,107.36412739076366]
[null,"2020-04-21",5.4833999999999996,107.34142345497344]
[null,"2020-04-20",5.3071999999999999,107.3186867717861]
[null,"2020-04-17",5.2920999999999996,107.2966667226751]
[null,"2020-04-16",5.3475999999999999,107.2747122362444]
[null,"2020-04-15",5.4714999999999998,107.25253796217896]
[null,"2020-04-14",5.4032,107.22986811317301]
[null,"2020-04-13",5.3182999999999998,107.20747863746941]
[null,"2020-04-09",5.8193000000000001,107.18543657556927]
[null,"2020-04-08",5.9561999999999999,107.16138093569049]
[null,"2020-04-07",6.0129000000000001,107.13678103105018]
[null,"2020-04-06",6.1351000000000004,107.11195937986815]
[null,"2020-04-03",6.3003,107.0866539282256]
[null,"2020-04-02",6.3194999999999997,107.0606936945299]
[null,"2020-04-01",6.3705999999999996,107.03466304425454]
[null,"2020-03-31",6.2415000000000003,107.00843468013825]
[null,"2020-03-30",6.3581000000000003,106.98272830456715]
[null,"2020-03-27",6.4194000000000004,106.95656254616814]
[null,"2020-03-26",6.7614000000000001,106.93015869520579]
[null,"2020-03-25",7.3230000000000004,106.90240023725868]
[null,"2020-03-24",7.5635000000000003,106.87242392021685]
[null,"2020-03-23",7.8242000000000003,106.84150698407637]
[null,"2020-03-20",7.3475999999999999,106.80957295710574]
[null,"2020-03-19",7.6634000000000002,106.77952555597308]
[null,"2020-03-18",7.0132000000000003,106.74824225218308]
[null,"2020-03-17",6.7157999999999998,106.71953337555087]
[null,"2020-03-16",6.4090999999999996,106.69201046798057]
[null,"2020-03-13",6.1063999999999998,106.66571289530766]
[null,"2020-03-12",6.1921999999999997,106.64062731720477]
[null,"2020-03-11",5.9226999999999999,106.61520566755294]
[null,"2020-03-10",5.8758999999999997,106.59086489643457]
[null,"2020-03-09",5.7637999999999998,106.5667165669979]
[null,"2020-03-06",5.3944999999999999,106.54302158881379]
[null,"2020-03-05",5.2102000000000004,106.52081041719737]
[null,"2020-03-04",5.0095999999999998,106.49934353619864]
[null,"2020-03-03",5.0871000000000004,106.47868737658141]
[null,"2020-03-02",5.3684000000000003,{"$f":"(1+C963/100)^(1/252)*D964","v":106.45772355710832}]
[null,"2020-02-28",5.5033000000000003,106.43563477514689]
[null,"2020-02-27",5.1535000000000002,106.4130102962291]
[null,"2020-02-26",5.0248999999999997,106.39179272794161]
[null,"2020-02-25",5.0041000000000002,106.37109593141054]
[null,"2020-02-24",4.8651,106.35048675081906]
[null,"2020-02-21",4.9260000000000002,106.33044048634476]
[null,"2020-02-20",4.8598999999999997,106.31015307440991]
[null,"2020-02-19",4.8112000000000004,106.29013532837907]
[null,"2020-02-18",4.8463000000000003,106.27031725024672]
[null,"2020-02-14",4.8594999999999997,106.25036169254616]
[null,"2020-02-13",4.6840000000000002,106.23035681302589]
[null,"2020-02-12",4.8643000000000001,106.2110616936785]
[null,"2020-02-11",4.8536000000000001,106.19104492453168]
[null,"2020-02-10",4.8848000000000003,106.1710749194138]
[null,"2020-02-07",4.8007,106.1509833469182]
[null,"2020-02-06",4.7911000000000001,106.13123340758065]
[null,"2020-02-05",4.8693999999999997,106.11152571630672]
[null,"2020-02-04",4.9717000000000002,106.09150723148606]
[null,"2020-02-03",4.9767999999999999,106.07108211847731]
[null,"2020-01-31",5.0552000000000001,106.05064049216803]
[null,"2020-01-30",4.9566999999999997,106.02988869004538]
[null,"2020-01-29",4.9207999999999998,106.00953555664518]
[null,"2020-01-28",4.9245000000000001,105.98933021660612]
[null,"2020-01-27",5.1284000000000001,105.96911389871059]
[null,"2020-01-24",4.9173,105.9480852061685]
[null,"2020-01-23",4.8959999999999999,105.92790560095879]
[null,"2020-01-22",4.7874999999999996,105.90781516971549]
[null,"2020-01-21",4.8529,105.88816340087754]
[null,"2020-01-17",4.8541999999999996,105.86825315951967]
[null,"2020-01-16",4.7671999999999999,105.84834145422799]
[null,"2020-01-15",4.782,105.82878208495306]
[null,"2020-01-14",4.9413,105.80916701990036]
[null,"2020-01-13",4.9196999999999997,105.78891785564606]
[null,"2020-01-10",4.8967999999999998,105.76875896556012]
[null,"2020-01-09",4.9385000000000003,105.7486955178878]
[null,"2020-01-08",4.9420999999999999,105.72846912093478]
[null,"2020-01-07",4.9497999999999998,105.70823220239957]
[null,"2020-01-06",4.9329000000000001,105.68796838570174]
[null,"2020-01-03",4.9781000000000004,105.66777598118919]
[null,"2020-01-02",4.9493,105.64740688689297]
[null,"2019-12-31",5.0655999999999999,105.62715672708586]
[null,"2019-12-30",5.0411999999999999,105.60644630717137]
[null,"2019-12-27",5.0194999999999999,105.58583726405723]
[null,"2019-12-26",4.9856999999999996,105.56531879246734]
[null,"2019-12-24",4.9279000000000002,105.54493912789329]
[null,"2019-12-23",4.9344000000000001,105.52479400375415]
[null,"2019-12-20",4.8898000000000001,105.50462679004616]
[null,"2019-12-19",4.8876999999999997,105.48464138040794]
[null,"2019-12-18",4.9779,105.46466813563225]
[null,"2019-12-17",5.0246000000000004,105.44433899068363]
[null,"2019-12-16",5.0457000000000001,105.42382770089974]
[null,"2019-12-13",5.0117000000000003,105.40323637740447]
[null,"2019-12-12",4.9584999999999999,105.38278445120369]
[null,"2019-12-11",5.0682999999999998,105.36254836329545]
[null,"2019-12-10",5.032,105.34187908307922]
[null,"2019-12-09",5.0217999999999998,105.32135827702596]
[null,"2019-12-06",5.1196999999999999,105.30088205023857]
[null,"2019-12-05",5.0674000000000001,105.28002053779571]
[null,"2019-12-04",5.0941000000000001,105.25937102524377]
[null,"2019-12-03",5.0674999999999999,105.23861945125152]
[null,"2019-12-02",5.0529999999999999,105.21797766167124]
[null,"2019-11-29",5.0490000000000004,105.19739753560802]
[null,"2019-11-27",5.1163999999999996,105.17683732694607]
[null,"2019-11-26",5.1029999999999998,{"$f":"(1+C1027/100)^(1/252)*D1028","v":105.1560134893878}]
[null,"2019-11-25",5.0606,105.13524696223041]
[null,"2019-11-22",5.1787999999999998,105.11465284254834]
[null,"2019-11-21",5.3061999999999996,105.09359382465898]
[null,"2019-11-20",5.3178000000000001,105.07203428784319]
[null,"2019-11-19",5.2644000000000002,105.05043325645583]
[null,"2019-11-18",5.2367999999999997,105.029048043033]
[null,"2019-11-15",5.2220000000000004,105.0077764540888]
[null,"2019-11-14",5.2438000000000002,104.98656776790486]
[null,"2019-11-13",5.2489999999999997,104.96527707732318]
[null,"2019-11-12",5.1599000000000004,104.94397012874748]
[null,"2019-11-08",5.1872999999999996,104.92302013030556]
[null,"2019-11-07",5.1836000000000002,104.90196586472288]
[null,"2019-11-06",5.1731999999999996,104.88093046400354]
[null,"2019-11-05",5.0979999999999999,104.85994042627094]
[null,"2019-11-04",5.2234999999999996,104.83925216046494]
[null,"2019-11-01",5.2060000000000004,104.81807158207005]
[null,"2019-10-31",5.1616999999999997,104.79696445144064]
[null,"2019-10-30",5.2004000000000001,104.77603668306625]
[null,"2019-10-29",5.1074999999999999,104.75496014450813]
[null,"2019-10-28",5.0213999999999999,104.73425502446344]
[null,"2019-10-25",4.9850000000000003,104.71389452298085]
[null,"2019-10-24",5.0152000000000001,104.69368199817914]
[null,"2019-10-23",4.9939,104.67335390651519]
[null,"2019-10-22",5.0118999999999998,104.65311400278847]
[null,"2019-10-21",5.0880999999999998,104.63280683586189]
[null,"2019-10-18",5.0967000000000002,104.61220248817003]
[null,"2019-10-17",5.1317000000000004,104.59156823354422]
[null,"2019-10-16",5.0997000000000003,104.57079987794692]
[null,"2019-10-15",5.0385999999999997,104.5501619471024]
[null,"2019-10-11",5.1192000000000002,104.52976930468482]
[null,"2019-10-10",5.2638999999999996,104.50906253259134]
[null,"2019-10-09",5.2451999999999996,104.48778949599857]
[null,"2019-10-08",5.2915999999999999,104.46659444037714]
[null,"2019-10-07",5.2705000000000002,104.44522099680481]
[null,"2019-10-04",5.2747999999999999,104.42393497461404]
[null,"2019-10-03",5.2755999999999998,104.40263636805795]
[null,"2019-10-02",5.2893999999999997,104.38133895797843]
[null,"2019-10-01",5.2514000000000003,104.35999161033898]
[null,"2019-09-30",5.2827000000000002,104.33879808759151]
[null,"2019-09-27",5.2920999999999996,104.317485782828]
[null,"2019-09-26",5.2358000000000002,104.29614088092137]
[null,"2019-09-25",5.2554999999999996,104.27502166006036]
[null,"2019-09-24",5.2716000000000003,104.25382927776488]
[null,"2019-09-23",5.2458,104.23257793934526]
[null,"2019-09-20",5.3579999999999997,104.21143229511489]
[null,"2019-09-19",5.3815,104.18985040360374]
[null,"2019-09-18",5.3411,104.16818079104014]
[null,"2019-09-17",5.3807999999999998,104.1466741545361]
[null,"2019-09-16",5.3495999999999997,104.12501626652165]
[null,"2019-09-13",5.3707000000000003,104.10348520926023]
[null,"2019-09-12",5.3249000000000004,104.08187588986667]
[null,"2019-09-11",5.2842000000000002,104.06045058097997]
[null,"2019-09-10",5.2287999999999997,104.03918924960851]
[null,"2019-09-09",5.2709000000000001,104.01814951689025]
[null,"2019-09-06",5.2415000000000003,103.99694896412372]
[null,"2019-09-05",5.3017000000000003,103.97586797984204]
[null,"2019-09-04",5.3109999999999999,103.95455536839552]
[null,"2019-09-03",5.3586999999999998,103.93321070198425]
[null,"2019-08-30",5.3147000000000002,103.91168368973807]
[null,"2019-08-29",5.2591999999999999,103.89033334181977]
[null,"2019-08-28",5.3708,103.86920465292695]
[null,"2019-08-27",5.4028999999999998,103.84764357331703]
[null,"2019-08-26",5.4200999999999997,103.82596147495214]
[null,"2019-08-23",5.4146999999999998,{"$f":"(1+C1091/100)^(1/252)*D1092","v":103.80421669026626}]
[null,"2019-08-22",5.4386000000000001,103.78249755593501]
[null,"2019-08-21",5.4650999999999996,103.76068962331262]
[null,"2019-08-20",5.5408999999999997,103.73878282273874]
[null,"2019-08-19",5.5286999999999997,103.71658494636885]
[null,"2019-08-16",5.5618999999999996,103.6944393883152]
[null,"2019-08-15",5.5949,103.67216915078581]
[null,"2019-08-14",5.6185,103.64977513586413]
[null,"2019-08-13",5.5343999999999998,103.62729406270758]
[null,"2019-08-12",5.6490999999999998,103.60514536388213]
[null,"2019-08-09",5.6234000000000002,103.58255489999513]
[null,"2019-08-08",5.7370000000000001,103.56006934149724]
[null,"2019-08-07",5.7603,103.53714701098994]
[null,"2019-08-06",5.8002000000000002,103.51413924755323]
[null,"2019-08-05",5.7542999999999997,103.49098169000082]
[null,"2019-08-02",5.5632999999999999,103.46800747942969]
[null,"2019-08-01",5.4874999999999998,103.44578042805546]
[null,"2019-07-31",5.5270999999999999,103.42385295442094]
[null,"2019-07-30",5.5590999999999999,103.4017761217675]
[null,"2019-07-29",5.5304000000000002,103.37957962046551]
[null,"2019-07-26",5.5373999999999999,103.35749941258328]
[null,"2019-07-25",5.5968,103.33539672156753]
[null,"2019-07-24",5.5949999999999998,103.31306807548586]
[null,"2019-07-23",5.6143999999999998,103.29075124109266]
[null,"2019-07-22",5.6741999999999999,103.2683639463942]
[null,"2019-07-19",5.6596000000000002,103.24574958977666]
[null,"2019-07-18",5.6273,103.2231967820185]
[null,"2019-07-17",5.5987,103.20077411154287]
[null,"2019-07-16",5.5190999999999999,103.17846718768229]
[null,"2019-07-15",5.4923999999999999,103.15647376906092]
[null,"2019-07-12",5.5307000000000004,103.13458860966504]
[null,"2019-07-11",5.5038,103.11255956470519]
[null,"2019-07-10",5.4960000000000004,103.09063951615231]
[null,"2019-07-09",5.5359999999999996,103.06875436655235]
[null,"2019-07-08",5.5053999999999998,103.04671884727838]
[null,"2019-07-05",5.3731,103.02480659541426]
[null,"2019-07-03",5.3764000000000003,103.00341187339311]
[null,"2019-07-02",5.3891999999999998,102.98200879643684]
[null,"2019-07-01",5.3719999999999999,102.96056054066239]
[null,"2019-06-28",5.4276,102.93918342462186]
[null,"2019-06-27",5.4265999999999996,102.91759530787419]
[null,"2019-06-26",5.4606000000000003,102.89601559151021]
[null,"2019-06-25",5.4634999999999998,102.87430876679477]
[null,"2019-06-24",5.4306000000000001,102.85259529813057]
[null,"2019-06-21",5.4362000000000004,102.83101372900801]
[null,"2019-06-20",5.4687000000000001,102.8094150191814]
[null,"2019-06-19",5.5869,102.78769513662643]
[null,"2019-06-18",5.6036999999999999,102.7655230717162]
[null,"2019-06-17",5.6886999999999999,102.74329092338778]
[null,"2019-06-14",5.6680999999999999,102.72073562287001]
[null,"2019-06-13",5.6886999999999999,102.69826471469159]
[null,"2019-06-12",5.6721000000000004,102.67571929880627]
[null,"2019-06-11",5.6718999999999999,102.65324281843016]
[null,"2019-06-10",5.6962999999999999,102.63077202913277]
[null,"2019-06-07",5.8148999999999997,102.60821215130893]
[null,"2019-06-06",5.9466000000000001,102.58520070547256]
[null,"2019-06-05",5.9511000000000003,102.56168818256708]
[null,"2019-06-04",5.8765999999999998,102.53816376644028]
[null,"2019-06-03",5.9802999999999997,102.51493089327997]
[null,"2019-05-31",5.9123000000000001,102.49130512795774]
[null,"2019-05-30",5.8696999999999999,102.46794578917772]
[null,"2019-05-29",5.9161000000000001,102.44475532014961]
[null,"2019-05-28",5.8413000000000004,102.42139200870086]
[null,"2019-05-24",5.7850999999999999,102.39832109338049]
[null,"2019-05-23",5.8272000000000004,{"$f":"(1+C1155/100)^(1/252)*D1156","v":102.37547114506}]
[null,"2019-05-22",5.8438999999999997,102.35246468525567]
[null,"2019-05-21",5.8478000000000003,102.32939932115268]
[null,"2019-05-20",5.8586999999999998,102.3063241962209]
[null,"2019-05-17",5.8975,102.28321247951401]
[null,"2019-05-16",5.8695000000000004,102.25995727705649]
[null,"2019-05-15",5.8963999999999999,102.23681464625088]
[null,"2019-05-14",6.0434000000000001,102.21357420609642]
[null,"2019-05-13",6.0785999999999998,102.18977652245475]
[null,"2019-05-10",5.9522000000000004,102.16584982675481]
[null,"2019-05-09",5.8182999999999998,102.14241199531729]
[null,"2019-05-08",5.8380999999999998,102.11949199155417]
[null,"2019-05-07",5.7769000000000004,102.09650132998823]
[null,"2019-05-06",5.7259000000000002,102.07375013132622]
[null,"2019-05-03",5.5770999999999997,102.05119930208235]
[null,"2019-05-02",5.6378000000000004,102.02922368505477]
[null,"2019-05-01",5.6402999999999999,102.00702013893122]
[null,"2019-04-30",5.6833,101.98481184726832]
[null,"2019-04-29",5.6628999999999996,101.96244372974074]
[null,"2019-04-26",5.6558000000000002,101.94015861084449]
[null,"2019-04-25",5.6332000000000004,101.91790553955347]
[null,"2019-04-24",5.6192000000000002,101.89574382615774]
[null,"2019-04-23",5.6239999999999997,101.87364051358487]
[null,"2019-04-22",5.6498999999999997,101.85152362795006]
[null,"2019-04-18",5.6013000000000002,101.82931247067023]
[null,"2019-04-17",5.6215000000000002,101.80729204235941]
[null,"2019-04-16",5.5922999999999998,101.78519912124658]
[null,"2019-04-15",5.6048,101.76322265008953]
[null,"2019-04-12",5.6279000000000003,101.74120313261768]
[null,"2019-04-11",5.7153999999999998,101.71910009552754]
[null,"2019-04-10",5.6974,101.69666769871428]
[null,"2019-04-09",5.6749999999999998,101.67430895293936]
[null,"2019-04-08",5.6486000000000001,101.65204061876177]
[null,"2019-04-05",5.6364999999999998,101.62987792598518]
[null,"2019-04-04",5.6872999999999996,101.60776624723354]
[null,"2019-04-03",5.6261999999999999,101.58546556907896]
[null,"2019-04-02",5.5938999999999997,101.56340285210877]
[null,"2019-04-01",5.8304,101.54146816346098]
[null,"2019-03-29",5.8837999999999999,101.51863694481608]
[null,"2019-03-28",5.9351000000000003,101.49560768555169]
[null,"2019-03-27",5.9447000000000001,101.47238860739583]
[null,"2019-03-26",5.9782999999999999,101.44913836065341]
[null,"2019-03-25",5.9978999999999996,101.42576581519646]
[null,"2019-03-22",5.9054000000000002,101.40232424186362]
[null,"2019-03-21",5.9184000000000001,101.37923930840691]
[null,"2019-03-20",5.9756999999999998,101.35611026210229]
[null,"2019-03-19",6.0151000000000003,101.3327690144118]
[null,"2019-03-18",6.0587,101.30928370493362]
[null,"2019-03-15",5.9520999999999997,101.28563857492955]
[null,"2019-03-14",6.0381,101.26240305170444]
[null,"2019-03-13",6.0540000000000003,101.23884690205381]
[null,"2019-03-12",6.0984999999999996,101.21523601112831]
[null,"2019-03-11",6.1036999999999999,101.19146217108897]
[null,"2019-03-08",6.0831,101.1676742396921]
[null,"2019-03-07",6.1127000000000002,101.14396983274135]
[null,"2019-03-06",6.0266000000000002,101.12015903037104]
[null,"2019-03-05",6.0347999999999997,101.09667948087622]
[null,"2019-03-04",6.0549999999999997,101.07317436492878]
[null,"2019-03-01",6.1254,101.04959833111343]
[null,"2019-02-28",6.1428000000000003,101.02576176721364]
[null,"2019-02-27",6.1218000000000004,101.00186511735022]
[null,"2019-02-26",6.1130000000000004,100.97805340627716]
[null,"2019-02-25",6.1406000000000001,100.95428053051133]
[null,"2019-02-22",6.1600999999999999,100.93040909036061]
[null,"2019-02-21",6.1673999999999998,{"$f":"(1+C1219/100)^(1/252)*D1220","v":100.90646973647947}]
[null,"2019-02-20",6.1840000000000002,100.8825085334978]
[null,"2019-02-19",6.1760999999999999,100.85849044617426]
[null,"2019-02-15",6.2614999999999998,100.83450784802558]
[null,"2019-02-14",6.3684000000000003,100.8102093191476]
[null,"2019-02-13",6.4249999999999998,100.78551450135824]
[null,"2019-02-12",6.5044000000000004,100.76061302725867]
[null,"2019-02-11",6.5297999999999998,100.73541958149291]
[null,"2019-02-08",6.5404,100.71013713615469]
[null,"2019-02-07",6.5484,100.6848212825506]
[null,"2019-02-06",6.4778000000000002,100.65948180011715]
[null,"2019-02-05",6.5522999999999998,100.63441339073493]
[null,"2019-02-04",6.6191000000000004,100.60907198128771]
[null,"2019-02-01",6.6681999999999997,100.5834868010874]
[null,"2019-01-31",6.6318999999999999,100.55772440500766]
[null,"2019-01-30",6.7069000000000001,100.53210439172061]
[null,"2019-01-29",6.7667000000000002,100.50621048238752]
[null,"2019-01-28",6.8047000000000004,100.48009985081967]
[null,"2019-01-25",6.7893999999999997,100.45385415010459]
[null,"2019-01-24",6.8331999999999997,100.42767239811326]
[null,"2019-01-23",6.8468,100.40133409100103]
[null,"2019-01-22",6.8403,100.37495198884429]
[null,"2019-01-18",6.8250000000000002,100.34860104468773]
[null,"2019-01-17",6.8720999999999997,100.3223140326824]
[null,"2019-01-16",6.9236000000000004,100.29585846411572]
[null,"2019-01-15",7.0034000000000001,100.26921817924764]
[null,"2019-01-14",7.0077999999999996,100.24228820159685]
[null,"2019-01-11",6.8449,100.21534910437109]
[null,"2019-01-10",6.8268000000000004,100.18902294276582]
[null,"2019-01-09",6.8893000000000004,100.16277103602026]
[null,"2019-01-08",6.9683000000000002,100.13629359284138]
[null,"2019-01-07",6.9145000000000003,100.10952964893531]
[null,"2019-01-04",7.101,100.08297265843915]
[null,"2019-01-03",7.3127000000000004,100.05573071209055]
[null,"2019-01-02",7.2321,{"$f":"(1+C1253/100)^(1/252)*D1254","v":100.02771235429213}]
[null,null,null,100]

{"sheet":"Risco-Brasil","index":19,"n_rows":3866,"n_cols":6,"rows_kept":3866,"cut":false,"hidden":false,"merged":[[0,0,0,1],[1,0,1,1]]}
["Ipeadata"]
["EMBI + Risco-Brasil",null,null,"Mediana",{"$f":"MEDIAN(B4:B3866)","v":253}]
["Data","Risco",null,"Risco Brasil",{"$f":"E2/100","v":2.5299999999999998},{"$f":"E3/100","v":2.53E-2}]
["2023-12-29",195]
["2023-12-28",197]
["2023-12-27",201]
["2023-12-26",195]
["2023-12-22",193]
["2023-12-21",194]
["2023-12-20",195]
["2023-12-19",192]
["2023-12-18",191]
["2023-12-15",192]
["2023-12-14",192]
["2023-12-13",197]
["2023-12-12",196]
["2023-12-11",195]
["2023-12-08",195]
["2023-12-07",196]
["2023-12-06",196]
["2023-12-05",193]
["2023-12-04",192]
["2023-12-01",193]
["2023-11-30",189]
["2023-11-29",196]
["2023-11-28",198]
["2023-11-27",199]
["2023-11-24",196]
["2023-11-22",197]
["2023-11-21",199]
["2023-11-20",200]
["2023-11-17",203]
["2023-11-16",203]
["2023-11-15",202]
["2023-11-14",207]
["2023-11-13",207]
["2023-11-10",203]
["2023-11-09",204]
["2023-11-08",207]
["2023-11-07",202]
["2023-11-06",196]
["2023-11-03",194]
["2023-11-02",195]
["2023-11-01",200]
["2023-10-30",201]
["2023-10-27",203]
["2023-10-26",201]
["2023-10-25",194]
["2023-10-24",198]
["2023-10-23",200]
["2023-10-20",200]
["2023-10-19",199]
["2023-10-18",198]
["2023-10-17",200]
["2023-10-16",200]
["2023-10-13",200]
["2023-10-12",198]
["2023-10-11",202]
["2023-10-10",204]
["2023-10-06",208]
["2023-10-05",211]
["2023-10-04",209]
["2023-10-03",205]
["2023-10-02",200]
["2023-09-29",201]
["2023-09-28",204]
["2023-09-27",202]
["2023-09-26",203]
["2023-09-25",201]
["2023-09-22",205]
["2023-09-21",205]
["2023-09-20",201]
["2023-09-19",204]
["2023-09-18",207]
["2023-09-15",205]
["2023-09-14",204]
["2023-09-13",208]
["2023-09-12",211]
["2023-09-11",208]
["2023-09-08",209]
["2023-09-07",213]
["2023-09-06",210]
["2023-09-05",208]
["2023-09-01",208]
["2023-08-31",209]
["2023-08-30",207]
["2023-08-29",209]
["2023-08-28",209]
["2023-08-25",210]
["2023-08-24",212]
["2023-08-23",217]
["2023-08-22",215]
["2023-08-21",218]
["2023-08-18",221]
["2023-08-17",219]
["2023-08-16",213]
["2023-08-15",216]
["2023-08-14",207]
["2023-08-11",204]
["2023-08-10",207]
["2023-08-09",216]
["2023-08-08",213]
["2023-08-07",211]
["2023-08-04",211]
["2023-08-03",204]
["2023-08-02",204]
["2023-08-01",198]
["2023-07-31",199]
["2023-07-28",201]
["2023-07-27",199]
["2023-07-26",206]
["2023-07-25",211]
["2023-07-24",211]
["2023-07-21",214]
["2023-07-20",217]
["2023-07-19",220]
["2023-07-18",218]
["2023-07-17",221]
["2023-07-14",221]
["2023-07-13",224]
["2023-07-12",225]
["2023-07-11",223]
["2023-07-10",228]
["2023-07-07",225]
["2023-07-06",223]
["2023-07-05",221]
["2023-07-03",227]
["2023-06-30",230]
["2023-06-29",230]
["2023-06-28",235]
["2023-06-27",230]
["2023-06-26",232]
["2023-06-23",232]
["2023-06-22",228]
["2023-06-21",231]
["2023-06-20",231]
["2023-06-16",228]
["2023-06-15",230]
["2023-06-14",227]
["2023-06-13",225]
["2023-06-12",233]
["2023-06-09",233]
["2023-06-06",239]
["2023-06-05",241]
["2023-06-02",241]
["2023-06-01",252]
["2023-05-31",249]
["2023-05-30",241]
["2023-05-26",240]
["2023-05-25",239]
["2023-05-24",244]
["2023-05-23",246]
["2023-05-22",242]
["2023-05-19",244]
["2023-05-18",246]
["2023-05-17",252]
["2023-05-16",253]
["2023-05-15",258]
["2023-05-12",258]
["2023-05-11",261]
["2023-05-10",261]
["2023-05-09",258]
["2023-05-08",261]
["2023-05-05",266]
["2023-05-04",269]
["2023-05-03",269]
["2023-05-02",265]
["2023-05-01",252]
["2023-04-28",260]
["2023-04-27",259]
["2023-04-26",264]
["2023-04-25",265]
["2023-04-24",257]
["2023-04-21",253]
["2023-04-20",256]
["2023-04-19",251]
["2023-04-18",249]
["2023-04-17",250]
["2023-04-14",250]
["2023-04-13",257]
["2023-04-12",261]
["2023-04-11",261]
["2023-04-10",261]
["2023-04-07",258]
["2023-04-06",263]
["2023-04-05",260]
["2023-04-04",255]
["2023-04-03",251]
["2023-03-31",253]
["2023-03-30",252]
["2023-03-29",251]
["2023-03-28",257]
["2023-03-27",256]
["2023-03-24",269]
["2023-03-23",267]
["2023-03-22",265]
["2023-03-21",259]
["2023-03-20",269]
["2023-03-17",278]
["2023-03-16",266]
["2023-03-15",276]
["2023-03-14",262]
["2023-03-13",273]
["2023-03-10",265]
["2023-03-09",259]
["2023-03-08",252]
["2023-03-07",253]
["2023-03-06",247]
["2023-03-03",247]
["2023-03-02",248]
["2023-03-01",247]
["2023-02-28",248]
["2023-02-27",247]
["2023-02-24",246]
["2023-02-23",250]
["2023-02-22",256]
["2023-02-21",256]
["2023-02-17",259]
["2023-02-16",254]
["2023-02-15",251]
["2023-02-14",250]
["2023-02-13",252]
["2023-02-10",253]
["2023-02-09",251]
["2023-02-08",249]
["2023-02-07",241]
["2023-02-06",242]
["2023-02-03",243]
["2023-02-02",248]
["2023-02-01",257]
["2023-01-31",258]
["2023-01-30",259]
["2023-01-27",257]
["2023-01-26",257]
["2023-01-25",262]
["2023-01-24",255]
["2023-01-23",249]
["2023-01-20",250]
["2023-01-19",254]
["2023-01-18",252]
["2023-01-17",251]
["2023-01-13",252]
["2023-01-12",258]
["2023-01-11",258]
["2023-01-10",260]
["2023-01-09",263]
["2023-01-06",262]
["2023-01-05",261]
["2023-01-04",261]
["2023-01-03",257]
["2022-12-30",256]
["2022-12-29",260]
["2022-12-28",255]
["2022-12-27",258]
["2022-12-23",263]
["2022-12-22",265]
["2022-12-21",267]
["2022-12-20",275]
["2022-12-19",276]
["2022-12-16",274]
["2022-12-15",267]
["2022-12-14",260]
["2022-12-13",251]
["2022-12-12",254]
["2022-12-09",244]
["2022-12-08",252]
["2022-12-07",260]
["2022-12-06",256]
["2022-12-05",244]
["2022-12-02",248]
["2022-12-01",253]
["2022-11-30",251]
["2022-11-29",251]
["2022-11-28",270]
["2022-11-25",270]
["2022-11-23",269]
["2022-11-22",265]
["2022-11-21",268]
["2022-11-18",271]
["2022-11-17",278]
["2022-11-16",270]
["2022-11-15",265]
["2022-11-14",277]
["2022-11-10",286]
["2022-11-09",279]
["2022-11-08",264]
["2022-11-07",252]
["2022-11-04",259]
["2022-11-03",263]
["2022-11-02",260]
["2022-11-01",261]
["2022-10-28",255]
["2022-10-27",272]
["2022-10-26",259]
["2022-10-25",253]
["2022-10-24",246]
["2022-10-22",246]
["2022-10-21",255]
["2022-10-20",264]
["2022-10-19",276]
["2022-10-18",278]
["2022-10-17",283]
["2022-10-14",288]
["2022-10-13",291]
["2022-10-12",288]
["2022-10-11",282]
["2022-10-07",276]
["2022-10-06",271]
["2022-10-05",272]
["2022-10-04",266]
["2022-10-03",280]
["2022-09-30",288]
["2022-09-29",301]
["2022-09-28",299]
["2022-09-27",297]
["2022-09-26",292]
["2022-09-23",278]
["2022-09-22",266]
["2022-09-21",270]
["2022-09-20",270]
["2022-09-19",266]
["2022-09-16",269]
["2022-09-15",261]
["2022-09-14",263]
["2022-09-13",259]
["2022-09-12",255]
["2022-09-09",259]
["2022-09-08",264]
["2022-09-07",273]
["2022-09-06",274]
["2022-09-05",281]
["2022-09-02",281]
["2022-09-01",281]
["2022-08-31",285]
["2022-08-30",293]
["2022-08-29",297]
["2022-08-26",291]
["2022-08-25",288]
["2022-08-24",288]
["2022-08-23",299]
["2022-08-22",303]
["2022-08-19",297]
["2022-08-18",292]
["2022-08-17",295]
["2022-08-16",291]
["2022-08-15",286]
["2022-08-12",285]
["2022-08-11",282]
["2022-08-10",290]
["2022-08-09",305]
["2022-08-08",294]
["2022-08-05",297]
["2022-08-04",300]
["2022-08-03",311]
["2022-08-02",307]
["2022-08-01",312]
["2022-07-29",305]
["2022-07-28",317]
["2022-07-27",329]
["2022-07-26",334]
["2022-07-25",332]
["2022-07-22",339]
["2022-07-21",337]
["2022-07-20",331]
["2022-07-19",345]
["2022-07-18",364]
["2022-07-15",376]
["2022-07-13",376]
["2022-07-12",367]
["2022-07-11",359]
["2022-07-08",349]
["2022-07-07",352]
["2022-07-06",357]
["2022-07-05",369]
["2022-07-04",362]
["2022-07-01",362]
["2022-06-30",364]
["2022-06-29",365]
["2022-06-28",356]
["2022-06-27",340]
["2022-06-24",343]
["2022-06-23",347]
["2022-06-22",347]
["2022-06-21",342]
["2022-06-20",346]
["2022-06-17",346]
["2022-06-16",348]
["2022-06-15",336]
["2022-06-14",338]
["2022-06-13",338]
["2022-06-10",325]
["2022-06-09",318]
["2022-06-08",312]
["2022-06-07",311]
["2022-06-06",307]
["2022-06-03",309]
["2022-06-02",305]
["2022-06-01",302]
["2022-05-31",300]
["2022-05-30",305]
["2022-05-27",305]
["2022-05-26",310]
["2022-05-25",316]
["2022-05-24",330]
["2022-05-23",325]
["2022-05-20",332]
["2022-05-19",326]
["2022-05-18",328]
["2022-05-17",315]
["2022-05-16",319]
["2022-05-13",314]
["2022-05-12",318]
["2022-05-11",316]
["2022-05-10",315]
["2022-05-09",323]
["2022-05-06",301]
["2022-05-05",299]
["2022-05-04",300]
["2022-05-03",302]
["2022-05-02",310]
["2022-04-29",306]
["2022-04-28",303]
["2022-04-27",297]
["2022-04-26",298]
["2022-04-25",295]
["2022-04-22",293]
["2022-04-21",288]
["2022-04-20",283]
["2022-04-19",283]
["2022-04-18",284]
["2022-04-14",284]
["2022-04-13",296]
["2022-04-12",301]
["2022-04-11",300]
["2022-04-08",294]
["2022-04-07",291]
["2022-04-06",292]
["2022-04-05",283]
["2022-04-04",290]
["2022-04-01",295]
["2022-03-31",294]
["2022-03-30",294]
["2022-03-29",300]
["2022-03-28",301]
["2022-03-25",301]
["2022-03-24",313]
["2022-03-23",320]
["2022-03-22",309]
["2022-03-21",309]
["2022-03-18",313]
["2022-03-17",310]
["2022-03-16",324]
["2022-03-15",331]
["2022-03-14",331]
["2022-03-11",330]
["2022-03-10",332]
["2022-03-09",332]
["2022-03-08",346]
["2022-03-07",347]
["2022-03-04",343]
["2022-03-03",330]
["2022-03-02",327]
["2022-03-01",339]
["2022-02-28",338]
["2022-02-25",328]
["2022-02-24",338]
["2022-02-23",340]
["2022-02-22",341]
["2022-02-18",340]
["2022-02-17",335]
["2022-02-16",328]
["2022-02-15",325]
["2022-02-14",335]
["2022-02-11",337]
["2022-02-10",318]
["2022-02-09",318]
["2022-02-08",325]
["2022-02-07",328]
["2022-02-04",326]
["2022-02-03",325]
["2022-02-02",327]
["2022-02-01",331]
["2022-01-31",334]
["2022-01-28",339]
["2022-01-27",333]
["2022-01-26",329]
["2022-01-25",334]
["2022-01-24",336]
["2022-01-21",335]
["2022-01-20",328]
["2022-01-19",332]
["2022-01-18",336]
["2022-01-17",336]
["2022-01-14",336]
["2022-01-13",337]
["2022-01-12",333]
["2022-01-11",336]
["2022-01-10",335]
["2022-01-07",333]
["2022-01-06",333]
["2022-01-05",323]
["2022-01-04",323]
["2022-01-03",320]
["2021-12-31",326]
["2021-12-30",326]
["2021-12-29",325]
["2021-12-28",331]
["2021-12-27",334]
["2021-12-24",335]
["2021-12-23",335]
["2021-12-22",342]
["2021-12-21",341]
["2021-12-20",345]
["2021-12-17",343]
["2021-12-16",342]
["2021-12-15",339]
["2021-12-14",338]
["2021-12-13",337]
["2021-12-10",333]
["2021-12-09",333]
["2021-12-08",327]
["2021-12-07",330]
["2021-12-06",343]
["2021-12-03",349]
["2021-12-02",345]
["2021-12-01",355]
["2021-11-30",366]
["2021-11-29",366]
["2021-11-26",375]
["2021-11-25",349]
["2021-11-24",349]
["2021-11-23",345]
["2021-11-22",339]
["2021-11-19",341]
["2021-11-18",340]
["2021-11-17",338]
["2021-11-16",336]
["2021-11-15",336]
["2021-11-12",339]
["2021-11-11",338]
["2021-11-10",341]
["2021-11-09",346]
["2021-11-08",343]
["2021-11-05",355]
["2021-11-04",356]
["2021-11-03",361]
["2021-11-02",370]
["2021-11-01",366]
["2021-10-29",362]
["2021-10-28",347]
["2021-10-27",346]
["2021-10-26",346]
["2021-10-25",348]
["2021-10-22",353]
["2021-10-21",350]
["2021-10-20",336]
["2021-10-19",329]
["2021-10-18",327]
["2021-10-15",324]
["2021-10-14",328]
["2021-10-13",330]
["2021-10-12",332]
["2021-10-11",327]
["2021-10-08",326]
["2021-10-07",326]
["2021-10-06",334]
["2021-10-05",332]
["2021-10-04",334]
["2021-10-01",333]
["2021-09-30",327]
["2021-09-29",320]
["2021-09-28",325]
["2021-09-27",322]
["2021-09-24",320]
["2021-09-23",317]
["2021-09-22",318]
["2021-09-21",318]
["2021-09-20",322]
["2021-09-17",311]
["2021-09-16",312]
["2021-09-15",314]
["2021-09-14",318]
["2021-09-13",314]
["2021-09-10",310]
["2021-09-09",317]
["2021-09-08",312]
["2021-09-07",304]
["2021-09-06",304]
["2021-09-03",304]
["2021-09-02",305]
["2021-09-01",304]
["2021-08-31",304]
["2021-08-30",304]
["2021-08-27",309]
["2021-08-26",311]
["2021-08-25",310]
["2021-08-24",315]
["2021-08-23",318]
["2021-08-20",320]
["2021-08-19",321]
["2021-08-18",313]
["2021-08-17",309]
["2021-08-16",307]
["2021-08-13",304]
["2021-08-12",300]
["2021-08-11",301]
["2021-08-10",301]
["2021-08-09",301]
["2021-08-06",301]
["2021-08-05",301]
["2021-08-04",305]
["2021-08-03",304]
["2021-08-02",302]
["2021-07-30",300]
["2021-07-29",298]
["2021-07-28",300]
["2021-07-27",300]
["2021-07-26",294]
["2021-07-23",294]
["2021-07-22",296]
["2021-07-21",296]
["2021-07-20",299]
["2021-07-19",303]
["2021-07-16",291]
["2021-07-15",292]
["2021-07-14",289]
["2021-07-13",285]
["2021-07-12",288]
["2021-07-09",289]
["2021-07-08",294]
["2021-07-07",291]
["2021-07-06",287]
["2021-07-05",279]
["2021-07-02",279]
["2021-07-01",276]
["2021-06-30",275]
["2021-06-29",270]
["2021-06-28",266]
["2021-06-25",262]
["2021-06-24",265]
["2021-06-23",264]
["2021-06-22",267]
["2021-06-21",263]
["2021-06-18",267]
["2021-06-17",263]
["2021-06-16",266]
["2021-06-15",266]
["2021-06-14",263]
["2021-06-11",262]
["2021-06-10",266]
["2021-06-09",264]
["2021-06-08",263]
["2021-06-07",261]
["2021-06-04",263]
["2021-06-03",260]
["2021-06-02",258]
["2021-06-01",260]
["2021-05-31",262]
["2021-05-28",261]
["2021-05-27",264]
["2021-05-26",265]
["2021-05-25",271]
["2021-05-24",268]
["2021-05-21",266]
["2021-05-20",266]
["2021-05-19",262]
["2021-05-18",260]
["2021-05-17",260]
["2021-05-14",258]
["2021-05-13",257]
["2021-05-12",256]
["2021-05-11",256]
["2021-05-10",254]
["2021-05-07",261]
["2021-05-06",272]
["2021-05-05",276]
["2021-05-04",277]
["2021-05-03",277]
["2021-04-30",277]
["2021-04-29",277]
["2021-04-28",281]
["2021-04-27",282]
["2021-04-26",283]
["2021-04-23",283]
["2021-04-22",287]
["2021-04-21",286]
["2021-04-20",286]
["2021-04-19",281]
["2021-04-16",285]
["2021-04-15",290]
["2021-04-14",291]
["2021-04-13",296]
["2021-04-12",292]
["2021-04-09",289]
["2021-04-08",289]
["2021-04-07",286]
["2021-04-06",288]
["2021-04-05",289]
["2021-04-01",292]
["2021-03-31",290]
["2021-03-30",299]
["2021-03-29",295]
["2021-03-26",299]
["2021-03-25",301]
["2021-03-24",294]
["2021-03-23",289]
["2021-03-22",289]
["2021-03-19",288]
["2021-03-18",289]
["2021-03-17",294]
["2021-03-16",295]
["2021-03-15",302]
["2021-03-12",302]
["2021-03-11",310]
["2021-03-10",320]
["2021-03-09",324]
["2021-03-08",323]
["2021-03-05",306]
["2021-03-04",299]
["2021-03-03",304]
["2021-03-02",303]
["2021-03-01",296]
["2021-02-26",299]
["2021-02-25",285]
["2021-02-24",280]
["2021-02-23",288]
["2021-02-22",292]
["2021-02-19",274]
["2021-02-18",279]
["2021-02-17",271]
["2021-02-16",270]
["2021-02-15",269]
["2021-02-12",269]
["2021-02-11",271]
["2021-02-10",273]
["2021-02-09",270]
["2021-02-08",268]
["2021-02-05",266]
["2021-02-04",270]
["2021-02-03",276]
["2021-02-02",276]
["2021-02-01",283]
["2021-01-29",288]
["2021-01-28",287]
["2021-01-27",294]
["2021-01-26",290]
["2021-01-25",291]
["2021-01-22",287]
["2021-01-21",283]
["2021-01-20",283]
["2021-01-19",283]
["2021-01-18",280]
["2021-01-15",280]
["2021-01-14",272]
["2021-01-13",273]
["2021-01-12",273]
["2021-01-11",270]
["2021-01-08",265]
["2021-01-07",268]
["2021-01-06",266]
["2021-01-05",264]
["2021-01-04",261]
["2020-12-31",260]
["2020-12-30",259]
["2020-12-29",259]
["2020-12-28",261]
["2020-12-24",261]
["2020-12-23",259]
["2020-12-22",263]
["2020-12-21",261]
["2020-12-18",256]
["2020-12-17",258]
["2020-12-16",260]
["2020-12-15",263]
["2020-12-14",268]
["2020-12-11",269]
["2020-12-10",268]
["2020-12-09",267]
["2020-12-08",270]
["2020-12-07",266]
["2020-12-04",262]
["2020-12-03",267]
["2020-12-02",266]
["2020-12-01",264]
["2020-11-30",275]
["2020-11-29",259]
["2020-11-28",261]
["2020-11-27",275]
["2020-11-26",271]
["2020-11-25",271]
["2020-11-24",272]
["2020-11-23",275]
["2020-11-22",263]
["2020-11-21",261]
["2020-11-20",276]
["2020-11-19",277]
["2020-11-18",275]
["2020-11-17",279]
["2020-11-16",276]
["2020-11-13",279]
["2020-11-12",279]
["2020-11-11",273]
["2020-11-10",273]
["2020-11-09",271]
["2020-11-06",289]
["2020-11-05",290]
["2020-11-04",296]
["2020-11-03",307]
["2020-11-02",317]
["2020-10-30",318]
["2020-10-29",319]
["2020-10-28",321]
["2020-10-27",315]
["2020-10-26",317]
["2020-10-23",310]
["2020-10-22",306]
["2020-10-21",306]
["2020-10-20",305]
["2020-10-19",306]
["2020-10-16",307]
["2020-10-15",310]
["2020-10-14",309]
["2020-10-13",311]
["2020-10-12",308]
["2020-10-09",309]
["2020-10-08",315]
["2020-10-07",320]
["2020-10-06",328]
["2020-10-05",331]
["2020-10-02",341]
["2020-10-01",343]
["2020-09-30",343]
["2020-09-29",353]
["2020-09-28",347]
["2020-09-25",346]
["2020-09-24",348]
["2020-09-23",348]
["2020-09-22",332]
["2020-09-21",327]
["2020-09-18",313]
["2020-09-17",310]
["2020-09-16",306]
["2020-09-15",307]
["2020-09-14",310]
["2020-09-11",311]
["2020-09-10",308]
["2020-09-09",311]
["2020-09-08",317]
["2020-09-07",312]
["2020-09-04",312]
["2020-09-03",318]
["2020-09-02",312]
["2020-09-01",314]
["2020-08-31",319]
["2020-08-28",320]
["2020-08-27",327]
["2020-08-26",334]
["2020-08-25",334]
["2020-08-24",329]
["2020-08-21",333]
["2020-08-20",338]
["2020-08-19",327]
["2020-08-18",325]
["2020-08-17",321]
["2020-08-14",317]
["2020-08-13",307]
["2020-08-12",307]
["2020-08-11",298]
["2020-08-10",309]
["2020-08-07",317]
["2020-08-06",323]
["2020-08-05",323]
["2020-08-04",333]
["2020-08-03",329]
["2020-07-31",334]
["2020-07-30",342]
["2020-07-29",340]
["2020-07-28",349]
["2020-07-27",346]
["2020-07-24",352]
["2020-07-23",351]
["2020-07-22",342]
["2020-07-21",346]
["2020-07-20",355]
["2020-07-17",364]
["2020-07-16",375]
["2020-07-15",376]
["2020-07-14",385]
["2020-07-13",377]
["2020-07-10",382]
["2020-07-09",382]
["2020-07-08",374]
["2020-07-07",375]
["2020-07-06",362]
["2020-07-03",366]
["2020-07-02",366]
["2020-07-01",372]
["2020-06-30",380]
["2020-06-29",384]
["2020-06-26",384]
["2020-06-25",377]
["2020-06-24",376]
["2020-06-23",375]
["2020-06-22",375]
["2020-06-19",377]
["2020-06-18",380]
["2020-06-17",374]
["2020-06-16",367]
["2020-06-15",387]
["2020-06-12",384]
["2020-06-11",389]
["2020-06-10",355]
["2020-06-09",344]
["2020-06-08",332]
["2020-06-05",334]
["2020-06-04",348]
["2020-06-03",351]
["2020-06-02",375]
["2020-06-01",386]
["2020-05-29",392]
["2020-05-28",379]
["2020-05-27",384]
["2020-05-26",387]
["2020-05-25",405]
["2020-05-22",405]
["2020-05-21",405]
["2020-05-20",420]
["2020-05-19",429]
["2020-05-18",427]
["2020-05-15",451]
["2020-05-14",450]
["2020-05-13",438]
["2020-05-12",420]
["2020-05-11",414]
["2020-05-08",419]
["2020-05-07",432]
["2020-05-06",429]
["2020-05-05",423]
["2020-05-04",426]
["2020-05-01",422]
["2020-04-30",422]
["2020-04-29",446]
["2020-04-28",470]
["2020-04-27",475]
["2020-04-24",473]
["2020-04-23",442]
["2020-04-22",426]
["2020-04-21",421]
["2020-04-20",403]
["2020-04-17",397]
["2020-04-16",400]
["2020-04-15",394]
["2020-04-14",366]
["2020-04-13",374]
["2020-04-09",390]
["2020-04-08",415]
["2020-04-07",418]
["2020-04-06",437]
["2020-04-03",445]
["2020-04-02",427]
["2020-04-01",414]
["2020-03-31",389]
["2020-03-30",393]
["2020-03-27",375]
["2020-03-26",343]
["2020-03-25",370]
["2020-03-24",427]
["2020-03-23",476]
["2020-03-20",453]
["2020-03-19",465]
["2020-03-18",441]
["2020-03-17",374]
["2020-03-16",395]
["2020-03-13",335]
["2020-03-12",367]
["2020-03-11",302]
["2020-03-10",284]
["2020-03-09",312]
["2020-03-06",262]
["2020-03-05",239]
["2020-03-04",223]
["2020-03-03",240]
["2020-03-02",247]
["2020-02-28",252]
["2020-02-27",233]
["2020-02-26",218]
["2020-02-25",214]
["2020-02-24",208]
["2020-02-21",202]
["2020-02-20",193]
["2020-02-19",189]
["2020-02-18",198]
["2020-02-17",196]
["2020-02-14",196]
["2020-02-13",203]
["2020-02-12",203]
["2020-02-11",209]
["2020-02-10",216]
["2020-02-07",217]
["2020-02-06",213]
["2020-02-05",214]
["2020-02-04",219]
["2020-02-03",226]
["2020-01-31",225]
["2020-01-30",224]
["2020-01-29",225]
["2020-01-28",227]
["2020-01-27",232]
["2020-01-24",225]
["2020-01-23",220]
["2020-01-22",216]
["2020-01-21",214]
["2020-01-20",209]
["2020-01-17",209]
["2020-01-16",211]
["2020-01-15",217]
["2020-01-14",215]
["2020-01-13",213]
["2020-01-10",213]
["2020-01-09",215]
["2020-01-08",215]
["2020-01-07",220]
["2020-01-06",222]
["2020-01-03",225]
["2020-01-02",218]
["2019-12-31",214]
["2019-12-30",215]
["2019-12-27",215]
["2019-12-26",214]
["2019-12-24",215]
["2019-12-23",212]
["2019-12-20",214]
["2019-12-19",213]
["2019-12-18",208]
["2019-12-17",211]
["2019-12-16",212]
["2019-12-13",218]
["2019-12-12",215]
["2019-12-11",230]
["2019-12-10",228]
["2019-12-09",231]
["2019-12-06",231]
["2019-12-05",238]
["2019-12-04",240]
["2019-12-03",250]
["2019-12-02",240]
["2019-11-29",239]
["2019-11-28",244]
["2019-11-27",244]
["2019-11-26",246]
["2019-11-25",242]
["2019-11-22",241]
["2019-11-21",245]
["2019-11-20",249]
["2019-11-19",246]
["2019-11-18",240]
["2019-11-15",238]
["2019-11-14",238]
["2019-11-13",235]
["2019-11-12",232]
["2019-11-11",229]
["2019-11-08",229]
["2019-11-07",230]
["2019-11-06",235]
["2019-11-05",231]
["2019-11-04",229]
["2019-11-01",231]
["2019-10-31",240]
["2019-10-30",237]
["2019-10-29",228]
["2019-10-28",227]
["2019-10-25",231]
["2019-10-24",235]
["2019-10-23",237]
["2019-10-22",237]
["2019-10-21",235]
["2019-10-18",238]
["2019-10-17",238]
["2019-10-16",239]
["2019-10-15",237]
["2019-10-14",240]
["2019-10-11",240]
["2019-10-10",247]
["2019-10-09",255]
["2019-10-08",262]
["2019-10-07",259]
["2019-10-04",264]
["2019-10-03",264]
["2019-10-02",259]
["2019-10-01",252]
["2019-09-30",247]
["2019-09-27",246]
["2019-09-26",243]
["2019-09-25",240]
["2019-09-24",243]
["2019-09-23",234]
["2019-09-20",232]
["2019-09-19",227]
["2019-09-18",225]
["2019-09-17",227]
["2019-09-16",224]
["2019-09-13",219]
["2019-09-12",222]
["2019-09-11",228]
["2019-09-10",229]
["2019-09-09",234]
["2019-09-06",240]
["2019-09-05",238]
["2019-09-04",247]
["2019-09-03",249]
["2019-09-02",248]
["2019-08-30",248]
["2019-08-29",247]
["2019-08-28",252]
["2019-08-27",250]
["2019-08-26",245]
["2019-08-23",246]
["2019-08-22",240]
["2019-08-21",244]
["2019-08-20",247]
["2019-08-19",243]
["2019-08-16",248]
["2019-08-15",251]
["2019-08-14",244]
["2019-08-13",236]
["2019-08-12",239]
["2019-08-09",226]
["2019-08-08",229]
["2019-08-07",232]
["2019-08-06",233]
["2019-08-05",235]
["2019-08-02",222]
["2019-08-01",221]
["2019-07-31",212]
["2019-07-30",209]
["2019-07-29",207]
["2019-07-26",207]
["2019-07-25",208]
["2019-07-24",213]
["2019-07-23",213]
["2019-07-22",216]
["2019-07-19",220]
["2019-07-18",222]
["2019-07-17",221]
["2019-07-16",215]
["2019-07-15",217]
["2019-07-12",217]
["2019-07-11",218]
["2019-07-10",224]
["2019-07-09",228]
["2019-07-08",232]
["2019-07-05",233]
["2019-07-04",238]
["2019-07-03",238]
["2019-07-02",238]
["2019-07-01",234]
["2019-06-28",239]
["2019-06-27",242]
["2019-06-26",240]
["2019-06-25",243]
["2019-06-24",239]
["2019-06-21",236]
["2019-06-20",237]
["2019-06-19",246]
["2019-06-18",247]
["2019-06-17",252]
["2019-06-14",250]
["2019-06-13",248]
["2019-06-12",247]
["2019-06-11",248]
["2019-06-10",250]
["2019-06-07",254]
["2019-06-06",255]
["2019-06-05",256]
["2019-06-04",261]
["2019-06-03",276]
["2019-05-31",274]
["2019-05-30",270]
["2019-05-29",269]
["2019-05-28",267]
["2019-05-27",265]
["2019-05-24",265]
["2019-05-23",266]
["2019-05-22",258]
["2019-05-21",257]
["2019-05-20",260]
["2019-05-17",263]
["2019-05-16",261]
["2019-05-15",260]
["2019-05-14",256]
["2019-05-13",260]
["2019-05-10",252]
["2019-05-09",253]
["2019-05-08",250]
["2019-05-07",255]
["2019-05-06",250]
["2019-05-03",248]
["2019-05-02",250]
["2019-05-01",250]
["2019-04-30",252]
["2019-04-29",248]
["2019-04-26",252]
["2019-04-25",252]
["2019-04-24",251]
["2019-04-23",247]
["2019-04-22",250]
["2019-04-19",253]
["2019-04-18",253]
["2019-04-17",249]
["2019-04-16",248]
["2019-04-15",254]
["2019-04-12",252]
["2019-04-11",253]
["2019-04-10",253]
["2019-04-09",251]
["2019-04-08",250]
["2019-04-05",250]
["2019-04-04",250]
["2019-04-03",249]
["2019-04-02",253]
["2019-04-01",248]
["2019-03-29",253]
["2019-03-28",258]
["2019-03-27",262]
["2019-03-26",255]
["2019-03-25",255]
["2019-03-22",255]
["2019-03-21",239]
["2019-03-20",240]
["2019-03-19",240]
["2019-03-18",242]
["2019-03-15",246]
["2019-03-14",245]
["2019-03-13",249]
["2019-03-12",245]
["2019-03-11",243]
["2019-03-08",251]
["2019-03-07",249]
["2019-03-06",245]
["2019-03-05",242]
["2019-03-04",240]
["2019-03-01",236]
["2019-02-28",235]
["2019-02-27",236]
["2019-02-26",239]
["2019-02-25",240]
["2019-02-22",241]
["2019-02-21",242]
["2019-02-20",241]
["2019-02-19",241]
["2019-02-18",241]
["2019-02-15",241]
["2019-02-14",240]
["2019-02-13",242]
["2019-02-12",244]
["2019-02-11",250]
["2019-02-08",249]
["2019-02-07",245]
["2019-02-06",239]
["2019-02-05",232]
["2019-02-04",234]
["2019-02-01",237]
["2019-01-31",238]
["2019-01-30",240]
["2019-01-29",244]
["2019-01-28",240]
["2019-01-25",239]
["2019-01-24",246]
["2019-01-23",247]
["2019-01-22",252]
["2019-01-21",245]
["2019-01-18",245]
["2019-01-17",255]
["2019-01-16",255]
["2019-01-15",255]
["2019-01-14",258]
["2019-01-11",258]
["2019-01-10",254]
["2019-01-09",250]
["2019-01-08",254]
["2019-01-07",256]
["2019-01-04",264]
["2019-01-03",278]
["2019-01-02",275]
["2018-12-31",276]
["2018-12-28",272]
["2018-12-27",274]
["2018-12-26",273]
["2018-12-24",276]
["2018-12-21",273]
["2018-12-20",268]
["2018-12-19",270]
["2018-12-18",265]
["2018-12-17",260]
["2018-12-14",261]
["2018-12-13",258]
["2018-12-12",261]
["2018-12-11",270]
["2018-12-10",276]
["2018-12-07",274]
["2018-12-06",277]
["2018-12-05",274]
["2018-12-04",274]
["2018-12-03",267]
["2018-11-30",270]
["2018-11-29",272]
["2018-11-28",272]
["2018-11-27",280]
["2018-11-26",276]
["2018-11-23",274]
["2018-11-22",271]
["2018-11-21",271]
["2018-11-20",273]
["2018-11-19",267]
["2018-11-16",263]
["2018-11-15",261]
["2018-11-14",263]
["2018-11-13",262]
["2018-11-12",254]
["2018-11-09",254]
["2018-11-08",251]
["2018-11-07",247]
["2018-11-06",249]
["2018-11-05",247]
["2018-11-02",248]
["2018-11-01",254]
["2018-10-31",260]
["2018-10-30",263]
["2018-10-29",267]
["2018-10-26",266]
["2018-10-25",264]
["2018-10-24",269]
["2018-10-23",260]
["2018-10-22",260]
["2018-10-19",262]
["2018-10-18",264]
["2018-10-17",255]
["2018-10-16",256]
["2018-10-15",261]
["2018-10-12",266]
["2018-10-11",272]
["2018-10-10",268]
["2018-10-09",260]
["2018-10-08",272]
["2018-10-05",272]
["2018-10-04",278]
["2018-10-03",273]
["2018-10-02",285]
["2018-10-01",296]
["2018-09-28",293]
["2018-09-27",291]
["2018-09-26",294]
["2018-09-25",295]
["2018-09-24",293]
["2018-09-21",287]
["2018-09-20",309]
["2018-09-19",328]
["2018-09-18",335]
["2018-09-17",337]
["2018-09-14",334]
["2018-09-13",334]
["2018-09-12",332]
["2018-09-11",336]
["2018-09-10",329]
["2018-09-07",323]
["2018-09-06",332]
["2018-09-05",338]
["2018-09-04",349]
["2018-09-03",345]
["2018-08-31",345]
["2018-08-30",343]
["2018-08-29",335]
["2018-08-28",330]
["2018-08-27",329]
["2018-08-24",332]
["2018-08-23",332]
["2018-08-22",323]
["2018-08-21",311]
["2018-08-20",308]
["2018-08-17",305]
["2018-08-16",302]
["2018-08-15",306]
["2018-08-14",300]
["2018-08-13",306]
["2018-08-10",301]
["2018-08-09",285]
["2018-08-08",277]
["2018-08-07",275]
["2018-08-06",272]
["2018-08-03",270]
["2018-08-02",273]
["2018-08-01",271]
["2018-07-31",267]
["2018-07-30",266]
["2018-07-27",264]
["2018-07-26",267]
["2018-07-25",271]
["2018-07-24",276]
["2018-07-23",277]
["2018-07-20",280]
["2018-07-19",297]
["2018-07-18",292]
["2018-07-17",295]
["2018-07-16",295]
["2018-07-13",298]
["2018-07-12",299]
["2018-07-11",301]
["2018-07-10",296]
["2018-07-09",303]
["2018-07-06",312]
["2018-07-05",319]
["2018-07-04",327]
["2018-07-03",327]
["2018-07-02",331]
["2018-06-29",332]
["2018-06-28",332]
["2018-06-27",332]
["2018-06-26",320]
["2018-06-25",323]
["2018-06-22",318]
["2018-06-21",325]
["2018-06-20",333]
["2018-06-19",345]
["2018-06-18",343]
["2018-06-15",333]
["2018-06-14",334]
["2018-06-13",330]
["2018-06-12",332]
["2018-06-11",330]
["2018-06-08",325]
["2018-06-07",330]
["2018-06-06",311]
["2018-06-05",304]
["2018-06-04",300]
["2018-06-01",309]
["2018-05-31",307]
["2018-05-30",295]
["2018-05-29",297]
["2018-05-28",271]
["2018-05-25",271]
["2018-05-24",268]
["2018-05-23",265]
["2018-05-22",265]
["2018-05-21",270]
["2018-05-18",274]
["2018-05-17",261]
["2018-05-16",257]
["2018-05-15",260]
["2018-05-14",255]
["2018-05-11",254]
["2018-05-10",252]
["2018-05-09",264]
["2018-05-08",269]
["2018-05-07",262]
["2018-05-04",261]
["2018-05-03",263]
["2018-05-02",256]
["2018-05-01",250]
["2018-04-30",250]
["2018-04-27",249]
["2018-04-26",244]
["2018-04-25",243]
["2018-04-24",242]
["2018-04-23",243]
["2018-04-20",243]
["2018-04-19",245]
["2018-04-18",244]
["2018-04-17",247]
["2018-04-16",248]
["2018-04-13",245]
["2018-04-12",244]
["2018-04-11",246]
["2018-04-10",246]
["2018-04-09",247]
["2018-04-06",247]
["2018-04-05",239]
["2018-04-04",244]
["2018-04-03",243]
["2018-04-02",251]
["2018-03-29",248]
["2018-03-28",250]
["2018-03-27",251]
["2018-03-26",248]
["2018-03-23",252]
["2018-03-22",250]
["2018-03-21",246]
["2018-03-20",246]
["2018-03-19",249]
["2018-03-16",244]
["2018-03-15",247]
["2018-03-14",245]
["2018-03-13",243]
["2018-03-12",235]
["2018-03-09",233]
["2018-03-08",242]
["2018-03-07",239]
["2018-03-06",235]
["2018-03-05",237]
["2018-03-02",240]
["2018-03-01",243]
["2018-02-28",236]
["2018-02-27",229]
["2018-02-26",231]
["2018-02-23",236]
["2018-02-22",238]
["2018-02-21",233]
["2018-02-20",235]
["2018-02-16",228]
["2018-02-15",233]
["2018-02-14",249]
["2018-02-13",255]
["2018-02-12",245]
["2018-02-09",256]
["2018-02-08",241]
["2018-02-07",226]
["2018-02-06",235]
["2018-02-05",243]
["2018-02-02",229]
["2018-02-01",227]
["2018-01-31",227]
["2018-01-30",224]
["2018-01-29",224]
["2018-01-26",222]
["2018-01-25",225]
["2018-01-24",226]
["2018-01-23",233]
["2018-01-22",231]
["2018-01-19",231]
["2018-01-18",231]
["2018-01-17",228]
["2018-01-16",226]
["2018-01-15",225]
["2018-01-12",225]
["2018-01-11",223]
["2018-01-10",222]
["2018-01-09",218]
["2018-01-08",222]
["2018-01-05",221]
["2018-01-04",225]
["2018-01-03",228]
["2018-01-02",234]
["2017-12-29",240]
["2017-12-28",239]
["2017-12-27",240]
["2017-12-26",237]
["2017-12-22",235]
["2017-12-21",233]
["2017-12-20",231]
["2017-12-19",234]
["2017-12-18",238]
["2017-12-15",244]
["2017-12-14",245]
["2017-12-13",243]
["2017-12-12",239]
["2017-12-11",239]
["2017-12-08",240]
["2017-12-07",242]
["2017-12-06",238]
["2017-12-05",236]
["2017-12-04",242]
["2017-12-01",244]
["2017-11-30",241]
["2017-11-29",240]
["2017-11-28",239]
["2017-11-27",242]
["2017-11-24",243]
["2017-11-23",246]
["2017-11-22",246]
["2017-11-21",247]
["2017-11-20",248]
["2017-11-17",246]
["2017-11-16",251]
["2017-11-15",260]
["2017-11-14",256]
["2017-11-13",251]
["2017-11-10",253]
["2017-11-09",255]
["2017-11-08",253]
["2017-11-07",253]
["2017-11-06",247]
["2017-11-03",249]
["2017-11-02",245]
["2017-11-01",244]
["2017-10-31",243]
["2017-10-30",239]
["2017-10-27",238]
["2017-10-26",242]
["2017-10-25",234]
["2017-10-24",234]
["2017-10-23",233]
["2017-10-20",233]
["2017-10-19",236]
["2017-10-18",236]
["2017-10-17",240]
["2017-10-16",242]
["2017-10-13",244]
["2017-10-12",245]
["2017-10-11",247]
["2017-10-10",248]
["2017-10-09",244]
["2017-10-06",244]
["2017-10-05",241]
["2017-10-04",245]
["2017-10-03",245]
["2017-10-02",246]
["2017-09-29",247]
["2017-09-28",253]
["2017-09-27",256]
["2017-09-26",256]
["2017-09-25",257]
["2017-09-22",253]
["2017-09-21",255]
["2017-09-20",254]
["2017-09-19",252]
["2017-09-18",252]
["2017-09-15",255]
["2017-09-14",256]
["2017-09-13",257]
["2017-09-12",260]
["2017-09-11",259]
["2017-09-08",264]
["2017-09-07",265]
["2017-09-06",267]
["2017-09-05",268]
["2017-09-04",265]
["2017-09-01",265]
["2017-08-31",272]
["2017-08-30",272]
["2017-08-29",274]
["2017-08-28",273]
["2017-08-25",270]
["2017-08-24",269]
["2017-08-23",274]
["2017-08-22",276]
["2017-08-21",279]
["2017-08-18",277]
["2017-08-17",279]
["2017-08-16",271]
["2017-08-15",269]
["2017-08-14",276]
["2017-08-11",281]
["2017-08-10",281]
["2017-08-09",269]
["2017-08-08",262]
["2017-08-07",263]
["2017-08-04",262]
["2017-08-03",264]
["2017-08-02",268]
["2017-08-01",267]
["2017-07-31",268]
["2017-07-28",271]
["2017-07-27",268]
["2017-07-26",269]
["2017-07-25",272]
["2017-07-24",270]
["2017-07-21",264]
["2017-07-20",266]
["2017-07-19",271]
["2017-07-18",273]
["2017-07-17",273]
["2017-07-14",274]
["2017-07-13",277]
["2017-07-12",277]
["2017-07-11",282]
["2017-07-10",286]
["2017-07-07",293]
["2017-07-06",297]
["2017-07-05",291]
["2017-07-03",286]
["2017-06-30",289]
["2017-06-29",294]
["2017-06-28",290]
["2017-06-27",298]
["2017-06-26",290]
["2017-06-23",294]
["2017-06-22",298]
["2017-06-21",302]
["2017-06-20",299]
["2017-06-19",289]
["2017-06-16",286]
["2017-06-15",286]
["2017-06-14",281]
["2017-06-13",282]
["2017-06-12",286]
["2017-06-09",285]
["2017-06-08",285]
["2017-06-07",288]
["2017-06-06",285]
["2017-06-05",283]
["2017-06-02",283]
["2017-06-01",284]
["2017-05-31",284]
["2017-05-30",284]
["2017-05-29",286]
["2017-05-26",283]
["2017-05-25",286]
["2017-05-24",281]
["2017-05-23",280]
["2017-05-22",288]
["2017-05-19",282]
["2017-05-18",300]
["2017-05-17",258]
["2017-05-16",250]
["2017-05-15",251]
["2017-05-12",255]
["2017-05-11",255]
["2017-05-10",257]
["2017-05-09",264]
["2017-05-08",262]
["2017-05-05",262]
["2017-05-04",264]
["2017-05-03",256]
["2017-05-02",258]
["2017-05-01",260]
["2017-04-28",263]
["2017-04-27",264]
["2017-04-26",268]
["2017-04-25",263]
["2017-04-24",263]
["2017-04-21",272]
["2017-04-20",275]
["2017-04-19",273]
["2017-04-18",275]
["2017-04-17",270]
["2017-04-13",271]
["2017-04-12",271]
["2017-04-11",272]
["2017-04-10",267]
["2017-04-07",271]
["2017-04-06",269]
["2017-04-05",263]
["2017-04-04",265]
["2017-04-03",270]
["2017-03-31",270]
["2017-03-30",274]
["2017-03-29",275]
["2017-03-28",278]
["2017-03-27",279]
["2017-03-24",278]
["2017-03-23",280]
["2017-03-22",280]
["2017-03-21",277]
["2017-03-20",269]
["2017-03-17",272]
["2017-03-16",274]
["2017-03-15",282]
["2017-03-14",291]
["2017-03-13",286]
["2017-03-10",280]
["2017-03-09",290]
["2017-03-08",287]
["2017-03-07",274]
["2017-03-06",272]
["2017-03-03",273]
["2017-03-02",280]
["2017-03-01",275]
["2017-02-28",286]
["2017-02-27",277]
["2017-02-24",277]
["2017-02-23",272]
["2017-02-22",277]
["2017-02-21",279]
["2017-02-20",282]
["2017-02-17",282]
["2017-02-16",280]
["2017-02-15",271]
["2017-02-14",266]
["2017-02-13",268]
["2017-02-10",272]
["2017-02-09",280]
["2017-02-08",284]
["2017-02-07",287]
["2017-02-06",277]
["2017-02-03",276]
["2017-02-02",281]
["2017-02-01",285]
["2017-01-31",289]
["2017-01-30",291]
["2017-01-27",284]
["2017-01-26",296]
["2017-01-25",296]
["2017-01-24",293]
["2017-01-23",295]
["2017-01-20",294]
["2017-01-19",296]
["2017-01-18",291]
["2017-01-17",282]
["2017-01-16",288]
["2017-01-13",288]
["2017-01-12",298]
["2017-01-11",305]
["2017-01-10",305]
["2017-01-09",302]
["2017-01-06",301]
["2017-01-05",302]
["2017-01-04",311]
["2017-01-03",325]
["2017-01-02",328]
["2016-12-30",328]
["2016-12-29",325]
["2016-12-28",325]
["2016-12-27",322]
["2016-12-26",325]
["2016-12-23",325]
["2016-12-22",326]
["2016-12-21",323]
["2016-12-20",324]
["2016-12-19",327]
["2016-12-16",328]
["2016-12-15",332]
["2016-12-14",332]
["2016-12-13",324]
["2016-12-12",330]
["2016-12-09",328]
["2016-12-08",334]
["2016-12-07",336]
["2016-12-06",341]
["2016-12-05",342]
["2016-12-02",350]
["2016-12-01",348]
["2016-11-30",337]
["2016-11-29",337]
["2016-11-28",334]
["2016-11-25",337]
["2016-11-24",336]
["2016-11-23",336]
["2016-11-22",332]
["2016-11-21",333]
["2016-11-18",334]
["2016-11-17",331]
["2016-11-16",329]
["2016-11-15",330]
["2016-11-14",357]
["2016-11-11",341]
["2016-11-10",341]
["2016-11-09",306]
["2016-11-08",303]
["2016-11-07",314]
["2016-11-04",328]
["2016-11-03",327]
["2016-11-02",328]
["2016-11-01",323]
["2016-10-31",313]
["2016-10-28",308]
["2016-10-27",313]
["2016-10-26",309]
["2016-10-25",307]
["2016-10-24",305]
["2016-10-21",308]
["2016-10-20",308]
["2016-10-19",311]
["2016-10-18",314]
["2016-10-17",314]
["2016-10-14",309]
["2016-10-13",313]
["2016-10-12",314]
["2016-10-11",319]
["2016-10-10",317]
["2016-10-07",317]
["2016-10-06",317]
["2016-10-05",319]
["2016-10-04",318]
["2016-10-03",315]
["2016-09-30",319]
["2016-09-29",318]
["2016-09-28",311]
["2016-09-27",322]
["2016-09-26",320]
["2016-09-23",315]
["2016-09-22",306]
["2016-09-21",312]
["2016-09-20",328]
["2016-09-19",334]
["2016-09-16",340]
["2016-09-15",331]
["2016-09-14",333]
["2016-09-13",325]
["2016-09-12",313]
["2016-09-09",314]
["2016-09-08",303]
["2016-09-07",303]
["2016-09-06",309]
["2016-09-05",309]
["2016-09-02",309]
["2016-09-01",315]
["2016-08-31",309]
["2016-08-30",306]
["2016-08-29",304]
["2016-08-26",299]
["2016-08-25",306]
["2016-08-24",305]
["2016-08-23",302]
["2016-08-22",303]
["2016-08-19",296]
["2016-08-18",297]
["2016-08-17",298]
["2016-08-16",292]
["2016-08-15",299]
["2016-08-12",306]
["2016-08-11",309]
["2016-08-10",316]
["2016-08-09",320]
["2016-08-08",317]
["2016-08-05",319]
["2016-08-04",325]
["2016-08-03",327]
["2016-08-02",331]
["2016-08-01",336]
["2016-07-29",339]
["2016-07-28",340]
["2016-07-27",344]
["2016-07-26",343]
["2016-07-25",341]
["2016-07-22",338]
["2016-07-21",337]
["2016-07-20",330]
["2016-07-19",332]
["2016-07-18",332]
["2016-07-15",331]
["2016-07-14",331]
["2016-07-13",334]
["2016-07-12",331]
["2016-07-11",340]
["2016-07-08",345]
["2016-07-07",355]
["2016-07-06",355]
["2016-07-05",352]
["2016-07-04",347]
["2016-07-01",347]
["2016-06-30",350]
["2016-06-29",354]
["2016-06-28",376]
["2016-06-27",393]
["2016-06-24",384]
["2016-06-23",365]
["2016-06-22",376]
["2016-06-21",378]
["2016-06-20",380]
["2016-06-17",392]
["2016-06-16",399]
["2016-06-15",395]
["2016-06-14",401]
["2016-06-13",389]
["2016-06-10",383]
["2016-06-09",375]
["2016-06-08",371]
["2016-06-07",377]
["2016-06-06",385]
["2016-06-03",391]
["2016-06-02",392]
["2016-06-01",401]
["2016-05-31",404]
["2016-05-30",391]
["2016-05-27",391]
["2016-05-26",395]
["2016-05-25",391]
["2016-05-24",395]
["2016-05-23",397]
["2016-05-20",392]
["2016-05-19",394]
["2016-05-18",377]
["2016-05-17",374]
["2016-05-16",375]
["2016-05-13",382]
["2016-05-12",376]
["2016-05-11",379]
["2016-05-10",387]
["2016-05-09",394]
["2016-05-06",390]
["2016-05-05",397]
["2016-05-04",395]
["2016-05-03",392]
["2016-05-02",382]
["2016-04-29",385]
["2016-04-28",385]
["2016-04-27",382]
["2016-04-26",397]
["2016-04-25",403]
["2016-04-22",406]
["2016-04-21",400]
["2016-04-20",385]
["2016-04-19",390]
["2016-04-18",394]
["2016-04-15",387]
["2016-04-14",382]
["2016-04-13",387]
["2016-04-12",397]
["2016-04-11",416]
["2016-04-08",440]
["2016-04-07",449]
["2016-04-06",430]
["2016-04-05",432]
["2016-04-04",413]
["2016-04-01",404]
["2016-03-31",409]
["2016-03-30",404]
["2016-03-29",416]
["2016-03-28",419]
["2016-03-24",427]
["2016-03-23",419]
["2016-03-22",391]
["2016-03-21",392]
["2016-03-18",409]
["2016-03-17",435]
["2016-03-16",457]
["2016-03-15",459]
["2016-03-14",437]
["2016-03-11",427]
["2016-03-10",434]
["2016-03-09",440]
["2016-03-08",460]
["2016-03-07",452]
["2016-03-04",447]
["2016-03-03",462]
["2016-03-02",485]
["2016-03-01",489]
["2016-02-29",502]
["2016-02-26",506]
["2016-02-25",513]
["2016-02-24",506]
["2016-02-23",519]
["2016-02-22",521]
["2016-02-19",529]
["2016-02-18",539]
["2016-02-17",535]
["2016-02-16",549]
["2016-02-15",554]
["2016-02-12",554]
["2016-02-11",569]
["2016-02-10",554]
["2016-02-09",547]
["2016-02-08",548]
["2016-02-05",521]
["2016-02-04",523]
["2016-02-03",525]
["2016-02-02",530]
["2016-02-01",513]
["2016-01-29",512]
["2016-01-28",499]
["2016-01-27",503]
["2016-01-26",511]
["2016-01-25",523]
["2016-01-22",514]
["2016-01-21",534]
["2016-01-20",544]
["2016-01-19",533]
["2016-01-18",533]
["2016-01-15",533]
["2016-01-14",512]
["2016-01-13",521]
["2016-01-12",506]
["2016-01-11",506]
["2016-01-08",512]
["2016-01-07",506]
["2016-01-06",505]
["2016-01-05",497]
["2016-01-04",532]
["2015-12-31",523]
["2015-12-30",516]
["2015-12-29",506]
["2015-12-28",520]
["2015-12-24",518]
["2015-12-23",516]
["2015-12-22",521]
["2015-12-21",545]
["2015-12-18",524]
["2015-12-17",498]
["2015-12-16",499]
["2015-12-15",465]
["2015-12-14",484]
["2015-12-11",501]
["2015-12-10",473]
["2015-12-09",458]
["2015-12-08",453]
["2015-12-07",444]
["2015-12-04",435]
["2015-12-03",438]
["2015-12-02",440]
["2015-12-01",436]
["2015-11-30",432]
["2015-11-27",409]
["2015-11-26",411]
["2015-11-25",411]
["2015-11-24",393]
["2015-11-23",397]
["2015-11-20",386]
["2015-11-19",381]
["2015-11-18",395]
["2015-11-17",399]
["2015-11-16",410]
["2015-11-13",415]
["2015-11-12",398]
["2015-11-11",396]
["2015-11-10",396]
["2015-11-09",403]
["2015-11-06",393]
["2015-11-05",387]
["2015-11-04",378]
["2015-11-03",376]
["2015-11-02",394]
["2015-10-30",410]
["2015-10-29",410]
["2015-10-28",414]
["2015-10-27",422]
["2015-10-26",418]
["2015-10-23",423]
["2015-10-22",437]
["2015-10-21",450]
["2015-10-20",454]
["2015-10-19",438]
["2015-10-16",419]
["2015-10-15",408]
["2015-10-14",411]
["2015-10-13",408]
["2015-10-12",383]
["2015-10-09",383]
["2015-10-08",389]
["2015-10-07",405]
["2015-10-06",386]
["2015-10-05",388]
["2015-10-02",406]
["2015-10-01",421]
["2015-09-30",442]
["2015-09-29",485]
["2015-09-28",489]
["2015-09-25",453]
["2015-09-24",450]
["2015-09-23",454]
["2015-09-22",443]
["2015-09-21",422]
["2015-09-18",397]
["2015-09-17",376]
["2015-09-16",374]
["2015-09-15",377]
["2015-09-14",389]
["2015-09-11",390]
["2015-09-10",388]
["2015-09-09",363]
["2015-09-08",372]
["2015-09-07",381]
["2015-09-04",381]
["2015-09-03",365]
["2015-09-02",367]
["2015-09-01",361]
["2015-08-31",340]
["2015-08-28",334]
["2015-08-27",338]
["2015-08-26",358]
["2015-08-25",352]
["2015-08-24",369]
["2015-08-21",351]
["2015-08-20",338]
["2015-08-19",329]
["2015-08-18",316]
["2015-08-17",316]
["2015-08-14",318]
["2015-08-13",322]
["2015-08-12",323]
["2015-08-11",342]
["2015-08-10",335]
["2015-08-07",343]
["2015-08-06",341]
["2015-08-05",317]
["2015-08-04",322]
["2015-08-03",323]
["2015-07-31",315]
["2015-07-30",339]
["2015-07-29",340]
["2015-07-28",350]
["2015-07-27",360]
["2015-07-24",353]
["2015-07-23",344]
["2015-07-22",328]
["2015-07-21",320]
["2015-07-20",318]
["2015-07-17",311]
["2015-07-16",306]
["2015-07-15",306]
["2015-07-14",297]
["2015-07-13",296]
["2015-07-10",297]
["2015-07-09",307]
["2015-07-08",312]
["2015-07-07",309]
["2015-07-06",304]
["2015-07-03",295]
["2015-07-02",295]
["2015-07-01",299]
["2015-06-30",304]
["2015-06-29",310]
["2015-06-26",296]
["2015-06-25",298]
["2015-06-24",292]
["2015-06-23",288]
["2015-06-22",292]
["2015-06-19",292]
["2015-06-18",283]
["2015-06-17",298]
["2015-06-16",297]
["2015-06-15",292]
["2015-06-12",287]
["2015-06-11",288]
["2015-06-10",291]
["2015-06-09",290]
["2015-06-08",288]
["2015-06-05",287]
["2015-06-04",288]
["2015-06-03",283]
["2015-06-02",284]
["2015-06-01",292]
["2015-05-29",294]
["2015-05-28",287]
["2015-05-27",285]
["2015-05-26",281]
["2015-05-25",268]
["2015-05-22",268]
["2015-05-21",269]
["2015-05-20",270]
["2015-05-19",274]
["2015-05-18",275]
["2015-05-15",285]
["2015-05-14",282]
["2015-05-13",279]
["2015-05-12",283]
["2015-05-11",275]
["2015-05-08",274]
["2015-05-07",281]
["2015-05-06",277]
["2015-05-05",284]
["2015-05-04",292]
["2015-05-01",296]
["2015-04-30",295]
["2015-04-29",282]
["2015-04-28",281]
["2015-04-27",283]
["2015-04-24",280]
["2015-04-23",276]
["2015-04-22",278]
["2015-04-21",288]
["2015-04-20",296]
["2015-04-17",310]
["2015-04-16",300]
["2015-04-15",293]
["2015-04-14",289]
["2015-04-13",291]
["2015-04-10",287]
["2015-04-09",283]
["2015-04-08",287]
["2015-04-07",301]
["2015-04-06",302]
["2015-04-03",312]
["2015-04-02",309]
["2015-04-01",317]
["2015-03-31",322]
["2015-03-30",318]
["2015-03-27",324]
["2015-03-26",319]
["2015-03-25",324]
["2015-03-24",328]
["2015-03-23",333]
["2015-03-20",344]
["2015-03-19",351]
["2015-03-18",360]
["2015-03-17",361]
["2015-03-16",344]
["2015-03-13",344]
["2015-03-12",324]
["2015-03-11",333]
["2015-03-10",328]
["2015-03-09",327]
["2015-03-06",308]
["2015-03-05",307]
["2015-03-04",307]
["2015-03-03",303]
["2015-03-02",310]
["2015-02-27",322]
["2015-02-26",329]
["2015-02-25",322]
["2015-02-24",314]
["2015-02-23",314]
["2015-02-20",306]
["2015-02-19",297]
["2015-02-18",304]
["2015-02-17",301]
["2015-02-16",305]
["2015-02-13",305]
["2015-02-12",313]
["2015-02-11",312]
["2015-02-10",300]
["2015-02-09",296]
["2015-02-06",297]
["2015-02-05",300]
["2015-02-04",307]
["2015-02-03",311]
["2015-02-02",324]
["2015-01-30",324]
["2015-01-29",294]
["2015-01-28",297]
["2015-01-27",284]
["2015-01-26",286]
["2015-01-23",283]
["2015-01-22",286]
["2015-01-21",288]
["2015-01-20",290]
["2015-01-19",294]
["2015-01-16",294]
["2015-01-15",294]
["2015-01-14",289]
["2015-01-13",292]
["2015-01-12",293]
["2015-01-09",281]
["2015-01-08",278]
["2015-01-07",284]
["2015-01-06",287]
["2015-01-05",281]
["2015-01-02",264]
["2014-12-31",259]
["2014-12-30",261]
["2014-12-29",257]
["2014-12-26",256]
["2014-12-24",254]
["2014-12-23",250]
["2014-12-22",263]
["2014-12-19",266]
["2014-12-18",283]
["2014-12-17",284]
["2014-12-16",318]
["2014-12-15",312]
["2014-12-12",301]
["2014-12-11",273]
["2014-12-10",280]
["2014-12-09",266]
["2014-12-08",255]
["2014-12-05",243]
["2014-12-04",238]
["2014-12-03",233]
["2014-12-02",238]
["2014-12-01",244]
["2014-11-28",238]
["2014-11-27",238]
["2014-11-26",238]
["2014-11-25",245]
["2014-11-24",241]
["2014-11-21",237]
["2014-11-20",252]
["2014-11-19",255]
["2014-11-18",264]
["2014-11-17",264]
["2014-11-14",263]
["2014-11-13",250]
["2014-11-12",249]
["2014-11-11",249]
["2014-11-10",249]
["2014-11-07",252]
["2014-11-06",243]
["2014-11-05",242]
["2014-11-04",244]
["2014-11-03",237]
["2014-10-31",233]
["2014-10-30",233]
["2014-10-29",236]
["2014-10-28",239]
["2014-10-27",245]
["2014-10-24",243]
["2014-10-23",243]
["2014-10-22",243]
["2014-10-21",244]
["2014-10-20",241]
["2014-10-17",239]
["2014-10-16",245]
["2014-10-15",244]
["2014-10-14",245]
["2014-10-13",236]
["2014-10-10",236]
["2014-10-09",232]
["2014-10-08",239]
["2014-10-07",240]
["2014-10-06",237]
["2014-10-03",239]
["2014-10-02",240]
["2014-10-01",246]
["2014-09-30",239]
["2014-09-29",243]
["2014-09-26",230]
["2014-09-25",228]
["2014-09-24",218]
["2014-09-23",220]
["2014-09-22",219]
["2014-09-19",212]
["2014-09-18",210]
["2014-09-17",209]
["2014-09-16",218]
["2014-09-15",219]
["2014-09-12",214]
["2014-09-11",209]
["2014-09-10",208]
["2014-09-09",210]
["2014-09-08",200]
["2014-09-05",200]
["2014-09-04",203]
["2014-09-03",201]
["2014-09-02",203]
["2014-09-01",205]
["2014-08-29",205]
["2014-08-28",204]
["2014-08-27",205]
["2014-08-26",209]
["2014-08-25",212]
["2014-08-22",212]
["2014-08-21",211]
["2014-08-20",213]
["2014-08-19",215]
["2014-08-18",218]
["2014-08-15",222]
["2014-08-14",221]
["2014-08-13",227]
["2014-08-12",228]
["2014-08-11",231]
["2014-08-08",233]
["2014-08-07",234]
["2014-08-06",230]
["2014-08-05",231]
["2014-08-04",224]
["2014-08-01",225]
["2014-07-31",212]
["2014-07-30",206]
["2014-07-29",215]
["2014-07-28",210]
["2014-07-25",209]
["2014-07-24",203]
["2014-07-23",203]
["2014-07-22",207]
["2014-07-21",208]
["2014-07-18",209]
["2014-07-17",219]
["2014-07-16",214]
["2014-07-15",214]
["2014-07-14",213]
["2014-07-11",215]
["2014-07-10",214]
["2014-07-09",212]
["2014-07-08",208]
["2014-07-07",206]
["2014-07-04",206]
["2014-07-03",206]
["2014-07-02",207]
["2014-07-01",206]
["2014-06-30",208]
["2014-06-27",205]
["2014-06-26",203]
["2014-06-25",203]
["2014-06-24",207]
["2014-06-23",208]
["2014-06-20",209]
["2014-06-19",208]
["2014-06-18",206]
["2014-06-17",207]
["2014-06-16",208]
["2014-06-13",204]
["2014-06-12",211]
["2014-06-11",212]
["2014-06-10",201]
["2014-06-09",197]
["2014-06-06",198]
["2014-06-05",207]
["2014-06-04",210]
["2014-06-03",207]
["2014-06-02",208]
["2014-05-30",208]
["2014-05-29",206]
["2014-05-28",212]
["2014-05-27",216]
["2014-05-26",214]
["2014-05-23",214]
["2014-05-22",215]
["2014-05-21",212]
["2014-05-20",216]
["2014-05-19",210]
["2014-05-16",212]
["2014-05-15",214]
["2014-05-14",207]
["2014-05-13",205]
["2014-05-12",205]
["2014-05-09",205]
["2014-05-08",202]
["2014-05-07",204]
["2014-05-06",204]
["2014-05-05",207]
["2014-05-02",207]
["2014-05-01",209]
["2014-04-30",211]
["2014-04-29",214]
["2014-04-28",219]
["2014-04-25",222]
["2014-04-24",220]
["2014-04-23",219]
["2014-04-22",215]
["2014-04-21",213]
["2014-04-17",212]
["2014-04-16",221]
["2014-04-15",224]
["2014-04-14",223]
["2014-04-11",222]
["2014-04-10",220]
["2014-04-09",222]
["2014-04-08",221]
["2014-04-07",222]
["2014-04-04",221]
["2014-04-03",223]
["2014-04-02",223]
["2014-04-01",222]
["2014-03-31",228]
["2014-03-28",227]
["2014-03-27",224]
["2014-03-26",223]
["2014-03-25",230]
["2014-03-24",237]
["2014-03-21",234]
["2014-03-20",236]
["2014-03-19",232]
["2014-03-18",234]
["2014-03-17",240]
["2014-03-14",245]
["2014-03-13",245]
["2014-03-12",238]
["2014-03-11",237]
["2014-03-10",232]
["2014-03-07",230]
["2014-03-06",226]
["2014-03-05",229]
["2014-03-04",238]
["2014-03-03",251]
["2014-02-28",245]
["2014-02-27",247]
["2014-02-26",249]
["2014-02-25",244]
["2014-02-24",239]
["2014-02-21",246]
["2014-02-20",249]
["2014-02-19",251]
["2014-02-18",259]
["2014-02-17",256]
["2014-02-14",256]
["2014-02-13",257]
["2014-02-12",255]
["2014-02-11",255]
["2014-02-10",256]
["2014-02-07",252]
["2014-02-06",254]
["2014-02-05",260]
["2014-02-04",268]
["2014-02-03",278]
["2014-01-31",272]
["2014-01-30",273]
["2014-01-29",273]
["2014-01-28",264]
["2014-01-27",264]
["2014-01-24",264]
["2014-01-23",261]
["2014-01-22",252]
["2014-01-21",248]
["2014-01-20",248]
["2014-01-17",248]
["2014-01-16",246]
["2014-01-15",243]
["2014-01-14",248]
["2014-01-13",251]
["2014-01-10",249]
["2014-01-09",245]
["2014-01-08",248]
["2014-01-07",245]
["2014-01-06",236]
["2014-01-03",229]
["2014-01-02",230]
["2013-12-31",224]
["2013-12-30",228]
["2013-12-27",226]
["2013-12-26",222]
["2013-12-24",223]
["2013-12-23",229]
["2013-12-20",232]
["2013-12-19",230]
["2013-12-18",235]
["2013-12-17",238]
["2013-12-16",232]
["2013-12-13",234]
["2013-12-12",235]
["2013-12-11",243]
["2013-12-10",247]
["2013-12-09",246]
["2013-12-06",246]
["2013-12-05",255]
["2013-12-04",257]
["2013-12-03",259]
["2013-12-02",255]
["2013-11-29",247]
["2013-11-28",247]
["2013-11-27",247]
["2013-11-26",243]
["2013-11-25",242]
["2013-11-22",237]
["2013-11-21",236]
["2013-11-20",235]
["2013-11-19",236]
["2013-11-18",232]
["2013-11-15",233]
["2013-11-14",235]
["2013-11-13",241]
["2013-11-12",242]
["2013-11-11",237]
["2013-11-08",237]
["2013-11-07",233]
["2013-11-06",226]
["2013-11-05",224]
["2013-11-04",223]
["2013-11-01",224]
["2013-10-31",220]
["2013-10-30",216]
["2013-10-29",219]
["2013-10-28",219]
["2013-10-25",219]
["2013-10-24",215]
["2013-10-23",213]
["2013-10-22",213]
["2013-10-21",211]
["2013-10-18",206]
["2013-10-17",214]
["2013-10-16",211]
["2013-10-15",207]
["2013-10-14",213]
["2013-10-11",213]
["2013-10-10",219]
["2013-10-09",222]
["2013-10-08",225]
["2013-10-07",228]
["2013-10-04",230]
["2013-10-03",234]
["2013-10-02",234]
["2013-10-01",234]
["2013-09-30",236]
["2013-09-27",231]
["2013-09-26",228]
["2013-09-25",221]
["2013-09-24",221]
["2013-09-23",213]
["2013-09-20",213]
["2013-09-19",208]
["2013-09-18",211]
["2013-09-17",217]
["2013-09-16",222]
["2013-09-13",229]
["2013-09-12",231]
["2013-09-11",230]
["2013-09-10",235]
["2013-09-09",230]
["2013-09-06",237]
["2013-09-05",243]
["2013-09-04",250]
["2013-09-03",248]
["2013-09-02",251]
["2013-08-30",251]
["2013-08-29",251]
["2013-08-28",248]
["2013-08-27",249]
["2013-08-26",242]
["2013-08-23",242]
["2013-08-22",238]
["2013-08-21",246]
["2013-08-20",241]
["2013-08-19",240]
["2013-08-16",232]
["2013-08-15",228]
["2013-08-14",226]
["2013-08-13",222]
["2013-08-12",230]
["2013-08-09",236]
["2013-08-08",234]
["2013-08-07",237]
["2013-08-06",232]
["2013-08-05",233]
["2013-08-02",236]
["2013-08-01",233]
["2013-07-31",235]
["2013-07-30",236]
["2013-07-29",233]
["2013-07-26",230]
["2013-07-25",217]
["2013-07-24",211]
["2013-07-23",208]
["2013-07-22",207]
["2013-07-19",207]
["2013-07-18",203]
["2013-07-17",211]
["2013-07-16",221]
["2013-07-15",224]
["2013-07-12",234]
["2013-07-11",239]
["2013-07-10",238]
["2013-07-09",243]
["2013-07-08",241]
["2013-07-05",236]
["2013-07-04",239]
["2013-07-03",239]
["2013-07-02",236]
["2013-07-01",232]
["2013-06-28",237]
["2013-06-27",244]
["2013-06-26",248]
["2013-06-25",252]
["2013-06-24",263]
["2013-06-21",253]
["2013-06-20",249]
["2013-06-19",233]
["2013-06-18",224]
["2013-06-17",216]
["2013-06-14",216]
["2013-06-13",212]
["2013-06-12",226]
["2013-06-11",236]
["2013-06-10",222]
["2013-06-07",213]
["2013-06-06",218]
["2013-06-05",210]
["2013-06-04",206]
["2013-06-03",207]
["2013-05-31",206]
["2013-05-30",198]
["2013-05-29",203]
["2013-05-28",197]
["2013-05-27",191]
["2013-05-24",191]
["2013-05-23",189]
["2013-05-22",178]
["2013-05-21",181]
["2013-05-20",176]
["2013-05-17",175]
["2013-05-16",177]
["2013-05-15",168]
["2013-05-14",162]
["2013-05-13",165]
["2013-05-10",161]
["2013-05-09",161]
["2013-05-08",164]
["2013-05-07",161]
["2013-05-06",162]
["2013-05-03",165]
["2013-05-02",169]
["2013-05-01",170]
["2013-04-30",171]
["2013-04-29",173]
["2013-04-26",175]
["2013-04-25",174]
["2013-04-24",176]
["2013-04-23",174]
["2013-04-22",174]
["2013-04-19",176]
["2013-04-18",178]
["2013-04-17",173]
["2013-04-16",172]
["2013-04-15",174]
["2013-04-12",168]
["2013-04-11",165]
["2013-04-10",169]
["2013-04-09",174]
["2013-04-08",178]
["2013-04-05",181]
["2013-04-04",181]
["2013-04-03",185]
["2013-04-02",188]
["2013-04-01",191]
["2013-03-28",189]
["2013-03-27",191]
["2013-03-26",191]
["2013-03-25",191]
["2013-03-22",194]
["2013-03-21",189]
["2013-03-20",187]
["2013-03-19",188]
["2013-03-18",179]
["2013-03-15",179]
["2013-03-14",174]
["2013-03-13",177]
["2013-03-12",169]
["2013-03-11",170]
["2013-03-08",167]
["2013-03-07",166]
["2013-03-06",167]
["2013-03-05",171]
["2013-03-04",178]
["2013-03-01",182]
["2013-02-28",178]
["2013-02-27",173]
["2013-02-26",176]
["2013-02-25",173]
["2013-02-22",171]
["2013-02-21",171]
["2013-02-20",169]
["2013-02-19",158]
["2013-02-18",158]
["2013-02-15",158]
["2013-02-14",156]
["2013-02-13",154]
["2013-02-12",156]
["2013-02-11",156]
["2013-02-08",155]
["2013-02-07",156]
["2013-02-06",156]
["2013-02-05",153]
["2013-02-04",155]
["2013-02-01",151]
["2013-01-31",155]
["2013-01-30",153]
["2013-01-29",150]
["2013-01-28",148]
["2013-01-25",147]
["2013-01-24",151]
["2013-01-23",149]
["2013-01-22",148]
["2013-01-21",147]
["2013-01-18",147]
["2013-01-17",146]
["2013-01-16",148]
["2013-01-15",147]
["2013-01-14",143]
["2013-01-11",147]
["2013-01-10",146]
["2013-01-09",148]
["2013-01-08",146]
["2013-01-07",142]
["2013-01-04",137]
["2013-01-03",137]
["2013-01-02",136]
["2012-12-31",142]
["2012-12-28",148]
["2012-12-27",146]
["2012-12-26",142]
["2012-12-24",141]
["2012-12-21",143]
["2012-12-20",138]
["2012-12-19",137]
["2012-12-18",138]
["2012-12-17",140]
["2012-12-14",146]
["2012-12-13",147]
["2012-12-12",148]
["2012-12-11",153]
["2012-12-10",155]
["2012-12-07",154]
["2012-12-06",158]
["2012-12-05",156]
["2012-12-04",156]
["2012-12-03",155]
["2012-11-30",153]
["2012-11-29",152]
["2012-11-28",155]
["2012-11-27",154]
["2012-11-26",155]
["2012-11-23",154]
["2012-11-22",154]
["2012-11-21",154]
["2012-11-20",158]
["2012-11-19",162]
["2012-11-16",165]
["2012-11-15",166]
["2012-11-14",164]
["2012-11-13",160]
["2012-11-12",154]
["2012-11-09",154]
["2012-11-08",152]
["2012-11-07",147]
["2012-11-06",143]
["2012-11-05",147]
["2012-11-02",153]
["2012-11-01",152]
["2012-10-31",158]
["2012-10-30",157]
["2012-10-29",157]
["2012-10-26",154]
["2012-10-25",144]
["2012-10-24",145]
["2012-10-23",146]
["2012-10-22",145]
["2012-10-19",145]
["2012-10-18",137]
["2012-10-17",140]
["2012-10-16",146]
["2012-10-15",151]
["2012-10-12",152]
["2012-10-11",155]
["2012-10-10",153]
["2012-10-09",149]
["2012-10-08",146]
["2012-10-05",146]
["2012-10-04",153]
["2012-10-03",157]
["2012-10-02",159]
["2012-10-01",162]
["2012-09-28",166]
["2012-09-27",166]
["2012-09-26",168]
["2012-09-25",164]
["2012-09-24",157]
["2012-09-21",154]
["2012-09-20",156]
["2012-09-19",156]
["2012-09-18",155]
["2012-09-17",153]
["2012-09-14",149]
["2012-09-13",157]
["2012-09-12",157]
["2012-09-11",163]
["2012-09-10",165]
["2012-09-07",166]
["2012-09-06",165]
["2012-09-05",176]
["2012-09-04",176]
["2012-09-03",181]
["2012-08-31",181]
["2012-08-30",175]
["2012-08-29",173]
["2012-08-28",173]
["2012-08-27",177]
["2012-08-24",174]
["2012-08-23",172]
["2012-08-22",169]
["2012-08-21",167]
["2012-08-20",168]
["2012-08-17",167]
["2012-08-16",166]
["2012-08-15",163]
["2012-08-14",166]
["2012-08-13",169]
["2012-08-10",169]
["2012-08-09",165]
["2012-08-08",164]
["2012-08-07",169]
["2012-08-06",173]
["2012-08-03",174]
["2012-08-02",182]
["2012-08-01",175]
["2012-07-31",183]
["2012-07-30",182]
["2012-07-27",190]
["2012-07-26",207]
["2012-07-25",210]
["2012-07-24",211]
["2012-07-23",205]
["2012-07-20",198]
["2012-07-19",197]
["2012-07-18",199]
["2012-07-17",195]
["2012-07-16",200]
["2012-07-13",203]
["2012-07-12",206]
["2012-07-11",208]
["2012-07-10",211]
["2012-07-09",208]
["2012-07-06",208]
["2012-07-05",205]
["2012-07-04",205]
["2012-07-03",205]
["2012-07-02",213]
["2012-06-29",208]
["2012-06-28",219]
["2012-06-27",213]
["2012-06-26",213]
["2012-06-25",214]
["2012-06-22",208]
["2012-06-21",212]
["2012-06-20",211]
["2012-06-19",211]
["2012-06-18",211]
["2012-06-15",203]
["2012-06-14",213]
["2012-06-13",214]
["2012-06-12",216]
["2012-06-11",226]
["2012-06-08",222]
["2012-06-07",222]
["2012-06-06",221]
["2012-06-05",234]
["2012-06-04",244]
["2012-06-01",251]
["2012-05-31",244]
["2012-05-30",237]
["2012-05-29",229]
["2012-05-28",229]
["2012-05-25",229]
["2012-05-24",229]
["2012-05-23",234]
["2012-05-22",223]
["2012-05-21",226]
["2012-05-18",228]
["2012-05-17",227]
["2012-05-16",216]
["2012-05-15",212]
["2012-05-14",208]
["2012-05-11",201]
["2012-05-10",195]
["2012-05-09",196]
["2012-05-08",193]
["2012-05-07",188]
["2012-05-04",187]
["2012-05-03",182]
["2012-05-02",183]
["2012-05-01",184]
["2012-04-30",188]
["2012-04-27",188]
["2012-04-26",186]
["2012-04-25",185]
["2012-04-24",185]
["2012-04-23",188]
["2012-04-20",183]
["2012-04-19",181]
["2012-04-18",184]
["2012-04-17",183]
["2012-04-16",190]
["2012-04-13",188]
["2012-04-12",181]
["2012-04-11",188]
["2012-04-10",194]
["2012-04-09",196]
["2012-04-05",185]
["2012-04-04",178]
["2012-04-03",167]
["2012-04-02",178]
["2012-03-30",177]
["2012-03-29",183]
["2012-03-28",179]
["2012-03-27",177]
["2012-03-26",173]
["2012-03-23",174]
["2012-03-22",171]
["2012-03-21",167]
["2012-03-20",165]
["2012-03-19",166]
["2012-03-16",171]
["2012-03-15",169]
["2012-03-14",166]
["2012-03-13",172]
["2012-03-12",176]
["2012-03-09",182]
["2012-03-08",186]
["2012-03-07",195]
["2012-03-06",200]
["2012-03-05",191]
["2012-03-02",190]
["2012-03-01",193]
["2012-02-29",196]
["2012-02-28",202]
["2012-02-27",206]
["2012-02-24",201]
["2012-02-23",201]
["2012-02-22",197]
["2012-02-21",194]
["2012-02-20",198]
["2012-02-17",198]
["2012-02-16",202]
["2012-02-15",205]
["2012-02-14",203]
["2012-02-13",196]
["2012-02-10",201]
["2012-02-09",196]
["2012-02-08",203]
["2012-02-07",203]
["2012-02-06",210]
["2012-02-03",207]
["2012-02-02",218]
["2012-02-01",216]
["2012-01-31",224]
["2012-01-30",224]
["2012-01-27",218]
["2012-01-26",218]
["2012-01-25",210]
["2012-01-24",212]
["2012-01-23",209]
["2012-01-20",213]
["2012-01-19",218]
["2012-01-18",230]
["2012-01-17",234]
["2012-01-16",237]
["2012-01-13",237]
["2012-01-12",229]
["2012-01-11",233]
["2012-01-10",224]
["2012-01-09",220]
["2012-01-06",219]
["2012-01-05",214]
["2012-01-04",216]
["2012-01-03",217]
["2012-01-02",223]
["2011-12-30",223]
["2011-12-29",223]
["2011-12-28",220]
["2011-12-27",211]
["2011-12-26",210]
["2011-12-23",210]
["2011-12-22",219]
["2011-12-21",217]
["2011-12-20",223]
["2011-12-19",235]
["2011-12-16",231]
["2011-12-15",221]
["2011-12-14",222]
["2011-12-13",213]
["2011-12-12",211]
["2011-12-09",208]
["2011-12-08",221]
["2011-12-07",221]
["2011-12-06",214]
["2011-12-05",220]
["2011-12-02",224]
["2011-12-01",219]
["2011-11-30",228]
["2011-11-29",237]
["2011-11-28",241]
["2011-11-25",241]
["2011-11-24",248]
["2011-11-23",248]
["2011-11-22",239]
["2011-11-21",241]
["2011-11-18",232]
["2011-11-17",236]
["2011-11-16",225]
["2011-11-15",219]
["2011-11-14",220]
["2011-11-11",220]
["2011-11-10",220]
["2011-11-09",230]
["2011-11-08",213]
["2011-11-07",223]
["2011-11-04",219]
["2011-11-03",215]
["2011-11-02",225]
["2011-11-01",229]
["2011-10-31",222]
["2011-10-28",212]
["2011-10-27",197]
["2011-10-26",224]
["2011-10-25",233]
["2011-10-24",226]
["2011-10-21",231]
["2011-10-20",237]
["2011-10-19",235]
["2011-10-18",232]
["2011-10-17",232]
["2011-10-14",225]
["2011-10-13",233]
["2011-10-12",223]
["2011-10-11",239]
["2011-10-10",257]
["2011-10-07",257]
["2011-10-06",262]
["2011-10-05",279]
["2011-10-04",289]
["2011-10-03",288]
["2011-09-30",275]
["2011-09-29",270]
["2011-09-28",265]
["2011-09-27",264]
["2011-09-26",282]
["2011-09-23",278]
["2011-09-22",282]
["2011-09-21",254]
["2011-09-20",244]
["2011-09-19",251]
["2011-09-16",231]
["2011-09-15",228]
["2011-09-14",233]
["2011-09-13",228]
["2011-09-12",232]
["2011-09-09",228]
["2011-09-08",217]
["2011-09-07",211]
["2011-09-06",217]
["2011-09-05",214]
["2011-09-02",214]
["2011-09-01",203]
["2011-08-31",194]
["2011-08-30",207]
["2011-08-29",200]
["2011-08-26",210]
["2011-08-25",204]
["2011-08-24",201]
["2011-08-23",213]
["2011-08-22",214]
["2011-08-19",215]
["2011-08-18",213]
["2011-08-17",206]
["2011-08-16",206]
["2011-08-15",199]
["2011-08-12",214]
["2011-08-11",215]
["2011-08-10",221]
["2011-08-09",217]
["2011-08-08",212]
["2011-08-05",179]
["2011-08-04",186]
["2011-08-03",166]
["2011-08-02",162]
["2011-08-01",157]
["2011-07-29",157]
["2011-07-28",153]
["2011-07-27",156]
["2011-07-26",159]
["2011-07-25",159]
["2011-07-22",163]
["2011-07-21",161]
["2011-07-20",166]
["2011-07-19",171]
["2011-07-18",170]
["2011-07-15",173]
["2011-07-14",172]
["2011-07-13",176]
["2011-07-12",173]
["2011-07-11",173]
["2011-07-08",163]
["2011-07-07",153]
["2011-07-06",159]
["2011-07-05",154]
["2011-07-04",147]
["2011-07-01",147]
["2011-06-30",148]
["2011-06-29",154]
["2011-06-28",160]
["2011-06-27",168]
["2011-06-24",175]
["2011-06-23",172]
["2011-06-22",166]
["2011-06-21",167]
["2011-06-20",172]
["2011-06-17",179]
["2011-06-16",179]
["2011-06-15",174]
["2011-06-14",161]
["2011-06-13",176]
["2011-06-10",177]
["2011-06-09",176]
["2011-06-08",179]
["2011-06-07",175]
["2011-06-06",177]
["2011-06-03",175]
["2011-06-02",174]
["2011-06-01",183]
["2011-05-31",175]
["2011-05-30",175]
["2011-05-27",175]
["2011-05-26",174]
["2011-05-25",166]
["2011-05-24",165]
["2011-05-23",165]
["2011-05-20",162]
["2011-05-19",163]
["2011-05-18",166]
["2011-05-17",169]
["2011-05-16",169]
["2011-05-13",168]
["2011-05-12",167]
["2011-05-11",171]
["2011-05-10",166]
["2011-05-09",168]
["2011-05-06",171]
["2011-05-05",171]
["2011-05-04",173]
["2011-05-03",169]
["2011-05-02",165]
["2011-04-29",169]
["2011-04-28",176]
["2011-04-27",176]
["2011-04-26",179]
["2011-04-25",179]
["2011-04-21",176]
["2011-04-20",176]
["2011-04-19",181]
["2011-04-18",178]
["2011-04-15",175]
["2011-04-14",171]
["2011-04-13",171]
["2011-04-12",170]
["2011-04-11",164]
["2011-04-08",164]
["2011-04-07",164]
["2011-04-06",163]
["2011-04-05",168]
["2011-04-04",169]
["2011-04-01",171]
["2011-03-31",173]
["2011-03-30",170]
["2011-03-29",173]
["2011-03-28",170]
["2011-03-25",171]
["2011-03-24",173]
["2011-03-23",176]
["2011-03-22",178]
["2011-03-21",177]
["2011-03-18",184]
["2011-03-17",187]
["2011-03-16",191]
["2011-03-15",180]
["2011-03-14",174]
["2011-03-11",171]
["2011-03-10",173]
["2011-03-09",161]
["2011-03-08",156]
["2011-03-07",165]
["2011-03-04",166]
["2011-03-03",162]
["2011-03-02",168]
["2011-03-01",174]
["2011-02-28",177]
["2011-02-25",186]
["2011-02-24",188]
["2011-02-23",184]
["2011-02-22",183]
["2011-02-21",176]
["2011-02-18",176]
["2011-02-17",175]
["2011-02-16",175]
["2011-02-15",180]
["2011-02-14",181]
["2011-02-11",176]
["2011-02-10",171]
["2011-02-09",173]
["2011-02-08",162]
["2011-02-07",163]
["2011-02-04",160]
["2011-02-03",165]
["2011-02-02",165]
["2011-02-01",169]
["2011-01-31",179]
["2011-01-28",186]
["2011-01-27",174]
["2011-01-26",166]
["2011-01-25",173]
["2011-01-24",165]
["2011-01-21",169]
["2011-01-20",168]
["2011-01-19",175]
["2011-01-18",167]
["2011-01-17",169]
["2011-01-14",169]
["2011-01-13",168]
["2011-01-12",166]
["2011-01-11",168]
["2011-01-10",173]
["2011-01-07",169]
["2011-01-06",165]
["2011-01-05",164]
["2011-01-04",167]
["2011-01-03",181]
["2010-12-31",189]
["2010-12-30",180]
["2010-12-29",184]
["2010-12-28",178]
["2010-12-27",178]
["2010-12-24",179]
["2010-12-23",179]
["2010-12-22",181]
["2010-12-21",186]
["2010-12-20",183]
["2010-12-17",199]
["2010-12-16",184]
["2010-12-15",175]
["2010-12-14",166]
["2010-12-13",172]
["2010-12-10",167]
["2010-12-09",168]
["2010-12-08",168]
["2010-12-07",162]
["2010-12-06",176]
["2010-12-03",171]
["2010-12-02",178]
["2010-12-01",183]
["2010-11-30",198]
["2010-11-29",192]
["2010-11-26",177]
["2010-11-25",177]
["2010-11-24",177]
["2010-11-23",189]
["2010-11-22",183]
["2010-11-19",177]
["2010-11-18",175]
["2010-11-17",175]
["2010-11-16",187]
["2010-11-15",171]
["2010-11-12",176]
["2010-11-11",175]
["2010-11-10",175]
["2010-11-09",174]
["2010-11-08",180]
["2010-11-05",174]
["2010-11-04",176]
["2010-11-03",172]
["2010-11-02",175]
["2010-11-01",171]
["2010-10-29",175]
["2010-10-28",173]
["2010-10-27",171]
["2010-10-26",174]
["2010-10-25",178]
["2010-10-22",183]
["2010-10-21",186]
["2010-10-20",187]
["2010-10-19",191]
["2010-10-18",181]
["2010-10-15",172]
["2010-10-14",176]
["2010-10-13",180]
["2010-10-12",185]
["2010-10-11",197]
["2010-10-08",197]
["2010-10-07",201]
["2010-10-06",202]
["2010-10-05",204]
["2010-10-04",206]
["2010-10-01",203]
["2010-09-30",206]
["2010-09-29",207]
["2010-09-28",215]
["2010-09-27",209]
["2010-09-24",205]
["2010-09-23",214]
["2010-09-22",213]
["2010-09-21",213]
["2010-09-20",201]
["2010-09-17",199]
["2010-09-16",195]
["2010-09-15",206]
["2010-09-14",215]
["2010-09-13",213]
["2010-09-10",212]
["2010-09-09",216]
["2010-09-08",224]
["2010-09-07",226]
["2010-09-06",213]
["2010-09-03",213]
["2010-09-02",220]
["2010-09-01",222]
["2010-08-31",233]
["2010-08-30",229]
["2010-08-27",216]
["2010-08-26",222]
["2010-08-25",212]
["2010-08-24",215]
["2010-08-23",202]
["2010-08-20",204]
["2010-08-19",202]
["2010-08-18",197]
["2010-08-17",199]
["2010-08-16",208]
["2010-08-13",200]
["2010-08-12",195]
["2010-08-11",195]
["2010-08-10",195]
["2010-08-09",194]
["2010-08-06",208]
["2010-08-05",205]
["2010-08-04",200]
["2010-08-03",205]
["2010-08-02",204]
["2010-07-30",214]
["2010-07-29",204]
["2010-07-28",207]
["2010-07-27",202]
["2010-07-26",204]
["2010-07-23",210]
["2010-07-22",218]
["2010-07-21",226]
["2010-07-20",220]
["2010-07-19",221]
["2010-07-16",228]
["2010-07-15",227]
["2010-07-14",221]
["2010-07-13",212]
["2010-07-12",223]
["2010-07-09",229]
["2010-07-08",233]
["2010-07-07",236]
["2010-07-06",244]
["2010-07-05",247]
["2010-07-02",247]
["2010-07-01",250]
["2010-06-30",248]
["2010-06-29",248]
["2010-06-28",238]
["2010-06-25",237]
["2010-06-24",236]
["2010-06-23",238]
["2010-06-22",233]
["2010-06-21",222]
["2010-06-18",223]
["2010-06-17",229]
["2010-06-16",224]
["2010-06-15",223]
["2010-06-14",234]
["2010-06-11",242]
["2010-06-10",234]
["2010-06-09",247]
["2010-06-08",251]
["2010-06-07",244]
["2010-06-04",245]
["2010-06-03",223]
["2010-06-02",230]
["2010-06-01",235]
["2010-05-31",235]
["2010-05-28",235]
["2010-05-27",227]
["2010-05-26",239]
["2010-05-25",249]
["2010-05-24",241]
["2010-05-21",246]
["2010-05-20",243]
["2010-05-19",230]
["2010-05-18",225]
["2010-05-17",210]
["2010-05-14",212]
["2010-05-13",197]
["2010-05-12",196]
["2010-05-11",210]
["2010-05-10",214]
["2010-05-07",240]
["2010-05-06",248]
["2010-05-05",218]
["2010-05-04",205]
["2010-05-03",190]
["2010-04-30",196]
["2010-04-29",190]
["2010-04-28",186]
["2010-04-27",194]
["2010-04-26",176]
["2010-04-23",178]
["2010-04-22",180]
["2010-04-21",179]
["2010-04-20",175]
["2010-04-19",175]
["2010-04-16",177]
["2010-04-15",167]
["2010-04-14",170]
["2010-04-13",179]
["2010-04-12",180]
["2010-04-09",176]
["2010-04-08",175]
["2010-04-07",182]
["2010-04-06",173]
["2010-04-05",172]
["2010-04-01",184]
["2010-03-31",185]
["2010-03-30",182]
["2010-03-29",182]
["2010-03-26",184]
["2010-03-25",181]
["2010-03-24",182]
["2010-03-23",192]
["2010-03-22",197]
["2010-03-19",194]
["2010-03-18",193]
["2010-03-17",192]
["2010-03-16",191]
["2010-03-15",189]
["2010-03-12",189]
["2010-03-11",186]
["2010-03-10",185]
["2010-03-09",183]
["2010-03-08",183]
["2010-03-05",189]
["2010-03-04",198]
["2010-03-03",203]
["2010-03-02",200]
["2010-03-01",201]
["2010-02-26",215]
["2010-02-25",215]
["2010-02-24",218]
["2010-02-23",221]
["2010-02-22",208]
["2010-02-19",209]
["2010-02-18",206]
["2010-02-17",211]
["2010-02-16",219]
["2010-02-15",222]
["2010-02-12",222]
["2010-02-11",216]
["2010-02-10",224]
["2010-02-09",234]
["2010-02-08",243]
["2010-02-05",249]
["2010-02-04",240]
["2010-02-03",225]
["2010-02-02",230]
["2010-02-01",230]
["2010-01-29",234]
["2010-01-28",228]
["2010-01-27",224]
["2010-01-26",219]
["2010-01-25",217]
["2010-01-22",223]
["2010-01-21",223]
["2010-01-20",214]
["2010-01-19",207]
["2010-01-15",210]
["2010-01-14",204]
["2010-01-13",195]
["2010-01-12",201]
["2010-01-11",190]
["2010-01-08",195]
["2010-01-07",193]
["2010-01-06",191]
["2010-01-05",197]
["2010-01-04",191]
["2009-12-31",192]
["2009-12-30",197]
["2009-12-29",197]
["2009-12-28",194]
["2009-12-24",201]
["2009-12-23",207]
["2009-12-22",206]
["2009-12-21",204]
["2009-12-18",213]
["2009-12-17",217]
["2009-12-16",201]
["2009-12-15",196]
["2009-12-14",199]
["2009-12-11",201]
["2009-12-10",204]
["2009-12-09",209]
["2009-12-08",213]
["2009-12-07",207]
["2009-12-04",206]
["2009-12-03",212]
["2009-12-02",218]
["2009-12-01",219]
["2009-11-30",231]
["2009-11-27",227]
["2009-11-26",216]
["2009-11-25",216]
["2009-11-24",216]
["2009-11-23",213]
["2009-11-20",217]
["2009-11-19",219]
["2009-11-18",216]
["2009-11-17",220]
["2009-11-16",220]
["2009-11-13",219]
["2009-11-12",216]
["2009-11-11",209]
["2009-11-10",212]
["2009-11-09",217]
["2009-11-06",228]
["2009-11-05",228]
["2009-11-04",225]
["2009-11-03",236]
["2009-11-02",238]
["2009-10-30",240]
["2009-10-29",231]
["2009-10-28",247]
["2009-10-27",239]
["2009-10-26",221]
["2009-10-23",224]
["2009-10-22",222]
["2009-10-21",221]
["2009-10-20",224]
["2009-10-19",218]
["2009-10-16",216]
["2009-10-15",207]
["2009-10-14",206]
["2009-10-13",218]
["2009-10-12",212]
["2009-10-09",213]
["2009-10-08",220]
["2009-10-07",238]
["2009-10-06",233]
["2009-10-05",238]
["2009-10-02",249]
["2009-10-01",251]
["2009-09-30",234]
["2009-09-29",240]
["2009-09-28",240]
["2009-09-25",240]
["2009-09-24",234]
["2009-09-23",228]
["2009-09-22",224]
["2009-09-21",224]
["2009-09-18",222]
["2009-09-17",228]
["2009-09-16",216]
["2009-09-15",226]
["2009-09-14",234]
["2009-09-11",243]
["2009-09-10",249]
["2009-09-09",239]
["2009-09-08",241]
["2009-09-07",260]
["2009-09-04",260]
["2009-09-03",265]
["2009-09-02",276]
["2009-09-01",272]
["2009-08-31",271]
["2009-08-28",267]
["2009-08-27",263]
["2009-08-26",266]
["2009-08-25",262]
["2009-08-24",254]
["2009-08-21",253]
["2009-08-20",266]
["2009-08-19",264]
["2009-08-18",255]
["2009-08-17",261]
["2009-08-14",256]
["2009-08-13",254]
["2009-08-12",246]
["2009-08-11",248]
["2009-08-10",238]
["2009-08-07",228]
["2009-08-06",238]
["2009-08-05",230]
["2009-08-04",238]
["2009-08-03",243]
["2009-07-31",265]
["2009-07-30",254]
["2009-07-29",253]
["2009-07-28",248]
["2009-07-27",244]
["2009-07-24",249]
["2009-07-23",244]
["2009-07-22",263]
["2009-07-21",269]
["2009-07-20",257]
["2009-07-17",250]
["2009-07-16",263]
["2009-07-15",261]
["2009-07-14",278]
["2009-07-13",293]
["2009-07-10",303]
["2009-07-09",290]
["2009-07-08",306]
["2009-07-07",286]
["2009-07-06",286]
["2009-07-03",288]
["2009-07-02",288]
["2009-07-01",277]
["2009-06-30",284]
["2009-06-29",279]
["2009-06-26",290]
["2009-06-25",295]
["2009-06-24",294]
["2009-06-23",309]
["2009-06-22",309]
["2009-06-19",291]
["2009-06-18",285]
["2009-06-17",294]
["2009-06-16",281]
["2009-06-15",274]
["2009-06-12",265]
["2009-06-11",260]
["2009-06-10",260]
["2009-06-09",264]
["2009-06-08",266]
["2009-06-05",269]
["2009-06-04",278]
["2009-06-03",291]
["2009-06-02",280]
["2009-06-01",266]
["2009-05-29",294]
["2009-05-28",282]
["2009-05-27",278]
["2009-05-26",291]
["2009-05-25",300]
["2009-05-22",300]
["2009-05-21",306]
["2009-05-20",310]
["2009-05-19",309]
["2009-05-18",316]
["2009-05-15",330]
["2009-05-14",333]
["2009-05-13",337]
["2009-05-12",326]
["2009-05-11",324]
["2009-05-08",310]
["2009-05-07",305]
["2009-05-06",314]
["2009-05-05",330]
["2009-05-04",331]
["2009-05-01",351]
["2009-04-30",355]
["2009-04-29",359]
["2009-04-28",370]
["2009-04-27",384]
["2009-04-24",376]
["2009-04-23",389]
["2009-04-22",386]
["2009-04-21",391]
["2009-04-20",399]
["2009-04-17",381]
["2009-04-16",388]
["2009-04-15",388]
["2009-04-14",380]
["2009-04-13",368]
["2009-04-09",368]
["2009-04-08",376]
["2009-04-07",383]
["2009-04-06",378]
["2009-04-03",384]
["2009-04-02",412]
["2009-04-01",427]
["2009-03-31",425]
["2009-03-30",427]
["2009-03-27",414]
["2009-03-26",411]
["2009-03-25",417]
["2009-03-24",421]
["2009-03-23",419]
["2009-03-20",426]
["2009-03-19",423]
["2009-03-18",438]
["2009-03-17",428]
["2009-03-16",431]
["2009-03-13",442]
["2009-03-12",446]
["2009-03-11",446]
["2009-03-10",442]
["2009-03-09",453]
["2009-03-06",457]
["2009-03-05",458]
["2009-03-04",434]
["2009-03-03",441]
["2009-03-02",442]
["2009-02-27",421]
["2009-02-26",419]
["2009-02-25",420]
["2009-02-24",431]
["2009-02-23",439]
["2009-02-20",426]
["2009-02-19",417]
["2009-02-18",487]
["2009-02-17",451]
["2009-02-16",424]
["2009-02-13",426]
["2009-02-12",451]
["2009-02-11",439]
["2009-02-10",426]
["2009-02-09",408]
["2009-02-06",413]
["2009-02-05",429]
["2009-02-04",418]
["2009-02-03",413]
["2009-02-02",426]
["2009-01-30",409]
["2009-01-29",412]
["2009-01-28",413]
["2009-01-27",429]
["2009-01-26",423]
["2009-01-23",432]
["2009-01-22",438]
["2009-01-21",448]
["2009-01-20",460]
["2009-01-19",450]
["2009-01-16",450]
["2009-01-15",465]
["2009-01-14",459]
["2009-01-13",446]
["2009-01-12",445]
["2009-01-09",423]
["2009-01-08",426]
["2009-01-07",402]
["2009-01-06",388]
["2009-01-05",393]
["2009-01-02",405]

{"sheet":"Inflação americana","index":20,"n_rows":124,"n_cols":17,"rows_kept":124,"cut":false,"hidden":false,"merged":[[6,1,6,5],[7,1,7,5],[8,1,8,5],[9,1,9,5],[0,0,0,5],[1,0,1,5],[2,0,2,5],[3,1,3,5],[4,0,4,5],[5,1,5,5]]}
["Consumer Price Index for All Urban Consumers (CPI-U)"]
["Original Data Value"]
[]
["Series Id:","CUUR0000SA0"]
["Not Seasonally Adjusted"]
["Series Title:","All items in U.S. city average, all urban consumers, not seasonally adjusted",null,null,null,null,"Inflação média anual",{"$f":"SUM(Q109:Q123)/15","v":2.5661446841232304E-2}]
["Area:","U.S. city average",null,null,null,null,"media arit",{"$f":"IF(AND(ISNUMBER(#REF!),ISNUMBER(F8)), (100*#REF!/ABS(F8)), \"\")","v":""}]
["Item:","All items",null,null,null,null,{"$f":"IF(AND(ISNUMBER(F8),ISNUMBER(F9)), (F8 - F9), \"\")","v":""},{"$f":"IF(AND(ISNUMBER(G8),ISNUMBER(F9)), (100*G8/ABS(F9)), \"\")","v":""}]
["Base Period:","1982-84=100",null,null,null,null,"",""]
["Years:","1913 to 2024",null,null,null,null,"",""]
[null,null,null,null,null,null,"",""]
["Year","Jan","Feb","Mar","Apr","May","Jun","Jul","Aug","Sep","Oct","Nov","Dec","HALF1","HALF2",null,"inflação do ano"]
[1913,9.8000000000000007,9.8000000000000007,9.8000000000000007,9.8000000000000007,9.6999999999999993,9.8000000000000007,9.9,9.9,10,10,10.1,10]
[1914,10,9.9,9.9,9.8000000000000007,9.9,9.9,10,10.199999999999999,10.199999999999999,10.1,10.199999999999999,10.1]
[1915,10.1,10,9.9,10,10.1,10.1,10.1,10.1,10.1,10.199999999999999,10.3,10.3]
[1916,10.4,10.4,10.5,10.6,10.7,10.8,10.8,10.9,11.1,11.3,11.5,11.6]
[1917,11.7,12,12,12.6,12.8,13,12.8,13,13.3,13.5,13.5,13.7]
[1918,14,14.1,14,14.2,14.5,14.7,15.1,15.4,15.7,16,16.3,16.5]
[1919,16.5,16.2,16.399999999999999,16.7,16.899999999999999,16.899999999999999,17.399999999999999,17.7,17.8,18.100000000000001,18.5,18.899999999999999]
[1920,19.3,19.5,19.7,20.3,20.6,20.9,20.8,20.3,20,19.899999999999999,19.8,19.399999999999999]
[1921,19,18.399999999999999,18.3,18.100000000000001,17.7,17.600000000000001,17.7,17.7,17.5,17.5,17.399999999999999,17.3]
[1922,16.899999999999999,16.899999999999999,16.7,16.7,16.7,16.7,16.8,16.600000000000001,16.600000000000001,16.7,16.8,16.899999999999999]
[1923,16.8,16.8,16.8,16.899999999999999,16.899999999999999,17,17.2,17.100000000000001,17.2,17.3,17.3,17.3]
[1924,17.3,17.2,17.100000000000001,17,17,17,17.100000000000001,17,17.100000000000001,17.2,17.2,17.3]
[1925,17.3,17.2,17.3,17.2,17.3,17.5,17.7,17.7,17.7,17.7,18,17.899999999999999]
[1926,17.899999999999999,17.899999999999999,17.8,17.899999999999999,17.8,17.7,17.5,17.399999999999999,17.5,17.600000000000001,17.7,17.7]
[1927,17.5,17.399999999999999,17.3,17.3,17.399999999999999,17.600000000000001,17.3,17.2,17.3,17.399999999999999,17.3,17.3]
[1928,17.3,17.100000000000001,17.100000000000001,17.100000000000001,17.2,17.100000000000001,17.100000000000001,17.100000000000001,17.3,17.2,17.2,17.100000000000001]
[1929,17.100000000000001,17.100000000000001,17,16.899999999999999,17,17.100000000000001,17.3,17.3,17.3,17.3,17.3,17.2]
[1930,17.100000000000001,17,16.899999999999999,17,16.899999999999999,16.8,16.600000000000001,16.5,16.600000000000001,16.5,16.399999999999999,16.100000000000001]
[1931,15.9,15.7,15.6,15.5,15.3,15.1,15.1,15.1,15,14.9,14.7,14.6]
[1932,14.3,14.1,14,13.9,13.7,13.6,13.6,13.5,13.4,13.3,13.2,13.1]
[1933,12.9,12.7,12.6,12.6,12.6,12.7,13.1,13.2,13.2,13.2,13.2,13.2]
[1934,13.2,13.3,13.3,13.3,13.3,13.4,13.4,13.4,13.6,13.5,13.5,13.4]
[1935,13.6,13.7,13.7,13.8,13.8,13.7,13.7,13.7,13.7,13.7,13.8,13.8]
[1936,13.8,13.8,13.7,13.7,13.7,13.8,13.9,14,14,14,14,14]
[1937,14.1,14.1,14.2,14.3,14.4,14.4,14.5,14.5,14.6,14.6,14.5,14.4]
[1938,14.2,14.1,14.1,14.2,14.1,14.1,14.1,14.1,14.1,14,14,14]
[1939,14,13.9,13.9,13.8,13.8,13.8,13.8,13.8,14.1,14,14,14]
[1940,13.9,14,14,14,14,14.1,14,14,14,14,14,14.1]
[1941,14.1,14.1,14.2,14.3,14.4,14.7,14.7,14.9,15.1,15.3,15.4,15.5]
[1942,15.7,15.8,16,16.100000000000001,16.3,16.3,16.399999999999999,16.5,16.5,16.7,16.8,16.899999999999999]
[1943,16.899999999999999,16.899999999999999,17.2,17.399999999999999,17.5,17.5,17.399999999999999,17.3,17.399999999999999,17.399999999999999,17.399999999999999,17.399999999999999]
[1944,17.399999999999999,17.399999999999999,17.399999999999999,17.5,17.5,17.600000000000001,17.7,17.7,17.7,17.7,17.7,17.8]
[1945,17.8,17.8,17.8,17.8,17.899999999999999,18.100000000000001,18.100000000000001,18.100000000000001,18.100000000000001,18.100000000000001,18.100000000000001,18.2]
[1946,18.2,18.100000000000001,18.3,18.399999999999999,18.5,18.7,19.8,20.2,20.399999999999999,20.8,21.3,21.5]
[1947,21.5,21.5,21.9,21.9,21.9,22,22.2,22.5,23,23,23.1,23.4]
[1948,23.7,23.5,23.4,23.8,23.9,24.1,24.4,24.5,24.5,24.4,24.2,24.1]
[1949,24,23.8,23.8,23.9,23.8,23.9,23.7,23.8,23.9,23.7,23.8,23.6]
[1950,23.5,23.5,23.6,23.6,23.7,23.8,24.1,24.3,24.4,24.6,24.7,25]
[1951,25.4,25.7,25.8,25.8,25.9,25.9,25.9,25.9,26.1,26.2,26.4,26.5]
[1952,26.5,26.3,26.3,26.4,26.4,26.5,26.7,26.7,26.7,26.7,26.7,26.7]
[1953,26.6,26.5,26.6,26.6,26.7,26.8,26.8,26.9,26.9,27,26.9,26.9]
[1954,26.9,26.9,26.9,26.8,26.9,26.9,26.9,26.9,26.8,26.8,26.8,26.7]
[1955,26.7,26.7,26.7,26.7,26.7,26.7,26.8,26.8,26.9,26.9,26.9,26.8]
[1956,26.8,26.8,26.8,26.9,27,27.2,27.4,27.3,27.4,27.5,27.5,27.6]
[1957,27.6,27.7,27.8,27.9,28,28.1,28.3,28.3,28.3,28.3,28.4,28.4]
[1958,28.6,28.6,28.8,28.9,28.9,28.9,29,28.9,28.9,28.9,29,28.9]
[1959,29,28.9,28.9,29,29,29.1,29.2,29.2,29.3,29.4,29.4,29.4]
[1960,29.3,29.4,29.4,29.5,29.5,29.6,29.6,29.6,29.6,29.8,29.8,29.8]
[1961,29.8,29.8,29.8,29.8,29.8,29.8,30,29.9,30,30,30,30]
[1962,30,30.1,30.1,30.2,30.2,30.2,30.3,30.3,30.4,30.4,30.4,30.4]
[1963,30.4,30.4,30.5,30.5,30.5,30.6,30.7,30.7,30.7,30.8,30.8,30.9]
[1964,30.9,30.9,30.9,30.9,30.9,31,31.1,31,31.1,31.1,31.2,31.2]
[1965,31.2,31.2,31.3,31.4,31.4,31.6,31.6,31.6,31.6,31.7,31.7,31.8]
[1966,31.8,32,32.1,32.299999999999997,32.299999999999997,32.4,32.5,32.700000000000003,32.700000000000003,32.9,32.9,32.9]
[1967,32.9,32.9,33,33.1,33.200000000000003,33.299999999999997,33.4,33.5,33.6,33.700000000000003,33.799999999999997,33.9]
[1968,34.1,34.200000000000003,34.299999999999997,34.4,34.5,34.700000000000003,34.9,35,35.1,35.299999999999997,35.4,35.5]
[1969,35.6,35.799999999999997,36.1,36.299999999999997,36.4,36.6,36.799999999999997,37,37.1,37.299999999999997,37.5,37.700000000000003]
[1970,37.799999999999997,38,38.200000000000003,38.5,38.6,38.799999999999997,39,39,39.200000000000003,39.4,39.6,39.799999999999997]
[1971,39.799999999999997,39.9,40,40.1,40.299999999999997,40.6,40.700000000000003,40.799999999999997,40.799999999999997,40.9,40.9,41.1]
[1972,41.1,41.3,41.4,41.5,41.6,41.7,41.9,42,42.1,42.3,42.4,42.5]
[1973,42.6,42.9,43.3,43.6,43.9,44.2,44.3,45.1,45.2,45.6,45.9,46.2]
[1974,46.6,47.2,47.8,48,48.6,49,49.4,50,50.6,51.1,51.5,51.9]
[1975,52.1,52.5,52.7,52.9,53.2,53.6,54.2,54.3,54.6,54.9,55.3,55.5]
[1976,55.6,55.8,55.9,56.1,56.5,56.8,57.1,57.4,57.6,57.9,58,58.2]
[1977,58.5,59.1,59.5,60,60.3,60.7,61,61.2,61.4,61.6,61.9,62.1]
[1978,62.5,62.9,63.4,63.9,64.5,65.2,65.7,66,66.5,67.099999999999994,67.400000000000006,67.7]
[1979,68.3,69.099999999999994,69.8,70.599999999999994,71.5,72.3,73.099999999999994,73.8,74.599999999999994,75.2,75.900000000000006,76.7]
[1980,77.8,78.900000000000006,80.099999999999994,81,81.8,82.7,82.7,83.3,84,84.8,85.5,86.3]
[1981,87,87.9,88.5,89.1,89.8,90.6,91.6,92.3,93.2,93.4,93.7,94]
[1982,94.3,94.6,94.5,94.9,95.8,97,97.5,97.7,97.9,98.2,98,97.6]
[1983,97.8,97.9,97.9,98.6,99.2,99.5,99.9,100.2,100.7,101,101.2,101.3]
[1984,101.9,102.4,102.6,103.1,103.4,103.7,104.1,104.5,105,105.3,105.3,105.3,102.9,104.9]
[1985,105.5,106,106.4,106.9,107.3,107.6,107.8,108,108.3,108.7,109,109.3,106.6,108.5]
[1986,109.6,109.3,108.8,108.6,108.9,109.5,109.5,109.7,110.2,110.3,110.4,110.5,109.1,110.1]
[1987,111.2,111.6,112.1,112.7,113.1,113.5,113.8,114.4,115,115.3,115.4,115.4,112.4,114.9]
[1988,115.7,116,116.5,117.1,117.5,118,118.5,119,119.8,120.2,120.3,120.5,116.8,119.7]
[1989,121.1,121.6,122.3,123.1,123.8,124.1,124.4,124.6,125,125.6,125.9,126.1,122.7,125.3]
[1990,127.4,128,128.69999999999999,128.9,129.19999999999999,129.9,130.4,131.6,132.69999999999999,133.5,133.80000000000001,133.80000000000001,128.69999999999999,132.6]
[1991,134.6,134.80000000000001,135,135.19999999999999,135.6,136,136.19999999999999,136.6,137.19999999999999,137.4,137.80000000000001,137.9,135.19999999999999,137.19999999999999]
[1992,138.1,138.6,139.30000000000001,139.5,139.69999999999999,140.19999999999999,140.5,140.9,141.30000000000001,141.80000000000001,142,141.9,139.19999999999999,141.4]
[1993,142.6,143.1,143.6,144,144.19999999999999,144.4,144.4,144.80000000000001,145.1,145.69999999999999,145.80000000000001,145.80000000000001,143.69999999999999,145.30000000000001]
[1994,146.19999999999999,146.69999999999999,147.19999999999999,147.4,147.5,148,148.4,149,149.4,149.5,149.69999999999999,149.69999999999999,147.19999999999999,149.30000000000001]
[1995,150.30000000000001,150.9,151.4,151.9,152.19999999999999,152.5,152.5,152.9,153.19999999999999,153.69999999999999,153.6,153.5,151.5,153.19999999999999]
[1996,154.4,154.9,155.69999999999999,156.30000000000001,156.6,156.69999999999999,157,157.30000000000001,157.80000000000001,158.30000000000001,158.6,158.6,155.80000000000001,157.9]
[1997,159.1,159.6,160,160.19999999999999,160.1,160.30000000000001,160.5,160.80000000000001,161.19999999999999,161.6,161.5,161.30000000000001,159.9,161.19999999999999]
[1998,161.6,161.9,162.19999999999999,162.5,162.80000000000001,163,163.19999999999999,163.4,163.6,164,164,163.9,162.30000000000001,163.69999999999999]
[1999,164.3,164.5,165,166.2,166.2,166.2,166.7,167.1,167.9,168.2,168.3,168.3,165.4,167.8]
[2000,168.8,169.8,171.2,171.3,171.5,172.4,172.8,172.8,173.7,174,174.1,174,170.8,173.6]
[2001,175.1,175.8,176.2,176.9,177.7,178,177.5,177.5,178.3,177.7,177.4,176.7,176.6,177.5]
[2002,177.1,177.8,178.8,179.8,179.8,179.9,180.1,180.7,181,181.3,181.3,180.9,178.9,180.9]
[2003,181.7,183.1,184.2,183.8,183.5,183.7,183.9,184.6,185.2,185,184.5,184.3,183.3,184.6]
[2004,185.2,186.2,187.4,188,189.1,189.7,189.4,189.5,189.9,190.9,191,190.3,187.6,190.2]
[2005,190.7,191.8,193.3,194.6,194.4,194.5,195.4,196.4,198.8,199.2,197.6,196.8,193.2,197.4]
[2006,198.3,198.7,199.8,201.5,202.5,202.9,203.5,203.9,202.9,201.8,201.5,201.8,200.6,202.6]
[2007,202.416,203.499,205.352,206.68600000000001,207.94900000000001,208.352,208.29900000000001,207.917,208.49,208.93600000000001,210.17699999999999,210.036,205.709,208.976]
[2008,211.08,211.69300000000001,213.52799999999999,214.82300000000001,216.63200000000001,218.815,219.964,219.08600000000001,218.78299999999999,216.57300000000001,212.42500000000001,210.22800000000001,214.429,216.17699999999999]
[2009,211.143,212.19300000000001,212.709,213.24,213.85599999999999,215.69300000000001,215.351,215.834,215.96899999999999,216.17699999999999,216.33,215.94900000000001,213.13900000000001,215.935,null,{"$f":"M109/M108-1","v":2.7213311262058282E-2}]
[2010,216.68700000000001,216.74100000000001,217.631,218.00899999999999,218.178,217.965,218.011,218.31200000000001,218.43899999999999,218.71100000000001,218.803,219.179,217.535,218.57599999999999,null,1.4957235273143077E-2]
[2011,220.22300000000001,221.309,223.46700000000001,224.90600000000001,225.964,225.72200000000001,225.922,226.54499999999999,226.88900000000001,226.42099999999999,226.23,225.672,223.59800000000001,226.28,null,2.9624188448710953E-2]
[2012,226.66499999999999,227.66300000000001,229.392,230.08500000000001,229.815,229.47800000000001,229.10400000000001,230.37899999999999,231.40700000000001,231.31700000000001,230.221,229.601,228.85,230.33799999999999,null,1.7410223687475579E-2]
[2013,230.28,232.166,232.773,232.53100000000001,232.94499999999999,233.50399999999999,233.596,233.87700000000001,234.149,233.54599999999999,233.06899999999999,233.04900000000001,232.36600000000001,233.548,null,1.501735619618394E-2]
[2014,233.916,234.78100000000001,236.29300000000001,237.072,237.9,238.34299999999999,238.25,237.852,238.03100000000001,237.43299999999999,236.15100000000001,234.81200000000001,236.38399999999999,237.08799999999999,null,7.564932696557447E-3]
[2015,233.70699999999999,234.72200000000001,236.119,236.59899999999999,237.80500000000001,238.63800000000001,238.654,238.316,237.94499999999999,237.83799999999999,237.33600000000001,236.52500000000001,236.26499999999999,237.76900000000001,null,7.2951978604158807E-3]
[2016,236.916,237.11099999999999,238.13200000000001,239.261,240.22900000000001,241.018,240.62799999999999,240.84899999999999,241.428,241.72900000000001,241.35300000000001,241.43199999999999,238.77799999999999,241.23699999999999,null,2.074622132966919E-2]
[2017,242.839,243.60300000000001,243.80099999999999,244.524,244.733,244.95500000000001,244.786,245.51900000000001,246.81899999999999,246.66300000000001,246.66900000000001,246.524,244.07599999999999,246.16300000000001,null,2.1090824745684245E-2]
[2018,247.86699999999999,248.99100000000001,249.554,250.54599999999999,251.58799999999999,251.989,252.006,252.14599999999999,252.43899999999999,252.88499999999999,252.03800000000001,251.233,250.089,252.125,null,1.9101588486313714E-2]
[2019,251.71199999999999,252.77600000000001,254.202,255.548,256.09199999999998,256.14299999999997,256.57100000000003,256.55799999999999,256.75900000000001,257.346,257.20800000000003,256.97399999999999,254.41200000000001,256.90300000000002,null,2.2851297401217163E-2]
[2020,257.971,258.678,258.11500000000001,256.38900000000001,256.39400000000001,257.79700000000003,259.101,259.91800000000001,260.27999999999997,260.38799999999998,260.22899999999998,260.47399999999999,257.55700000000002,260.065,null,1.3620054947193205E-2]
[2021,261.58199999999999,263.01400000000001,264.87700000000001,267.05399999999997,269.19499999999999,271.69600000000003,273.00299999999999,273.56700000000001,274.31,276.589,277.94799999999998,278.80200000000002,266.23599999999999,275.70299999999997,null,7.0364028655451438E-2]
[2022,281.14800000000002,283.71600000000001,287.50400000000002,289.10899999999998,292.29599999999999,296.31099999999998,296.27600000000001,296.17099999999999,296.80799999999999,298.012,297.71100000000001,296.79700000000003,288.34699999999998,296.96300000000002,null,6.4544013314108195E-2]
[2023,299.17,300.83999999999997,301.83600000000001,303.363,304.12700000000001,305.10899999999998,305.69099999999997,307.02600000000001,307.78899999999999,307.67099999999999,307.05099999999999,306.74599999999998,302.40800000000002,306.99599999999998,null,3.3521228314302265E-2]
[2024,308.41699999999997,310.32600000000002]

{"sheet":"We e Wd","index":21,"n_rows":11,"n_cols":12,"rows_kept":11,"cut":false,"hidden":false,"merged":[]}
["Demontrações Contábeis da Compagas"]
[]
["mil R$",{"$f":"C3-1","v":2017},{"$f":"D3-1","v":2018},{"$f":"E3-1","v":2019},{"$f":"F3-1","v":2020},2021,2022,2023,"Média",null,null,"Dívida recente afetada pela média do caixa no cáculo da estrutura de capital"]
["(D) - Passivo Oneroso Líquido",{"$f":"B5+B6-B7-B8","v":-41404},{"$f":"C5+C6-C7-C8","v":-72503},{"$f":"D5+D6-D7-D8","v":-86913},-90407,{"$f":"F5+F6-F7-F8","v":-210641},{"$f":"G5+G6-G7-G8","v":-61059},{"$f":"H5+H6-H7-H8","v":182765},{"$f":"AVERAGE(D4:H4)","v":-53251},null,null,{"$f":"SUM(L5:L6)","v":284202}]
["Empréstimos de curto (debêntures)",25138,5919,34547,20252,0,0,81797,{"$f":"AVERAGE(D5:H5)","v":27319.200000000001},null,null,{"$f":"H5-(H5*L11)","v":81797}]
["Empréstimos de longo prazo (debêntures)",17537,11733,20236,0,0,0,202405,44528.2,null,null,{"$f":"H6-(H6*L11)","v":202405}]
["Caixa e Equivalente de Caixa",84079,90155,141696,110659,210641,61059,101437,125098.4]
["Instrumentos derivativos",0,0,0,0,0,0,0]
["(E) -  Patrimônio Líquido",349375,409142,545895,483271,522177,568433,511508,{"$f":"AVERAGE(D9:H9)","v":526256.80000000005},null,null,"Estrutura de capital considerada"]
["(we) - participação do capital próprio na estrutura de capital ",{"$f":"B9/(B4+B9)","v":1.1344412298560578},{"$f":"C9/(C4+C9)","v":1.2153731445257383},1.1893603670732185,1.2301228924004235,{"$f":"F9/(F4+F9)","v":1.6761369472548919},{"$f":"G9/(G4+G9)","v":1.1203431787990712},{"$f":"H9/(H4+H9)","v":0.73675340968178227},{"$f":"AVERAGE(D10:H10)","v":1.1905433590418775},null,"We",{"$f":"1-L11","v":1}]
["(wd) =   participação da dívida na estrutura de capital ",{"$f":"B4/(B4+B9)","v":-0.13444122985605789},{"$f":"C4/(C4+C9)","v":-0.21537314452573825},-0.18936036707321854,-0.23012289240042355,{"$f":"F4/(F4+F9)","v":-0.67613694725489193},{"$f":"G4/(G4+G9)","v":-0.12034317879907129},{"$f":"H4/(H4+H9)","v":0.26324659031821779},{"$f":"AVERAGE(D11:H11)","v":-0.19054335904187752},null,"Wd",0]

{"sheet":"Taxa Agepar","index":22,"n_rows":56,"n_cols":12,"rows_kept":56,"cut":false,"hidden":false,"merged":[[2,2,3,5],[4,3,4,4]]}
[]
[]
[null,null,"ANEXO III\nFAIXAS DE INCIDÊNCIA A QUE SE REFERE O §4º DO ART. 54\nPARA CÁLCULO DA TAXA DE REGULAÇÃO"]
[null,null,null,null,null,null,null,null,null,null,"UPF/PR DEZEMBRO/2023",133.96]
[null,null,null,"Receita Operacional Bruta (UPF/PR)",null,null,null,null,null,null,"UPF/PR JANEIRO/2024",134.34]
[null,null,"Faixa","Limite Inferior (UPF/PR)","Limite superior (UPF/PR)","UPF à pagar (UPF/PR)",null,"ROB","PROP. UPF DEZ","UPF A PAGAR","TAXA A PAGAR"]
[null,null,1,0,683,2,null,{"$f":"(((Resultados!I27+Resultados!I28+Resultados!I29)/(1-9.25%))/(1-12%))*1000","v":208139994.47763547},{"$f":"H7/$L$4","v":1553747.3460558036},{"$f":"IF(I7<=$E$7,$F$7,IF(I7<=$E$8,$F$8,IF(I7<=$E$9,$F$9,IF(I7<=$E$10,$F$10,IF(I7<=$E$11,$F$11,IF(I7<=$E$12,$F$12,IF(I7<=$E$13,$F$13,IF(I7<=$E$14,$F$14,IF(I7<=$E$15,$F$15,IF(I7<=$E$16,$F$16,IF(I7<=$E$17,$F$17,IF(I7<=$E$18,$F$18,IF(I7<=$E$19,$F$19,IF(I7<=$E$20,$F$20,IF(I7<=$E$21,$F$21,IF(I7<=$E$22,$F$22,IF(I7<=$E$23,$F$23,IF(I7<=$E$24,$F$24,IF(I7<=$E$25,$F$25,IF(I7<=$E$26,$F$26,IF(I7<=$E$27,$F$27,IF(I7<=$E$28,$F$28,IF(I7<=$E$29,$F$29,IF(I7<=$E$30,$F$30,IF(I7<=$E$31,$F$31,IF(I7<=$E$32,$F$32,IF(I7<=$E$33,$F$33,IF(I7<=$E$34,$F$34,IF(I7<=$E$35,$F$35,IF(I7<=$E$36,$F$36,IF(I7<=$E$37,$F$37,IF(I7<=$E$38,$F$38,IF(I7<=$E$39,$F$39,IF(I7<=$E$40,$F$40,IF(I7<=$E$41,$F$41,IF(I7<=$E$42,$F$42,IF(I7<=$E$43,$F$43,IF(I7<=$E$44,$F$44,IF(I7<=$E$45,$F$45,IF(I7<=$E$46,$F$46,IF(I7<=$E$47,$F$47,IF(I7<=$E$48,$F$48,IF(I7<=$E$49,$F$49,IF(I7<=$E$50,$F$50,IF(I7<=$E$51,$F$51,IF(I7<=$E$52,$F$52,IF(I7<=$E$53,$F$53,IF(I7<=$E$54,$F$54,IF(I7<=$E$55,$F$55,IF(I7>=$D$56,$F$56,\"\"))))))))))))))))))))))))))))))))))))))))))))))))))","v":8034},{"$f":"J7*$L$5","v":1079287.56}]
[null,null,2,684,1368,7,null,{"$f":"(((Resultados!J27+Resultados!J28+Resultados!J29)/(1-9.25%))/(1-12%))*1000","v":345888534.38074064},{"$f":"H8/$L$4","v":2582028.4740276248},17426,{"$f":"J8*$L$5","v":2341008.84}]
[null,null,3,1369,3214,16,null,{"$f":"(((Resultados!K27+Resultados!K28+Resultados!K29)/(1-9.25%))/(1-12%))*1000","v":363505597.05404097},2713538.3476712522,17426,2341008.84]
[null,null,4,3215,4582,23,null,{"$f":"(((Resultados!L27+Resultados!L28+Resultados!L29)/(1-9.25%))/(1-12%))*1000","v":402502573.52607501},3004647.4583911239,17426,2341008.84]
[null,null,5,4583,6179,31,null,{"$f":"(((Resultados!M27+Resultados!M28+Resultados!M29)/(1-9.25%))/(1-12%))*1000","v":437768738.46720278},{"$f":"H11/$L$4","v":3267906.3785249535},17426,2341008.84]
[null,null,6,6180,8475,42]
[null,null,7,8476,12850,64,null,{"$f":"SUM(Resultados!I27:I29)*1000","v":166220599.5898397},{"$f":"H13/0.7986","v":208139994.4776355}]
[null,null,8,12851,18314,91,null,{"$f":"SUM(Resultados!J27:J29)*1000","v":276226583.55645955},{"$f":"H14/0.7986","v":345888534.38074076}]
[null,null,9,18315,25139,124,null,{"$f":"SUM(Resultados!K27:K29)*1000","v":290295569.80735707},363505597.05404091]
[null,null,10,25140,38280,189,null,{"$f":"SUM(Resultados!L27:L29)*1000","v":321438555.21792346},402502573.52607495]
[null,null,11,38281,48849,241,null,{"$f":"SUM(Resultados!M27:M29)*1000","v":349602114.53990811},437768738.46720278]
[null,null,12,48850,63678,315]
[null,null,13,63679,83611,413]
[null,null,14,83612,94576,468]
[null,null,15,94577,108087,535]
[null,null,16,108088,124259,615]
[null,null,17,124260,145230,719]
[null,null,18,145231,163102,807]
[null,null,19,163103,183152,907]
[null,null,20,183153,197561,978]
[null,null,21,197562,203260,1006]
[null,null,22,203261,239675,1177]
[null,null,23,239676,324260,1596]
[null,null,24,324261,378303,1874]
[null,null,25,378304,432347,2142]
[null,null,26,432348,477593,2266]
[null,null,27,477594,540434,2677]
[null,null,28,540435,607898,3012]
[null,null,29,607899,675542,3347]
[null,null,30,675543,743096,3685]
[null,null,31,743097,810650,4016]
[null,null,32,810651,894298,4321]
[null,null,33,894299,1013313,5021]
[null,null,34,1013314,1080867,5355]
[null,null,35,1080868,1215975,6025]
[null,null,36,1215976,1351084,6695]
[null,null,37,1351085,1486192,7364]
[null,null,38,1486193,1621301,8034]
[null,null,39,1621302,2379385,11464]
[null,null,40,2379386,3639910,17426]
[null,null,41,3639911,4362985,21211]
[null,null,42,4362986,4893374,24241]
[null,null,43,4893375,7994565,38897]
[null,null,44,7994566,9591719,47522]
[null,null,45,9591720,13428406,66536]
[null,null,46,13428407,18799768,93155]
[null,null,47,18799769,26319676,130421]
[null,null,48,26319677,36847546,182594]
[null,null,49,36847547,47483772,231990]
[null,null,50,47483773,"                -   ",272426]